{"text_format":"1","workbook":"xlsx","n_sheets":7,"sheets":["save","sabt_kala","mosh","menu","sabt_fac","sabt_fac2","save2"],"not_rendered":{"charts":0,"images":2,"macros":1,"external_links":0,"defined_names":1,"comments":0,"pivot_tables":0},"unopened":[],"bounds":{"document_bytes":16777216,"sheet_cells":100000,"rows_first":2000,"rows_last":500,"rows_between":2000,"halvings":0,"cell_chars":16384,"cell_head_chars":4096},"cells_cut":0,"cells_raw":0,"read":"whole","date_system":"1900"}

{"sheet":"save","index":0,"n_rows":1,"n_cols":25,"rows_kept":1,"cut":false,"hidden":false,"merged":[]}
[null,null,null,null,null,null,null,null,null,null,null,null,null,null,null,null,null,null,null,null,null,null,null,null,"فاکتور شخصی"]

{"sheet":"sabt_kala","index":1,"n_rows":2000,"n_cols":24,"rows_kept":2000,"cut":false,"hidden":false,"merged":[]}
[null,null,null,null,null,null,null,null,null,null,null,null,null,null,null,null,null,null,null,null,null,null,null,"فاکتور کوچیک"]
[]
[null,"ردیف","نام کالا","قیمت خرید","قیمت فروش","مالیات","سود","ورود انبار","موجودی"]
[null,{"$f":"ROW()-3","v":1}]
[null,2]
[null,3]
[null,4]
[null,5]
[null,6]
[null,7]
[null,8]
[null,9]
[null,10]
[null,11]
[null,12]
[null,13]
[null,14]
[null,15]
[null,16]
[null,17]
[null,18]
[null,19]
[null,20]
[null,21]
[null,22]
[null,23]
[null,24]
[null,25]
[null,26]
[null,27]
[null,28]
[null,29]
[null,30]
[null,31]
[null,32]
[null,33]
[null,34]
[null,35]
[null,36]
[null,37]
[null,38]
[null,39]
[null,40]
[null,41]
[null,42]
[null,43]
[null,44]
[null,45]
[null,46]
[null,47]
[null,48]
[null,49]
[null,{"$f":"ROW()-3","v":50},null,null,null,null,null,null,null,null,null,null,null,null,null,null,null,null,null,null,null,null,"فاکتور کوچیک"]
[null,51]
[null,52]
[null,53]
[null,54]
[null,55]
[null,56]
[null,57]
[null,58]
[null,59]
[null,60]
[null,61]
[null,62]
[null,63]
[null,64]
[null,65]
[null,66]
[null,67]
[null,68]
[null,69]
[null,70]
[null,71]
[null,72]
[null,73]
[null,74]
[null,75]
[null,76]
[null,77]
[null,78]
[null,79]
[null,80]
[null,81]
[null,82]
[null,83]
[null,84]
[null,85]
[null,86]
[null,87]
[null,88]
[null,89]
[null,90]
[null,91]
[null,92]
[null,93]
[null,94]
[null,95]
[null,96]
[null,97]
[null,98]
[null,99]
[null,100]
[null,101]
[null,102]
[null,103]
[null,104]
[null,105]
[null,106]
[null,107]
[null,108]
[null,109]
[null,110]
[null,111]
[null,112]
[null,113]
[null,{"$f":"ROW()-3","v":114}]
[null,115]
[null,116]
[null,117]
[null,118]
[null,119]
[null,120]
[null,121]
[null,122]
[null,123]
[null,124]
[null,125]
[null,126]
[null,127]
[null,128]
[null,129]
[null,130]
[null,131]
[null,132]
[null,133]
[null,134]
[null,135]
[null,136]
[null,137]
[null,138]
[null,139]
[null,140]
[null,141]
[null,142]
[null,143]
[null,144]
[null,145]
[null,146]
[null,147]
[null,148]
[null,149]
[null,150]
[null,151]
[null,152]
[null,153]
[null,154]
[null,155]
[null,156]
[null,157]
[null,158]
[null,159]
[null,160]
[null,161]
[null,162]
[null,163]
[null,164]
[null,165]
[null,166]
[null,167]
[null,168]
[null,169]
[null,170]
[null,171]
[null,172]
[null,173]
[null,174]
[null,175]
[null,176]
[null,177]
[null,{"$f":"ROW()-3","v":178}]
[null,179]
[null,180]
[null,181]
[null,182]
[null,183]
[null,184]
[null,185]
[null,186]
[null,187]
[null,188]
[null,189]
[null,190]
[null,191]
[null,192]
[null,193]
[null,194]
[null,195]
[null,196]
[null,197]
[null,198]
[null,199]
[null,200]
[null,201]
[null,202]
[null,203]
[null,204]
[null,205]
[null,206]
[null,207]
[null,208]
[null,209]
[null,210]
[null,211]
[null,212]
[null,213]
[null,214]
[null,215]
[null,216]
[null,217]
[null,218]
[null,219]
[null,220]
[null,221]
[null,222]
[null,223]
[null,224]
[null,225]
[null,226]
[null,227]
[null,228]
[null,229]
[null,230]
[null,231]
[null,232]
[null,233]
[null,234]
[null,235]
[null,236]
[null,237]
[null,238]
[null,239]
[null,240]
[null,241]
[null,{"$f":"ROW()-3","v":242}]
[null,243]
[null,244]
[null,245]
[null,246]
[null,247]
[null,248]
[null,249]
[null,250]
[null,251]
[null,252]
[null,253]
[null,254]
[null,255]
[null,256]
[null,257]
[null,258]
[null,259]
[null,260]
[null,261]
[null,262]
[null,263]
[null,264]
[null,265]
[null,266]
[null,267]
[null,268]
[null,269]
[null,270]
[null,271]
[null,272]
[null,273]
[null,274]
[null,275]
[null,276]
[null,277]
[null,278]
[null,279]
[null,280]
[null,281]
[null,282]
[null,283]
[null,284]
[null,285]
[null,286]
[null,287]
[null,288]
[null,289]
[null,290]
[null,291]
[null,292]
[null,293]
[null,294]
[null,295]
[null,296]
[null,297]
[null,298]
[null,299]
[null,300]
[null,301]
[null,302]
[null,303]
[null,304]
[null,305]
[null,{"$f":"ROW()-3","v":306}]
[null,307]
[null,308]
[null,309]
[null,310]
[null,311]
[null,312]
[null,313]
[null,314]
[null,315]
[null,316]
[null,317]
[null,318]
[null,319]
[null,320]
[null,321]
[null,322]
[null,323]
[null,324]
[null,325]
[null,326]
[null,327]
[null,328]
[null,329]
[null,330]
[null,331]
[null,332]
[null,333]
[null,334]
[null,335]
[null,336]
[null,337]
[null,338]
[null,339]
[null,340]
[null,341]
[null,342]
[null,343]
[null,344]
[null,345]
[null,346]
[null,347]
[null,348]
[null,349]
[null,350]
[null,351]
[null,352]
[null,353]
[null,354]
[null,355]
[null,356]
[null,357]
[null,358]
[null,359]
[null,360]
[null,361]
[null,362]
[null,363]
[null,364]
[null,365]
[null,366]
[null,367]
[null,368]
[null,369]
[null,{"$f":"ROW()-3","v":370}]
[null,371]
[null,372]
[null,373]
[null,374]
[null,375]
[null,376]
[null,377]
[null,378]
[null,379]
[null,380]
[null,381]
[null,382]
[null,383]
[null,384]
[null,385]
[null,386]
[null,387]
[null,388]
[null,389]
[null,390]
[null,391]
[null,392]
[null,393]
[null,394]
[null,395]
[null,396]
[null,397]
[null,398]
[null,399]
[null,400]
[null,401]
[null,402]
[null,403]
[null,404]
[null,405]
[null,406]
[null,407]
[null,408]
[null,409]
[null,410]
[null,411]
[null,412]
[null,413]
[null,414]
[null,415]
[null,416]
[null,417]
[null,418]
[null,419]
[null,420]
[null,421]
[null,422]
[null,423]
[null,424]
[null,425]
[null,426]
[null,427]
[null,428]
[null,429]
[null,430]
[null,431]
[null,432]
[null,433]
[null,{"$f":"ROW()-3","v":434}]
[null,435]
[null,436]
[null,437]
[null,438]
[null,439]
[null,440]
[null,441]
[null,442]
[null,443]
[null,444]
[null,445]
[null,446]
[null,447]
[null,448]
[null,449]
[null,450]
[null,451]
[null,452]
[null,453]
[null,454]
[null,455]
[null,456]
[null,457]
[null,458]
[null,459]
[null,460]
[null,461]
[null,462]
[null,463]
[null,464]
[null,465]
[null,466]
[null,467]
[null,468]
[null,469]
[null,470]
[null,471]
[null,472]
[null,473]
[null,474]
[null,475]
[null,476]
[null,477]
[null,478]
[null,479]
[null,480]
[null,481]
[null,482]
[null,483]
[null,484]
[null,485]
[null,486]
[null,487]
[null,488]
[null,489]
[null,490]
[null,491]
[null,492]
[null,493]
[null,494]
[null,495]
[null,496]
[null,497]
[null,{"$f":"ROW()-3","v":498}]
[null,499]
[null,500]
[null,501]
[null,502]
[null,503]
[null,504]
[null,505]
[null,506]
[null,507]
[null,508]
[null,509]
[null,510]
[null,511]
[null,512]
[null,513]
[null,514]
[null,515]
[null,516]
[null,517]
[null,518]
[null,519]
[null,520]
[null,521]
[null,522]
[null,523]
[null,524]
[null,525]
[null,526]
[null,527]
[null,528]
[null,529]
[null,530]
[null,531]
[null,532]
[null,533]
[null,534]
[null,535]
[null,536]
[null,537]
[null,538]
[null,539]
[null,540]
[null,541]
[null,542]
[null,543]
[null,544]
[null,545]
[null,546]
[null,547]
[null,548]
[null,549]
[null,550]
[null,551]
[null,552]
[null,553]
[null,554]
[null,555]
[null,556]
[null,557]
[null,558]
[null,559]
[null,560]
[null,561]
[null,{"$f":"ROW()-3","v":562}]
[null,563]
[null,564]
[null,565]
[null,566]
[null,567]
[null,568]
[null,569]
[null,570]
[null,571]
[null,572]
[null,573]
[null,574]
[null,575]
[null,576]
[null,577]
[null,578]
[null,579]
[null,580]
[null,581]
[null,582]
[null,583]
[null,584]
[null,585]
[null,586]
[null,587]
[null,588]
[null,589]
[null,590]
[null,591]
[null,592]
[null,593]
[null,594]
[null,595]
[null,596]
[null,597]
[null,598]
[null,599]
[null,600]
[null,601]
[null,602]
[null,603]
[null,604]
[null,605]
[null,606]
[null,607]
[null,608]
[null,609]
[null,610]
[null,611]
[null,612]
[null,613]
[null,614]
[null,615]
[null,616]
[null,617]
[null,618]
[null,619]
[null,620]
[null,621]
[null,622]
[null,623]
[null,624]
[null,625]
[null,{"$f":"ROW()-3","v":626}]
[null,627]
[null,628]
[null,629]
[null,630]
[null,631]
[null,632]
[null,633]
[null,634]
[null,635]
[null,636]
[null,637]
[null,638]
[null,639]
[null,640]
[null,641]
[null,642]
[null,643]
[null,644]
[null,645]
[null,646]
[null,647]
[null,648]
[null,649]
[null,650]
[null,651]
[null,652]
[null,653]
[null,654]
[null,655]
[null,656]
[null,657]
[null,658]
[null,659]
[null,660]
[null,661]
[null,662]
[null,663]
[null,664]
[null,665]
[null,666]
[null,667]
[null,668]
[null,669]
[null,670]
[null,671]
[null,672]
[null,673]
[null,674]
[null,675]
[null,676]
[null,677]
[null,678]
[null,679]
[null,680]
[null,681]
[null,682]
[null,683]
[null,684]
[null,685]
[null,686]
[null,687]
[null,688]
[null,689]
[null,{"$f":"ROW()-3","v":690}]
[null,691]
[null,692]
[null,693]
[null,694]
[null,695]
[null,696]
[null,697]
[null,698]
[null,699]
[null,700]
[null,701]
[null,702]
[null,703]
[null,704]
[null,705]
[null,706]
[null,707]
[null,708]
[null,709]
[null,710]
[null,711]
[null,712]
[null,713]
[null,714]
[null,715]
[null,716]
[null,717]
[null,718]
[null,719]
[null,720]
[null,721]
[null,722]
[null,723]
[null,724]
[null,725]
[null,726]
[null,727]
[null,728]
[null,729]
[null,730]
[null,731]
[null,732]
[null,733]
[null,734]
[null,735]
[null,736]
[null,737]
[null,738]
[null,739]
[null,740]
[null,741]
[null,742]
[null,743]
[null,744]
[null,745]
[null,746]
[null,747]
[null,748]
[null,749]
[null,750]
[null,751]
[null,752]
[null,753]
[null,{"$f":"ROW()-3","v":754}]
[null,755]
[null,756]
[null,757]
[null,758]
[null,759]
[null,760]
[null,761]
[null,762]
[null,763]
[null,764]
[null,765]
[null,766]
[null,767]
[null,768]
[null,769]
[null,770]
[null,771]
[null,772]
[null,773]
[null,774]
[null,775]
[null,776]
[null,777]
[null,778]
[null,779]
[null,780]
[null,781]
[null,782]
[null,783]
[null,784]
[null,785]
[null,786]
[null,787]
[null,788]
[null,789]
[null,790]
[null,791]
[null,792]
[null,793]
[null,794]
[null,795]
[null,796]
[null,797]
[null,798]
[null,799]
[null,800]
[null,801]
[null,802]
[null,803]
[null,804]
[null,805]
[null,806]
[null,807]
[null,808]
[null,809]
[null,810]
[null,811]
[null,812]
[null,813]
[null,814]
[null,815]
[null,816]
[null,817]
[null,{"$f":"ROW()-3","v":818}]
[null,819]
[null,820]
[null,821]
[null,822]
[null,823]
[null,824]
[null,825]
[null,826]
[null,827]
[null,828]
[null,829]
[null,830]
[null,831]
[null,832]
[null,833]
[null,834]
[null,835]
[null,836]
[null,837]
[null,838]
[null,839]
[null,840]
[null,841]
[null,842]
[null,843]
[null,844]
[null,845]
[null,846]
[null,847]
[null,848]
[null,849]
[null,850]
[null,851]
[null,852]
[null,853]
[null,854]
[null,855]
[null,856]
[null,857]
[null,858]
[null,859]
[null,860]
[null,861]
[null,862]
[null,863]
[null,864]
[null,865]
[null,866]
[null,867]
[null,868]
[null,869]
[null,870]
[null,871]
[null,872]
[null,873]
[null,874]
[null,875]
[null,876]
[null,877]
[null,878]
[null,879]
[null,880]
[null,881]
[null,{"$f":"ROW()-3","v":882}]
[null,883]
[null,884]
[null,885]
[null,886]
[null,887]
[null,888]
[null,889]
[null,890]
[null,891]
[null,892]
[null,893]
[null,894]
[null,895]
[null,896]
[null,897]
[null,898]
[null,899]
[null,900]
[null,901]
[null,902]
[null,903]
[null,904]
[null,905]
[null,906]
[null,907]
[null,908]
[null,909]
[null,910]
[null,911]
[null,912]
[null,913]
[null,914]
[null,915]
[null,916]
[null,917]
[null,918]
[null,919]
[null,920]
[null,921]
[null,922]
[null,923]
[null,924]
[null,925]
[null,926]
[null,927]
[null,928]
[null,929]
[null,930]
[null,931]
[null,932]
[null,933]
[null,934]
[null,935]
[null,936]
[null,937]
[null,938]
[null,939]
[null,940]
[null,941]
[null,942]
[null,943]
[null,944]
[null,945]
[null,{"$f":"ROW()-3","v":946}]
[null,947]
[null,948]
[null,949]
[null,950]
[null,951]
[null,952]
[null,953]
[null,954]
[null,955]
[null,956]
[null,957]
[null,958]
[null,959]
[null,960]
[null,961]
[null,962]
[null,963]
[null,964]
[null,965]
[null,966]
[null,967]
[null,968]
[null,969]
[null,970]
[null,971]
[null,972]
[null,973]
[null,974]
[null,975]
[null,976]
[null,977]
[null,978]
[null,979]
[null,980]
[null,981]
[null,982]
[null,983]
[null,984]
[null,985]
[null,986]
[null,987]
[null,988]
[null,989]
[null,990]
[null,991]
[null,992]
[null,993]
[null,994]
[null,995]
[null,996]
[null,997]
[null,998]
[null,999]
[null,1000]
[null,1001]
[null,1002]
[null,1003]
[null,1004]
[null,1005]
[null,1006]
[null,1007]
[null,1008]
[null,1009]
[null,{"$f":"ROW()-3","v":1010}]
[null,1011]
[null,1012]
[null,1013]
[null,1014]
[null,1015]
[null,1016]
[null,1017]
[null,1018]
[null,1019]
[null,1020]
[null,1021]
[null,1022]
[null,1023]
[null,1024]
[null,1025]
[null,1026]
[null,1027]
[null,1028]
[null,1029]
[null,1030]
[null,1031]
[null,1032]
[null,1033]
[null,1034]
[null,1035]
[null,1036]
[null,1037]
[null,1038]
[null,1039]
[null,1040]
[null,1041]
[null,1042]
[null,1043]
[null,1044]
[null,1045]
[null,1046]
[null,1047]
[null,1048]
[null,1049]
[null,1050]
[null,1051]
[null,1052]
[null,1053]
[null,1054]
[null,1055]
[null,1056]
[null,1057]
[null,1058]
[null,1059]
[null,1060]
[null,1061]
[null,1062]
[null,1063]
[null,1064]
[null,1065]
[null,1066]
[null,1067]
[null,1068]
[null,1069]
[null,1070]
[null,1071]
[null,1072]
[null,1073]
[null,{"$f":"ROW()-3","v":1074}]
[null,1075]
[null,1076]
[null,1077]
[null,1078]
[null,1079]
[null,1080]
[null,1081]
[null,1082]
[null,1083]
[null,1084]
[null,1085]
[null,1086]
[null,1087]
[null,1088]
[null,1089]
[null,1090]
[null,1091]
[null,1092]
[null,1093]
[null,1094]
[null,1095]
[null,1096]
[null,1097]
[null,1098]
[null,1099]
[null,1100]
[null,1101]
[null,1102]
[null,1103]
[null,1104]
[null,1105]
[null,1106]
[null,1107]
[null,1108]
[null,1109]
[null,1110]
[null,1111]
[null,1112]
[null,1113]
[null,1114]
[null,1115]
[null,1116]
[null,1117]
[null,1118]
[null,1119]
[null,1120]
[null,1121]
[null,1122]
[null,1123]
[null,1124]
[null,1125]
[null,1126]
[null,1127]
[null,1128]
[null,1129]
[null,1130]
[null,1131]
[null,1132]
[null,1133]
[null,1134]
[null,1135]
[null,1136]
[null,1137]
[null,{"$f":"ROW()-3","v":1138}]
[null,1139]
[null,1140]
[null,1141]
[null,1142]
[null,1143]
[null,1144]
[null,1145]
[null,1146]
[null,1147]
[null,1148]
[null,1149]
[null,1150]
[null,1151]
[null,1152]
[null,1153]
[null,1154]
[null,1155]
[null,1156]
[null,1157]
[null,1158]
[null,1159]
[null,1160]
[null,1161]
[null,1162]
[null,1163]
[null,1164]
[null,1165]
[null,1166]
[null,1167]
[null,1168]
[null,1169]
[null,1170]
[null,1171]
[null,1172]
[null,1173]
[null,1174]
[null,1175]
[null,1176]
[null,1177]
[null,1178]
[null,1179]
[null,1180]
[null,1181]
[null,1182]
[null,1183]
[null,1184]
[null,1185]
[null,1186]
[null,1187]
[null,1188]
[null,1189]
[null,1190]
[null,1191]
[null,1192]
[null,1193]
[null,1194]
[null,1195]
[null,1196]
[null,1197]
[null,1198]
[null,1199]
[null,1200]
[null,1201]
[null,{"$f":"ROW()-3","v":1202}]
[null,1203]
[null,1204]
[null,1205]
[null,1206]
[null,1207]
[null,1208]
[null,1209]
[null,1210]
[null,1211]
[null,1212]
[null,1213]
[null,1214]
[null,1215]
[null,1216]
[null,1217]
[null,1218]
[null,1219]
[null,1220]
[null,1221]
[null,1222]
[null,1223]
[null,1224]
[null,1225]
[null,1226]
[null,1227]
[null,1228]
[null,1229]
[null,1230]
[null,1231]
[null,1232]
[null,1233]
[null,1234]
[null,1235]
[null,1236]
[null,1237]
[null,1238]
[null,1239]
[null,1240]
[null,1241]
[null,1242]
[null,1243]
[null,1244]
[null,1245]
[null,1246]
[null,1247]
[null,1248]
[null,1249]
[null,1250]
[null,1251]
[null,1252]
[null,1253]
[null,1254]
[null,1255]
[null,1256]
[null,1257]
[null,1258]
[null,1259]
[null,1260]
[null,1261]
[null,1262]
[null,1263]
[null,1264]
[null,1265]
[null,{"$f":"ROW()-3","v":1266}]
[null,1267]
[null,1268]
[null,1269]
[null,1270]
[null,1271]
[null,1272]
[null,1273]
[null,1274]
[null,1275]
[null,1276]
[null,1277]
[null,1278]
[null,1279]
[null,1280]
[null,1281]
[null,1282]
[null,1283]
[null,1284]
[null,1285]
[null,1286]
[null,1287]
[null,1288]
[null,1289]
[null,1290]
[null,1291]
[null,1292]
[null,1293]
[null,1294]
[null,1295]
[null,1296]
[null,1297]
[null,1298]
[null,1299]
[null,1300]
[null,1301]
[null,1302]
[null,1303]
[null,1304]
[null,1305]
[null,1306]
[null,1307]
[null,1308]
[null,1309]
[null,1310]
[null,1311]
[null,1312]
[null,1313]
[null,1314]
[null,1315]
[null,1316]
[null,1317]
[null,1318]
[null,1319]
[null,1320]
[null,1321]
[null,1322]
[null,1323]
[null,1324]
[null,1325]
[null,1326]
[null,1327]
[null,1328]
[null,1329]
[null,{"$f":"ROW()-3","v":1330}]
[null,1331]
[null,1332]
[null,1333]
[null,1334]
[null,1335]
[null,1336]
[null,1337]
[null,1338]
[null,1339]
[null,1340]
[null,1341]
[null,1342]
[null,1343]
[null,1344]
[null,1345]
[null,1346]
[null,1347]
[null,1348]
[null,1349]
[null,1350]
[null,1351]
[null,1352]
[null,1353]
[null,1354]
[null,1355]
[null,1356]
[null,1357]
[null,1358]
[null,1359]
[null,1360]
[null,1361]
[null,1362]
[null,1363]
[null,1364]
[null,1365]
[null,1366]
[null,1367]
[null,1368]
[null,1369]
[null,1370]
[null,1371]
[null,1372]
[null,1373]
[null,1374]
[null,1375]
[null,1376]
[null,1377]
[null,1378]
[null,1379]
[null,1380]
[null,1381]
[null,1382]
[null,1383]
[null,1384]
[null,1385]
[null,1386]
[null,1387]
[null,1388]
[null,1389]
[null,1390]
[null,1391]
[null,1392]
[null,1393]
[null,{"$f":"ROW()-3","v":1394}]
[null,1395]
[null,1396]
[null,1397]
[null,1398]
[null,1399]
[null,1400]
[null,1401]
[null,1402]
[null,1403]
[null,1404]
[null,1405]
[null,1406]
[null,1407]
[null,1408]
[null,1409]
[null,1410]
[null,1411]
[null,1412]
[null,1413]
[null,1414]
[null,1415]
[null,1416]
[null,1417]
[null,1418]
[null,1419]
[null,1420]
[null,1421]
[null,1422]
[null,1423]
[null,1424]
[null,1425]
[null,1426]
[null,1427]
[null,1428]
[null,1429]
[null,1430]
[null,1431]
[null,1432]
[null,1433]
[null,1434]
[null,1435]
[null,1436]
[null,1437]
[null,1438]
[null,1439]
[null,1440]
[null,1441]
[null,1442]
[null,1443]
[null,1444]
[null,1445]
[null,1446]
[null,1447]
[null,1448]
[null,1449]
[null,1450]
[null,1451]
[null,1452]
[null,1453]
[null,1454]
[null,1455]
[null,1456]
[null,1457]
[null,{"$f":"ROW()-3","v":1458}]
[null,1459]
[null,1460]
[null,1461]
[null,1462]
[null,1463]
[null,1464]
[null,1465]
[null,1466]
[null,1467]
[null,1468]
[null,1469]
[null,1470]
[null,1471]
[null,1472]
[null,1473]
[null,1474]
[null,1475]
[null,1476]
[null,1477]
[null,1478]
[null,1479]
[null,1480]
[null,1481]
[null,1482]
[null,1483]
[null,1484]
[null,1485]
[null,1486]
[null,1487]
[null,1488]
[null,1489]
[null,1490]
[null,1491]
[null,1492]
[null,1493]
[null,1494]
[null,1495]
[null,1496]
[null,1497]
[null,1498]
[null,1499]
[null,1500]
[null,1501]
[null,1502]
[null,1503]
[null,1504]
[null,1505]
[null,1506]
[null,1507]
[null,1508]
[null,1509]
[null,1510]
[null,1511]
[null,1512]
[null,1513]
[null,1514]
[null,1515]
[null,1516]
[null,1517]
[null,1518]
[null,1519]
[null,1520]
[null,1521]
[null,{"$f":"ROW()-3","v":1522}]
[null,1523]
[null,1524]
[null,1525]
[null,1526]
[null,1527]
[null,1528]
[null,1529]
[null,1530]
[null,1531]
[null,1532]
[null,1533]
[null,1534]
[null,1535]
[null,1536]
[null,1537]
[null,1538]
[null,1539]
[null,1540]
[null,1541]
[null,1542]
[null,1543]
[null,1544]
[null,1545]
[null,1546]
[null,1547]
[null,1548]
[null,1549]
[null,1550]
[null,1551]
[null,1552]
[null,1553]
[null,1554]
[null,1555]
[null,1556]
[null,1557]
[null,1558]
[null,1559]
[null,1560]
[null,1561]
[null,1562]
[null,1563]
[null,1564]
[null,1565]
[null,1566]
[null,1567]
[null,1568]
[null,1569]
[null,1570]
[null,1571]
[null,1572]
[null,1573]
[null,1574]
[null,1575]
[null,1576]
[null,1577]
[null,1578]
[null,1579]
[null,1580]
[null,1581]
[null,1582]
[null,1583]
[null,1584]
[null,1585]
[null,{"$f":"ROW()-3","v":1586}]
[null,1587]
[null,1588]
[null,1589]
[null,1590]
[null,1591]
[null,1592]
[null,1593]
[null,1594]
[null,1595]
[null,1596]
[null,1597]
[null,1598]
[null,1599]
[null,1600]
[null,1601]
[null,1602]
[null,1603]
[null,1604]
[null,1605]
[null,1606]
[null,1607]
[null,1608]
[null,1609]
[null,1610]
[null,1611]
[null,1612]
[null,1613]
[null,1614]
[null,1615]
[null,1616]
[null,1617]
[null,1618]
[null,1619]
[null,1620]
[null,1621]
[null,1622]
[null,1623]
[null,1624]
[null,1625]
[null,1626]
[null,1627]
[null,1628]
[null,1629]
[null,1630]
[null,1631]
[null,1632]
[null,1633]
[null,1634]
[null,1635]
[null,1636]
[null,1637]
[null,1638]
[null,1639]
[null,1640]
[null,1641]
[null,1642]
[null,1643]
[null,1644]
[null,1645]
[null,1646]
[null,1647]
[null,1648]
[null,1649]
[null,{"$f":"ROW()-3","v":1650}]
[null,1651]
[null,1652]
[null,1653]
[null,1654]
[null,1655]
[null,1656]
[null,1657]
[null,1658]
[null,1659]
[null,1660]
[null,1661]
[null,1662]
[null,1663]
[null,1664]
[null,1665]
[null,1666]
[null,1667]
[null,1668]
[null,1669]
[null,1670]
[null,1671]
[null,1672]
[null,1673]
[null,1674]
[null,1675]
[null,1676]
[null,1677]
[null,1678]
[null,1679]
[null,1680]
[null,1681]
[null,1682]
[null,1683]
[null,1684]
[null,1685]
[null,1686]
[null,1687]
[null,1688]
[null,1689]
[null,1690]
[null,1691]
[null,1692]
[null,1693]
[null,1694]
[null,1695]
[null,1696]
[null,1697]
[null,1698]
[null,1699]
[null,1700]
[null,1701]
[null,1702]
[null,1703]
[null,1704]
[null,1705]
[null,1706]
[null,1707]
[null,1708]
[null,1709]
[null,1710]
[null,1711]
[null,1712]
[null,1713]
[null,{"$f":"ROW()-3","v":1714}]
[null,1715]
[null,1716]
[null,1717]
[null,1718]
[null,1719]
[null,1720]
[null,1721]
[null,1722]
[null,1723]
[null,1724]
[null,1725]
[null,1726]
[null,1727]
[null,1728]
[null,1729]
[null,1730]
[null,1731]
[null,1732]
[null,1733]
[null,1734]
[null,1735]
[null,1736]
[null,1737]
[null,1738]
[null,1739]
[null,1740]
[null,1741]
[null,1742]
[null,1743]
[null,1744]
[null,1745]
[null,1746]
[null,1747]
[null,1748]
[null,1749]
[null,1750]
[null,1751]
[null,1752]
[null,1753]
[null,1754]
[null,1755]
[null,1756]
[null,1757]
[null,1758]
[null,1759]
[null,1760]
[null,1761]
[null,1762]
[null,1763]
[null,1764]
[null,1765]
[null,1766]
[null,1767]
[null,1768]
[null,1769]
[null,1770]
[null,1771]
[null,1772]
[null,1773]
[null,1774]
[null,1775]
[null,1776]
[null,1777]
[null,{"$f":"ROW()-3","v":1778}]
[null,1779]
[null,1780]
[null,1781]
[null,1782]
[null,1783]
[null,1784]
[null,1785]
[null,1786]
[null,1787]
[null,1788]
[null,1789]
[null,1790]
[null,1791]
[null,1792]
[null,1793]
[null,1794]
[null,1795]
[null,1796]
[null,1797]
[null,1798]
[null,1799]
[null,1800]
[null,1801]
[null,1802]
[null,1803]
[null,1804]
[null,1805]
[null,1806]
[null,1807]
[null,1808]
[null,1809]
[null,1810]
[null,1811]
[null,1812]
[null,1813]
[null,1814]
[null,1815]
[null,1816]
[null,1817]
[null,1818]
[null,1819]
[null,1820]
[null,1821]
[null,1822]
[null,1823]
[null,1824]
[null,1825]
[null,1826]
[null,1827]
[null,1828]
[null,1829]
[null,1830]
[null,1831]
[null,1832]
[null,1833]
[null,1834]
[null,1835]
[null,1836]
[null,1837]
[null,1838]
[null,1839]
[null,1840]
[null,1841]
[null,{"$f":"ROW()-3","v":1842}]
[null,1843]
[null,1844]
[null,1845]
[null,1846]
[null,1847]
[null,1848]
[null,1849]
[null,1850]
[null,1851]
[null,1852]
[null,1853]
[null,1854]
[null,1855]
[null,1856]
[null,1857]
[null,1858]
[null,1859]
[null,1860]
[null,1861]
[null,1862]
[null,1863]
[null,1864]
[null,1865]
[null,1866]
[null,1867]
[null,1868]
[null,1869]
[null,1870]
[null,1871]
[null,1872]
[null,1873]
[null,1874]
[null,1875]
[null,1876]
[null,1877]
[null,1878]
[null,1879]
[null,1880]
[null,1881]
[null,1882]
[null,1883]
[null,1884]
[null,1885]
[null,1886]
[null,1887]
[null,1888]
[null,1889]
[null,1890]
[null,1891]
[null,1892]
[null,1893]
[null,1894]
[null,1895]
[null,1896]
[null,1897]
[null,1898]
[null,1899]
[null,1900]
[null,1901]
[null,1902]
[null,1903]
[null,1904]
[null,1905]
[null,{"$f":"ROW()-3","v":1906}]
[null,1907]
[null,1908]
[null,1909]
[null,1910]
[null,1911]
[null,1912]
[null,1913]
[null,1914]
[null,1915]
[null,1916]
[null,1917]
[null,1918]
[null,1919]
[null,1920]
[null,1921]
[null,1922]
[null,1923]
[null,1924]
[null,1925]
[null,1926]
[null,1927]
[null,1928]
[null,1929]
[null,1930]
[null,1931]
[null,1932]
[null,1933]
[null,1934]
[null,1935]
[null,1936]
[null,1937]
[null,1938]
[null,1939]
[null,1940]
[null,1941]
[null,1942]
[null,1943]
[null,1944]
[null,1945]
[null,1946]
[null,1947]
[null,1948]
[null,1949]
[null,1950]
[null,1951]
[null,1952]
[null,1953]
[null,1954]
[null,1955]
[null,1956]
[null,1957]
[null,1958]
[null,1959]
[null,1960]
[null,1961]
[null,1962]
[null,1963]
[null,1964]
[null,1965]
[null,1966]
[null,1967]
[null,1968]
[null,1969]
[null,{"$f":"ROW()-3","v":1970}]
[null,1971]
[null,1972]
[null,1973]
[null,1974]
[null,1975]
[null,1976]
[null,1977]
[null,1978]
[null,1979]
[null,1980]
[null,1981]
[null,1982]
[null,{"$f":"ROW()-3","v":1983}]
[null,1984]
[null,1985]
[null,1986]
[null,1987]
[null,1988]
[null,1989]
[null,1990]
[null,1991]
[null,1992]
[null,1993]
[null,1994]
[null,1995]
[null,1996]
[null,{"$f":"ROW()-3","v":1997}]

{"sheet":"mosh","index":2,"n_rows":2000,"n_cols":16383,"rows_kept":2000,"cut":false,"hidden":false,"merged":[]}
[null,null,null,null,null,null,null,null,null,null,null,null,null,null,null,null,null,null,null,null,null,null,null,null,null,null,null,null,null,null,null,null,null,null,null,null,null,null,null,null,null,null,null,null,null,null,null,null,null,null,null,null,null,null,null,null,null,null,null,null,null,null,null,null,null,null,null,null,null,null,null,null,null,null,null,null,null,null,null,null,null,null,null,null,null,null,null,null,null,null,null,null,null,null,null,null,null,null,null,null,null,null,null,null,null,null,null,null,null,null,null,null,null,null,null,null,null,null,null,null,null,null,null,null,null,null,null,null,null,null,null,null,null,null,null,null,null,null,null,null,null,null,null,null,null,null,null,null,null,null,null,null,null,null,null,null,null,null,null,null,null,null,null,null,null,null,null,null,null,null,null,null,null,null,null,null,null,null,null,null,null,null,null,null,null,null,null,null,null,null,null,null,null,null,null,null,null,null,null,null,null,null,null,null,null,null,null,null,null,null,null,null,null,null,null,null,null,null,null,null,null,null,null,null,null,null,null,null,null,null,null,null,null,null,null,null,null,null,null,null,null,null,null,null,null,null,null,null,null,null,null,null,null,null,null,null,null,null,null,null,null,null,null,null,null,null,null,null,null,null,null,null,null,null,null,null,null,null,null,null,null,null,null,null,null,null,null,null,null,null,null,null,null,null,null,null,null,null,null,null,null,null,null,null,null,null,null,null,null,null,null,null,null,null,null,null,null,null,null,null,null,null,null,null,null,null,null,null,null,null,null,null,null,null,null,null,null,null,null,null,null,null,null,null,null,null,null,null,null,null,null,null,null,null,null,null,null,null,null,null,null,null,null,null,null,null,null,null,null,null,null,null,null,null,null,null,null,null,null,null,null,null,null,null,null,null,null,null,null,null,null,null,null,null,null,null,null,null,null,null,null,null,null,null,null,null,null,null,null,null,null,null,null,null,null,null,null,null,null,null,null,null,null,null,null,null,null,null,null,null,null,null,null,null,null,null,null,null,null,null,null,null,null,null,null,null,null,null,null,null,null,null,null,null,null,null,null,null,null,null,null,null,null,null,null,null,null,null,null,null,null,null,null,null,null,null,null,null,null,null,null,null,null,null,null,null,null,null,null,null,null,null,null,null,null,null,null,null,null,null,null,null,null,null,null,null,null,null,null,null,null,null,null,null,null,null,null,null,null,null,null,null,null,null,null,null,null,null,null,null,null,null,null,null,null,null,null,null,null,null,null,null,null,null,null,null,null,null,null,null,null,null,null,null,null,null,null,null,null,null,null,null,null,null,null,null,null,null,null,null,null,null,null,null,null,null,null,null,null,null,null,null,null,null,null,null,null,null,null,null,null,null,null,null,null,null,null,null,null,null,null,null,null,null,null,null,null,null,null,null,null,null,null,null,null,null,null,null,null,null,null,null,null,null,null,null,null,null,null,null,null,null,null,null,null,null,null,null,null,null,null,null,null,null,null,null,null,null,null,null,null,null,null,null,null,null,null,null,null,null,null,null,null,null,null,null,null,null,null,null,null,null,null,null,null,null,null,null,null,null,null,null,null,null,null,null,null,null,null,null,null,null,null,null,null,null,null,null,null,null,null,null,null,null,null,null,null,null,null,null,null,null,null,null,null,null,null,null,null,null,null,null,null,null,null,null,null,null,null,null,null,null,null,null,null,null,null,null,null,null,null,null,null,null,null,null,null,null,null,null,null,null,null,null,null,null,null,null,null,null,null,null,null,null,null,null,null,null,null,null,null,null,null,null,null,null,null,null,null,null,null,null,null,null,null,null,null,null,null,null,null,null,null,null,null,null,null,null,null,null,null,null,null,null,null,null,null,null,null,null,null,null,null,null,null,null,null,null,null,null,null,null,null,null,null,null,null,null,null,null,null,null,null,null,null,null,null,null,null,null,null,null,null,null,null,null,null,null,null,null,null,null,null,null,null,null,null,null,null,null,null,null,null,null,null,null,null,null,null,null,null,null,null,null,null,null,null,null,null,null,null,null,null,null,null,null,null,null,null,null,null,null,null,null,null,null,null,null,null,null,null,null,null,null,null,null,null,null,null,null,null,null,null,null,null,null,null,null,null,null,null,null,null,null,null,null,null,null,null,null,null,null,null,null,null,null,null,null,null,null,null,null,null,null,null,null,null,null,null,null,null,null,null,null,null,null,null,null,null,null,null,null,null,null,null,null,null,null,null,null,null,null,null,null,null,null,null,null,null,null,null,null,null,null,null,null,null,null,null,null,null,null,null,null,null,null,null,null,null,null,null,null,null,null,null,null,null,null,null,null,null,null,null,null,null,null,null,null,null,null,null,null,null,null,null,null,null,null,null,null,null,null,null,null,null,null,null,null,null,null,null,null,null,null,null,null,null,null,null,null,null,null,null,null,null,null,null,null,null,null,null,null,null,null,null,null,null,null,null,null,null,null,null,null,null,null,null,null,null,null,null,null,null,null,null,null,null,null,null,null,null,null,null,null,null,null,null,null,null,null,null,null,null,null,null,null,null,null,null,null,null,null,null,null,null,null,null,null,null,null,null,null,null,null,null,null,null,null,null,null,null,null,null,null,null,null,null,null,null,null,null,null,null,null,null,null,null,null,null,null,null,null,null,null,null,null,null,null,null,null,null,null,null,null,null,null,null,null,null,null,null,null,null,null,null,null,null,null,null,null,null,null,null,null,null,null,null,null,null,null,null,null,null,null,null,null,null,null,null,null,null,null,null,null,null,null,null,null,null,null,null,null,null,null,null,null,null,null,null,null,null,null,null,null,null,null,null,null,null,null,null,null,null,null,null,null,null,null,null,null,null,null,null,null,null,null,null,null,null,null,null,null,null,null,null,null,null,null,null,null,null,null,null,null,null,null,null,null,null,null,null,null,null,null,null,null,null,null,null,null,null,null,null,null,null,null,null,null,null,null,null,null,null,null,null,null,null,null,null,null,null,null,null,null,null,null,null,null,null,null,null,null,null,null,null,null,null,null,null,null,null,null,null,null,null,null,null,null,null,null,null,null,null,null,null,null,null,null,null,null,null,null,null,null,null,null,null,null,null,null,null,null,null,null,null,null,null,null,null,null,null,null,null,null,null,null,null,null,null,null,null,null,null,null,null,null,null,null,null,null,null,null,null,null,null,null,null,null,null,null,null,null,null,null,null,null,null,null,null,null,null,null,null,null,null,null,null,null,null,null,null,null,null,null,null,null,null,null,null,null,null,null,null,null,null,null,null,null,null,null,null,null,null,null,null,null,null,null,null,null,null,null,null,null,null,null,null,null,null,null,null,null,null,null,null,null,null,null,null,null,null,null,null,null,null,null,null,null,null,null,null,null,null,null,null,null,null,null,null,null,null,null,null,null,null,null,null,null,null,null,null,null,null,null,null,null,null,null,null,null,null,null,null,null,null,null,null,null,null,null,null,null,null,null,null,null,null,null,null,null,null,null,null,null,null,null,null,null,null,null,null,null,null,null,null,null,null,null,null,null,null,null,null,null,null,null,null,null,null,null,null,null,null,null,null,null,null,null,null,null,null,null,null,null,null,null,null,null,null,null,null,null,null,null,null,null,null,null,null,null,null,null,null,null,null,null,null,null,null,null,null,null,null,null,null,null,null,null,null,null,null,null,null,null,null,null,null,null,null,null,null,null,null,null,null,null,null,null,null,null,null,null,null,null,null,null,null,null,null,null,null,null,null,null,null,null,null,null,null,null,null,null,null,null,null,null,null,null,null,null,null,null,null,null,null,null,null,null,null,null,null,null,null,null,null,null,null,null,null,null,null,null,null,null,null,null,null,null,null,null,null,null,null,null,null,null,null,null,null,null,null,null,null,null,null,null,null,null,null,null,null,null,null,null,null,null,null,null,null,null,null,null,null,null,null,null,null,null,null,null,null,null,null,null,null,null,null,null,null,null,null,null,null,null,null,null,null,null,null,null,null,null,null,null,null,null,null,null,null,null,null,null,null,null,null,null,null,null,null,null,null,null,null,null,null,null,null,null,null,null,null,null,null,null,null,null,null,null,null,null,null,null,null,null,null,null,null,null,null,null,null,null,null,null,null,null,null,null,null,null,null,null,null,null,null,null,null,null,null,null,null,null,null,null,null,null,null,null,null,null,null,null,null,null,null,null,null,null,null,null,null,null,null,null,null,null,null,null,null,null,null,null,null,null,null,null,null,null,null,null,null,null,null,null,null,null,null,null,null,null,null,null,null,null,null,null,null,null,null,null,null,null,null,null,null,null,null,null,null,null,null,null,null,null,null,null,null,null,null,null,null,null,null,null,null,null,null,null,null,null,null,null,null,null,null,null,null,null,null,null,null,null,null,null,null,null,null,null,null,null,null,null,null,null,null,null,null,null,null,null,null,null,null,null,null,null,null,null,null,null,null,null,null,null,null,null,null,null,null,null,null,null,null,null,null,null,null,null,null,null,null,null,null,null,null,null,null,null,null,null,null,null,null,null,null,null,null,null,null,null,null,null,null,null,null,null,null,null,null,null,null,null,null,null,null,null,null,null,null,null,null,null,null,null,null,null,null,null,null,null,null,null,null,null,null,null,null,null,null,null,null,null,null,null,null,null,null,null,null,null,null,null,null,null,null,null,null,null,null,null,null,null,null,null,null,null,null,null,null,null,null,null,null,null,null,null,null,null,null,null,null,null,null,null,null,null,null,null,null,null,null,null,null,null,null,null,null,null,null,null,null,null,null,null,null,null,null,null,null,null,null,null,null,null,null,null,null,null,null,null,null,null,null,null,null,null,null,null,null,null,null,null,null,null,null,null,null,null,null,null,null,null,null,null,null,null,null,null,null,null,null,null,null,null,null,null,null,null,null,null,null,null,null,null,null,null,null,null,null,null,null,null,null,null,null,null,null,null,null,null,null,null,null,null,null,null,null,null,null,null,null,null,null,null,null,null,null,null,null,null,null,null,null,null,null,null,null,null,null,null,null,null,null,null,null,null,null,null,null,null,null,null,null,null,null,null,null,null,null,null,null,null,null,null,null,null,null,null,null,null,null,null,null,null,null,null,null,null,null,null,null,null,null,null,null,null,null,null,null,null,null,null,null,null,null,null,null,null,null,null,null,null,null,null,null,null,null,null,null,null,null,null,null,null,null,null,null,null,null,null,null,null,null,null,null,null,null,null,null,null,null,null,null,null,null,null,null,null,null,null,null,null,null,null,null,null,null,null,null,null,null,null,null,null,null,null,null,null,null,null,null,null,null,null,null,null,null,null,null,null,null,null,null,null,null,null,null,null,null,null,null,null,null,null,null,null,null,null,null,null,null,null,null,null,null,null,null,null,null,null,null,null,null,null,null,null,null,null,null,null,null,null,null,null,null,null,null,null,null,null,null,null,null,null,null,null,null,null,null,null,null,null,null,null,null,null,null,null,null,null,null,null,null,null,null,null,null,null,null,null,null,null,null,null,null,null,null,null,null,null,null,null,null,null,null,null,null,null,null,null,null,null,null,null,null,null,null,null,null,null,null,null,null,null,null,null,null,null,null,null,null,null,null,null,null,null,null,null,null,null,null,null,null,null,null,null,null,null,null,null,null,null,null,null,null,null,null,null,null,null,null,null,null,null,null,null,null,null,null,null,null,null,null,null,null,null,null,null,null,null,null,null,null,null,null,null,null,null,null,null,null,null,null,null,null,null,null,null,null,null,null,null,null,null,null,null,null,null,null,null,null,null,null,null,null,null,null,null,null,null,null,null,null,null,null,null,null,null,null,null,null,null,null,null,null,null,null,null,null,null,null,null,null,null,null,null,null,null,null,null,null,null,null,null,null,null,null,null,null,null,null,null,null,null,null,null,null,null,null,null,null,null,null,null,null,null,null,null,null,null,null,null,null,null,null,null,null,null,null,null,null,null,null,null,null,null,null,null,null,null,null,null,null,null,null,null,null,null,null,null,null,null,null,null,null,null,null,null,null,null,null,null,null,null,null,null,null,null,null,null,null,null,null,null,null,null,null,null,null,null,null,null,null,null,null,null,null,null,null,null,null,null,null,null,null,null,null,null,null,null,null,null,null,null,null,null,null,null,null,null,null,null,null,null,null,null,null,null,null,null,null,null,null,null,null,null,null,null,null,null,null,null,null,null,null,null,null,null,null,null,null,null,null,null,null,null,null,null,null,null,null,null,null,null,null,null,null,null,null,null,null,null,null,null,null,null,null,null,null,null,null,null,null,null,null,null,null,null,null,null,null,null,null,null,null,null,null,null,null,null,null,null,null,null,null,null,null,null,null,null,null,null,null,null,null,null,null,null,null,null,null,null,null,null,null,null,null,null,null,null,null,null,null,null,null,null,null,null,null,null,null,null,null,null,null,null,null,null,null,null,null,null,null,null,null,null,null,null,null,null,null,null,null,null,null,null,null,null,null,null,null,null,null,null,null,null,null,null,null,null,null,null,null,null,null,null,null,null,null,null,null,null,null,null,null,null,null,null,null,null,null,null,null,null,null,null,null,null,null,null,null,null,null,null,null,null,null,null,null,null,null,null,null,null,null,null,null,null,null,null,null,null,null,null,null,null,null,null,null,null,null,null,null,null,null,null,null,null,null,null,null,null,null,null,null,null,null,null,null,null,null,null,null,null,null,null,null,null,null,null,null,null,null,null,null,null,null,null,null,null,null,null,null,null,null,null,null,null,null,null,null,null,null,null,null,null,null,null,null,null,null,null,null,null,null,null,null,null,null,null,null,null,null,null,null,null,null,null,null,null,null,null,null,null,null,null,null,null,null,null,null,null,null,null,null,null,null,null,null,null,null,null,null,null,null,null,null,null,null,null,null,null,null,null,null,null,null,null,null,null,null,null,null,null,null,null,null,null,null,null,null,null,null,null,null,null,null,null,null,null,null,null,null,null,null,null,null,null,null,null,null,null,null,null,null,null,null,null,null,null,null,null,null,null,null,null,null,null,null,null,null,null,null,null,null,null,null,null,null,null,null,null,null,null,null,null,null,null,null,null,null,null,null,null,null,null,null,null,null,null,null,null,null,null,null,null,null,null,null,null,null,null,null,null,null,null,null,null,null,null,null,null,null,null,null,null,null,null,null,null,null,null,null,null,null,null,null,null,null,null,null,null,null,null,null,null,null,null,null,null,null,null,null,null,null,null,null,null,null,null,null,null,null,null,null,null,null,null,null,null,null,null,null,null,null,null,null,null,null,null,null,null,null,null,null,null,null,null,null,null,null,null,null,null,null,null,null,null,null,null,null,null,null,null,null,null,null,null,null,null,null,null,null,null,null,null,null,null,null,null,null,null,null,null,null,null,null,null,null,null,null,null,null,null,null,null,null,null,null,null,null,null,null,null,null,null,null,null,null,null,null,null,null,null,null,null,null,null,null,null,null,null,null,null,null,null,null,null,null,null,null,null,null,null,null,null,null,null,null,null,null,null,null,null,null,null,null,null,null,null,null,null,null,null,null,null,null,null,null,null,null,null,null,null,null,null,null,null,null,null,null,null,null,null,null,null,null,null,null,null,null,null,null,null,null,null,null,null,null,null,null,null,null,null,null,null,null,null,null,null,null,null,null,null,null,null,null,null,null,null,null,null,null,null,null,null,null,null,null,null,null,null,null,null,null,null,null,null,null,null,null,null,null,null,null,null,null,null,null,null,null,null,null,null,null,null,null,null,null,null,null,null,null,null,null,null,null,null,null,null,null,null,null,null,null,null,null,null,null,null,null,null,null,null,null,null,null,null,null,null,null,null,null,null,null,null,null,null,null,null,null,null,null,null,null,null,null,null,null,null,null,null,null,null,null,null,null,null,null,null,null,null,null,null,null,null,null,null,null,null,null,null,null,null,null,null,null,null,null,null,null,null,null,null,null,null,null,null,null,null,null,null,null,null,null,null,null,null,null,null,null,null,null,null,null,null,null,null,null,null,null,null,null,null,null,null,null,null,null,null,null,null,null,null,null,null,null,null,null,null,null,null,null,null,null,null,null,null,null,null,null,null,null,null,null,null,null,null,null,null,null,null,null,null,null,null,null,null,null,null,null,null,null,null,null,null,null,null,null,null,null,null,null,null,null,null,null,null,null,null,null,null,null,null,null,null,null,null,null,null,null,null,null,null,null,null,null,null,null,null,null,null,null,null,null,null,null,null,null,null,null,null,null,null,null,null,null,null,null,null,null,null,null,null,null,null,null,null,null,null,null,null,null,null,null,null,null,null,null,null,null,null,null,null,null,null,null,null,null,null,null,null,null,null,null,null,null,null,null,null,null,null,null,null,null,null,null,null,null,null,null,null,null,null,null,null,null,null,null,null,null,null,null,null,null,null,null,null,null,null,null,null,null,null,null,null,null,null,null,null,null,null,null,null,null,null,null,null,null,null,null,null,null,null,null,null,null,null,null,null,null,null,null,null,null,null,null,null,null,null,null,null,null,null,null,null,null,null,null,null,null,null,null,null,null,null,null,null,null,null,null,null,null,null,null,null,null,null,null,null,null,null,null,null,null,null,null,null,null,null,null,null,null,null,null,null,null,null,null,null,null,null,null,null,null,null,null,null,null,null,null,null,null,null,null,null,null,null,null,null,null,null,null,null,null,null,null,null,null,null,null,null,null,null,null,null,null,null,null,null,null,null,null,null,null,null,null,null,null,null,null,null,null,null,null,null,null,null,null,null,null,null,null,null,null,null,null,null,null,null,null,null,null,null,null,null,null,null,null,null,null,null,null,null,null,null,null,null,null,null,null,null,null,null,null,null,null,null,null,null,null,null,null,null,null,null,null,null,null,null,null,null,null,null,null,null,null,null,null,null,null,null,null,null,null,null,null,null,null,null,null,null,null,null,null,null,null,null,null,null,null,null,null,null,null,null,null,null,null,null,null,null,null,null,null,null,null,null,null,null,null,null,null,null,null,null,null,null,null,null,null,null,null,null,null,null,null,null,null,null,null,null,null,null,null,null,null,null,null,null,null,null,null,null,null,null,null,null,null,null,null,null,null,null,null,null,null,null,null,null,null,null,null,null,null,null,null,null,null,null,null,null,null,null,null,null,null,null,null,null,null,null,null,null,null,null,null,null,null,null,null,null,null,null,null,null,null,null,null,null,null,null,null,null,null,null,null,null,null,null,null,null,null,null,null,null,null,null,null,null,null,null,null,null,null,null,null,null,null,null,null,null,null,null,null,null,null,null,null,null,null,null,null,null,null,null,null,null,null,null,null,null,null,null,null,null,null,null,null,null,null,null,null,null,null,null,null,null,null,null,null,null,null,null,null,null,null,null,null,null,null,null,null,null,null,null,null,null,null,null,null,null,null,null,null,null,null,null,null,null,null,null,null,null,null,null,null,null,null,null,null,null,null,null,null,null,null,null,null,null,null,null,null,null,null,null,null,null,null,null,null,null,null,null,null,null,null,null,null,null,null,null,null,null,null,null,null,null,null,null,null,null,null,null,null,null,null,null,null,null,null,null,null,null,null,null,null,null,null,null,null,null,null,null,null,null,null,null,null,null,null,null,null,null,null,null,null,null,null,null,null,null,null,null,null,null,null,null,null,null,null,null,null,null,null,null,null,null,null,null,null,null,null,null,null,null,null,null,null,null,null,null,null,null,null,null,null,null,null,null,null,null,null,null,null,null,null,null,null,null,null,null,null,null,null,null,null,null,null,null,null,null,null,null,null,null,null,null,null,null,null,null,null,null,null,null,null,null,null,null,null,null,null,null,null,null,null,null,null,null,null,null,null,null,null,null,null,null,null,null,null,null,null,null,null,null,null,null,null,null,null,null,null,null,null,null,null,null,null,null,null,null,null,null,null,null,null,null,null,null,null,null,null,null,null,null,null,null,null,null,null,null,null,null,null,null,null,null,null,null,null,null,null,null,null,null,null,null,null,null,null,null,null,null,null,null,null,null,null,null,null,null,null,null,null,null,null,null,null,null,null,null,null,null,null,null,null,null,null,null,null,null,null,null,null,null,null,null,null,null,null,null,null,null,null,null,null,null,null,null,null,null,null,null,null,null,null,null,null,null,null,null,null,null,null,null,null,null,null,null,null,null,null,null,null,null,null,null,null,null,null,null,null,null,null,null,null,null,null,null,null,null,null,null,null,null,null,null,null,null,null,null,null,null,null,null,null,null,null,null,null,null,null,null,null,null,null,null,null,null,null,null,null,null,null,null,null,null,null,null,null,null,null,null,null,null,null,null,null,null,null,null,null,null,null,null,null,null,null,null,null,null,null,null,null,null,null,null,null,null,null,null,null,null,null,null,null,null,null,null,null,null,null,null,null,null,null,null,null,null,null,null,null,null,null,null,null,null,null,null,null,null,null,null,null,null,null,null,null,null,null,null,null,null,null,null,null,null,null,null,null,null,null,null,null,null,null,null,null,null,null,null,null,null,null,null,null,null,null,null,null,null,null,null,null,null,null,null,null,null,null,null,null,null,null,null,null,null,null,null,null,null,null,null,null,null,null,null,null,null,null,null,null,null,null,null,null,null,null,null,null,null,null,null,null,null,null,null,null,null,null,null,null,null,null,null,null,null,null,null,null,null,null,null,null,null,null,null,null,null,null,null,null,null,null,null,null,null,null,null,null,null,null,null,null,null,null,null,null,null,null,null,null,null,null,null,null,null,null,null,null,null,null,null,null,null,null,null,null,null,null,null,null,null,null,null,null,null,null,null,null,null,null,null,null,null,null,null,null,null,null,null,null,null,null,null,null,null,null,null,null,null,null,null,null,null,null,null,null,null,null,null,null,null,null,null,null,null,null,null,null,null,null,null,null,null,null,null,null,null,null,null,null,null,null,null,null,null,null,null,null,null,null,null,null,null,null,null,null,null,null,null,null,null,null,null,null,null,null,null,null,null,null,null,null,null,null,null,null,null,null,null,null,null,null,null,null,null,null,null,null,null,null,null,null,null,null,null,null,null,null,null,null,null,null,null,null,null,null,null,null,null,null,null,null,null,null,null,null,null,null,null,null,null,null,null,null,null,null,null,null,null,null,null,null,null,null,null,null,null,null,null,null,null,null,null,null,null,null,null,null,null,null,null,null,null,null,null,null,null,null,null,null,null,null,null,null,null,null,null,null,null,null,null,null,null,null,null,null,null,null,null,null,null,null,null,null,null,null,null,null,null,null,null,null,null,null,null,null,null,null,null,null,null,null,null,null,null,null,null,null,null,null,null,null,null,null,null,null,null,null,null,null,null,null,null,null,null,null,null,null,null,null,null,null,null,null,null,null,null,null,null,null,null,null,null,null,null,null,null,null,null,null,null,null,null,null,null,null,null,null,null,null,null,null,null,null,null,null,null,null,null,null,null,null,null,null,null,null,null,null,null,null,null,null,null,null,null,null,null,null,null,null,null,null,null,null,null,null,null,null,null,null,null,null,null,null,null,null,null,null,null,null,null,null,null,null,null,null,null,null,null,null,null,null,null,null,null,null,null,null,null,null,null,null,null,null,null,null,null,null,null,null,null,null,null,null,null,null,null,null,null,null,null,null,null,null,null,null,null,null,null,null,null,null,null,null,null,null,null,null,null,null,null,null,null,null,null,null,null,null,null,null,null,null,null,null,null,null,null,null,null,null,null,null,null,null,null,null,null,null,null,null,null,null,null,null,null,null,null,null,null,null,null,null,null,null,null,null,null,null,null,null,null,null,null,null,null,null,null,null,null,null,null,null,null,null,null,null,null,null,null,null,null,null,null,null,null,null,null,null,null,null,null,null,null,null,null,null,null,null,null,null,null,null,null,null,null,null,null,null,null,null,null,null,null,null,null,null,null,null,null,null,null,null,null,null,null,null,null,null,null,null,null,null,null,null,null,null,null,null,null,null,null,null,null,null,null,null,null,null,null,null,null,null,null,null,null,null,null,null,null,null,null,null,null,null,null,null,null,null,null,null,null,null,null,null,null,null,null,null,null,null,null,null,null,null,null,null,null,null,null,null,null,null,null,null,null,null,null,null,null,null,null,null,null,null,null,null,null,null,null,null,null,null,null,null,null,null,null,null,null,null,null,null,null,null,null,null,null,null,null,null,null,null,null,null,null,null,null,null,null,null,null,null,null,null,null,null,null,null,null,null,null,null,null,null,null,null,null,null,null,null,null,null,null,null,null,null,null,null,null,null,null,null,null,null,null,null,null,null,null,null,null,null,null,null,null,null,null,null,null,null,null,null,null,null,null,null,null,null,null,null,null,null,null,null,null,null,null,null,null,null,null,null,null,null,null,null,null,null,null,null,null,null,null,null,null,null,null,null,null,null,null,null,null,null,null,null,null,null,null,null,null,null,null,null,null,null,null,null,null,null,null,null,null,null,null,null,null,null,null,null,null,null,null,null,null,null,null,null,null,null,null,null,null,null,null,null,null,null,null,null,null,null,null,null,null,null,null,null,null,null,null,null,null,null,null,null,null,null,null,null,null,null,null,null,null,null,null,null,null,null,null,null,null,null,null,null,null,null,null,null,null,null,null,null,null,null,null,null,null,null,null,null,null,null,null,null,null,null,null,null,null,null,null,null,null,null,null,null,null,null,null,null,null,null,null,null,null,null,null,null,null,null,null,null,null,null,null,null,null,null,null,null,null,null,null,null,null,null,null,null,null,null,null,null,null,null,null,null,null,null,null,null,null,null,null,null,null,null,null,null,null,null,null,null,null,null,null,null,null,null,null,null,null,null,null,null,null,null,null,null,null,null,null,null,null,null,null,null,null,null,null,null,null,null,null,null,null,null,null,null,null,null,null,null,null,null,null,null,null,null,null,null,null,null,null,null,null,null,null,null,null,null,null,null,null,null,null,null,null,null,null,null,null,null,null,null,null,null,null,null,null,null,null,null,null,null,null,null,null,null,null,null,null,null,null,null,null,null,null,null,null,null,null,null,null,null,null,null,null,null,null,null,null,null,null,null,null,null,null,null,null,null,null,null,null,null,null,null,null,null,null,null,null,null,null,null,null,null,null,null,null,null,null,null,null,null,null,null,null,null,null,null,null,null,null,null,null,null,null,null,null,null,null,null,null,null,null,null,null,null,null,null,null,null,null,null,null,null,null,null,null,null,null,null,null,null,null,null,null,null,null,null,null,null,null,null,null,null,null,null,null,null,null,null,null,null,null,null,null,null,null,null,null,null,null,null,null,null,null,null,null,null,null,null,null,null,null,null,null,null,null,null,null,null,null,null,null,null,null,null,null,null,null,null,null,null,null,null,null,null,null,null,null,null,null,null,null,null,null,null,null,null,null,null,null,null,null,null,null,null,null,null,null,null,null,null,null,null,null,null,null,null,null,null,null,null,null,null,null,null,null,null,null,null,null,null,null,null,null,null,null,null,null,null,null,null,null,null,null,null,null,null,null,null,null,null,null,null,null,null,null,null,null,null,null,null,null,null,null,null,null,null,null,null,null,null,null,null,null,null,null,null,null,null,null,null,null,null,null,null,null,null,null,null,null,null,null,null,null,null,null,null,null,null,null,null,null,null,null,null,null,null,null,null,null,null,null,null,null,null,null,null,null,null,null,null,null,null,null,null,null,null,null,null,null,null,null,null,null,null,null,null,null,null,null,null,null,null,null,null,null,null,null,null,null,null,null,null,null,null,null,null,null,null,null,null,null,null,null,null,null,null,null,null,null,null,null,null,null,null,null,null,null,null,null,null,null,null,null,null,null,null,null,null,null,null,null,null,null,null,null,null,null,null,null,null,null,null,null,null,null,null,null,null,null,null,null,null,null,null,null,null,null,null,null,null,null,null,null,null,null,null,null,null,null,null,null,null,null,null,null,null,null,null,null,null,null,null,null,null,null,null,null,null,null,null,null,null,null,null,null,null,null,null,null,null,null,null,null,null,null,null,null,null,null,null,null,null,null,null,null,null,null,null,null,null,null,null,null,null,null,null,null,null,null,null,null,null,null,null,null,null,null,null,null,null,null,null,null,null,null,null,null,null,null,null,null,null,null,null,null,null,null,null,null,null,null,null,null,null,null,null,null,null,null,null,null,null,null,null,null,null,null,null,null,null,null,null,null,null,null,null,null,null,null,null,null,null,null,null,null,null,null,null,null,null,null,null,null,null,null,null,null,null,null,null,null,null,null,null,null,null,null,null,null,null,null,null,null,null,null,null,null,null,null,null,null,null,null,null,null,null,null,null,null,null,null,null,null,null,null,null,null,null,null,null,null,null,null,null,null,null,null,null,null,null,null,null,null,null,null,null,null,null,null,null,null,null,null,null,null,null,null,null,null,null,null,null,null,null,null,null,null,null,null,null,null,null,null,null,null,null,null,null,null,null,null,null,null,null,null,null,null,null,null,null,null,null,null,null,null,null,null,null,null,null,null,null,null,null,null,null,null,null,null,null,null,null,null,null,null,null,null,null,null,null,null,null,null,null,null,null,null,null,null,null,null,null,null,null,null,null,null,null,null,null,null,null,null,null,null,null,null,null,null,null,null,null,null,null,null,null,null,null,null,null,null,null,null,null,null,null,null,null,null,null,null,null,null,null,null,null,null,null,null,null,null,null,null,null,null,null,null,null,null,null,null,null,null,null,null,null,null,null,null,null,null,null,null,null,null,null,null,null,null,null,null,null,null,null,null,null,null,null,null,null,null,null,null,null,null,null,null,null,null,null,null,null,null,null,null,null,null,null,null,null,null,null,null,null,null,null,null,null,null,null,null,null,null,null,null,null,null,null,null,null,null,null,null,null,null,null,null,null,null,null,null,null,null,null,null,null,null,null,null,null,null,null,null,null,null,null,null,null,null,null,null,null,null,null,null,null,null,null,null,null,null,null,null,null,null,null,null,null,null,null,null,null,null,null,null,null,null,null,null,null,null,null,null,null,null,null,null,null,null,null,null,null,null,null,null,null,null,null,null,null,null,null,null,null,null,null,null,null,null,null,null,null,null,null,null,null,null,null,null,null,null,null,null,null,null,null,null,null,null,null,null,null,null,null,null,null,null,null,null,null,null,null,null,null,null,null,null,null,null,null,null,null,null,null,null,null,null,null,null,null,null,null,null,null,null,null,null,null,null,null,null,null,null,null,null,null,null,null,null,null,null,null,null,null,null,null,null,null,null,null,null,null,null,null,null,null,null,null,null,null,null,null,null,null,null,null,null,null,null,null,null,null,null,null,null,null,null,null,null,null,null,null,null,null,null,null,null,null,null,null,null,null,null,null,null,null,null,null,null,null,null,null,null,null,null,null,null,null,null,null,null,null,null,null,null,null,null,null,null,null,null,null,null,null,null,null,null,null,null,null,null,null,null,null,null,null,null,null,null,null,null,null,null,null,null,null,null,null,null,null,null,null,null,null,null,null,null,null,null,null,null,null,null,null,null,null,null,null,null,null,null,null,null,null,null,null,null,null,null,null,null,null,null,null,null,null,null,null,null,null,null,null,null,null,null,null,null,null,null,null,null,null,null,null,null,null,null,null,null,null,null,null,null,null,null,null,null,null,null,null,null,null,null,null,null,null,null,null,null,null,null,null,null,null,null,null,null,null,null,null,null,null,null,null,null,null,null,null,null,null,null,null,null,null,null,null,null,null,null,null,null,null,null,null,null,null,null,null,null,null,null,null,null,null,null,null,null,null,null,null,null,null,null,null,null,null,null,null,null,null,null,null,null,null,null,null,null,null,null,null,null,null,null,null,null,null,null,null,null,null,null,null,null,null,null,null,null,null,null,null,null,null,null,null,null,null,null,null,null,null,null,null,null,null,null,null,null,null,null,null,null,null,null,null,null,null,null,null,null,null,null,null,null,null,null,null,null,null,null,null,null,null,null,null,null,null,null,null,null,null,null,null,null,null,null,null,null,null,null,null,null,null,null,null,null,null,null,null,null,null,null,null,null,null,null,null,null,null,null,null,null,null,null,null,null,null,null,null,null,null,null,null,null,null,null,null,null,null,null,null,null,null,null,null,null,null,null,null,null,null,null,null,null,null,null,null,null,null,null,null,null,null,null,null,null,null,null,null,null,null,null,null,null,null,null,null,null,null,null,null,null,null,null,null,null,null,null,null,null,null,null,null,null,null,null,null,null,null,null,null,null,null,null,null,null,null,null,null,null,null,null,null,null,null,null,null,null,null,null,null,null,null,null,null,null,null,null,null,null,null,null,null,null,null,null,null,null,null,null,null,null,null,null,null,null,null,null,null,null,null,null,null,null,null,null,null,null,null,null,null,null,null,null,null,null,null,null,null,null,null,null,null,null,null,null,null,null,null,null,null,null,null,null,null,null,null,null,null,null,null,null,null,null,null,null,null,null,null,null,null,null,null,null,null,null,null,null,null,null,null,null,null,null,null,null,null,null,null,null,null,null,null,null,null,null,null,null,null,null,null,null,null,null,null,null,null,null,null,null,null,null,null,null,null,null,null,null,null,null,null,null,null,null,null,null,null,null,null,null,null,null,null,null,null,null,null,null,null,null,null,null,null,null,null,null,null,null,null,null,null,null,null,null,null,null,null,null,null,null,null,null,null,null,null,null,null,null,null,null,null,null,null,null,null,null,null,null,null,null,null,null,null,null,null,null,null,null,null,null,null,null,null,null,null,null,null,null,null,null,null,null,null,null,null,null,null,null,null,null,null,null,null,null,null,null,null,null,null,null,null,null,null,null,null,null,null,null,null,null,null,null,null,null,null,null,null,null,null,null,null,null,null,null,null,null,null,null,null,null,null,null,null,null,null,null,null,null,null,null,null,null,null,null,null,null,null,null,null,null,null,null,null,null,null,null,null,null,null,null,null,null,null,null,null,null,null,null,null,null,null,null,null,null,null,null,null,null,null,null,null,null,null,null,null,null,null,null,null,null,null,null,null,null,null,null,null,null,null,null,null,null,null,null,null,null,null,null,null,null,null,null,null,null,null,null,null,null,null,null,null,null,null,null,null,null,null,null,null,null,null,null,null,null,null,null,null,null,null,null,null,null,null,null,null,null,null,null,null,null,null,null,null,null,null,null,null,null,null,null,null,null,null,null,null,null,null,null,null,null,null,null,null,null,null,null,null,null,null,null,null,null,null,null,null,null,null,null,null,null,null,null,null,null,null,null,null,null,null,null,null,null,null,null,null,null,null,null,null,null,null,null,null,null,null,null,null,null,null,null,null,null,null,null,null,null,null,null,null,null,null,null,null,null,null,null,null,null,null,null,null,null,null,null,null,null,null,null,null,null,null,null,null,null,null,null,null,null,null,null,null,null,null,null,null,null,null,null,null,null,null,null,null,null,null,null,null,null,null,null,null,null,null,null,null,null,null,null,null,null,null,null,null,null,null,null,null,null,null,null,null,null,null,null,null,null,null,null,null,null,null,null,null,null,null,null,null,null,null,null,null,null,null,null,null,null,null,null,null,null,null,null,null,null,null,null,null,null,null,null,null,null,null,null,null,null,null,null,null,null,null,null,null,null,null,null,null,null,null,null,null,null,null,null,null,null,null,null,null,null,null,null,null,null,null,null,null,null,null,null,null,null,null,null,null,null,null,null,null,null,null,null,null,null,null,null,null,null,null,null,null,null,null,null,null,null,null,null,null,null,null,null,null,null,null,null,null,null,null,null,null,null,null,null,null,null,null,null,null,null,null,null,null,null,null,null,null,null,null,null,null,null,null,null,null,null,null,null,null,null,null,null,null,null,null,null,null,null,null,null,null,null,null,null,null,null,null,null,null,null,null,null,null,null,null,null,null,null,null,null,null,null,null,null,null,null,null,null,null,null,null,null,null,null,null,null,null,null,null,null,null,null,null,null,null,null,null,null,null,null,null,null,null,null,null,null,null,null,null,null,null,null,null,null,null,null,null,null,null,null,null,null,null,null,null,null,null,null,null,null,null,null,null,null,null,null,null,null,null,null,null,null,null,null,null,null,null,null,null,null,null,null,null,null,null,null,null,null,null,null,null,null,null,null,null,null,null,null,null,null,null,null,null,null,null,null,null,null,null,null,null,null,null,null,null,null,null,null,null,null,null,null,null,null,null,null,null,null,null,null,null,null,null,null,null,null,null,null,null,null,null,null,null,null,null,null,null,null,null,null,null,null,null,null,null,null,null,null,null,null,null,null,null,null,null,null,null,null,null,null,null,null,null,null,null,null,null,null,null,null,null,null,null,null,null,null,null,null,null,null,null,null,null,null,null,null,null,null,null,null,null,null,null,null,null,null,null,null,null,null,null,null,null,null,null,null,null,null,null,null,null,null,null,null,null,null,null,null,null,null,null,null,null,null,null,null,null,null,null,null,null,null,null,null,null,null,null,null,null,null,null,null,null,null,null,null,null,null,null,null,null,null,null,null,null,null,null,null,null,null,null,null,null,null,null,null,null,null,null,null,null,null,null,null,null,null,null,null,null,null,null,null,null,null,null,null,null,null,null,null,null,null,null,null,null,null,null,null,null,null,null,null,null,null,null,null,null,null,null,null,null,null,null,null,null,null,null,null,null,null,null,null,null,null,null,null,null,null,null,null,null,null,null,null,null,null,null,null,null,null,null,null,null,null,null,null,null,null,null,null,null,null,null,null,null,null,null,null,null,null,null,null,null,null,null,null,null,null,null,null,null,null,null,null,null,null,null,null,null,null,null,null,null,null,null,null,null,null,null,null,null,null,null,null,null,null,null,null,null,null,null,null,null,null,null,null,null,null,null,null,null,null,null,null,null,null,null,null,null,null,null,null,null,null,null,null,null,null,null,null,null,null,null,null,null,null,null,null,null,null,null,null,null,null,null,null,null,null,null,null,null,null,null,null,null,null,null,null,null,null,null,null,null,null,null,null,null,null,null,null,null,null,null,null,null,null,null,null,null,null,null,null,null,null,null,null,null,null,null,null,null,null,null,null,null,null,null,null,null,null,null,null,null,null,null,null,null,null,null,null,null,null,null,null,null,null,null,null,null,null,null,null,null,null,null,null,null,null,null,null,null,null,null,null,null,null,null,null,null,null,null,null,null,null,null,null,null,null,null,null,null,null,null,null,null,null,null,null,null,null,null,null,null,null,null,null,null,null,null,null,null,null,null,null,null,null,null,null,null,null,null,null,null,null,null,null,null,null,null,null,null,null,null,null,null,null,null,null,null,null,null,null,null,null,null,null,null,null,null,null,null,null,null,null,null,null,null,null,null,null,null,null,null,null,null,null,null,null,null,null,null,null,null,null,null,null,null,null,null,null,null,null,null,null,null,null,null,null,null,null,null,null,null,null,null,null,null,null,null,null,null,null,null,null,null,null,null,null,null,null,null,null,null,null,null,null,null,null,null,null,null,null,null,null,null,null,null,null,null,null,null,null,null,null,null,null,null,null,null,null,null,null,null,null,null,null,null,null,null,null,null,null,null,null,null,null,null,null,null,null,null,null,null,null,null,null,null,null,null,null,null,null,null,null,null,null,null,null,null,null,null,null,null,null,null,null,null,null,null,null,null,null,null,null,null,null,null,null,null,null,null,null,null,null,null,null,null,null,null,null,null,null,null,null,null,null,null,null,null,null,null,null,null,null,null,null,null,null,null,null,null,null,null,null,null,null,null,null,null,null,null,null,null,null,null,null,null,null,null,null,null,null,null,null,null,null,null,null,null,null,null,null,null,null,null,null,null,null,null,null,null,null,null,null,null,null,null,null,null,null,null,null,null,null,null,null,null,null,null,null,null,null,null,null,null,null,null,null,null,null,null,null,null,null,null,null,null,null,null,null,null,null,null,null,null,null,null,null,null,null,null,null,null,null,null,null,null,null,null,null,null,null,null,null,null,null,null,null,null,null,null,null,null,null,null,null,null,null,null,null,null,null,null,null,null,null,null,null,null,null,null,null,null,null,null,null,null,null,null,null,null,null,null,null,null,null,null,null,null,null,null,null,null,null,null,null,null,null,null,null,null,null,null,null,null,null,null,null,null,null,null,null,null,null,null,null,null,null,null,null,null,null,null,null,null,null,null,null,null,null,null,null,null,null,null,null,null,null,null,null,null,null,null,null,null,null,null,null,null,null,null,null,null,null,null,null,null,null,null,null,null,null,null,null,null,null,null,null,null,null,null,null,null,null,null,null,null,null,null,null,null,null,null,null,null,null,null,null,null,null,null,null,null,null,null,null,null,null,null,null,null,null,null,null,null,null,null,null,null,null,null,null,null,null,null,null,null,null,null,null,null,null,null,null,null,null,null,null,null,null,null,null,null,null,null,null,null,null,null,null,null,null,null,null,null,null,null,null,null,null,null,null,null,null,null,null,null,null,null,null,null,null,null,null,null,null,null,null,null,null,null,null,null,null,null,null,null,null,null,null,null,null,null,null,null,null,null,null,null,null,null,null,null,null,null,null,null,null,null,null,null,null,null,null,null,null,null,null,null,null,null,null,null,null,null,null,null,null,null,null,null,null,null,null,null,null,null,null,null,null,null,null,null,null,null,null,null,null,null,null,null,null,null,null,null,null,null,null,null,null,null,null,null,null,null,null,null,null,null,null,null,null,null,null,null,null,null,null,null,null,null,null,null,null,null,null,null,null,null,null,null,null,null,null,null,null,null,null,null,null,null,null,null,null,null,null,null,null,null,null,null,null,null,null,null,null,null,null,null,null,null,null,null,null,null,null,null,null,null,null,null,null,null,null,null,null,null,null,null,null,null,null,null,null,null,null,null,null,null,null,null,null,null,null,null,null,null,null,null,null,null,null,null,null,null,null,null,null,null,null,null,null,null,null,null,null,null,null,null,null,null,null,null,null,null,null,null,null,null,null,null,null,null,null,null,null,null,null,null,null,null,null,null,null,null,null,null,null,null,null,null,null,null,null,null,null,null,null,null,null,null,null,null,null,null,null,null,null,null,null,null,null,null,null,null,null,null,null,null,null,null,null,null,null,null,null,null,null,null,null,null,null,null,null,null,null,null,null,null,null,null,null,null,null,null,null,null,null,null,null,null,null,null,null,null,null,null,null,null,null,null,null,null,null,null,null,null,null,null,null,null,null,null,null,null,null,null,null,null,null,null,null,null,null,null,null,null,null,null,null,null,null,null,null,null,null,null,null,null,null,null,null,null,null,null,null,null,null,null,null,null,null,null,null,null,null,null,null,null,null,null,null,null,null,null,null,null,null,null,null,null,null,null,null,null,null,null,null,null,null,null,null,null,null,null,null,null,null,null,null,null,null,null,null,null,null,null,null,null,null,null,null,null,null,null,null,null,null,null,null,null,null,null,null,null,null,null,null,null,null,null,null,null,null,null,null,null,null,null,null,null,null,null,null,null,null,null,null,null,null,null,null,null,null,null,null,null,null,null,null,null,null,null,null,null,null,null,null,null,null,null,null,null,null,null,null,null,null,null,null,null,null,null,null,null,null,null,null,null,null,null,null,null,null,null,null,null,null,null,null,null,null,null,null,null,null,null,null,null,null,null,null,null,null,null,null,null,null,null,null,null,null,null,null,null,null,null,null,null,null,null,null,null,null,null,null,null,null,null,null,null,null,null,null,null,null,null,null,null,null,null,null,null,null,null,null,null,null,null,null,null,null,null,null,null,null,null,null,null,null,null,null,null,null,null,null,null,null,null,null,null,null,null,null,null,null,null,null,null,null,null,null,null,null,null,null,null,null,null,null,null,null,null,null,null,null,null,null,null,null,null,null,null,null,null,null,null,null,null,null,null,null,null,null,null,null,null,null,null,null,null,null,null,null,null,null,null,null,null,null,null,null,null,null,null,null,null,null,null,null,null,null,null,null,null,null,null,null,null,null,null,null,null,null,null,null,null,null,null,null,null,null,null,null,null,null,null,null,null,null,null,null,null,null,null,null,null,null,null,null,null,null,null,null,null,null,null,null,null,null,null,null,null,null,null,null,null,null,null,null,null,null,null,null,null,null,null,null,null,null,null,null,null,null,null,null,null,null,null,null,null,null,null,null,null,null,null,null,null,null,null,null,null,null,null,null,null,null,null,null,null,null,null,null,null,null,null,null,null,null,null,null,null,null,null,null,null,null,null,null,null,null,null,null,null,null,null,null,null,null,null,null,null,null,null,null,null,null,null,null,null,null,null,null,null,null,null,null,null,null,null,null,null,null,null,null,null,null,null,null,null,null,null,null,null,null,null,null,null,null,null,null,null,null,null,null,null,null,null,null,null,null,null,null,null,null,null,null,null,null,null,null,null,null,null,null,null,null,null,null,null,null,null,null,null,null,null,null,null,null,null,null,null,null,null,null,null,null,null,null,null,null,null,null,null,null,null,null,null,null,null,null,null,null,null,null,null,null,null,null,null,null,null,null,null,null,null,null,null,null,null,null,null,null,null,null,null,null,null,null,null,null,null,null,null,null,null,null,null,null,null,null,null,null,null,null,null,null,null,null,null,null,null,null,null,null,null,null,null,null,null,null,null,null,null,null,null,null,null,null,null,null,null,null,null,null,null,null,null,null,null,null,null,null,null,null,null,null,null,null,null,null,null,null,null,null,null,null,null,null,null,null,null,null,null,null,null,null,null,null,null,null,null,null,null,null,null,null,null,null,null,null,null,null,null,null,null,null,null,null,null,null,null,null,null,null,null,null,null,null,null,null,null,null,null,null,null,null,null,null,null,null,null,null,null,null,null,null,null,null,null,null,null,null,null,null,null,null,null,null,null,null,null,null,null,null,null,null,null,null,null,null,null,null,null,null,null,null,null,null,null,null,null,null,null,null,null,null,null,null,null,null,null,null,null,null,null,null,null,null,null,null,null,null,null,null,null,null,null,null,null,null,null,null,null,null,null,null,null,null,null,null,null,null,null,null,null,null,null,null,null,null,null,null,null,null,null,null,null,null,null,null,null,null,null,null,null,null,null,null,null,null,null,null,null,null,null,null,null,null,null,null,null,null,null,null,null,null,null,null,null,null,null,null,null,null,null,null,null,null,null,null,null,null,null,null,null,null,null,null,null,null,null,null,null,null,null,null,null,null,null,null,null,null,null,null,null,null,null,null,null,null,null,null,null,null,null,null,null,null,null,null,null,null,null,null,null,null,null,null,null,null,null,null,null,null,null,null,null,null,null,null,null,null,null,null,null,null,null,null,null,null,null,null,null,null,null,null,null,null,null,null,null,null,null,null,null,null,null,null,null,null,null,null,null,null,null,null,null,null,null,null,null,null,null,null,null,null,null,null,null,null,null,null,null,null,null,null,null,null,null,null,null,null,null,null,null,null,null,null,null,null,null,null,null,null,null,null,null,null,null,null,null,null,null,null,null,null,null,null,null,null,null,null,null,null,null,null,null,null,null,null,null,null,null,null,null,null,null,null,null,null,null,null,null,null,null,null,null,null,null,null,null,null,null,null,null,null,null,null,null,null,null,null,null,null,null,null,null,null,null,null,null,null,null,null,null,null,null,null,null,null,null,null,null,null,null,null,null,null,null,null,null,null,null,null,null,null,null,null,null,null,null,null,null,null,null,null,null,null,null,null,null,null,null,null,null,null,null,null,null,null,null,null,null,null,null,null,null,null,null,null,null,null,null,null,null,null,null,null,null,null,null,null,null,null,null,null,null,null,null,null,null,null,null,null,null,null,null,null,null,null,null,null,null,null,null,null,null,null,null,null,null,null,null,null,null,null,null,null,null,null,null,null,null,null,null,null,null,null,null,null,null,null,null,null,null,null,null,null,null,null,null,null,null,null,null,null,null,null,null,null,null,null,null,null,null,null,null,null,null,null,null,null,null,null,null,null,null,null,null,null,null,null,null,null,null,null,null,null,null,null,null,null,null,null,null,null,null,null,null,null,null,null,null,null,null,null,null,null,null,null,null,null,null,null,null,null,null,null,null,null,null,null,null,null,null,null,null,null,null,null,null,null,null,null,null,null,null,null,null,null,null,null,null,null,null,null,null,null,null,null,null,null,null,null,null,null,null,null,null,null,null,null,null,null,null,null,null,null,null,null,null,null,null,null,null,null,null,null,null,null,null,null,null,null,null,null,null,null,null,null,null,null,null,null,null,null,null,null,null,null,null,null,null,null,null,null,null,null,null,null,null,null,null,null,null,null,null,null,null,null,null,null,null,null,null,null,null,null,null,null,null,null,null,null,null,null,null,null,null,null,null,null,null,null,null,null,null,null,null,null,null,null,null,null,null,null,null,null,null,null,null,null,null,null,null,null,null,null,null,null,null,null,null,null,null,null,null,null,null,null,null,null,null,null,null,null,null,null,null,null,null,null,null,null,null,null,null,null,null,null,null,null,null,null,null,null,null,null,null,null,null,null,null,null,null,null,null,null,null,null,null,null,null,null,null,null,null,null,null,null,null,null,null,null,null,null,null,null,null,null,null,null,null,null,null,null,null,null,null,null,null,null,null,null,null,null,null,null,null,null,null,null,null,null,null,null,null,null,null,null,null,null,null,null,null,null,null,null,null,null,null,null,null,null,null,null,null,null,null,null,null,null,null,null,null,null,null,null,null,null,null,null,null,null,null,null,null,null,null,null,null,null,null,null,null,null,null,null,null,null,null,null,null,null,null,null,null,null,null,null,null,null,null,null,null,null,null,null,null,null,null,null,null,null,null,null,null,null,null,null,null,null,null,null,null,null,null,null,null,null,null,null,null,null,null,null,null,null,null,null,null,null,null,null,null,null,null,null,null,null,null,null,null,null,null,null,null,null,null,null,null,null,null,null,null,null,null,null,null,null,null,null,null,null,null,null,null,null,null,null,null,null,null,null,null,null,null,null,null,null,null,null,null,null,null,null,null,null,null,null,null,null,null,null,null,null,null,null,null,null,null,null,null,null,null,null,null,null,null,null,null,null,null,null,null,null,null,null,null,null,null,null,null,null,null,null,null,null,null,null,null,null,null,null,null,null,null,null,null,null,null,null,null,null,null,null,null,null,null,null,null,null,null,null,null,null,null,null,null,null,null,null,null,null,null,null,null,null,null,null,null,null,null,null,null,null,null,null,null,null,null,null,null,null,null,null,null,null,null,null,null,null,null,null,null,null,null,null,null,null,null,null,null,null,null,null,null,null,null,null,null,null,null,null,null,null,null,null,null,null,null,null,null,null,null,null,null,null,null,null,null,null,null,null,null,null,null,null,null,null,null,null,null,null,null,null,null,null,null,null,null,null,null,null,null,null,null,null,null,null,null,null,null,null,null,null,null,null,null,null,null,null,null,null,null,null,null,null,null,null,null,null,null,null,null,null,null,null,null,null,null,null,null,null,null,null,null,null,null,null,null,null,null,null,null,null,null,null,null,null,null,null,null,null,null,null,null,null,null,null,null,null,null,null,null,null,null,null,null,null,null,null,null,null,null,null,null,null,null,null,null,null,null,null,null,null,null,null,null,null,null,null,null,null,null,null,null,null,null,null,null,null,null,null,null,null,null,null,null,null,null,null,null,null,null,null,null,null,null,null,null,null,null,null,null,null,null,null,null,null,null,null,null,null,null,null,null,null,null,null,null,null,null,null,null,null,null,null,null,null,null,null,null,null,null,null,null,null,null,null,null,null,null,null,null,null,null,null,null,null,null,null,null,null,null,null,null,null,null,null,null,null,null,null,null,null,null,null,null,null,null,null,null,null,null,null,null,null,null,null,null,null,null,null,null,null,null,null,null,null,null,null,null,null,null,null,null,null,null,null,null,null,null,null,null,null,null,null,null,null,null,null,null,null,null,null,null,null,null,null,null,null,null,null,null,null,null,null,null,null,null,null,null,null,null,null,null,null,null,null,null,null,null,null,null,null,null,null,null,null,null,null,null,null,null,null,null,null,null,null,null,null,null,null,null,null,null,null,null,null,null,null,null,null,null,null,null,null,null,null,null,null,null,null,null,null,null,null,null,null,null,null,null,null,null,null,null,null,null,null,null,null,null,null,null,null,null,null,null,null,null,null,null,null,null,null,null,null,null,null,null,null,null,null,null,null,null,null,null,null,null,null,null,null,null,null,null,null,null,null,null,null,null,null,null,null,null,null,null,null,null,null,null,null,null,null,null,null,null,null,null,null,null,null,null,null,null,null,null,null,null,null,null,null,null,null,null,null,null,null,null,null,null,null,null,null,null,null,null,null,null,null,null,null,null,null,null,null,null,null,null,null,null,null,null,null,null,null,null,null,null,null,null,null,null,null,null,null,null,null,null,null,null,null,null,null,null,null,null,null,null,null,null,null,null,null,null,null,null,null,null,null,null,null,null,null,null,null,null,null,null,null,null,null,null,null,null,null,null,null,null,null,null,null,null,null,null,null,null,null,null,null,null,null,null,null,null,null,null,null,null,null,null,null,null,null,null,null,null,null,null,null,null,null,null,null,null,null,null,null,null,null,null,null,null,null,null,null,null,null,null,null,null,null,null,null,null,null,null,null,null,null,null,null,null,null,null,null,null,null,null,null,null,null,null,null,null,null,null,null,null,null,null,null,null,null,null,null,null,null,null,null,null,null,null,null,null,null,null,null,null,null,null,null,null,null,null,null,null,null,null,null,null,null,null,null,null,null,null,null,null,null,null,null,null,null,null,null,null,null,null,null,null,null,null,null,null,null,null,null,null,null,null,null,null,null,null,null,null,null,null,null,null,null,null,null,null,null,null,null,null,null,null,null,null,null,null,null,null,null,null,null,null,null,null,null,null,null,null,null,null,null,null,null,null,null,null,null,null,null,null,null,null,null,null,null,null,null,null,null,null,null,null,null,null,null,null,null,null,null,null,null,null,null,null,null,null,null,null,null,null,null,null,null,null,null,null,null,null,null,null,null,null,null,null,null,null,null,null,null,null,null,null,null,null,null,null,null,null,null,null,null,null,null,null,null,null,null,null,null,null,null,null,null,null,null,null,null,null,null,null,null,null,null,null,null,null,null,null,null,null,null,null,null,null,null,null,null,null,null,null,null,null,null,null,null,null,null,null,null,null,null,null,null,null,null,null,null,null,null,null,null,null,null,null,null,null,null,null,null,null,null,null,null,null,null,null,null,null,null,null,null,null,null,null,null,null,null,null,null,null,null,null,null,null,null,null,null,null,null,null,null,null,null,null,null,null,null,null,null,null,null,null,null,null,null,null,null,null,null,null,null,null,null,null,null,null,null,null,null,null,null,null,null,null,null,null,null,null,null,null,null,null,null,null,null,null,null,null,null,null,null,null,null,null,null,null,null,null,null,null,null,null,null,null,null,null,null,null,null,null,null,null,null,null,null,null,null,null,null,null,null,null,null,null,null,null,null,null,null,null,null,null,null,null,null,null,null,null,null,null,null,null,null,null,null,null,null,null,null,null,null,null,null,null,null,null,null,null,null,null,null,null,null,null,null,null,null,null,null,null,null,null,null,null,null,null,null,null,null,null,null,null,null,null,null,null,null,null,null,null,null,null,null,null,null,null,null,null,null,null,null,null,null,null,null,null,null,null,null,null,null,null,null,null,null,null,null,null,null,null,null,null,null,null,null,null,null,null,null,null,null,null,null,null,null,null,null,null,null,null,null,null,null,null,null,null,null,null,null,null,null,null,null,null,null,null,null,null,null,null,null,null,null,null,null,null,null,null,null,null,null,null,null,null,null,null,null,null,null,null,null,null,null,null,null,null,null,null,null,null,null,null,null,null,null,null,null,null,null,null,null,null,null,null,null,null,null,null,null,null,null,null,null,null,null,null,null,null,null,null,null,null,null,null,null,null,null,null,null,null,null,null,null,null,null,null,null,null,null,null,null,null,null,null,null,null,null,null,null,null,null,null,null,null,null,null,null,null,null,null,null,null,null,null,null,null,null,null,null,null,null,null,null,null,null,null,null,null,null,null,null,null,null,null,null,null,null,null,null,null,null,null,null,null,null,null,null,null,null,null,null,null,null,null,null,null,null,null,null,null,null,null,null,null,null,null,null,null,null,null,null,null,null,null,null,null,null,null,null,null,null,null,null,null,null,null,null,null,null,null,null,null,null,null,null,null,null,null,null,null,null,null,null,null,null,null,null,null,null,null,null,null,null,null,null,null,null,null,null,null,null,null,null,null,null,null,null,null,null,null,null,null,null,null,null,null,null,null,null,null,null,null,null,null,null,null,null,null,null,null,null,null,null,null,null,null,null,null,null,null,null,null,null,null,null,null,null,null,null,null,null,null,null,null,null,null,null,null,null,null,null,null,null,null,null,null,null,null,null,null,null,null,null,null,null,null,null,null,null,null,null,null,null,null,null,null,null,null,null,null,null,null,null,null,null,null,null,null,null,null,null,null,null,null,null,null,null,null,null,null,null,null,null,null,null,null,null,null,null,null,null,null,null,null,null,null,null,null,null,null,null,null,null,null,null,null,null,null,null,null,null,null,null,null,null,null,null,null,null,null,null,null,null,null,null,null,null,null,null,null,null,null,null,null,null,null,null,null,null,null,null,null,null,null,null,null,null,null,null,null,null,null,null,null,null,null,null,null,null,null,null,null,null,null,null,null,null,null,null,null,null,null,null,null,null,null,null,null,null,null,null,null,null,null,null,null,null,null,null,null,null,null,null,null,null,null,null,null,null,null,null,null,null,null,null,null,null,null,null,null,null,null,null,null,null,null,null,null,null,null,null,null,null,null,null,null,null,null,null,null,null,null,null,null,null,null,null,null,null,null,null,null,null,null,null,null,null,null,null,null,null,null,null,null,null,null,null,null,null,null,null,null,null,null,null,null,null,null,null,null,null,null,null,null,null,null,null,null,null,null,null,null,null,null,null,null,null,null,null,null,null,null,null,null,null,null,null,null,null,null,null,null,null,null,null,null,null,null,null,null,null,null,null,null,null,null,null,null,null,null,null,null,null,null,null,null,null,null,null,null,null,null,null,null,null,null,null,null,null,null,null,null,null,null,null,null,null,null,null,null,null,null,null,null,null,null,null,null,null,null,null,null,null,null,null,null,null,null,null,null,null,null,null,null,null,null,null,null,null,null,null,null,null,null,null,null,null,null,null,null,null,null,null,null,null,null,null,null,null,null,null,null,null,null,null,null,null,null,null,null,null,null,null,null,null,null,null,null,null,null,null,null,null,null,null,null,null,null,null,null,null,null,null,null,null,null,null,null,null,null,null,null,null,null,null,null,null,null,null,null,null,null,null,null,null,null,null,null,null,null,null,null,null,null,null,null,null,null,null,null,null,null,null,null,null,null,null,null,null,null,null,null,null,null,null,null,null,null,null,null,null,null,null,null,null,null,null,null,null,null,null,null,null,null,null,null,null,null,null,null,null,null,null,null,null,null,null,null,null,null,null,null,null,null,null,null,null,null,null,null,null,null,null,null,null,null,null,null,null,null,null,null,null,null,null,null,null,null,null,null,null,null,null,null,null,null,null,null,null,null,null,null,null,null,null,null,null,null,null,null,null,null,null,null,null,null,null,null,null,null,null,null,null,null,null,null,null,null,null,null,null,null,null,null,null,null,null,null,null,null,null,null,null,null,null,null,null,null,null,null,null,null,null,null,null,null,null,null,null,null,null,null,null,null,null,null,null,null,null,null,null,null,null,null,null,null,null,null,null,null,null,null,null,null,null,null,null,null,null,null,null,null,null,null,null,null,null,null,null,null,null,null,null,null,null,null,null,null,null,null,null,null,null,null,null,null,null,null,null,null,null,null,null,null,null,null,null,null,null,null,null,null,null,null,null,null,null,null,null,null,null,null,null,null,null,null,null,null,null,null,null,null,null,null,null,null,null,null,null,null,null,null,null,null,null,null,null,null,null,null,null,null,null,null,null,null,null,null,null,null,null,null,null,null,null,null,null,null,null,null,null,null,null,null,null,null,null,null,null,null,null,null,null,null,null,null,null,null,null,null,null,null,null,null,null,null,null,null,null,null,null,null,null,null,null,null,null,null,null,null,null,null,null,null,null,null,null,null,null,null,null,null,null,null,null,null,null,null,null,null,null,null,null,null,null,null,null,null,null,null,null,null,null,null,null,null,null,null,null,null,null,null,null,null,null,null,null,null,null,null,null,null,null,null,null,null,null,null,null,null,null,null,null,null,null,null,null,null,null,null,null,null,null,null,null,null,null,null,null,null,null,null,null,null,null,null,null,null,null,null,null,null,null,null,null,null,null,null,null,null,null,null,null,null,null,null,null,null,null,null,null,null,null,null,null,null,null,null,null,null,null,null,null,null,null,null,null,null,null,null,null,null,null,null,null,null,null,null,null,null,null,null,null,null,null,null,null,null,null,null,null,null,null,null,null,null,null,null,null,null,null,null,null,null,null,null,null,null,null,null,null,null,null,null,null,null,null,null,null,null,null,null,null,null,null,null,null,null,null,null,null,null,null,null,null,null,null,null,null,null,null,null,null,null,null,null,null,null,null,null,null,null,null,null,null,null,null,null,null,null,null,null,null,null,null,null,null,null,null,null,null,null,null,null,null,null,null,null,null,null,null,null,null,null,null,null,null,null,null,null,null,null,null,null,null,null,null,null,null,null,null,null,null,null,null,null,null,null,null,null,null,null,null,null,null,null,null,null,null,null,null,null,null,null,null,null,null,null,null,null,null,null,null,null,null,null,null,null,null,null,null,null,null,null,null,null,null,null,null,null,null,null,null,null,null,null,null,null,null,null,null,null,null,null,null,null,null,null,null,null,null,null,null,null,null,null,null,null,null,null,null,null,null,null,null,null,null,null,null,null,null,null,null,null,null,null,null,null,null,null,null,null,null,null,null,null,null,null,null,null,null,null,null,null,null,null,null,null,null,null,null,null,null,null,null,null,null,null,null,null,null,null,null,null,null,null,null,null,null,null,null,null,null,null,null,null,null,null,null,null,null,null,null,null,null,null,null,null,null,null,null,null,null,null,null,null,null,null,null,null,null,null,null,null,null,null,null,null,null,null,null,null,null,null,null,null,null,null,null,null,null,null,null,null,null,null,null,null,null,null,null,null,null,null,null,null,null,null,null,null,null,null,null,null,null,null,null,null,null,null,null,null,null,null,null,null,null,null,null,null,null,null,null,null,null,null,null,null,null,null,null,null,null,null,null,null,null,null,null,null,null,null,null,null,null,null,null,null,null,null,null,null,null,null,null,null,null,null,null,null,null,null,null,null,null,null,null,null,null,null,null,null,null,null,null,null,null,null,null,null,null,null,null,null,null,null,null,null,null,null,null,null,null,null,null,null,null,null,null,null,null,null,null,null,null,null,null,null,null,null,null,null,null,null,null,null,null,null,null,null,null,null,null,null,null,null,null,null,null,null,null,null,null,null,null,null,null,null,null,null,null,null,null,null,null,null,null,null,null,null,null,null,null,null,null,null,null,null,null,null,null,null,null,null,null,null,null,null,null,null,null,null,null,null,null,null,null,null,null,null,null,null,null,null,null,null,null,null,null,null,null,null,null,null,null,null,null,null,null,null,null,null,null,null,null,null,null,null,null,null,null,null,null,null,null,null,null,null,null,null,null,null,null,null,null,null,null,null,null,null,null,null,null,null,null,null,null,null,null,null,null,null,null,null,null,null,null,null,null,null,null,null,null,null,null,null,null,null,null,null,null,null,null,null,null,null,null,null,null,null,null,null,null,null,null,null,null,null,null,null,null,null,null,null,null,null,null,null,null,null,null,null,null,null,null,null,null,null,null,null,null,null,null,null,null,null,null,null,null,null,null,null,null,null,null,null,null,null,null,null,null,null,null,null,null,null,null,null,null,null,null,null,null,null,null,null,null,null,null,null,null,null,null,null,null,null,null,null,null,null,null,null,null,null,null,null,null,null,null,null,null,null,null,null,null,null,null,null,null,null,null,null,null,null,null,null,null,null,null,null,null,null,null,null,null,null,null,null,null,null,null,null,null,null,null,null,null,null,null,null,null,null,null,null,null,null,null,null,null,null,null,null,null,null,null,null,null,null,null,null,null,null,null,null,null,null,null,null,null,null,null,null,null,null,null,null,null,null,null,null,null,null,null,null,null,null,null,null,null,null,null,null,null,null,null,null,null,null,null,null,null,null,null,null,null,null,null,null,null,null,null,null,null,null,null,null,null,null,null,null,null,null,null,null,null,null,null,null,null,null,null,null,null,null,null,null,null,null,null,null,null,null,null,null,null,null,null,null,null,null,null,null,null,null,null,null,null,null,null,null,null,null,null,null,null,null,null,null,null,null,null,null,null,null,null,null,null,null,null,null,null,null,null,null,null,null,null,null,null,null,null,null,null,null,null,null,null,null,null,null,null,null,null,null,null,null,null,null,null,null,null,null,null,null,null,null,null,null,null,null,null,null,null,null,null,null,null,null,null,null,null,null,null,null,null,null,null,null,null,null,null,null,null,null,null,null,null,null,null,null,null,null,null,null,null,null,null,null,null,null,null,null,null,null,null,null,null,null,null,null,null,null,null,null,null,null,null,null,null,null,null,null,null,null,null,null,null,null,null,null,null,null,null,null,null,null,null,null,null,null,null,null,null,null,null,null,null,null,null,null,null,null,null,null,null,null,null,null,null,null,null,null,null,null,null,null,null,null,null,null,null,null,null,null,null,null,null,null,null,null,null,null,null,null,null,null,null,null,null,null,null,null,null,null,null,null,null,null,null,null,null,null,null,null,null,null,null,null,null,null,null,null,null,null,null,null,null,null,null,null,null,null,null,null,null,null,null,null,null,null,null,null,null,null,null,null,null,null,null,null,null,null,null,null,null,null,null,null,null,null,null,null,null,null,null,null,null,null,null,null,null,null,null,null,null,null,null,null,null,null,null,null,null,null,null,null,null,null,null,null,null,null,null,null,null,null,null,null,null,null,null,null,null,null,null,null,null,null,null,null,null,null,null,null,null,null,null,null,null,null,null,null,null,null,null,null,null,null,null,null,null,null,null,null,null,null,null,null,null,null,null,null,null,null,null,null,null,null,null,null,null,null,null,null,null,null,null,null,null,null,null,null,null,null,null,null,null,null,null,null,null,null,null,null,null,null,null,null,null,null,null,null,null,null,null,null,null,null,null,null,null,null,null,null,null,null,null,null,null,null,null,null,null,null,null,null,null,null,null,null,null,null,null,null,null,null,null,null,null,null,null,null,null,null,null,null,null,null,null,null,null,null,null,null,null,null,null,null,null,null,null,null,null,null,null,null,null,null,null,null,null,null,null,null,null,null,null,null,null,null,null,null,null,null,null,null,null,null,null,null,null,null,null,null,null,null,null,null,null,null,null,null,null,null,null,null,null,null,null,null,null,null,null,null,null,null,null,null,null,null,null,null,null,null,null,null,null,null,null,null,null,null,null,null,null,null,null,null,null,null,null,null,null,null,null,null,null,null,null,null,null,null,null,null,null,null,null,null,null,null,null,null,null,null,null,null,null,null,null,null,null,null,null,null,null,null,null,null,null,null,null,null,null,null,null,null,null,null,null,null,null,null,null,null,null,null,null,null,null,null,null,null,null,null,null,null,null,null,null,null,null,null,null,null,null,null,null,null,null,null,null,null,null,null,null,null,null,null,null,null,null,null,null,null,null,null,null,null,null,null,null,null,null,null,null,null,null,null,null,null,null,null,null,null,null,null,null,null,null,null,null,null,null,null,null,null,null,null,null,null,null,null,null,null,null,null,null,null,null,null,null,null,null,null,null,null,null,null,null,null,null,null,null,null,null,null,null,null,null,null,null,null,null,null,null,null,null,null,null,null,null,null,null,null,null,null,null,null,null,null,null,null,null,null,null,null,null,null,null,null,null,null,null,null,null,null,null,null,null,null,null,null,null,null,null,null,null,null,null,null,null,null,null,null,null,null,null,null,null,null,null,null,null,null,null,null,null,null,null,null,null,null,null,null,null,null,null,null,null,null,null,null,null,null,null,null,null,null,null,null,null,null,null,null,null,null,null,null,null,null,null,null,null,null,null,null,null,null,null,null,null,null,null,null,null,null,null,null,null,null,null,null,null,null,null,null,null,null,null,null,null,null,null,null,null,null,null,null,null,null,null,null,null,null,null,null,null,null,null,null,null,null,null,null,null,null,null,null,null,null,null,null,null,null,null,null,null,null,null,null,null,null,null,null,null,null,null,null,null,null,null,null,null,null,null,null,null,null,null,null,null,null,null,null,null,null,null,null,null,null,null,null,null,null,null,null,null,null,null,null,null,null,null,null,null,null,null,null,null,null,null,null,null,null,null,null,null,null,null,null,null,null,null,null,null,null,null,null,null,null,null,null,null,null,null,null,null,null,null,null,null,null,null,null,null,null,null,null,null,null,null,null,null,null,null,null,null,null,null,null,null,null,null,null,null,null,null,null,null,null,null,null,null,null,null,null,null,null,null,null,null,null,null,null,null,null,null,null,null,null,null,null,null,null,null,null,null,null,null,null,null,null,null,null,null,null,null,null,null,null,null,null,null,null,null,null,null,null,null,null,null,null,null,null,null,null,null,null,null,null,null,null,null,null,null,null,null,null,null,null,null,null,null,null,null,null,null,null,null,null,null,null,null,null,null,null,null,null,null,null,null,null,null,null,null,null,null,null,null,null,null,null,null,null,null,null,null,null,null,null,null,null,null,null,null,null,null,null,null,null,null,null,null,null,null,null,null,null,null,null,null,null,null,null,null,null,null,null,null,null,null,null,null,null,null,null,null,null,null,null,null,null,null,null,null,null,null,null,null,null,null,null,null,null,null,null,null,null,null,null,null,null,null,null,null,null,null,null,null,null,null,null,null,null,null,null,null,null,null,null,null,null,null,null,null,null,null,null,null,null,null,null,null,null,null,null,null,null,null,null,null,null,null,null,null,null,null,null,null,null,null,null,null,null,null,null,null,null,null,null,null,null,null,null,null,null,null,null,null,null,null,null,null,null,null,null,null,null,null,null,null,null,null,null,null,null,null,null,null,null,null,null,null,null,null,null,null,null,null,null,null,null,null,null,null,null,null,null,null,null,null,null,null,null,null,null,null,null,null,null,null,null,null,null,null,null,null,null,null,null,null,null,null,null,null,null,null,null,null,null,null,null,null,null,null,null,null,null,null,null,null,null,null,null,null,null,null,null,null,null,null,null,null,null,null,null,null,null,null,null,null,null,null,null,null,null,null,null,null,null,null,null,null,null,null,null,null,null,null,null,null,null,null,null,null,null,null,null,null,null,null,null,null,null,null,null,null,null,null,null,null,null,null,null,null,null,null,null,null,null,null,null,null,null,null,null,null,null,null,null,null,null,null,null,null,null,null,null,null,null,null,null,null,null,null,null,null,null,null,null,null,null,null,null,null,null,null,null,null,null,null,null,null,null,null,null,null,null,null,null,null,null,null,null,null,null,null,null,null,null,null,null,null,null,null,null,null,null,null,null,null,null,null,null,null,null,null,null,null,null,null,null,null,null,null,null,null,null,null,null,null,null,null,null,null,null,null,null,null,null,null,null,null,null,null,null,null,null,null,null,null,null,null,null,null,null,null,null,null,null,null,null,null,null,null,null,null,null,null,null,null,null,null,null,null,null,null,null,null,null,null,null,null,null,null,null,null,null,null,null,null,null,null,null,null,null,null,null,null,null,null,null,null,null,null,null,null,null,null,null,null,null,null,null,null,null,null,null,null,null,null,null,null,null,null,null,null,null,null,null,null,null,null,null,null,null,null,null,null,null,null,null,null,null,null,null,null,null,null,null,null,null,null,null,null,null,null,null,null,null,null,null,null,null,null,null,null,null,null,null,null,null,null,null,null,null,null,null,null,null,null,null,null,null,null,null,null,null,null,null,null,null,null,null,null,null,null,null,null,null,null,null,null,null,null,null,null,null,null,null,null,null,null,null,null,null,null,null,null,null,null,null,null,null,null,null,null,null,null,null,null,null,null,null,null,null,null,null,null,null,null,null,null,null,null,null,null,null,null,null,null,null,null,null,null,null,null,null,null,null,null,null,null,null,null,null,null,null,null,null,null,null,null,null,null,null,null,null,null,null,null,null,null,null,null,null,null,null,null,null,null,null,null,null,null,null,null,null,null,null,null,null,null,null,null,null,null,null,null,null,null,null,null,null,null,null,null,null,null,null,null,null,null,null,null,null,null,null,null,null,null,null,null,null,null,null,null,null,null,null,null,null,null,null,null,null,null,null,null,null,null,null,null,null,null,null,null,null,null,null,null,null,null,null,null,null,null,null,null,null,null,null,null,null,null,null,null,null,null,null,null,null,null,null,null,null,null,null,null,null,null,null,null,null,null,null,null,null,null,null,null,null,null,null,null,null,null,null,null,null,null,null,null,null,null,null,null,null,null,null,null,null,null,null,null,null,null,null,null,null,null,null,null,null,null,null,null,null,null,null,null,null,null,null,null,null,null,null,null,null,null,null,null,null,null,null,null,null,null,null,null,null,null,null,null,null,null,null,null,null,null,null,null,null,null,null,null,null,null,null,null,null,null,null,null,null,null,null,null,null,null,null,null,null,null,null,null,null,null,null,null,null,null,null,null,null,null,null,null,null,null,null,null,null,null,null,null,null,null,null,null,null,null,null,null,null,null,null,null,null,null,null,null,null,null,null,null,null,null,null,null,null,null,null,null,null,null,null,null,null,null,null,null,null,null,null,null,null,null,null,null,null,null,null,null,null,null,null,null,null,null,null,null,null,null,null,null,null,null,null,null,null,null,null,null,null,null,null,null,null,null,null,null,null,null,null,null,null,null,null,null,null,null,null,null,null,null,null,null,null,null,null,null,null,null,null,null,null,null,null,null,null,null,null,null,null,null,null,null,null,null,null,null,null,null,null,null,null,null,null,null,null,null,null,null,null,null,null,null,null,null,null,null,null,null,null,null,null,null,null,null,null,null,null,null,null,null,null,null,null,null,null,null,null,null,null,null,null,null,null,null,null,null,null,null,null,null,null,null,null,null,null,null,null,null,null,null,null,null,null,null,null,null,null,null,null,null,null,null,null,null,null,null,null,null,null,null,null,null,null,null,null,null,null,null,null,null,null,null,null,null,null,null,null,null,null,null,null,null,null,null,null,null,null,null,null,null,null,null,null,null,null,null,null,null,null,null,null,null,null,null,null,null,null,null,null,null,null,null,null,null,null,null,null,null,null,null,null,null,null,null,null,null,null,null,null,null,null,null,null,null,null,null,null,null,null,null,null,null,null,null,null,null,null,null,null,null,null,null,null,null,"."]
[]
[null,"ردیف","نام مشتری","شماره تماس","آدرس","چندم","تلفن اول","تلفن دوم"]
[null,{"$f":"ROW()-3","v":1},null,null,null,{"$f":"IFERROR(FIND(\"_\",Table3[[#This Row],[شماره تماس]]),0)","v":0},{"$f":"IF(Table3[[#This Row],[چندم]]=0,Table3[[#This Row],[شماره تماس]],MID(Table3[[#This Row],[شماره تماس]],1,Table3[[#This Row],[چندم]]-1))","v":0},{"$f":"IF(Table3[[#This Row],[چندم]]=0,\"\",MID(Table3[[#This Row],[شماره تماس]],Table3[[#This Row],[چندم]]+1,30))","v":""}]
[null,2,null,null,null,{"$f":"IFERROR(FIND(\"_\",Table3[[#This Row],[شماره تماس]]),0)","v":0},{"$f":"IF(Table3[[#This Row],[چندم]]=0,Table3[[#This Row],[شماره تماس]],MID(Table3[[#This Row],[شماره تماس]],1,Table3[[#This Row],[چندم]]-1))","v":0},{"$f":"IF(Table3[[#This Row],[چندم]]=0,\"\",MID(Table3[[#This Row],[شماره تماس]],Table3[[#This Row],[چندم]]+1,30))","v":""}]
[null,3,null,null,null,{"$f":"IFERROR(FIND(\"_\",Table3[[#This Row],[شماره تماس]]),0)","v":0},{"$f":"IF(Table3[[#This Row],[چندم]]=0,Table3[[#This Row],[شماره تماس]],MID(Table3[[#This Row],[شماره تماس]],1,Table3[[#This Row],[چندم]]-1))","v":0},{"$f":"IF(Table3[[#This Row],[چندم]]=0,\"\",MID(Table3[[#This Row],[شماره تماس]],Table3[[#This Row],[چندم]]+1,30))","v":""}]
[null,4,null,null,null,{"$f":"IFERROR(FIND(\"_\",Table3[[#This Row],[شماره تماس]]),0)","v":0},{"$f":"IF(Table3[[#This Row],[چندم]]=0,Table3[[#This Row],[شماره تماس]],MID(Table3[[#This Row],[شماره تماس]],1,Table3[[#This Row],[چندم]]-1))","v":0},{"$f":"IF(Table3[[#This Row],[چندم]]=0,\"\",MID(Table3[[#This Row],[شماره تماس]],Table3[[#This Row],[چندم]]+1,30))","v":""}]
[null,5,null,null,null,{"$f":"IFERROR(FIND(\"_\",Table3[[#This Row],[شماره تماس]]),0)","v":0},{"$f":"IF(Table3[[#This Row],[چندم]]=0,Table3[[#This Row],[شماره تماس]],MID(Table3[[#This Row],[شماره تماس]],1,Table3[[#This Row],[چندم]]-1))","v":0},{"$f":"IF(Table3[[#This Row],[چندم]]=0,\"\",MID(Table3[[#This Row],[شماره تماس]],Table3[[#This Row],[چندم]]+1,30))","v":""}]
[null,6,null,null,null,{"$f":"IFERROR(FIND(\"_\",Table3[[#This Row],[شماره تماس]]),0)","v":0},{"$f":"IF(Table3[[#This Row],[چندم]]=0,Table3[[#This Row],[شماره تماس]],MID(Table3[[#This Row],[شماره تماس]],1,Table3[[#This Row],[چندم]]-1))","v":0},{"$f":"IF(Table3[[#This Row],[چندم]]=0,\"\",MID(Table3[[#This Row],[شماره تماس]],Table3[[#This Row],[چندم]]+1,30))","v":""}]
[null,7,null,null,null,{"$f":"IFERROR(FIND(\"_\",Table3[[#This Row],[شماره تماس]]),0)","v":0},{"$f":"IF(Table3[[#This Row],[چندم]]=0,Table3[[#This Row],[شماره تماس]],MID(Table3[[#This Row],[شماره تماس]],1,Table3[[#This Row],[چندم]]-1))","v":0},{"$f":"IF(Table3[[#This Row],[چندم]]=0,\"\",MID(Table3[[#This Row],[شماره تماس]],Table3[[#This Row],[چندم]]+1,30))","v":""}]
[null,8,null,null,null,{"$f":"IFERROR(FIND(\"_\",Table3[[#This Row],[شماره تماس]]),0)","v":0},{"$f":"IF(Table3[[#This Row],[چندم]]=0,Table3[[#This Row],[شماره تماس]],MID(Table3[[#This Row],[شماره تماس]],1,Table3[[#This Row],[چندم]]-1))","v":0},{"$f":"IF(Table3[[#This Row],[چندم]]=0,\"\",MID(Table3[[#This Row],[شماره تماس]],Table3[[#This Row],[چندم]]+1,30))","v":""}]
[null,9,null,null,null,{"$f":"IFERROR(FIND(\"_\",Table3[[#This Row],[شماره تماس]]),0)","v":0},{"$f":"IF(Table3[[#This Row],[چندم]]=0,Table3[[#This Row],[شماره تماس]],MID(Table3[[#This Row],[شماره تماس]],1,Table3[[#This Row],[چندم]]-1))","v":0},{"$f":"IF(Table3[[#This Row],[چندم]]=0,\"\",MID(Table3[[#This Row],[شماره تماس]],Table3[[#This Row],[چندم]]+1,30))","v":""}]
[null,10,null,null,null,{"$f":"IFERROR(FIND(\"_\",Table3[[#This Row],[شماره تماس]]),0)","v":0},{"$f":"IF(Table3[[#This Row],[چندم]]=0,Table3[[#This Row],[شماره تماس]],MID(Table3[[#This Row],[شماره تماس]],1,Table3[[#This Row],[چندم]]-1))","v":0},{"$f":"IF(Table3[[#This Row],[چندم]]=0,\"\",MID(Table3[[#This Row],[شماره تماس]],Table3[[#This Row],[چندم]]+1,30))","v":""}]
[null,11,null,null,null,{"$f":"IFERROR(FIND(\"_\",Table3[[#This Row],[شماره تماس]]),0)","v":0},{"$f":"IF(Table3[[#This Row],[چندم]]=0,Table3[[#This Row],[شماره تماس]],MID(Table3[[#This Row],[شماره تماس]],1,Table3[[#This Row],[چندم]]-1))","v":0},{"$f":"IF(Table3[[#This Row],[چندم]]=0,\"\",MID(Table3[[#This Row],[شماره تماس]],Table3[[#This Row],[چندم]]+1,30))","v":""}]
[null,12,null,null,null,{"$f":"IFERROR(FIND(\"_\",Table3[[#This Row],[شماره تماس]]),0)","v":0},{"$f":"IF(Table3[[#This Row],[چندم]]=0,Table3[[#This Row],[شماره تماس]],MID(Table3[[#This Row],[شماره تماس]],1,Table3[[#This Row],[چندم]]-1))","v":0},{"$f":"IF(Table3[[#This Row],[چندم]]=0,\"\",MID(Table3[[#This Row],[شماره تماس]],Table3[[#This Row],[چندم]]+1,30))","v":""}]
[null,13,null,null,null,{"$f":"IFERROR(FIND(\"_\",Table3[[#This Row],[شماره تماس]]),0)","v":0},{"$f":"IF(Table3[[#This Row],[چندم]]=0,Table3[[#This Row],[شماره تماس]],MID(Table3[[#This Row],[شماره تماس]],1,Table3[[#This Row],[چندم]]-1))","v":0},{"$f":"IF(Table3[[#This Row],[چندم]]=0,\"\",MID(Table3[[#This Row],[شماره تماس]],Table3[[#This Row],[چندم]]+1,30))","v":""}]
[null,14,null,null,null,{"$f":"IFERROR(FIND(\"_\",Table3[[#This Row],[شماره تماس]]),0)","v":0},{"$f":"IF(Table3[[#This Row],[چندم]]=0,Table3[[#This Row],[شماره تماس]],MID(Table3[[#This Row],[شماره تماس]],1,Table3[[#This Row],[چندم]]-1))","v":0},{"$f":"IF(Table3[[#This Row],[چندم]]=0,\"\",MID(Table3[[#This Row],[شماره تماس]],Table3[[#This Row],[چندم]]+1,30))","v":""}]
[null,15,null,null,null,{"$f":"IFERROR(FIND(\"_\",Table3[[#This Row],[شماره تماس]]),0)","v":0},{"$f":"IF(Table3[[#This Row],[چندم]]=0,Table3[[#This Row],[شماره تماس]],MID(Table3[[#This Row],[شماره تماس]],1,Table3[[#This Row],[چندم]]-1))","v":0},{"$f":"IF(Table3[[#This Row],[چندم]]=0,\"\",MID(Table3[[#This Row],[شماره تماس]],Table3[[#This Row],[چندم]]+1,30))","v":""}]
[null,16,null,null,null,{"$f":"IFERROR(FIND(\"_\",Table3[[#This Row],[شماره تماس]]),0)","v":0},{"$f":"IF(Table3[[#This Row],[چندم]]=0,Table3[[#This Row],[شماره تماس]],MID(Table3[[#This Row],[شماره تماس]],1,Table3[[#This Row],[چندم]]-1))","v":0},{"$f":"IF(Table3[[#This Row],[چندم]]=0,\"\",MID(Table3[[#This Row],[شماره تماس]],Table3[[#This Row],[چندم]]+1,30))","v":""}]
[null,17,null,null,null,{"$f":"IFERROR(FIND(\"_\",Table3[[#This Row],[شماره تماس]]),0)","v":0},{"$f":"IF(Table3[[#This Row],[چندم]]=0,Table3[[#This Row],[شماره تماس]],MID(Table3[[#This Row],[شماره تماس]],1,Table3[[#This Row],[چندم]]-1))","v":0},{"$f":"IF(Table3[[#This Row],[چندم]]=0,\"\",MID(Table3[[#This Row],[شماره تماس]],Table3[[#This Row],[چندم]]+1,30))","v":""}]
[null,18,null,null,null,{"$f":"IFERROR(FIND(\"_\",Table3[[#This Row],[شماره تماس]]),0)","v":0},{"$f":"IF(Table3[[#This Row],[چندم]]=0,Table3[[#This Row],[شماره تماس]],MID(Table3[[#This Row],[شماره تماس]],1,Table3[[#This Row],[چندم]]-1))","v":0},{"$f":"IF(Table3[[#This Row],[چندم]]=0,\"\",MID(Table3[[#This Row],[شماره تماس]],Table3[[#This Row],[چندم]]+1,30))","v":""}]
[null,19,null,null,null,{"$f":"IFERROR(FIND(\"_\",Table3[[#This Row],[شماره تماس]]),0)","v":0},{"$f":"IF(Table3[[#This Row],[چندم]]=0,Table3[[#This Row],[شماره تماس]],MID(Table3[[#This Row],[شماره تماس]],1,Table3[[#This Row],[چندم]]-1))","v":0},{"$f":"IF(Table3[[#This Row],[چندم]]=0,\"\",MID(Table3[[#This Row],[شماره تماس]],Table3[[#This Row],[چندم]]+1,30))","v":""}]
[null,20,null,null,null,{"$f":"IFERROR(FIND(\"_\",Table3[[#This Row],[شماره تماس]]),0)","v":0},{"$f":"IF(Table3[[#This Row],[چندم]]=0,Table3[[#This Row],[شماره تماس]],MID(Table3[[#This Row],[شماره تماس]],1,Table3[[#This Row],[چندم]]-1))","v":0},{"$f":"IF(Table3[[#This Row],[چندم]]=0,\"\",MID(Table3[[#This Row],[شماره تماس]],Table3[[#This Row],[چندم]]+1,30))","v":""}]
[null,21,null,null,null,{"$f":"IFERROR(FIND(\"_\",Table3[[#This Row],[شماره تماس]]),0)","v":0},{"$f":"IF(Table3[[#This Row],[چندم]]=0,Table3[[#This Row],[شماره تماس]],MID(Table3[[#This Row],[شماره تماس]],1,Table3[[#This Row],[چندم]]-1))","v":0},{"$f":"IF(Table3[[#This Row],[چندم]]=0,\"\",MID(Table3[[#This Row],[شماره تماس]],Table3[[#This Row],[چندم]]+1,30))","v":""}]
[null,22,null,null,null,{"$f":"IFERROR(FIND(\"_\",Table3[[#This Row],[شماره تماس]]),0)","v":0},{"$f":"IF(Table3[[#This Row],[چندم]]=0,Table3[[#This Row],[شماره تماس]],MID(Table3[[#This Row],[شماره تماس]],1,Table3[[#This Row],[چندم]]-1))","v":0},{"$f":"IF(Table3[[#This Row],[چندم]]=0,\"\",MID(Table3[[#This Row],[شماره تماس]],Table3[[#This Row],[چندم]]+1,30))","v":""}]
[null,23,null,null,null,{"$f":"IFERROR(FIND(\"_\",Table3[[#This Row],[شماره تماس]]),0)","v":0},{"$f":"IF(Table3[[#This Row],[چندم]]=0,Table3[[#This Row],[شماره تماس]],MID(Table3[[#This Row],[شماره تماس]],1,Table3[[#This Row],[چندم]]-1))","v":0},{"$f":"IF(Table3[[#This Row],[چندم]]=0,\"\",MID(Table3[[#This Row],[شماره تماس]],Table3[[#This Row],[چندم]]+1,30))","v":""}]
[null,24,null,null,null,{"$f":"IFERROR(FIND(\"_\",Table3[[#This Row],[شماره تماس]]),0)","v":0},{"$f":"IF(Table3[[#This Row],[چندم]]=0,Table3[[#This Row],[شماره تماس]],MID(Table3[[#This Row],[شماره تماس]],1,Table3[[#This Row],[چندم]]-1))","v":0},{"$f":"IF(Table3[[#This Row],[چندم]]=0,\"\",MID(Table3[[#This Row],[شماره تماس]],Table3[[#This Row],[چندم]]+1,30))","v":""}]
[null,25,null,null,null,{"$f":"IFERROR(FIND(\"_\",Table3[[#This Row],[شماره تماس]]),0)","v":0},{"$f":"IF(Table3[[#This Row],[چندم]]=0,Table3[[#This Row],[شماره تماس]],MID(Table3[[#This Row],[شماره تماس]],1,Table3[[#This Row],[چندم]]-1))","v":0},{"$f":"IF(Table3[[#This Row],[چندم]]=0,\"\",MID(Table3[[#This Row],[شماره تماس]],Table3[[#This Row],[چندم]]+1,30))","v":""}]
[null,26,null,null,null,{"$f":"IFERROR(FIND(\"_\",Table3[[#This Row],[شماره تماس]]),0)","v":0},{"$f":"IF(Table3[[#This Row],[چندم]]=0,Table3[[#This Row],[شماره تماس]],MID(Table3[[#This Row],[شماره تماس]],1,Table3[[#This Row],[چندم]]-1))","v":0},{"$f":"IF(Table3[[#This Row],[چندم]]=0,\"\",MID(Table3[[#This Row],[شماره تماس]],Table3[[#This Row],[چندم]]+1,30))","v":""}]
[null,27,null,null,null,{"$f":"IFERROR(FIND(\"_\",Table3[[#This Row],[شماره تماس]]),0)","v":0},{"$f":"IF(Table3[[#This Row],[چندم]]=0,Table3[[#This Row],[شماره تماس]],MID(Table3[[#This Row],[شماره تماس]],1,Table3[[#This Row],[چندم]]-1))","v":0},{"$f":"IF(Table3[[#This Row],[چندم]]=0,\"\",MID(Table3[[#This Row],[شماره تماس]],Table3[[#This Row],[چندم]]+1,30))","v":""}]
[null,28,null,null,null,{"$f":"IFERROR(FIND(\"_\",Table3[[#This Row],[شماره تماس]]),0)","v":0},{"$f":"IF(Table3[[#This Row],[چندم]]=0,Table3[[#This Row],[شماره تماس]],MID(Table3[[#This Row],[شماره تماس]],1,Table3[[#This Row],[چندم]]-1))","v":0},{"$f":"IF(Table3[[#This Row],[چندم]]=0,\"\",MID(Table3[[#This Row],[شماره تماس]],Table3[[#This Row],[چندم]]+1,30))","v":""}]
[null,29,null,null,null,{"$f":"IFERROR(FIND(\"_\",Table3[[#This Row],[شماره تماس]]),0)","v":0},{"$f":"IF(Table3[[#This Row],[چندم]]=0,Table3[[#This Row],[شماره تماس]],MID(Table3[[#This Row],[شماره تماس]],1,Table3[[#This Row],[چندم]]-1))","v":0},{"$f":"IF(Table3[[#This Row],[چندم]]=0,\"\",MID(Table3[[#This Row],[شماره تماس]],Table3[[#This Row],[چندم]]+1,30))","v":""}]
[null,30,null,null,null,{"$f":"IFERROR(FIND(\"_\",Table3[[#This Row],[شماره تماس]]),0)","v":0},{"$f":"IF(Table3[[#This Row],[چندم]]=0,Table3[[#This Row],[شماره تماس]],MID(Table3[[#This Row],[شماره تماس]],1,Table3[[#This Row],[چندم]]-1))","v":0},{"$f":"IF(Table3[[#This Row],[چندم]]=0,\"\",MID(Table3[[#This Row],[شماره تماس]],Table3[[#This Row],[چندم]]+1,30))","v":""}]
[null,31,null,null,null,{"$f":"IFERROR(FIND(\"_\",Table3[[#This Row],[شماره تماس]]),0)","v":0},{"$f":"IF(Table3[[#This Row],[چندم]]=0,Table3[[#This Row],[شماره تماس]],MID(Table3[[#This Row],[شماره تماس]],1,Table3[[#This Row],[چندم]]-1))","v":0},{"$f":"IF(Table3[[#This Row],[چندم]]=0,\"\",MID(Table3[[#This Row],[شماره تماس]],Table3[[#This Row],[چندم]]+1,30))","v":""}]
[null,32,null,null,null,{"$f":"IFERROR(FIND(\"_\",Table3[[#This Row],[شماره تماس]]),0)","v":0},{"$f":"IF(Table3[[#This Row],[چندم]]=0,Table3[[#This Row],[شماره تماس]],MID(Table3[[#This Row],[شماره تماس]],1,Table3[[#This Row],[چندم]]-1))","v":0},{"$f":"IF(Table3[[#This Row],[چندم]]=0,\"\",MID(Table3[[#This Row],[شماره تماس]],Table3[[#This Row],[چندم]]+1,30))","v":""}]
[null,33,null,null,null,{"$f":"IFERROR(FIND(\"_\",Table3[[#This Row],[شماره تماس]]),0)","v":0},{"$f":"IF(Table3[[#This Row],[چندم]]=0,Table3[[#This Row],[شماره تماس]],MID(Table3[[#This Row],[شماره تماس]],1,Table3[[#This Row],[چندم]]-1))","v":0},{"$f":"IF(Table3[[#This Row],[چندم]]=0,\"\",MID(Table3[[#This Row],[شماره تماس]],Table3[[#This Row],[چندم]]+1,30))","v":""}]
[null,34,null,null,null,{"$f":"IFERROR(FIND(\"_\",Table3[[#This Row],[شماره تماس]]),0)","v":0},{"$f":"IF(Table3[[#This Row],[چندم]]=0,Table3[[#This Row],[شماره تماس]],MID(Table3[[#This Row],[شماره تماس]],1,Table3[[#This Row],[چندم]]-1))","v":0},{"$f":"IF(Table3[[#This Row],[چندم]]=0,\"\",MID(Table3[[#This Row],[شماره تماس]],Table3[[#This Row],[چندم]]+1,30))","v":""}]
[null,35,null,null,null,{"$f":"IFERROR(FIND(\"_\",Table3[[#This Row],[شماره تماس]]),0)","v":0},{"$f":"IF(Table3[[#This Row],[چندم]]=0,Table3[[#This Row],[شماره تماس]],MID(Table3[[#This Row],[شماره تماس]],1,Table3[[#This Row],[چندم]]-1))","v":0},{"$f":"IF(Table3[[#This Row],[چندم]]=0,\"\",MID(Table3[[#This Row],[شماره تماس]],Table3[[#This Row],[چندم]]+1,30))","v":""}]
[null,36,null,null,null,{"$f":"IFERROR(FIND(\"_\",Table3[[#This Row],[شماره تماس]]),0)","v":0},{"$f":"IF(Table3[[#This Row],[چندم]]=0,Table3[[#This Row],[شماره تماس]],MID(Table3[[#This Row],[شماره تماس]],1,Table3[[#This Row],[چندم]]-1))","v":0},{"$f":"IF(Table3[[#This Row],[چندم]]=0,\"\",MID(Table3[[#This Row],[شماره تماس]],Table3[[#This Row],[چندم]]+1,30))","v":""}]
[null,37,null,null,null,{"$f":"IFERROR(FIND(\"_\",Table3[[#This Row],[شماره تماس]]),0)","v":0},{"$f":"IF(Table3[[#This Row],[چندم]]=0,Table3[[#This Row],[شماره تماس]],MID(Table3[[#This Row],[شماره تماس]],1,Table3[[#This Row],[چندم]]-1))","v":0},{"$f":"IF(Table3[[#This Row],[چندم]]=0,\"\",MID(Table3[[#This Row],[شماره تماس]],Table3[[#This Row],[چندم]]+1,30))","v":""}]
[null,38,null,null,null,{"$f":"IFERROR(FIND(\"_\",Table3[[#This Row],[شماره تماس]]),0)","v":0},{"$f":"IF(Table3[[#This Row],[چندم]]=0,Table3[[#This Row],[شماره تماس]],MID(Table3[[#This Row],[شماره تماس]],1,Table3[[#This Row],[چندم]]-1))","v":0},{"$f":"IF(Table3[[#This Row],[چندم]]=0,\"\",MID(Table3[[#This Row],[شماره تماس]],Table3[[#This Row],[چندم]]+1,30))","v":""}]
[null,{"$f":"ROW()-3","v":39},null,null,null,{"$f":"IFERROR(FIND(\"_\",Table3[[#This Row],[شماره تماس]]),0)","v":0},{"$f":"IF(Table3[[#This Row],[چندم]]=0,Table3[[#This Row],[شماره تماس]],MID(Table3[[#This Row],[شماره تماس]],1,Table3[[#This Row],[چندم]]-1))","v":0},{"$f":"IF(Table3[[#This Row],[چندم]]=0,\"\",MID(Table3[[#This Row],[شماره تماس]],Table3[[#This Row],[چندم]]+1,30))","v":""}]
[null,40,null,null,null,{"$f":"IFERROR(FIND(\"_\",Table3[[#This Row],[شماره تماس]]),0)","v":0},{"$f":"IF(Table3[[#This Row],[چندم]]=0,Table3[[#This Row],[شماره تماس]],MID(Table3[[#This Row],[شماره تماس]],1,Table3[[#This Row],[چندم]]-1))","v":0},{"$f":"IF(Table3[[#This Row],[چندم]]=0,\"\",MID(Table3[[#This Row],[شماره تماس]],Table3[[#This Row],[چندم]]+1,30))","v":""}]
[null,41,null,null,null,{"$f":"IFERROR(FIND(\"_\",Table3[[#This Row],[شماره تماس]]),0)","v":0},{"$f":"IF(Table3[[#This Row],[چندم]]=0,Table3[[#This Row],[شماره تماس]],MID(Table3[[#This Row],[شماره تماس]],1,Table3[[#This Row],[چندم]]-1))","v":0},{"$f":"IF(Table3[[#This Row],[چندم]]=0,\"\",MID(Table3[[#This Row],[شماره تماس]],Table3[[#This Row],[چندم]]+1,30))","v":""}]
[null,42,null,null,null,{"$f":"IFERROR(FIND(\"_\",Table3[[#This Row],[شماره تماس]]),0)","v":0},{"$f":"IF(Table3[[#This Row],[چندم]]=0,Table3[[#This Row],[شماره تماس]],MID(Table3[[#This Row],[شماره تماس]],1,Table3[[#This Row],[چندم]]-1))","v":0},{"$f":"IF(Table3[[#This Row],[چندم]]=0,\"\",MID(Table3[[#This Row],[شماره تماس]],Table3[[#This Row],[چندم]]+1,30))","v":""}]
[null,43,null,null,null,{"$f":"IFERROR(FIND(\"_\",Table3[[#This Row],[شماره تماس]]),0)","v":0},{"$f":"IF(Table3[[#This Row],[چندم]]=0,Table3[[#This Row],[شماره تماس]],MID(Table3[[#This Row],[شماره تماس]],1,Table3[[#This Row],[چندم]]-1))","v":0},{"$f":"IF(Table3[[#This Row],[چندم]]=0,\"\",MID(Table3[[#This Row],[شماره تماس]],Table3[[#This Row],[چندم]]+1,30))","v":""}]
[null,44,null,null,null,{"$f":"IFERROR(FIND(\"_\",Table3[[#This Row],[شماره تماس]]),0)","v":0},{"$f":"IF(Table3[[#This Row],[چندم]]=0,Table3[[#This Row],[شماره تماس]],MID(Table3[[#This Row],[شماره تماس]],1,Table3[[#This Row],[چندم]]-1))","v":0},{"$f":"IF(Table3[[#This Row],[چندم]]=0,\"\",MID(Table3[[#This Row],[شماره تماس]],Table3[[#This Row],[چندم]]+1,30))","v":""}]
[null,45,null,null,null,{"$f":"IFERROR(FIND(\"_\",Table3[[#This Row],[شماره تماس]]),0)","v":0},{"$f":"IF(Table3[[#This Row],[چندم]]=0,Table3[[#This Row],[شماره تماس]],MID(Table3[[#This Row],[شماره تماس]],1,Table3[[#This Row],[چندم]]-1))","v":0},{"$f":"IF(Table3[[#This Row],[چندم]]=0,\"\",MID(Table3[[#This Row],[شماره تماس]],Table3[[#This Row],[چندم]]+1,30))","v":""}]
[null,46,null,null,null,{"$f":"IFERROR(FIND(\"_\",Table3[[#This Row],[شماره تماس]]),0)","v":0},{"$f":"IF(Table3[[#This Row],[چندم]]=0,Table3[[#This Row],[شماره تماس]],MID(Table3[[#This Row],[شماره تماس]],1,Table3[[#This Row],[چندم]]-1))","v":0},{"$f":"IF(Table3[[#This Row],[چندم]]=0,\"\",MID(Table3[[#This Row],[شماره تماس]],Table3[[#This Row],[چندم]]+1,30))","v":""}]
[null,47,null,null,null,{"$f":"IFERROR(FIND(\"_\",Table3[[#This Row],[شماره تماس]]),0)","v":0},{"$f":"IF(Table3[[#This Row],[چندم]]=0,Table3[[#This Row],[شماره تماس]],MID(Table3[[#This Row],[شماره تماس]],1,Table3[[#This Row],[چندم]]-1))","v":0},{"$f":"IF(Table3[[#This Row],[چندم]]=0,\"\",MID(Table3[[#This Row],[شماره تماس]],Table3[[#This Row],[چندم]]+1,30))","v":""}]
[null,48,null,null,null,{"$f":"IFERROR(FIND(\"_\",Table3[[#This Row],[شماره تماس]]),0)","v":0},{"$f":"IF(Table3[[#This Row],[چندم]]=0,Table3[[#This Row],[شماره تماس]],MID(Table3[[#This Row],[شماره تماس]],1,Table3[[#This Row],[چندم]]-1))","v":0},{"$f":"IF(Table3[[#This Row],[چندم]]=0,\"\",MID(Table3[[#This Row],[شماره تماس]],Table3[[#This Row],[چندم]]+1,30))","v":""}]
[null,49,null,null,null,{"$f":"IFERROR(FIND(\"_\",Table3[[#This Row],[شماره تماس]]),0)","v":0},{"$f":"IF(Table3[[#This Row],[چندم]]=0,Table3[[#This Row],[شماره تماس]],MID(Table3[[#This Row],[شماره تماس]],1,Table3[[#This Row],[چندم]]-1))","v":0},{"$f":"IF(Table3[[#This Row],[چندم]]=0,\"\",MID(Table3[[#This Row],[شماره تماس]],Table3[[#This Row],[چندم]]+1,30))","v":""}]
[null,50,null,null,null,{"$f":"IFERROR(FIND(\"_\",Table3[[#This Row],[شماره تماس]]),0)","v":0},{"$f":"IF(Table3[[#This Row],[چندم]]=0,Table3[[#This Row],[شماره تماس]],MID(Table3[[#This Row],[شماره تماس]],1,Table3[[#This Row],[چندم]]-1))","v":0},{"$f":"IF(Table3[[#This Row],[چندم]]=0,\"\",MID(Table3[[#This Row],[شماره تماس]],Table3[[#This Row],[چندم]]+1,30))","v":""}]
[null,51,null,null,null,{"$f":"IFERROR(FIND(\"_\",Table3[[#This Row],[شماره تماس]]),0)","v":0},{"$f":"IF(Table3[[#This Row],[چندم]]=0,Table3[[#This Row],[شماره تماس]],MID(Table3[[#This Row],[شماره تماس]],1,Table3[[#This Row],[چندم]]-1))","v":0},{"$f":"IF(Table3[[#This Row],[چندم]]=0,\"\",MID(Table3[[#This Row],[شماره تماس]],Table3[[#This Row],[چندم]]+1,30))","v":""}]
[null,52,null,null,null,{"$f":"IFERROR(FIND(\"_\",Table3[[#This Row],[شماره تماس]]),0)","v":0},{"$f":"IF(Table3[[#This Row],[چندم]]=0,Table3[[#This Row],[شماره تماس]],MID(Table3[[#This Row],[شماره تماس]],1,Table3[[#This Row],[چندم]]-1))","v":0},{"$f":"IF(Table3[[#This Row],[چندم]]=0,\"\",MID(Table3[[#This Row],[شماره تماس]],Table3[[#This Row],[چندم]]+1,30))","v":""}]
[null,53,null,null,null,{"$f":"IFERROR(FIND(\"_\",Table3[[#This Row],[شماره تماس]]),0)","v":0},{"$f":"IF(Table3[[#This Row],[چندم]]=0,Table3[[#This Row],[شماره تماس]],MID(Table3[[#This Row],[شماره تماس]],1,Table3[[#This Row],[چندم]]-1))","v":0},{"$f":"IF(Table3[[#This Row],[چندم]]=0,\"\",MID(Table3[[#This Row],[شماره تماس]],Table3[[#This Row],[چندم]]+1,30))","v":""}]
[null,54,null,null,null,{"$f":"IFERROR(FIND(\"_\",Table3[[#This Row],[شماره تماس]]),0)","v":0},{"$f":"IF(Table3[[#This Row],[چندم]]=0,Table3[[#This Row],[شماره تماس]],MID(Table3[[#This Row],[شماره تماس]],1,Table3[[#This Row],[چندم]]-1))","v":0},{"$f":"IF(Table3[[#This Row],[چندم]]=0,\"\",MID(Table3[[#This Row],[شماره تماس]],Table3[[#This Row],[چندم]]+1,30))","v":""}]
[null,55,null,null,null,{"$f":"IFERROR(FIND(\"_\",Table3[[#This Row],[شماره تماس]]),0)","v":0},{"$f":"IF(Table3[[#This Row],[چندم]]=0,Table3[[#This Row],[شماره تماس]],MID(Table3[[#This Row],[شماره تماس]],1,Table3[[#This Row],[چندم]]-1))","v":0},{"$f":"IF(Table3[[#This Row],[چندم]]=0,\"\",MID(Table3[[#This Row],[شماره تماس]],Table3[[#This Row],[چندم]]+1,30))","v":""}]
[null,56,null,null,null,{"$f":"IFERROR(FIND(\"_\",Table3[[#This Row],[شماره تماس]]),0)","v":0},{"$f":"IF(Table3[[#This Row],[چندم]]=0,Table3[[#This Row],[شماره تماس]],MID(Table3[[#This Row],[شماره تماس]],1,Table3[[#This Row],[چندم]]-1))","v":0},{"$f":"IF(Table3[[#This Row],[چندم]]=0,\"\",MID(Table3[[#This Row],[شماره تماس]],Table3[[#This Row],[چندم]]+1,30))","v":""}]
[null,57,null,null,null,{"$f":"IFERROR(FIND(\"_\",Table3[[#This Row],[شماره تماس]]),0)","v":0},{"$f":"IF(Table3[[#This Row],[چندم]]=0,Table3[[#This Row],[شماره تماس]],MID(Table3[[#This Row],[شماره تماس]],1,Table3[[#This Row],[چندم]]-1))","v":0},{"$f":"IF(Table3[[#This Row],[چندم]]=0,\"\",MID(Table3[[#This Row],[شماره تماس]],Table3[[#This Row],[چندم]]+1,30))","v":""}]
[null,58,null,null,null,{"$f":"IFERROR(FIND(\"_\",Table3[[#This Row],[شماره تماس]]),0)","v":0},{"$f":"IF(Table3[[#This Row],[چندم]]=0,Table3[[#This Row],[شماره تماس]],MID(Table3[[#This Row],[شماره تماس]],1,Table3[[#This Row],[چندم]]-1))","v":0},{"$f":"IF(Table3[[#This Row],[چندم]]=0,\"\",MID(Table3[[#This Row],[شماره تماس]],Table3[[#This Row],[چندم]]+1,30))","v":""}]
[null,59,null,null,null,{"$f":"IFERROR(FIND(\"_\",Table3[[#This Row],[شماره تماس]]),0)","v":0},{"$f":"IF(Table3[[#This Row],[چندم]]=0,Table3[[#This Row],[شماره تماس]],MID(Table3[[#This Row],[شماره تماس]],1,Table3[[#This Row],[چندم]]-1))","v":0},{"$f":"IF(Table3[[#This Row],[چندم]]=0,\"\",MID(Table3[[#This Row],[شماره تماس]],Table3[[#This Row],[چندم]]+1,30))","v":""}]
[null,60,null,null,null,{"$f":"IFERROR(FIND(\"_\",Table3[[#This Row],[شماره تماس]]),0)","v":0},{"$f":"IF(Table3[[#This Row],[چندم]]=0,Table3[[#This Row],[شماره تماس]],MID(Table3[[#This Row],[شماره تماس]],1,Table3[[#This Row],[چندم]]-1))","v":0},{"$f":"IF(Table3[[#This Row],[چندم]]=0,\"\",MID(Table3[[#This Row],[شماره تماس]],Table3[[#This Row],[چندم]]+1,30))","v":""}]
[null,61,null,null,null,{"$f":"IFERROR(FIND(\"_\",Table3[[#This Row],[شماره تماس]]),0)","v":0},{"$f":"IF(Table3[[#This Row],[چندم]]=0,Table3[[#This Row],[شماره تماس]],MID(Table3[[#This Row],[شماره تماس]],1,Table3[[#This Row],[چندم]]-1))","v":0},{"$f":"IF(Table3[[#This Row],[چندم]]=0,\"\",MID(Table3[[#This Row],[شماره تماس]],Table3[[#This Row],[چندم]]+1,30))","v":""}]
[null,62,null,null,null,{"$f":"IFERROR(FIND(\"_\",Table3[[#This Row],[شماره تماس]]),0)","v":0},{"$f":"IF(Table3[[#This Row],[چندم]]=0,Table3[[#This Row],[شماره تماس]],MID(Table3[[#This Row],[شماره تماس]],1,Table3[[#This Row],[چندم]]-1))","v":0},{"$f":"IF(Table3[[#This Row],[چندم]]=0,\"\",MID(Table3[[#This Row],[شماره تماس]],Table3[[#This Row],[چندم]]+1,30))","v":""}]
[null,63,null,null,null,{"$f":"IFERROR(FIND(\"_\",Table3[[#This Row],[شماره تماس]]),0)","v":0},{"$f":"IF(Table3[[#This Row],[چندم]]=0,Table3[[#This Row],[شماره تماس]],MID(Table3[[#This Row],[شماره تماس]],1,Table3[[#This Row],[چندم]]-1))","v":0},{"$f":"IF(Table3[[#This Row],[چندم]]=0,\"\",MID(Table3[[#This Row],[شماره تماس]],Table3[[#This Row],[چندم]]+1,30))","v":""}]
[null,64,null,null,null,{"$f":"IFERROR(FIND(\"_\",Table3[[#This Row],[شماره تماس]]),0)","v":0},{"$f":"IF(Table3[[#This Row],[چندم]]=0,Table3[[#This Row],[شماره تماس]],MID(Table3[[#This Row],[شماره تماس]],1,Table3[[#This Row],[چندم]]-1))","v":0},{"$f":"IF(Table3[[#This Row],[چندم]]=0,\"\",MID(Table3[[#This Row],[شماره تماس]],Table3[[#This Row],[چندم]]+1,30))","v":""}]
[null,65,null,null,null,{"$f":"IFERROR(FIND(\"_\",Table3[[#This Row],[شماره تماس]]),0)","v":0},{"$f":"IF(Table3[[#This Row],[چندم]]=0,Table3[[#This Row],[شماره تماس]],MID(Table3[[#This Row],[شماره تماس]],1,Table3[[#This Row],[چندم]]-1))","v":0},{"$f":"IF(Table3[[#This Row],[چندم]]=0,\"\",MID(Table3[[#This Row],[شماره تماس]],Table3[[#This Row],[چندم]]+1,30))","v":""}]
[null,66,null,null,null,{"$f":"IFERROR(FIND(\"_\",Table3[[#This Row],[شماره تماس]]),0)","v":0},{"$f":"IF(Table3[[#This Row],[چندم]]=0,Table3[[#This Row],[شماره تماس]],MID(Table3[[#This Row],[شماره تماس]],1,Table3[[#This Row],[چندم]]-1))","v":0},{"$f":"IF(Table3[[#This Row],[چندم]]=0,\"\",MID(Table3[[#This Row],[شماره تماس]],Table3[[#This Row],[چندم]]+1,30))","v":""}]
[null,67,null,null,null,{"$f":"IFERROR(FIND(\"_\",Table3[[#This Row],[شماره تماس]]),0)","v":0},{"$f":"IF(Table3[[#This Row],[چندم]]=0,Table3[[#This Row],[شماره تماس]],MID(Table3[[#This Row],[شماره تماس]],1,Table3[[#This Row],[چندم]]-1))","v":0},{"$f":"IF(Table3[[#This Row],[چندم]]=0,\"\",MID(Table3[[#This Row],[شماره تماس]],Table3[[#This Row],[چندم]]+1,30))","v":""}]
[null,68,null,null,null,{"$f":"IFERROR(FIND(\"_\",Table3[[#This Row],[شماره تماس]]),0)","v":0},{"$f":"IF(Table3[[#This Row],[چندم]]=0,Table3[[#This Row],[شماره تماس]],MID(Table3[[#This Row],[شماره تماس]],1,Table3[[#This Row],[چندم]]-1))","v":0},{"$f":"IF(Table3[[#This Row],[چندم]]=0,\"\",MID(Table3[[#This Row],[شماره تماس]],Table3[[#This Row],[چندم]]+1,30))","v":""}]
[null,69,null,null,null,{"$f":"IFERROR(FIND(\"_\",Table3[[#This Row],[شماره تماس]]),0)","v":0},{"$f":"IF(Table3[[#This Row],[چندم]]=0,Table3[[#This Row],[شماره تماس]],MID(Table3[[#This Row],[شماره تماس]],1,Table3[[#This Row],[چندم]]-1))","v":0},{"$f":"IF(Table3[[#This Row],[چندم]]=0,\"\",MID(Table3[[#This Row],[شماره تماس]],Table3[[#This Row],[چندم]]+1,30))","v":""}]
[null,70,null,null,null,{"$f":"IFERROR(FIND(\"_\",Table3[[#This Row],[شماره تماس]]),0)","v":0},{"$f":"IF(Table3[[#This Row],[چندم]]=0,Table3[[#This Row],[شماره تماس]],MID(Table3[[#This Row],[شماره تماس]],1,Table3[[#This Row],[چندم]]-1))","v":0},{"$f":"IF(Table3[[#This Row],[چندم]]=0,\"\",MID(Table3[[#This Row],[شماره تماس]],Table3[[#This Row],[چندم]]+1,30))","v":""}]
[null,71,null,null,null,{"$f":"IFERROR(FIND(\"_\",Table3[[#This Row],[شماره تماس]]),0)","v":0},{"$f":"IF(Table3[[#This Row],[چندم]]=0,Table3[[#This Row],[شماره تماس]],MID(Table3[[#This Row],[شماره تماس]],1,Table3[[#This Row],[چندم]]-1))","v":0},{"$f":"IF(Table3[[#This Row],[چندم]]=0,\"\",MID(Table3[[#This Row],[شماره تماس]],Table3[[#This Row],[چندم]]+1,30))","v":""}]
[null,72,null,null,null,{"$f":"IFERROR(FIND(\"_\",Table3[[#This Row],[شماره تماس]]),0)","v":0},{"$f":"IF(Table3[[#This Row],[چندم]]=0,Table3[[#This Row],[شماره تماس]],MID(Table3[[#This Row],[شماره تماس]],1,Table3[[#This Row],[چندم]]-1))","v":0},{"$f":"IF(Table3[[#This Row],[چندم]]=0,\"\",MID(Table3[[#This Row],[شماره تماس]],Table3[[#This Row],[چندم]]+1,30))","v":""}]
[null,73,null,null,null,{"$f":"IFERROR(FIND(\"_\",Table3[[#This Row],[شماره تماس]]),0)","v":0},{"$f":"IF(Table3[[#This Row],[چندم]]=0,Table3[[#This Row],[شماره تماس]],MID(Table3[[#This Row],[شماره تماس]],1,Table3[[#This Row],[چندم]]-1))","v":0},{"$f":"IF(Table3[[#This Row],[چندم]]=0,\"\",MID(Table3[[#This Row],[شماره تماس]],Table3[[#This Row],[چندم]]+1,30))","v":""}]
[null,74,null,null,null,{"$f":"IFERROR(FIND(\"_\",Table3[[#This Row],[شماره تماس]]),0)","v":0},{"$f":"IF(Table3[[#This Row],[چندم]]=0,Table3[[#This Row],[شماره تماس]],MID(Table3[[#This Row],[شماره تماس]],1,Table3[[#This Row],[چندم]]-1))","v":0},{"$f":"IF(Table3[[#This Row],[چندم]]=0,\"\",MID(Table3[[#This Row],[شماره تماس]],Table3[[#This Row],[چندم]]+1,30))","v":""}]
[null,75,null,null,null,{"$f":"IFERROR(FIND(\"_\",Table3[[#This Row],[شماره تماس]]),0)","v":0},{"$f":"IF(Table3[[#This Row],[چندم]]=0,Table3[[#This Row],[شماره تماس]],MID(Table3[[#This Row],[شماره تماس]],1,Table3[[#This Row],[چندم]]-1))","v":0},{"$f":"IF(Table3[[#This Row],[چندم]]=0,\"\",MID(Table3[[#This Row],[شماره تماس]],Table3[[#This Row],[چندم]]+1,30))","v":""}]
[null,76,null,null,null,{"$f":"IFERROR(FIND(\"_\",Table3[[#This Row],[شماره تماس]]),0)","v":0},{"$f":"IF(Table3[[#This Row],[چندم]]=0,Table3[[#This Row],[شماره تماس]],MID(Table3[[#This Row],[شماره تماس]],1,Table3[[#This Row],[چندم]]-1))","v":0},{"$f":"IF(Table3[[#This Row],[چندم]]=0,\"\",MID(Table3[[#This Row],[شماره تماس]],Table3[[#This Row],[چندم]]+1,30))","v":""}]
[null,77,null,null,null,{"$f":"IFERROR(FIND(\"_\",Table3[[#This Row],[شماره تماس]]),0)","v":0},{"$f":"IF(Table3[[#This Row],[چندم]]=0,Table3[[#This Row],[شماره تماس]],MID(Table3[[#This Row],[شماره تماس]],1,Table3[[#This Row],[چندم]]-1))","v":0},{"$f":"IF(Table3[[#This Row],[چندم]]=0,\"\",MID(Table3[[#This Row],[شماره تماس]],Table3[[#This Row],[چندم]]+1,30))","v":""}]
[null,78,null,null,null,{"$f":"IFERROR(FIND(\"_\",Table3[[#This Row],[شماره تماس]]),0)","v":0},{"$f":"IF(Table3[[#This Row],[چندم]]=0,Table3[[#This Row],[شماره تماس]],MID(Table3[[#This Row],[شماره تماس]],1,Table3[[#This Row],[چندم]]-1))","v":0},{"$f":"IF(Table3[[#This Row],[چندم]]=0,\"\",MID(Table3[[#This Row],[شماره تماس]],Table3[[#This Row],[چندم]]+1,30))","v":""}]
[null,79,null,null,null,{"$f":"IFERROR(FIND(\"_\",Table3[[#This Row],[شماره تماس]]),0)","v":0},{"$f":"IF(Table3[[#This Row],[چندم]]=0,Table3[[#This Row],[شماره تماس]],MID(Table3[[#This Row],[شماره تماس]],1,Table3[[#This Row],[چندم]]-1))","v":0},{"$f":"IF(Table3[[#This Row],[چندم]]=0,\"\",MID(Table3[[#This Row],[شماره تماس]],Table3[[#This Row],[چندم]]+1,30))","v":""}]
[null,80,null,null,null,{"$f":"IFERROR(FIND(\"_\",Table3[[#This Row],[شماره تماس]]),0)","v":0},{"$f":"IF(Table3[[#This Row],[چندم]]=0,Table3[[#This Row],[شماره تماس]],MID(Table3[[#This Row],[شماره تماس]],1,Table3[[#This Row],[چندم]]-1))","v":0},{"$f":"IF(Table3[[#This Row],[چندم]]=0,\"\",MID(Table3[[#This Row],[شماره تماس]],Table3[[#This Row],[چندم]]+1,30))","v":""}]
[null,81,null,null,null,{"$f":"IFERROR(FIND(\"_\",Table3[[#This Row],[شماره تماس]]),0)","v":0},{"$f":"IF(Table3[[#This Row],[چندم]]=0,Table3[[#This Row],[شماره تماس]],MID(Table3[[#This Row],[شماره تماس]],1,Table3[[#This Row],[چندم]]-1))","v":0},{"$f":"IF(Table3[[#This Row],[چندم]]=0,\"\",MID(Table3[[#This Row],[شماره تماس]],Table3[[#This Row],[چندم]]+1,30))","v":""}]
[null,82,null,null,null,{"$f":"IFERROR(FIND(\"_\",Table3[[#This Row],[شماره تماس]]),0)","v":0},{"$f":"IF(Table3[[#This Row],[چندم]]=0,Table3[[#This Row],[شماره تماس]],MID(Table3[[#This Row],[شماره تماس]],1,Table3[[#This Row],[چندم]]-1))","v":0},{"$f":"IF(Table3[[#This Row],[چندم]]=0,\"\",MID(Table3[[#This Row],[شماره تماس]],Table3[[#This Row],[چندم]]+1,30))","v":""}]
[null,83,null,null,null,{"$f":"IFERROR(FIND(\"_\",Table3[[#This Row],[شماره تماس]]),0)","v":0},{"$f":"IF(Table3[[#This Row],[چندم]]=0,Table3[[#This Row],[شماره تماس]],MID(Table3[[#This Row],[شماره تماس]],1,Table3[[#This Row],[چندم]]-1))","v":0},{"$f":"IF(Table3[[#This Row],[چندم]]=0,\"\",MID(Table3[[#This Row],[شماره تماس]],Table3[[#This Row],[چندم]]+1,30))","v":""}]
[null,84,null,null,null,{"$f":"IFERROR(FIND(\"_\",Table3[[#This Row],[شماره تماس]]),0)","v":0},{"$f":"IF(Table3[[#This Row],[چندم]]=0,Table3[[#This Row],[شماره تماس]],MID(Table3[[#This Row],[شماره تماس]],1,Table3[[#This Row],[چندم]]-1))","v":0},{"$f":"IF(Table3[[#This Row],[چندم]]=0,\"\",MID(Table3[[#This Row],[شماره تماس]],Table3[[#This Row],[چندم]]+1,30))","v":""}]
[null,85,null,null,null,{"$f":"IFERROR(FIND(\"_\",Table3[[#This Row],[شماره تماس]]),0)","v":0},{"$f":"IF(Table3[[#This Row],[چندم]]=0,Table3[[#This Row],[شماره تماس]],MID(Table3[[#This Row],[شماره تماس]],1,Table3[[#This Row],[چندم]]-1))","v":0},{"$f":"IF(Table3[[#This Row],[چندم]]=0,\"\",MID(Table3[[#This Row],[شماره تماس]],Table3[[#This Row],[چندم]]+1,30))","v":""}]
[null,86,null,null,null,{"$f":"IFERROR(FIND(\"_\",Table3[[#This Row],[شماره تماس]]),0)","v":0},{"$f":"IF(Table3[[#This Row],[چندم]]=0,Table3[[#This Row],[شماره تماس]],MID(Table3[[#This Row],[شماره تماس]],1,Table3[[#This Row],[چندم]]-1))","v":0},{"$f":"IF(Table3[[#This Row],[چندم]]=0,\"\",MID(Table3[[#This Row],[شماره تماس]],Table3[[#This Row],[چندم]]+1,30))","v":""}]
[null,87,null,null,null,{"$f":"IFERROR(FIND(\"_\",Table3[[#This Row],[شماره تماس]]),0)","v":0},{"$f":"IF(Table3[[#This Row],[چندم]]=0,Table3[[#This Row],[شماره تماس]],MID(Table3[[#This Row],[شماره تماس]],1,Table3[[#This Row],[چندم]]-1))","v":0},{"$f":"IF(Table3[[#This Row],[چندم]]=0,\"\",MID(Table3[[#This Row],[شماره تماس]],Table3[[#This Row],[چندم]]+1,30))","v":""}]
[null,88,null,null,null,{"$f":"IFERROR(FIND(\"_\",Table3[[#This Row],[شماره تماس]]),0)","v":0},{"$f":"IF(Table3[[#This Row],[چندم]]=0,Table3[[#This Row],[شماره تماس]],MID(Table3[[#This Row],[شماره تماس]],1,Table3[[#This Row],[چندم]]-1))","v":0},{"$f":"IF(Table3[[#This Row],[چندم]]=0,\"\",MID(Table3[[#This Row],[شماره تماس]],Table3[[#This Row],[چندم]]+1,30))","v":""}]
[null,89,null,null,null,{"$f":"IFERROR(FIND(\"_\",Table3[[#This Row],[شماره تماس]]),0)","v":0},{"$f":"IF(Table3[[#This Row],[چندم]]=0,Table3[[#This Row],[شماره تماس]],MID(Table3[[#This Row],[شماره تماس]],1,Table3[[#This Row],[چندم]]-1))","v":0},{"$f":"IF(Table3[[#This Row],[چندم]]=0,\"\",MID(Table3[[#This Row],[شماره تماس]],Table3[[#This Row],[چندم]]+1,30))","v":""}]
[null,90,null,null,null,{"$f":"IFERROR(FIND(\"_\",Table3[[#This Row],[شماره تماس]]),0)","v":0},{"$f":"IF(Table3[[#This Row],[چندم]]=0,Table3[[#This Row],[شماره تماس]],MID(Table3[[#This Row],[شماره تماس]],1,Table3[[#This Row],[چندم]]-1))","v":0},{"$f":"IF(Table3[[#This Row],[چندم]]=0,\"\",MID(Table3[[#This Row],[شماره تماس]],Table3[[#This Row],[چندم]]+1,30))","v":""}]
[null,91,null,null,null,{"$f":"IFERROR(FIND(\"_\",Table3[[#This Row],[شماره تماس]]),0)","v":0},{"$f":"IF(Table3[[#This Row],[چندم]]=0,Table3[[#This Row],[شماره تماس]],MID(Table3[[#This Row],[شماره تماس]],1,Table3[[#This Row],[چندم]]-1))","v":0},{"$f":"IF(Table3[[#This Row],[چندم]]=0,\"\",MID(Table3[[#This Row],[شماره تماس]],Table3[[#This Row],[چندم]]+1,30))","v":""}]
[null,92,null,null,null,{"$f":"IFERROR(FIND(\"_\",Table3[[#This Row],[شماره تماس]]),0)","v":0},{"$f":"IF(Table3[[#This Row],[چندم]]=0,Table3[[#This Row],[شماره تماس]],MID(Table3[[#This Row],[شماره تماس]],1,Table3[[#This Row],[چندم]]-1))","v":0},{"$f":"IF(Table3[[#This Row],[چندم]]=0,\"\",MID(Table3[[#This Row],[شماره تماس]],Table3[[#This Row],[چندم]]+1,30))","v":""}]
[null,93,null,null,null,{"$f":"IFERROR(FIND(\"_\",Table3[[#This Row],[شماره تماس]]),0)","v":0},{"$f":"IF(Table3[[#This Row],[چندم]]=0,Table3[[#This Row],[شماره تماس]],MID(Table3[[#This Row],[شماره تماس]],1,Table3[[#This Row],[چندم]]-1))","v":0},{"$f":"IF(Table3[[#This Row],[چندم]]=0,\"\",MID(Table3[[#This Row],[شماره تماس]],Table3[[#This Row],[چندم]]+1,30))","v":""}]
[null,94,null,null,null,{"$f":"IFERROR(FIND(\"_\",Table3[[#This Row],[شماره تماس]]),0)","v":0},{"$f":"IF(Table3[[#This Row],[چندم]]=0,Table3[[#This Row],[شماره تماس]],MID(Table3[[#This Row],[شماره تماس]],1,Table3[[#This Row],[چندم]]-1))","v":0},{"$f":"IF(Table3[[#This Row],[چندم]]=0,\"\",MID(Table3[[#This Row],[شماره تماس]],Table3[[#This Row],[چندم]]+1,30))","v":""}]
[null,95,null,null,null,{"$f":"IFERROR(FIND(\"_\",Table3[[#This Row],[شماره تماس]]),0)","v":0},{"$f":"IF(Table3[[#This Row],[چندم]]=0,Table3[[#This Row],[شماره تماس]],MID(Table3[[#This Row],[شماره تماس]],1,Table3[[#This Row],[چندم]]-1))","v":0},{"$f":"IF(Table3[[#This Row],[چندم]]=0,\"\",MID(Table3[[#This Row],[شماره تماس]],Table3[[#This Row],[چندم]]+1,30))","v":""}]
[null,96,null,null,null,{"$f":"IFERROR(FIND(\"_\",Table3[[#This Row],[شماره تماس]]),0)","v":0},{"$f":"IF(Table3[[#This Row],[چندم]]=0,Table3[[#This Row],[شماره تماس]],MID(Table3[[#This Row],[شماره تماس]],1,Table3[[#This Row],[چندم]]-1))","v":0},{"$f":"IF(Table3[[#This Row],[چندم]]=0,\"\",MID(Table3[[#This Row],[شماره تماس]],Table3[[#This Row],[چندم]]+1,30))","v":""}]
[null,97,null,null,null,{"$f":"IFERROR(FIND(\"_\",Table3[[#This Row],[شماره تماس]]),0)","v":0},{"$f":"IF(Table3[[#This Row],[چندم]]=0,Table3[[#This Row],[شماره تماس]],MID(Table3[[#This Row],[شماره تماس]],1,Table3[[#This Row],[چندم]]-1))","v":0},{"$f":"IF(Table3[[#This Row],[چندم]]=0,\"\",MID(Table3[[#This Row],[شماره تماس]],Table3[[#This Row],[چندم]]+1,30))","v":""}]
[null,98,null,null,null,{"$f":"IFERROR(FIND(\"_\",Table3[[#This Row],[شماره تماس]]),0)","v":0},{"$f":"IF(Table3[[#This Row],[چندم]]=0,Table3[[#This Row],[شماره تماس]],MID(Table3[[#This Row],[شماره تماس]],1,Table3[[#This Row],[چندم]]-1))","v":0},{"$f":"IF(Table3[[#This Row],[چندم]]=0,\"\",MID(Table3[[#This Row],[شماره تماس]],Table3[[#This Row],[چندم]]+1,30))","v":""}]
[null,99,null,null,null,{"$f":"IFERROR(FIND(\"_\",Table3[[#This Row],[شماره تماس]]),0)","v":0},{"$f":"IF(Table3[[#This Row],[چندم]]=0,Table3[[#This Row],[شماره تماس]],MID(Table3[[#This Row],[شماره تماس]],1,Table3[[#This Row],[چندم]]-1))","v":0},{"$f":"IF(Table3[[#This Row],[چندم]]=0,\"\",MID(Table3[[#This Row],[شماره تماس]],Table3[[#This Row],[چندم]]+1,30))","v":""}]
[null,100,null,null,null,{"$f":"IFERROR(FIND(\"_\",Table3[[#This Row],[شماره تماس]]),0)","v":0},{"$f":"IF(Table3[[#This Row],[چندم]]=0,Table3[[#This Row],[شماره تماس]],MID(Table3[[#This Row],[شماره تماس]],1,Table3[[#This Row],[چندم]]-1))","v":0},{"$f":"IF(Table3[[#This Row],[چندم]]=0,\"\",MID(Table3[[#This Row],[شماره تماس]],Table3[[#This Row],[چندم]]+1,30))","v":""}]
[null,101,null,null,null,{"$f":"IFERROR(FIND(\"_\",Table3[[#This Row],[شماره تماس]]),0)","v":0},{"$f":"IF(Table3[[#This Row],[چندم]]=0,Table3[[#This Row],[شماره تماس]],MID(Table3[[#This Row],[شماره تماس]],1,Table3[[#This Row],[چندم]]-1))","v":0},{"$f":"IF(Table3[[#This Row],[چندم]]=0,\"\",MID(Table3[[#This Row],[شماره تماس]],Table3[[#This Row],[چندم]]+1,30))","v":""}]
[null,102,null,null,null,{"$f":"IFERROR(FIND(\"_\",Table3[[#This Row],[شماره تماس]]),0)","v":0},{"$f":"IF(Table3[[#This Row],[چندم]]=0,Table3[[#This Row],[شماره تماس]],MID(Table3[[#This Row],[شماره تماس]],1,Table3[[#This Row],[چندم]]-1))","v":0},{"$f":"IF(Table3[[#This Row],[چندم]]=0,\"\",MID(Table3[[#This Row],[شماره تماس]],Table3[[#This Row],[چندم]]+1,30))","v":""}]
[null,{"$f":"ROW()-3","v":103},null,null,null,{"$f":"IFERROR(FIND(\"_\",Table3[[#This Row],[شماره تماس]]),0)","v":0},{"$f":"IF(Table3[[#This Row],[چندم]]=0,Table3[[#This Row],[شماره تماس]],MID(Table3[[#This Row],[شماره تماس]],1,Table3[[#This Row],[چندم]]-1))","v":0},{"$f":"IF(Table3[[#This Row],[چندم]]=0,\"\",MID(Table3[[#This Row],[شماره تماس]],Table3[[#This Row],[چندم]]+1,30))","v":""}]
[null,104,null,null,null,{"$f":"IFERROR(FIND(\"_\",Table3[[#This Row],[شماره تماس]]),0)","v":0},{"$f":"IF(Table3[[#This Row],[چندم]]=0,Table3[[#This Row],[شماره تماس]],MID(Table3[[#This Row],[شماره تماس]],1,Table3[[#This Row],[چندم]]-1))","v":0},{"$f":"IF(Table3[[#This Row],[چندم]]=0,\"\",MID(Table3[[#This Row],[شماره تماس]],Table3[[#This Row],[چندم]]+1,30))","v":""}]
[null,105,null,null,null,{"$f":"IFERROR(FIND(\"_\",Table3[[#This Row],[شماره تماس]]),0)","v":0},{"$f":"IF(Table3[[#This Row],[چندم]]=0,Table3[[#This Row],[شماره تماس]],MID(Table3[[#This Row],[شماره تماس]],1,Table3[[#This Row],[چندم]]-1))","v":0},{"$f":"IF(Table3[[#This Row],[چندم]]=0,\"\",MID(Table3[[#This Row],[شماره تماس]],Table3[[#This Row],[چندم]]+1,30))","v":""}]
[null,106,null,null,null,{"$f":"IFERROR(FIND(\"_\",Table3[[#This Row],[شماره تماس]]),0)","v":0},{"$f":"IF(Table3[[#This Row],[چندم]]=0,Table3[[#This Row],[شماره تماس]],MID(Table3[[#This Row],[شماره تماس]],1,Table3[[#This Row],[چندم]]-1))","v":0},{"$f":"IF(Table3[[#This Row],[چندم]]=0,\"\",MID(Table3[[#This Row],[شماره تماس]],Table3[[#This Row],[چندم]]+1,30))","v":""}]
[null,107,null,null,null,{"$f":"IFERROR(FIND(\"_\",Table3[[#This Row],[شماره تماس]]),0)","v":0},{"$f":"IF(Table3[[#This Row],[چندم]]=0,Table3[[#This Row],[شماره تماس]],MID(Table3[[#This Row],[شماره تماس]],1,Table3[[#This Row],[چندم]]-1))","v":0},{"$f":"IF(Table3[[#This Row],[چندم]]=0,\"\",MID(Table3[[#This Row],[شماره تماس]],Table3[[#This Row],[چندم]]+1,30))","v":""}]
[null,108,null,null,null,{"$f":"IFERROR(FIND(\"_\",Table3[[#This Row],[شماره تماس]]),0)","v":0},{"$f":"IF(Table3[[#This Row],[چندم]]=0,Table3[[#This Row],[شماره تماس]],MID(Table3[[#This Row],[شماره تماس]],1,Table3[[#This Row],[چندم]]-1))","v":0},{"$f":"IF(Table3[[#This Row],[چندم]]=0,\"\",MID(Table3[[#This Row],[شماره تماس]],Table3[[#This Row],[چندم]]+1,30))","v":""}]
[null,109,null,null,null,{"$f":"IFERROR(FIND(\"_\",Table3[[#This Row],[شماره تماس]]),0)","v":0},{"$f":"IF(Table3[[#This Row],[چندم]]=0,Table3[[#This Row],[شماره تماس]],MID(Table3[[#This Row],[شماره تماس]],1,Table3[[#This Row],[چندم]]-1))","v":0},{"$f":"IF(Table3[[#This Row],[چندم]]=0,\"\",MID(Table3[[#This Row],[شماره تماس]],Table3[[#This Row],[چندم]]+1,30))","v":""}]
[null,110,null,null,null,{"$f":"IFERROR(FIND(\"_\",Table3[[#This Row],[شماره تماس]]),0)","v":0},{"$f":"IF(Table3[[#This Row],[چندم]]=0,Table3[[#This Row],[شماره تماس]],MID(Table3[[#This Row],[شماره تماس]],1,Table3[[#This Row],[چندم]]-1))","v":0},{"$f":"IF(Table3[[#This Row],[چندم]]=0,\"\",MID(Table3[[#This Row],[شماره تماس]],Table3[[#This Row],[چندم]]+1,30))","v":""}]
[null,111,null,null,null,{"$f":"IFERROR(FIND(\"_\",Table3[[#This Row],[شماره تماس]]),0)","v":0},{"$f":"IF(Table3[[#This Row],[چندم]]=0,Table3[[#This Row],[شماره تماس]],MID(Table3[[#This Row],[شماره تماس]],1,Table3[[#This Row],[چندم]]-1))","v":0},{"$f":"IF(Table3[[#This Row],[چندم]]=0,\"\",MID(Table3[[#This Row],[شماره تماس]],Table3[[#This Row],[چندم]]+1,30))","v":""}]
[null,112,null,null,null,{"$f":"IFERROR(FIND(\"_\",Table3[[#This Row],[شماره تماس]]),0)","v":0},{"$f":"IF(Table3[[#This Row],[چندم]]=0,Table3[[#This Row],[شماره تماس]],MID(Table3[[#This Row],[شماره تماس]],1,Table3[[#This Row],[چندم]]-1))","v":0},{"$f":"IF(Table3[[#This Row],[چندم]]=0,\"\",MID(Table3[[#This Row],[شماره تماس]],Table3[[#This Row],[چندم]]+1,30))","v":""}]
[null,113,null,null,null,{"$f":"IFERROR(FIND(\"_\",Table3[[#This Row],[شماره تماس]]),0)","v":0},{"$f":"IF(Table3[[#This Row],[چندم]]=0,Table3[[#This Row],[شماره تماس]],MID(Table3[[#This Row],[شماره تماس]],1,Table3[[#This Row],[چندم]]-1))","v":0},{"$f":"IF(Table3[[#This Row],[چندم]]=0,\"\",MID(Table3[[#This Row],[شماره تماس]],Table3[[#This Row],[چندم]]+1,30))","v":""}]
[null,114,null,null,null,{"$f":"IFERROR(FIND(\"_\",Table3[[#This Row],[شماره تماس]]),0)","v":0},{"$f":"IF(Table3[[#This Row],[چندم]]=0,Table3[[#This Row],[شماره تماس]],MID(Table3[[#This Row],[شماره تماس]],1,Table3[[#This Row],[چندم]]-1))","v":0},{"$f":"IF(Table3[[#This Row],[چندم]]=0,\"\",MID(Table3[[#This Row],[شماره تماس]],Table3[[#This Row],[چندم]]+1,30))","v":""}]
[null,115,null,null,null,{"$f":"IFERROR(FIND(\"_\",Table3[[#This Row],[شماره تماس]]),0)","v":0},{"$f":"IF(Table3[[#This Row],[چندم]]=0,Table3[[#This Row],[شماره تماس]],MID(Table3[[#This Row],[شماره تماس]],1,Table3[[#This Row],[چندم]]-1))","v":0},{"$f":"IF(Table3[[#This Row],[چندم]]=0,\"\",MID(Table3[[#This Row],[شماره تماس]],Table3[[#This Row],[چندم]]+1,30))","v":""}]
[null,116,null,null,null,{"$f":"IFERROR(FIND(\"_\",Table3[[#This Row],[شماره تماس]]),0)","v":0},{"$f":"IF(Table3[[#This Row],[چندم]]=0,Table3[[#This Row],[شماره تماس]],MID(Table3[[#This Row],[شماره تماس]],1,Table3[[#This Row],[چندم]]-1))","v":0},{"$f":"IF(Table3[[#This Row],[چندم]]=0,\"\",MID(Table3[[#This Row],[شماره تماس]],Table3[[#This Row],[چندم]]+1,30))","v":""}]
[null,117,null,null,null,{"$f":"IFERROR(FIND(\"_\",Table3[[#This Row],[شماره تماس]]),0)","v":0},{"$f":"IF(Table3[[#This Row],[چندم]]=0,Table3[[#This Row],[شماره تماس]],MID(Table3[[#This Row],[شماره تماس]],1,Table3[[#This Row],[چندم]]-1))","v":0},{"$f":"IF(Table3[[#This Row],[چندم]]=0,\"\",MID(Table3[[#This Row],[شماره تماس]],Table3[[#This Row],[چندم]]+1,30))","v":""}]
[null,118,null,null,null,{"$f":"IFERROR(FIND(\"_\",Table3[[#This Row],[شماره تماس]]),0)","v":0},{"$f":"IF(Table3[[#This Row],[چندم]]=0,Table3[[#This Row],[شماره تماس]],MID(Table3[[#This Row],[شماره تماس]],1,Table3[[#This Row],[چندم]]-1))","v":0},{"$f":"IF(Table3[[#This Row],[چندم]]=0,\"\",MID(Table3[[#This Row],[شماره تماس]],Table3[[#This Row],[چندم]]+1,30))","v":""}]
[null,119,null,null,null,{"$f":"IFERROR(FIND(\"_\",Table3[[#This Row],[شماره تماس]]),0)","v":0},{"$f":"IF(Table3[[#This Row],[چندم]]=0,Table3[[#This Row],[شماره تماس]],MID(Table3[[#This Row],[شماره تماس]],1,Table3[[#This Row],[چندم]]-1))","v":0},{"$f":"IF(Table3[[#This Row],[چندم]]=0,\"\",MID(Table3[[#This Row],[شماره تماس]],Table3[[#This Row],[چندم]]+1,30))","v":""}]
[null,120,null,null,null,{"$f":"IFERROR(FIND(\"_\",Table3[[#This Row],[شماره تماس]]),0)","v":0},{"$f":"IF(Table3[[#This Row],[چندم]]=0,Table3[[#This Row],[شماره تماس]],MID(Table3[[#This Row],[شماره تماس]],1,Table3[[#This Row],[چندم]]-1))","v":0},{"$f":"IF(Table3[[#This Row],[چندم]]=0,\"\",MID(Table3[[#This Row],[شماره تماس]],Table3[[#This Row],[چندم]]+1,30))","v":""}]
[null,121,null,null,null,{"$f":"IFERROR(FIND(\"_\",Table3[[#This Row],[شماره تماس]]),0)","v":0},{"$f":"IF(Table3[[#This Row],[چندم]]=0,Table3[[#This Row],[شماره تماس]],MID(Table3[[#This Row],[شماره تماس]],1,Table3[[#This Row],[چندم]]-1))","v":0},{"$f":"IF(Table3[[#This Row],[چندم]]=0,\"\",MID(Table3[[#This Row],[شماره تماس]],Table3[[#This Row],[چندم]]+1,30))","v":""}]
[null,122,null,null,null,{"$f":"IFERROR(FIND(\"_\",Table3[[#This Row],[شماره تماس]]),0)","v":0},{"$f":"IF(Table3[[#This Row],[چندم]]=0,Table3[[#This Row],[شماره تماس]],MID(Table3[[#This Row],[شماره تماس]],1,Table3[[#This Row],[چندم]]-1))","v":0},{"$f":"IF(Table3[[#This Row],[چندم]]=0,\"\",MID(Table3[[#This Row],[شماره تماس]],Table3[[#This Row],[چندم]]+1,30))","v":""}]
[null,123,null,null,null,{"$f":"IFERROR(FIND(\"_\",Table3[[#This Row],[شماره تماس]]),0)","v":0},{"$f":"IF(Table3[[#This Row],[چندم]]=0,Table3[[#This Row],[شماره تماس]],MID(Table3[[#This Row],[شماره تماس]],1,Table3[[#This Row],[چندم]]-1))","v":0},{"$f":"IF(Table3[[#This Row],[چندم]]=0,\"\",MID(Table3[[#This Row],[شماره تماس]],Table3[[#This Row],[چندم]]+1,30))","v":""}]
[null,124,null,null,null,{"$f":"IFERROR(FIND(\"_\",Table3[[#This Row],[شماره تماس]]),0)","v":0},{"$f":"IF(Table3[[#This Row],[چندم]]=0,Table3[[#This Row],[شماره تماس]],MID(Table3[[#This Row],[شماره تماس]],1,Table3[[#This Row],[چندم]]-1))","v":0},{"$f":"IF(Table3[[#This Row],[چندم]]=0,\"\",MID(Table3[[#This Row],[شماره تماس]],Table3[[#This Row],[چندم]]+1,30))","v":""}]
[null,125,null,null,null,{"$f":"IFERROR(FIND(\"_\",Table3[[#This Row],[شماره تماس]]),0)","v":0},{"$f":"IF(Table3[[#This Row],[چندم]]=0,Table3[[#This Row],[شماره تماس]],MID(Table3[[#This Row],[شماره تماس]],1,Table3[[#This Row],[چندم]]-1))","v":0},{"$f":"IF(Table3[[#This Row],[چندم]]=0,\"\",MID(Table3[[#This Row],[شماره تماس]],Table3[[#This Row],[چندم]]+1,30))","v":""}]
[null,126,null,null,null,{"$f":"IFERROR(FIND(\"_\",Table3[[#This Row],[شماره تماس]]),0)","v":0},{"$f":"IF(Table3[[#This Row],[چندم]]=0,Table3[[#This Row],[شماره تماس]],MID(Table3[[#This Row],[شماره تماس]],1,Table3[[#This Row],[چندم]]-1))","v":0},{"$f":"IF(Table3[[#This Row],[چندم]]=0,\"\",MID(Table3[[#This Row],[شماره تماس]],Table3[[#This Row],[چندم]]+1,30))","v":""}]
[null,127,null,null,null,{"$f":"IFERROR(FIND(\"_\",Table3[[#This Row],[شماره تماس]]),0)","v":0},{"$f":"IF(Table3[[#This Row],[چندم]]=0,Table3[[#This Row],[شماره تماس]],MID(Table3[[#This Row],[شماره تماس]],1,Table3[[#This Row],[چندم]]-1))","v":0},{"$f":"IF(Table3[[#This Row],[چندم]]=0,\"\",MID(Table3[[#This Row],[شماره تماس]],Table3[[#This Row],[چندم]]+1,30))","v":""}]
[null,128,null,null,null,{"$f":"IFERROR(FIND(\"_\",Table3[[#This Row],[شماره تماس]]),0)","v":0},{"$f":"IF(Table3[[#This Row],[چندم]]=0,Table3[[#This Row],[شماره تماس]],MID(Table3[[#This Row],[شماره تماس]],1,Table3[[#This Row],[چندم]]-1))","v":0},{"$f":"IF(Table3[[#This Row],[چندم]]=0,\"\",MID(Table3[[#This Row],[شماره تماس]],Table3[[#This Row],[چندم]]+1,30))","v":""}]
[null,129,null,null,null,{"$f":"IFERROR(FIND(\"_\",Table3[[#This Row],[شماره تماس]]),0)","v":0},{"$f":"IF(Table3[[#This Row],[چندم]]=0,Table3[[#This Row],[شماره تماس]],MID(Table3[[#This Row],[شماره تماس]],1,Table3[[#This Row],[چندم]]-1))","v":0},{"$f":"IF(Table3[[#This Row],[چندم]]=0,\"\",MID(Table3[[#This Row],[شماره تماس]],Table3[[#This Row],[چندم]]+1,30))","v":""}]
[null,130,null,null,null,{"$f":"IFERROR(FIND(\"_\",Table3[[#This Row],[شماره تماس]]),0)","v":0},{"$f":"IF(Table3[[#This Row],[چندم]]=0,Table3[[#This Row],[شماره تماس]],MID(Table3[[#This Row],[شماره تماس]],1,Table3[[#This Row],[چندم]]-1))","v":0},{"$f":"IF(Table3[[#This Row],[چندم]]=0,\"\",MID(Table3[[#This Row],[شماره تماس]],Table3[[#This Row],[چندم]]+1,30))","v":""}]
[null,131,null,null,null,{"$f":"IFERROR(FIND(\"_\",Table3[[#This Row],[شماره تماس]]),0)","v":0},{"$f":"IF(Table3[[#This Row],[چندم]]=0,Table3[[#This Row],[شماره تماس]],MID(Table3[[#This Row],[شماره تماس]],1,Table3[[#This Row],[چندم]]-1))","v":0},{"$f":"IF(Table3[[#This Row],[چندم]]=0,\"\",MID(Table3[[#This Row],[شماره تماس]],Table3[[#This Row],[چندم]]+1,30))","v":""}]
[null,132,null,null,null,{"$f":"IFERROR(FIND(\"_\",Table3[[#This Row],[شماره تماس]]),0)","v":0},{"$f":"IF(Table3[[#This Row],[چندم]]=0,Table3[[#This Row],[شماره تماس]],MID(Table3[[#This Row],[شماره تماس]],1,Table3[[#This Row],[چندم]]-1))","v":0},{"$f":"IF(Table3[[#This Row],[چندم]]=0,\"\",MID(Table3[[#This Row],[شماره تماس]],Table3[[#This Row],[چندم]]+1,30))","v":""}]
[null,133,null,null,null,{"$f":"IFERROR(FIND(\"_\",Table3[[#This Row],[شماره تماس]]),0)","v":0},{"$f":"IF(Table3[[#This Row],[چندم]]=0,Table3[[#This Row],[شماره تماس]],MID(Table3[[#This Row],[شماره تماس]],1,Table3[[#This Row],[چندم]]-1))","v":0},{"$f":"IF(Table3[[#This Row],[چندم]]=0,\"\",MID(Table3[[#This Row],[شماره تماس]],Table3[[#This Row],[چندم]]+1,30))","v":""}]
[null,134,null,null,null,{"$f":"IFERROR(FIND(\"_\",Table3[[#This Row],[شماره تماس]]),0)","v":0},{"$f":"IF(Table3[[#This Row],[چندم]]=0,Table3[[#This Row],[شماره تماس]],MID(Table3[[#This Row],[شماره تماس]],1,Table3[[#This Row],[چندم]]-1))","v":0},{"$f":"IF(Table3[[#This Row],[چندم]]=0,\"\",MID(Table3[[#This Row],[شماره تماس]],Table3[[#This Row],[چندم]]+1,30))","v":""}]
[null,135,null,null,null,{"$f":"IFERROR(FIND(\"_\",Table3[[#This Row],[شماره تماس]]),0)","v":0},{"$f":"IF(Table3[[#This Row],[چندم]]=0,Table3[[#This Row],[شماره تماس]],MID(Table3[[#This Row],[شماره تماس]],1,Table3[[#This Row],[چندم]]-1))","v":0},{"$f":"IF(Table3[[#This Row],[چندم]]=0,\"\",MID(Table3[[#This Row],[شماره تماس]],Table3[[#This Row],[چندم]]+1,30))","v":""}]
[null,136,null,null,null,{"$f":"IFERROR(FIND(\"_\",Table3[[#This Row],[شماره تماس]]),0)","v":0},{"$f":"IF(Table3[[#This Row],[چندم]]=0,Table3[[#This Row],[شماره تماس]],MID(Table3[[#This Row],[شماره تماس]],1,Table3[[#This Row],[چندم]]-1))","v":0},{"$f":"IF(Table3[[#This Row],[چندم]]=0,\"\",MID(Table3[[#This Row],[شماره تماس]],Table3[[#This Row],[چندم]]+1,30))","v":""}]
[null,137,null,null,null,{"$f":"IFERROR(FIND(\"_\",Table3[[#This Row],[شماره تماس]]),0)","v":0},{"$f":"IF(Table3[[#This Row],[چندم]]=0,Table3[[#This Row],[شماره تماس]],MID(Table3[[#This Row],[شماره تماس]],1,Table3[[#This Row],[چندم]]-1))","v":0},{"$f":"IF(Table3[[#This Row],[چندم]]=0,\"\",MID(Table3[[#This Row],[شماره تماس]],Table3[[#This Row],[چندم]]+1,30))","v":""}]
[null,138,null,null,null,{"$f":"IFERROR(FIND(\"_\",Table3[[#This Row],[شماره تماس]]),0)","v":0},{"$f":"IF(Table3[[#This Row],[چندم]]=0,Table3[[#This Row],[شماره تماس]],MID(Table3[[#This Row],[شماره تماس]],1,Table3[[#This Row],[چندم]]-1))","v":0},{"$f":"IF(Table3[[#This Row],[چندم]]=0,\"\",MID(Table3[[#This Row],[شماره تماس]],Table3[[#This Row],[چندم]]+1,30))","v":""}]
[null,139,null,null,null,{"$f":"IFERROR(FIND(\"_\",Table3[[#This Row],[شماره تماس]]),0)","v":0},{"$f":"IF(Table3[[#This Row],[چندم]]=0,Table3[[#This Row],[شماره تماس]],MID(Table3[[#This Row],[شماره تماس]],1,Table3[[#This Row],[چندم]]-1))","v":0},{"$f":"IF(Table3[[#This Row],[چندم]]=0,\"\",MID(Table3[[#This Row],[شماره تماس]],Table3[[#This Row],[چندم]]+1,30))","v":""}]
[null,140,null,null,null,{"$f":"IFERROR(FIND(\"_\",Table3[[#This Row],[شماره تماس]]),0)","v":0},{"$f":"IF(Table3[[#This Row],[چندم]]=0,Table3[[#This Row],[شماره تماس]],MID(Table3[[#This Row],[شماره تماس]],1,Table3[[#This Row],[چندم]]-1))","v":0},{"$f":"IF(Table3[[#This Row],[چندم]]=0,\"\",MID(Table3[[#This Row],[شماره تماس]],Table3[[#This Row],[چندم]]+1,30))","v":""}]
[null,141,null,null,null,{"$f":"IFERROR(FIND(\"_\",Table3[[#This Row],[شماره تماس]]),0)","v":0},{"$f":"IF(Table3[[#This Row],[چندم]]=0,Table3[[#This Row],[شماره تماس]],MID(Table3[[#This Row],[شماره تماس]],1,Table3[[#This Row],[چندم]]-1))","v":0},{"$f":"IF(Table3[[#This Row],[چندم]]=0,\"\",MID(Table3[[#This Row],[شماره تماس]],Table3[[#This Row],[چندم]]+1,30))","v":""}]
[null,142,null,null,null,{"$f":"IFERROR(FIND(\"_\",Table3[[#This Row],[شماره تماس]]),0)","v":0},{"$f":"IF(Table3[[#This Row],[چندم]]=0,Table3[[#This Row],[شماره تماس]],MID(Table3[[#This Row],[شماره تماس]],1,Table3[[#This Row],[چندم]]-1))","v":0},{"$f":"IF(Table3[[#This Row],[چندم]]=0,\"\",MID(Table3[[#This Row],[شماره تماس]],Table3[[#This Row],[چندم]]+1,30))","v":""}]
[null,143,null,null,null,{"$f":"IFERROR(FIND(\"_\",Table3[[#This Row],[شماره تماس]]),0)","v":0},{"$f":"IF(Table3[[#This Row],[چندم]]=0,Table3[[#This Row],[شماره تماس]],MID(Table3[[#This Row],[شماره تماس]],1,Table3[[#This Row],[چندم]]-1))","v":0},{"$f":"IF(Table3[[#This Row],[چندم]]=0,\"\",MID(Table3[[#This Row],[شماره تماس]],Table3[[#This Row],[چندم]]+1,30))","v":""}]
[null,144,null,null,null,{"$f":"IFERROR(FIND(\"_\",Table3[[#This Row],[شماره تماس]]),0)","v":0},{"$f":"IF(Table3[[#This Row],[چندم]]=0,Table3[[#This Row],[شماره تماس]],MID(Table3[[#This Row],[شماره تماس]],1,Table3[[#This Row],[چندم]]-1))","v":0},{"$f":"IF(Table3[[#This Row],[چندم]]=0,\"\",MID(Table3[[#This Row],[شماره تماس]],Table3[[#This Row],[چندم]]+1,30))","v":""}]
[null,145,null,null,null,{"$f":"IFERROR(FIND(\"_\",Table3[[#This Row],[شماره تماس]]),0)","v":0},{"$f":"IF(Table3[[#This Row],[چندم]]=0,Table3[[#This Row],[شماره تماس]],MID(Table3[[#This Row],[شماره تماس]],1,Table3[[#This Row],[چندم]]-1))","v":0},{"$f":"IF(Table3[[#This Row],[چندم]]=0,\"\",MID(Table3[[#This Row],[شماره تماس]],Table3[[#This Row],[چندم]]+1,30))","v":""}]
[null,146,null,null,null,{"$f":"IFERROR(FIND(\"_\",Table3[[#This Row],[شماره تماس]]),0)","v":0},{"$f":"IF(Table3[[#This Row],[چندم]]=0,Table3[[#This Row],[شماره تماس]],MID(Table3[[#This Row],[شماره تماس]],1,Table3[[#This Row],[چندم]]-1))","v":0},{"$f":"IF(Table3[[#This Row],[چندم]]=0,\"\",MID(Table3[[#This Row],[شماره تماس]],Table3[[#This Row],[چندم]]+1,30))","v":""}]
[null,147,null,null,null,{"$f":"IFERROR(FIND(\"_\",Table3[[#This Row],[شماره تماس]]),0)","v":0},{"$f":"IF(Table3[[#This Row],[چندم]]=0,Table3[[#This Row],[شماره تماس]],MID(Table3[[#This Row],[شماره تماس]],1,Table3[[#This Row],[چندم]]-1))","v":0},{"$f":"IF(Table3[[#This Row],[چندم]]=0,\"\",MID(Table3[[#This Row],[شماره تماس]],Table3[[#This Row],[چندم]]+1,30))","v":""}]
[null,148,null,null,null,{"$f":"IFERROR(FIND(\"_\",Table3[[#This Row],[شماره تماس]]),0)","v":0},{"$f":"IF(Table3[[#This Row],[چندم]]=0,Table3[[#This Row],[شماره تماس]],MID(Table3[[#This Row],[شماره تماس]],1,Table3[[#This Row],[چندم]]-1))","v":0},{"$f":"IF(Table3[[#This Row],[چندم]]=0,\"\",MID(Table3[[#This Row],[شماره تماس]],Table3[[#This Row],[چندم]]+1,30))","v":""}]
[null,149,null,null,null,{"$f":"IFERROR(FIND(\"_\",Table3[[#This Row],[شماره تماس]]),0)","v":0},{"$f":"IF(Table3[[#This Row],[چندم]]=0,Table3[[#This Row],[شماره تماس]],MID(Table3[[#This Row],[شماره تماس]],1,Table3[[#This Row],[چندم]]-1))","v":0},{"$f":"IF(Table3[[#This Row],[چندم]]=0,\"\",MID(Table3[[#This Row],[شماره تماس]],Table3[[#This Row],[چندم]]+1,30))","v":""}]
[null,150,null,null,null,{"$f":"IFERROR(FIND(\"_\",Table3[[#This Row],[شماره تماس]]),0)","v":0},{"$f":"IF(Table3[[#This Row],[چندم]]=0,Table3[[#This Row],[شماره تماس]],MID(Table3[[#This Row],[شماره تماس]],1,Table3[[#This Row],[چندم]]-1))","v":0},{"$f":"IF(Table3[[#This Row],[چندم]]=0,\"\",MID(Table3[[#This Row],[شماره تماس]],Table3[[#This Row],[چندم]]+1,30))","v":""}]
[null,151,null,null,null,{"$f":"IFERROR(FIND(\"_\",Table3[[#This Row],[شماره تماس]]),0)","v":0},{"$f":"IF(Table3[[#This Row],[چندم]]=0,Table3[[#This Row],[شماره تماس]],MID(Table3[[#This Row],[شماره تماس]],1,Table3[[#This Row],[چندم]]-1))","v":0},{"$f":"IF(Table3[[#This Row],[چندم]]=0,\"\",MID(Table3[[#This Row],[شماره تماس]],Table3[[#This Row],[چندم]]+1,30))","v":""}]
[null,152,null,null,null,{"$f":"IFERROR(FIND(\"_\",Table3[[#This Row],[شماره تماس]]),0)","v":0},{"$f":"IF(Table3[[#This Row],[چندم]]=0,Table3[[#This Row],[شماره تماس]],MID(Table3[[#This Row],[شماره تماس]],1,Table3[[#This Row],[چندم]]-1))","v":0},{"$f":"IF(Table3[[#This Row],[چندم]]=0,\"\",MID(Table3[[#This Row],[شماره تماس]],Table3[[#This Row],[چندم]]+1,30))","v":""}]
[null,153,null,null,null,{"$f":"IFERROR(FIND(\"_\",Table3[[#This Row],[شماره تماس]]),0)","v":0},{"$f":"IF(Table3[[#This Row],[چندم]]=0,Table3[[#This Row],[شماره تماس]],MID(Table3[[#This Row],[شماره تماس]],1,Table3[[#This Row],[چندم]]-1))","v":0},{"$f":"IF(Table3[[#This Row],[چندم]]=0,\"\",MID(Table3[[#This Row],[شماره تماس]],Table3[[#This Row],[چندم]]+1,30))","v":""}]
[null,154,null,null,null,{"$f":"IFERROR(FIND(\"_\",Table3[[#This Row],[شماره تماس]]),0)","v":0},{"$f":"IF(Table3[[#This Row],[چندم]]=0,Table3[[#This Row],[شماره تماس]],MID(Table3[[#This Row],[شماره تماس]],1,Table3[[#This Row],[چندم]]-1))","v":0},{"$f":"IF(Table3[[#This Row],[چندم]]=0,\"\",MID(Table3[[#This Row],[شماره تماس]],Table3[[#This Row],[چندم]]+1,30))","v":""}]
[null,155,null,null,null,{"$f":"IFERROR(FIND(\"_\",Table3[[#This Row],[شماره تماس]]),0)","v":0},{"$f":"IF(Table3[[#This Row],[چندم]]=0,Table3[[#This Row],[شماره تماس]],MID(Table3[[#This Row],[شماره تماس]],1,Table3[[#This Row],[چندم]]-1))","v":0},{"$f":"IF(Table3[[#This Row],[چندم]]=0,\"\",MID(Table3[[#This Row],[شماره تماس]],Table3[[#This Row],[چندم]]+1,30))","v":""}]
[null,156,null,null,null,{"$f":"IFERROR(FIND(\"_\",Table3[[#This Row],[شماره تماس]]),0)","v":0},{"$f":"IF(Table3[[#This Row],[چندم]]=0,Table3[[#This Row],[شماره تماس]],MID(Table3[[#This Row],[شماره تماس]],1,Table3[[#This Row],[چندم]]-1))","v":0},{"$f":"IF(Table3[[#This Row],[چندم]]=0,\"\",MID(Table3[[#This Row],[شماره تماس]],Table3[[#This Row],[چندم]]+1,30))","v":""}]
[null,157,null,null,null,{"$f":"IFERROR(FIND(\"_\",Table3[[#This Row],[شماره تماس]]),0)","v":0},{"$f":"IF(Table3[[#This Row],[چندم]]=0,Table3[[#This Row],[شماره تماس]],MID(Table3[[#This Row],[شماره تماس]],1,Table3[[#This Row],[چندم]]-1))","v":0},{"$f":"IF(Table3[[#This Row],[چندم]]=0,\"\",MID(Table3[[#This Row],[شماره تماس]],Table3[[#This Row],[چندم]]+1,30))","v":""}]
[null,158,null,null,null,{"$f":"IFERROR(FIND(\"_\",Table3[[#This Row],[شماره تماس]]),0)","v":0},{"$f":"IF(Table3[[#This Row],[چندم]]=0,Table3[[#This Row],[شماره تماس]],MID(Table3[[#This Row],[شماره تماس]],1,Table3[[#This Row],[چندم]]-1))","v":0},{"$f":"IF(Table3[[#This Row],[چندم]]=0,\"\",MID(Table3[[#This Row],[شماره تماس]],Table3[[#This Row],[چندم]]+1,30))","v":""}]
[null,159,null,null,null,{"$f":"IFERROR(FIND(\"_\",Table3[[#This Row],[شماره تماس]]),0)","v":0},{"$f":"IF(Table3[[#This Row],[چندم]]=0,Table3[[#This Row],[شماره تماس]],MID(Table3[[#This Row],[شماره تماس]],1,Table3[[#This Row],[چندم]]-1))","v":0},{"$f":"IF(Table3[[#This Row],[چندم]]=0,\"\",MID(Table3[[#This Row],[شماره تماس]],Table3[[#This Row],[چندم]]+1,30))","v":""}]
[null,160,null,null,null,{"$f":"IFERROR(FIND(\"_\",Table3[[#This Row],[شماره تماس]]),0)","v":0},{"$f":"IF(Table3[[#This Row],[چندم]]=0,Table3[[#This Row],[شماره تماس]],MID(Table3[[#This Row],[شماره تماس]],1,Table3[[#This Row],[چندم]]-1))","v":0},{"$f":"IF(Table3[[#This Row],[چندم]]=0,\"\",MID(Table3[[#This Row],[شماره تماس]],Table3[[#This Row],[چندم]]+1,30))","v":""}]
[null,161,null,null,null,{"$f":"IFERROR(FIND(\"_\",Table3[[#This Row],[شماره تماس]]),0)","v":0},{"$f":"IF(Table3[[#This Row],[چندم]]=0,Table3[[#This Row],[شماره تماس]],MID(Table3[[#This Row],[شماره تماس]],1,Table3[[#This Row],[چندم]]-1))","v":0},{"$f":"IF(Table3[[#This Row],[چندم]]=0,\"\",MID(Table3[[#This Row],[شماره تماس]],Table3[[#This Row],[چندم]]+1,30))","v":""}]
[null,162,null,null,null,{"$f":"IFERROR(FIND(\"_\",Table3[[#This Row],[شماره تماس]]),0)","v":0},{"$f":"IF(Table3[[#This Row],[چندم]]=0,Table3[[#This Row],[شماره تماس]],MID(Table3[[#This Row],[شماره تماس]],1,Table3[[#This Row],[چندم]]-1))","v":0},{"$f":"IF(Table3[[#This Row],[چندم]]=0,\"\",MID(Table3[[#This Row],[شماره تماس]],Table3[[#This Row],[چندم]]+1,30))","v":""}]
[null,163,null,null,null,{"$f":"IFERROR(FIND(\"_\",Table3[[#This Row],[شماره تماس]]),0)","v":0},{"$f":"IF(Table3[[#This Row],[چندم]]=0,Table3[[#This Row],[شماره تماس]],MID(Table3[[#This Row],[شماره تماس]],1,Table3[[#This Row],[چندم]]-1))","v":0},{"$f":"IF(Table3[[#This Row],[چندم]]=0,\"\",MID(Table3[[#This Row],[شماره تماس]],Table3[[#This Row],[چندم]]+1,30))","v":""}]
[null,164,null,null,null,{"$f":"IFERROR(FIND(\"_\",Table3[[#This Row],[شماره تماس]]),0)","v":0},{"$f":"IF(Table3[[#This Row],[چندم]]=0,Table3[[#This Row],[شماره تماس]],MID(Table3[[#This Row],[شماره تماس]],1,Table3[[#This Row],[چندم]]-1))","v":0},{"$f":"IF(Table3[[#This Row],[چندم]]=0,\"\",MID(Table3[[#This Row],[شماره تماس]],Table3[[#This Row],[چندم]]+1,30))","v":""}]
[null,165,null,null,null,{"$f":"IFERROR(FIND(\"_\",Table3[[#This Row],[شماره تماس]]),0)","v":0},{"$f":"IF(Table3[[#This Row],[چندم]]=0,Table3[[#This Row],[شماره تماس]],MID(Table3[[#This Row],[شماره تماس]],1,Table3[[#This Row],[چندم]]-1))","v":0},{"$f":"IF(Table3[[#This Row],[چندم]]=0,\"\",MID(Table3[[#This Row],[شماره تماس]],Table3[[#This Row],[چندم]]+1,30))","v":""}]
[null,166,null,null,null,{"$f":"IFERROR(FIND(\"_\",Table3[[#This Row],[شماره تماس]]),0)","v":0},{"$f":"IF(Table3[[#This Row],[چندم]]=0,Table3[[#This Row],[شماره تماس]],MID(Table3[[#This Row],[شماره تماس]],1,Table3[[#This Row],[چندم]]-1))","v":0},{"$f":"IF(Table3[[#This Row],[چندم]]=0,\"\",MID(Table3[[#This Row],[شماره تماس]],Table3[[#This Row],[چندم]]+1,30))","v":""}]
[null,{"$f":"ROW()-3","v":167},null,null,null,{"$f":"IFERROR(FIND(\"_\",Table3[[#This Row],[شماره تماس]]),0)","v":0},{"$f":"IF(Table3[[#This Row],[چندم]]=0,Table3[[#This Row],[شماره تماس]],MID(Table3[[#This Row],[شماره تماس]],1,Table3[[#This Row],[چندم]]-1))","v":0},{"$f":"IF(Table3[[#This Row],[چندم]]=0,\"\",MID(Table3[[#This Row],[شماره تماس]],Table3[[#This Row],[چندم]]+1,30))","v":""}]
[null,168,null,null,null,{"$f":"IFERROR(FIND(\"_\",Table3[[#This Row],[شماره تماس]]),0)","v":0},{"$f":"IF(Table3[[#This Row],[چندم]]=0,Table3[[#This Row],[شماره تماس]],MID(Table3[[#This Row],[شماره تماس]],1,Table3[[#This Row],[چندم]]-1))","v":0},{"$f":"IF(Table3[[#This Row],[چندم]]=0,\"\",MID(Table3[[#This Row],[شماره تماس]],Table3[[#This Row],[چندم]]+1,30))","v":""}]
[null,169,null,null,null,{"$f":"IFERROR(FIND(\"_\",Table3[[#This Row],[شماره تماس]]),0)","v":0},{"$f":"IF(Table3[[#This Row],[چندم]]=0,Table3[[#This Row],[شماره تماس]],MID(Table3[[#This Row],[شماره تماس]],1,Table3[[#This Row],[چندم]]-1))","v":0},{"$f":"IF(Table3[[#This Row],[چندم]]=0,\"\",MID(Table3[[#This Row],[شماره تماس]],Table3[[#This Row],[چندم]]+1,30))","v":""}]
[null,170,null,null,null,{"$f":"IFERROR(FIND(\"_\",Table3[[#This Row],[شماره تماس]]),0)","v":0},{"$f":"IF(Table3[[#This Row],[چندم]]=0,Table3[[#This Row],[شماره تماس]],MID(Table3[[#This Row],[شماره تماس]],1,Table3[[#This Row],[چندم]]-1))","v":0},{"$f":"IF(Table3[[#This Row],[چندم]]=0,\"\",MID(Table3[[#This Row],[شماره تماس]],Table3[[#This Row],[چندم]]+1,30))","v":""}]
[null,171,null,null,null,{"$f":"IFERROR(FIND(\"_\",Table3[[#This Row],[شماره تماس]]),0)","v":0},{"$f":"IF(Table3[[#This Row],[چندم]]=0,Table3[[#This Row],[شماره تماس]],MID(Table3[[#This Row],[شماره تماس]],1,Table3[[#This Row],[چندم]]-1))","v":0},{"$f":"IF(Table3[[#This Row],[چندم]]=0,\"\",MID(Table3[[#This Row],[شماره تماس]],Table3[[#This Row],[چندم]]+1,30))","v":""}]
[null,172,null,null,null,{"$f":"IFERROR(FIND(\"_\",Table3[[#This Row],[شماره تماس]]),0)","v":0},{"$f":"IF(Table3[[#This Row],[چندم]]=0,Table3[[#This Row],[شماره تماس]],MID(Table3[[#This Row],[شماره تماس]],1,Table3[[#This Row],[چندم]]-1))","v":0},{"$f":"IF(Table3[[#This Row],[چندم]]=0,\"\",MID(Table3[[#This Row],[شماره تماس]],Table3[[#This Row],[چندم]]+1,30))","v":""}]
[null,173,null,null,null,{"$f":"IFERROR(FIND(\"_\",Table3[[#This Row],[شماره تماس]]),0)","v":0},{"$f":"IF(Table3[[#This Row],[چندم]]=0,Table3[[#This Row],[شماره تماس]],MID(Table3[[#This Row],[شماره تماس]],1,Table3[[#This Row],[چندم]]-1))","v":0},{"$f":"IF(Table3[[#This Row],[چندم]]=0,\"\",MID(Table3[[#This Row],[شماره تماس]],Table3[[#This Row],[چندم]]+1,30))","v":""}]
[null,174,null,null,null,{"$f":"IFERROR(FIND(\"_\",Table3[[#This Row],[شماره تماس]]),0)","v":0},{"$f":"IF(Table3[[#This Row],[چندم]]=0,Table3[[#This Row],[شماره تماس]],MID(Table3[[#This Row],[شماره تماس]],1,Table3[[#This Row],[چندم]]-1))","v":0},{"$f":"IF(Table3[[#This Row],[چندم]]=0,\"\",MID(Table3[[#This Row],[شماره تماس]],Table3[[#This Row],[چندم]]+1,30))","v":""}]
[null,175,null,null,null,{"$f":"IFERROR(FIND(\"_\",Table3[[#This Row],[شماره تماس]]),0)","v":0},{"$f":"IF(Table3[[#This Row],[چندم]]=0,Table3[[#This Row],[شماره تماس]],MID(Table3[[#This Row],[شماره تماس]],1,Table3[[#This Row],[چندم]]-1))","v":0},{"$f":"IF(Table3[[#This Row],[چندم]]=0,\"\",MID(Table3[[#This Row],[شماره تماس]],Table3[[#This Row],[چندم]]+1,30))","v":""}]
[null,176,null,null,null,{"$f":"IFERROR(FIND(\"_\",Table3[[#This Row],[شماره تماس]]),0)","v":0},{"$f":"IF(Table3[[#This Row],[چندم]]=0,Table3[[#This Row],[شماره تماس]],MID(Table3[[#This Row],[شماره تماس]],1,Table3[[#This Row],[چندم]]-1))","v":0},{"$f":"IF(Table3[[#This Row],[چندم]]=0,\"\",MID(Table3[[#This Row],[شماره تماس]],Table3[[#This Row],[چندم]]+1,30))","v":""}]
[null,177,null,null,null,{"$f":"IFERROR(FIND(\"_\",Table3[[#This Row],[شماره تماس]]),0)","v":0},{"$f":"IF(Table3[[#This Row],[چندم]]=0,Table3[[#This Row],[شماره تماس]],MID(Table3[[#This Row],[شماره تماس]],1,Table3[[#This Row],[چندم]]-1))","v":0},{"$f":"IF(Table3[[#This Row],[چندم]]=0,\"\",MID(Table3[[#This Row],[شماره تماس]],Table3[[#This Row],[چندم]]+1,30))","v":""}]
[null,178,null,null,null,{"$f":"IFERROR(FIND(\"_\",Table3[[#This Row],[شماره تماس]]),0)","v":0},{"$f":"IF(Table3[[#This Row],[چندم]]=0,Table3[[#This Row],[شماره تماس]],MID(Table3[[#This Row],[شماره تماس]],1,Table3[[#This Row],[چندم]]-1))","v":0},{"$f":"IF(Table3[[#This Row],[چندم]]=0,\"\",MID(Table3[[#This Row],[شماره تماس]],Table3[[#This Row],[چندم]]+1,30))","v":""}]
[null,179,null,null,null,{"$f":"IFERROR(FIND(\"_\",Table3[[#This Row],[شماره تماس]]),0)","v":0},{"$f":"IF(Table3[[#This Row],[چندم]]=0,Table3[[#This Row],[شماره تماس]],MID(Table3[[#This Row],[شماره تماس]],1,Table3[[#This Row],[چندم]]-1))","v":0},{"$f":"IF(Table3[[#This Row],[چندم]]=0,\"\",MID(Table3[[#This Row],[شماره تماس]],Table3[[#This Row],[چندم]]+1,30))","v":""}]
[null,180,null,null,null,{"$f":"IFERROR(FIND(\"_\",Table3[[#This Row],[شماره تماس]]),0)","v":0},{"$f":"IF(Table3[[#This Row],[چندم]]=0,Table3[[#This Row],[شماره تماس]],MID(Table3[[#This Row],[شماره تماس]],1,Table3[[#This Row],[چندم]]-1))","v":0},{"$f":"IF(Table3[[#This Row],[چندم]]=0,\"\",MID(Table3[[#This Row],[شماره تماس]],Table3[[#This Row],[چندم]]+1,30))","v":""}]
[null,181,null,null,null,{"$f":"IFERROR(FIND(\"_\",Table3[[#This Row],[شماره تماس]]),0)","v":0},{"$f":"IF(Table3[[#This Row],[چندم]]=0,Table3[[#This Row],[شماره تماس]],MID(Table3[[#This Row],[شماره تماس]],1,Table3[[#This Row],[چندم]]-1))","v":0},{"$f":"IF(Table3[[#This Row],[چندم]]=0,\"\",MID(Table3[[#This Row],[شماره تماس]],Table3[[#This Row],[چندم]]+1,30))","v":""}]
[null,182,null,null,null,{"$f":"IFERROR(FIND(\"_\",Table3[[#This Row],[شماره تماس]]),0)","v":0},{"$f":"IF(Table3[[#This Row],[چندم]]=0,Table3[[#This Row],[شماره تماس]],MID(Table3[[#This Row],[شماره تماس]],1,Table3[[#This Row],[چندم]]-1))","v":0},{"$f":"IF(Table3[[#This Row],[چندم]]=0,\"\",MID(Table3[[#This Row],[شماره تماس]],Table3[[#This Row],[چندم]]+1,30))","v":""}]
[null,183,null,null,null,{"$f":"IFERROR(FIND(\"_\",Table3[[#This Row],[شماره تماس]]),0)","v":0},{"$f":"IF(Table3[[#This Row],[چندم]]=0,Table3[[#This Row],[شماره تماس]],MID(Table3[[#This Row],[شماره تماس]],1,Table3[[#This Row],[چندم]]-1))","v":0},{"$f":"IF(Table3[[#This Row],[چندم]]=0,\"\",MID(Table3[[#This Row],[شماره تماس]],Table3[[#This Row],[چندم]]+1,30))","v":""}]
[null,184,null,null,null,{"$f":"IFERROR(FIND(\"_\",Table3[[#This Row],[شماره تماس]]),0)","v":0},{"$f":"IF(Table3[[#This Row],[چندم]]=0,Table3[[#This Row],[شماره تماس]],MID(Table3[[#This Row],[شماره تماس]],1,Table3[[#This Row],[چندم]]-1))","v":0},{"$f":"IF(Table3[[#This Row],[چندم]]=0,\"\",MID(Table3[[#This Row],[شماره تماس]],Table3[[#This Row],[چندم]]+1,30))","v":""}]
[null,185,null,null,null,{"$f":"IFERROR(FIND(\"_\",Table3[[#This Row],[شماره تماس]]),0)","v":0},{"$f":"IF(Table3[[#This Row],[چندم]]=0,Table3[[#This Row],[شماره تماس]],MID(Table3[[#This Row],[شماره تماس]],1,Table3[[#This Row],[چندم]]-1))","v":0},{"$f":"IF(Table3[[#This Row],[چندم]]=0,\"\",MID(Table3[[#This Row],[شماره تماس]],Table3[[#This Row],[چندم]]+1,30))","v":""}]
[null,186,null,null,null,{"$f":"IFERROR(FIND(\"_\",Table3[[#This Row],[شماره تماس]]),0)","v":0},{"$f":"IF(Table3[[#This Row],[چندم]]=0,Table3[[#This Row],[شماره تماس]],MID(Table3[[#This Row],[شماره تماس]],1,Table3[[#This Row],[چندم]]-1))","v":0},{"$f":"IF(Table3[[#This Row],[چندم]]=0,\"\",MID(Table3[[#This Row],[شماره تماس]],Table3[[#This Row],[چندم]]+1,30))","v":""}]
[null,187,null,null,null,{"$f":"IFERROR(FIND(\"_\",Table3[[#This Row],[شماره تماس]]),0)","v":0},{"$f":"IF(Table3[[#This Row],[چندم]]=0,Table3[[#This Row],[شماره تماس]],MID(Table3[[#This Row],[شماره تماس]],1,Table3[[#This Row],[چندم]]-1))","v":0},{"$f":"IF(Table3[[#This Row],[چندم]]=0,\"\",MID(Table3[[#This Row],[شماره تماس]],Table3[[#This Row],[چندم]]+1,30))","v":""}]
[null,188,null,null,null,{"$f":"IFERROR(FIND(\"_\",Table3[[#This Row],[شماره تماس]]),0)","v":0},{"$f":"IF(Table3[[#This Row],[چندم]]=0,Table3[[#This Row],[شماره تماس]],MID(Table3[[#This Row],[شماره تماس]],1,Table3[[#This Row],[چندم]]-1))","v":0},{"$f":"IF(Table3[[#This Row],[چندم]]=0,\"\",MID(Table3[[#This Row],[شماره تماس]],Table3[[#This Row],[چندم]]+1,30))","v":""}]
[null,189,null,null,null,{"$f":"IFERROR(FIND(\"_\",Table3[[#This Row],[شماره تماس]]),0)","v":0},{"$f":"IF(Table3[[#This Row],[چندم]]=0,Table3[[#This Row],[شماره تماس]],MID(Table3[[#This Row],[شماره تماس]],1,Table3[[#This Row],[چندم]]-1))","v":0},{"$f":"IF(Table3[[#This Row],[چندم]]=0,\"\",MID(Table3[[#This Row],[شماره تماس]],Table3[[#This Row],[چندم]]+1,30))","v":""}]
[null,190,null,null,null,{"$f":"IFERROR(FIND(\"_\",Table3[[#This Row],[شماره تماس]]),0)","v":0},{"$f":"IF(Table3[[#This Row],[چندم]]=0,Table3[[#This Row],[شماره تماس]],MID(Table3[[#This Row],[شماره تماس]],1,Table3[[#This Row],[چندم]]-1))","v":0},{"$f":"IF(Table3[[#This Row],[چندم]]=0,\"\",MID(Table3[[#This Row],[شماره تماس]],Table3[[#This Row],[چندم]]+1,30))","v":""}]
[null,191,null,null,null,{"$f":"IFERROR(FIND(\"_\",Table3[[#This Row],[شماره تماس]]),0)","v":0},{"$f":"IF(Table3[[#This Row],[چندم]]=0,Table3[[#This Row],[شماره تماس]],MID(Table3[[#This Row],[شماره تماس]],1,Table3[[#This Row],[چندم]]-1))","v":0},{"$f":"IF(Table3[[#This Row],[چندم]]=0,\"\",MID(Table3[[#This Row],[شماره تماس]],Table3[[#This Row],[چندم]]+1,30))","v":""}]
[null,192,null,null,null,{"$f":"IFERROR(FIND(\"_\",Table3[[#This Row],[شماره تماس]]),0)","v":0},{"$f":"IF(Table3[[#This Row],[چندم]]=0,Table3[[#This Row],[شماره تماس]],MID(Table3[[#This Row],[شماره تماس]],1,Table3[[#This Row],[چندم]]-1))","v":0},{"$f":"IF(Table3[[#This Row],[چندم]]=0,\"\",MID(Table3[[#This Row],[شماره تماس]],Table3[[#This Row],[چندم]]+1,30))","v":""}]
[null,193,null,null,null,{"$f":"IFERROR(FIND(\"_\",Table3[[#This Row],[شماره تماس]]),0)","v":0},{"$f":"IF(Table3[[#This Row],[چندم]]=0,Table3[[#This Row],[شماره تماس]],MID(Table3[[#This Row],[شماره تماس]],1,Table3[[#This Row],[چندم]]-1))","v":0},{"$f":"IF(Table3[[#This Row],[چندم]]=0,\"\",MID(Table3[[#This Row],[شماره تماس]],Table3[[#This Row],[چندم]]+1,30))","v":""}]
[null,194,null,null,null,{"$f":"IFERROR(FIND(\"_\",Table3[[#This Row],[شماره تماس]]),0)","v":0},{"$f":"IF(Table3[[#This Row],[چندم]]=0,Table3[[#This Row],[شماره تماس]],MID(Table3[[#This Row],[شماره تماس]],1,Table3[[#This Row],[چندم]]-1))","v":0},{"$f":"IF(Table3[[#This Row],[چندم]]=0,\"\",MID(Table3[[#This Row],[شماره تماس]],Table3[[#This Row],[چندم]]+1,30))","v":""}]
[null,195,null,null,null,{"$f":"IFERROR(FIND(\"_\",Table3[[#This Row],[شماره تماس]]),0)","v":0},{"$f":"IF(Table3[[#This Row],[چندم]]=0,Table3[[#This Row],[شماره تماس]],MID(Table3[[#This Row],[شماره تماس]],1,Table3[[#This Row],[چندم]]-1))","v":0},{"$f":"IF(Table3[[#This Row],[چندم]]=0,\"\",MID(Table3[[#This Row],[شماره تماس]],Table3[[#This Row],[چندم]]+1,30))","v":""}]
[null,196,null,null,null,{"$f":"IFERROR(FIND(\"_\",Table3[[#This Row],[شماره تماس]]),0)","v":0},{"$f":"IF(Table3[[#This Row],[چندم]]=0,Table3[[#This Row],[شماره تماس]],MID(Table3[[#This Row],[شماره تماس]],1,Table3[[#This Row],[چندم]]-1))","v":0},{"$f":"IF(Table3[[#This Row],[چندم]]=0,\"\",MID(Table3[[#This Row],[شماره تماس]],Table3[[#This Row],[چندم]]+1,30))","v":""}]
[null,197,null,null,null,{"$f":"IFERROR(FIND(\"_\",Table3[[#This Row],[شماره تماس]]),0)","v":0},{"$f":"IF(Table3[[#This Row],[چندم]]=0,Table3[[#This Row],[شماره تماس]],MID(Table3[[#This Row],[شماره تماس]],1,Table3[[#This Row],[چندم]]-1))","v":0},{"$f":"IF(Table3[[#This Row],[چندم]]=0,\"\",MID(Table3[[#This Row],[شماره تماس]],Table3[[#This Row],[چندم]]+1,30))","v":""}]
[null,198,null,null,null,{"$f":"IFERROR(FIND(\"_\",Table3[[#This Row],[شماره تماس]]),0)","v":0},{"$f":"IF(Table3[[#This Row],[چندم]]=0,Table3[[#This Row],[شماره تماس]],MID(Table3[[#This Row],[شماره تماس]],1,Table3[[#This Row],[چندم]]-1))","v":0},{"$f":"IF(Table3[[#This Row],[چندم]]=0,\"\",MID(Table3[[#This Row],[شماره تماس]],Table3[[#This Row],[چندم]]+1,30))","v":""}]
[null,199,null,null,null,{"$f":"IFERROR(FIND(\"_\",Table3[[#This Row],[شماره تماس]]),0)","v":0},{"$f":"IF(Table3[[#This Row],[چندم]]=0,Table3[[#This Row],[شماره تماس]],MID(Table3[[#This Row],[شماره تماس]],1,Table3[[#This Row],[چندم]]-1))","v":0},{"$f":"IF(Table3[[#This Row],[چندم]]=0,\"\",MID(Table3[[#This Row],[شماره تماس]],Table3[[#This Row],[چندم]]+1,30))","v":""}]
[null,200,null,null,null,{"$f":"IFERROR(FIND(\"_\",Table3[[#This Row],[شماره تماس]]),0)","v":0},{"$f":"IF(Table3[[#This Row],[چندم]]=0,Table3[[#This Row],[شماره تماس]],MID(Table3[[#This Row],[شماره تماس]],1,Table3[[#This Row],[چندم]]-1))","v":0},{"$f":"IF(Table3[[#This Row],[چندم]]=0,\"\",MID(Table3[[#This Row],[شماره تماس]],Table3[[#This Row],[چندم]]+1,30))","v":""}]
[null,201,null,null,null,{"$f":"IFERROR(FIND(\"_\",Table3[[#This Row],[شماره تماس]]),0)","v":0},{"$f":"IF(Table3[[#This Row],[چندم]]=0,Table3[[#This Row],[شماره تماس]],MID(Table3[[#This Row],[شماره تماس]],1,Table3[[#This Row],[چندم]]-1))","v":0},{"$f":"IF(Table3[[#This Row],[چندم]]=0,\"\",MID(Table3[[#This Row],[شماره تماس]],Table3[[#This Row],[چندم]]+1,30))","v":""}]
[null,202,null,null,null,{"$f":"IFERROR(FIND(\"_\",Table3[[#This Row],[شماره تماس]]),0)","v":0},{"$f":"IF(Table3[[#This Row],[چندم]]=0,Table3[[#This Row],[شماره تماس]],MID(Table3[[#This Row],[شماره تماس]],1,Table3[[#This Row],[چندم]]-1))","v":0},{"$f":"IF(Table3[[#This Row],[چندم]]=0,\"\",MID(Table3[[#This Row],[شماره تماس]],Table3[[#This Row],[چندم]]+1,30))","v":""}]
[null,203,null,null,null,{"$f":"IFERROR(FIND(\"_\",Table3[[#This Row],[شماره تماس]]),0)","v":0},{"$f":"IF(Table3[[#This Row],[چندم]]=0,Table3[[#This Row],[شماره تماس]],MID(Table3[[#This Row],[شماره تماس]],1,Table3[[#This Row],[چندم]]-1))","v":0},{"$f":"IF(Table3[[#This Row],[چندم]]=0,\"\",MID(Table3[[#This Row],[شماره تماس]],Table3[[#This Row],[چندم]]+1,30))","v":""}]
[null,204,null,null,null,{"$f":"IFERROR(FIND(\"_\",Table3[[#This Row],[شماره تماس]]),0)","v":0},{"$f":"IF(Table3[[#This Row],[چندم]]=0,Table3[[#This Row],[شماره تماس]],MID(Table3[[#This Row],[شماره تماس]],1,Table3[[#This Row],[چندم]]-1))","v":0},{"$f":"IF(Table3[[#This Row],[چندم]]=0,\"\",MID(Table3[[#This Row],[شماره تماس]],Table3[[#This Row],[چندم]]+1,30))","v":""}]
[null,205,null,null,null,{"$f":"IFERROR(FIND(\"_\",Table3[[#This Row],[شماره تماس]]),0)","v":0},{"$f":"IF(Table3[[#This Row],[چندم]]=0,Table3[[#This Row],[شماره تماس]],MID(Table3[[#This Row],[شماره تماس]],1,Table3[[#This Row],[چندم]]-1))","v":0},{"$f":"IF(Table3[[#This Row],[چندم]]=0,\"\",MID(Table3[[#This Row],[شماره تماس]],Table3[[#This Row],[چندم]]+1,30))","v":""}]
[null,206,null,null,null,{"$f":"IFERROR(FIND(\"_\",Table3[[#This Row],[شماره تماس]]),0)","v":0},{"$f":"IF(Table3[[#This Row],[چندم]]=0,Table3[[#This Row],[شماره تماس]],MID(Table3[[#This Row],[شماره تماس]],1,Table3[[#This Row],[چندم]]-1))","v":0},{"$f":"IF(Table3[[#This Row],[چندم]]=0,\"\",MID(Table3[[#This Row],[شماره تماس]],Table3[[#This Row],[چندم]]+1,30))","v":""}]
[null,207,null,null,null,{"$f":"IFERROR(FIND(\"_\",Table3[[#This Row],[شماره تماس]]),0)","v":0},{"$f":"IF(Table3[[#This Row],[چندم]]=0,Table3[[#This Row],[شماره تماس]],MID(Table3[[#This Row],[شماره تماس]],1,Table3[[#This Row],[چندم]]-1))","v":0},{"$f":"IF(Table3[[#This Row],[چندم]]=0,\"\",MID(Table3[[#This Row],[شماره تماس]],Table3[[#This Row],[چندم]]+1,30))","v":""}]
[null,208,null,null,null,{"$f":"IFERROR(FIND(\"_\",Table3[[#This Row],[شماره تماس]]),0)","v":0},{"$f":"IF(Table3[[#This Row],[چندم]]=0,Table3[[#This Row],[شماره تماس]],MID(Table3[[#This Row],[شماره تماس]],1,Table3[[#This Row],[چندم]]-1))","v":0},{"$f":"IF(Table3[[#This Row],[چندم]]=0,\"\",MID(Table3[[#This Row],[شماره تماس]],Table3[[#This Row],[چندم]]+1,30))","v":""}]
[null,209,null,null,null,{"$f":"IFERROR(FIND(\"_\",Table3[[#This Row],[شماره تماس]]),0)","v":0},{"$f":"IF(Table3[[#This Row],[چندم]]=0,Table3[[#This Row],[شماره تماس]],MID(Table3[[#This Row],[شماره تماس]],1,Table3[[#This Row],[چندم]]-1))","v":0},{"$f":"IF(Table3[[#This Row],[چندم]]=0,\"\",MID(Table3[[#This Row],[شماره تماس]],Table3[[#This Row],[چندم]]+1,30))","v":""}]
[null,210,null,null,null,{"$f":"IFERROR(FIND(\"_\",Table3[[#This Row],[شماره تماس]]),0)","v":0},{"$f":"IF(Table3[[#This Row],[چندم]]=0,Table3[[#This Row],[شماره تماس]],MID(Table3[[#This Row],[شماره تماس]],1,Table3[[#This Row],[چندم]]-1))","v":0},{"$f":"IF(Table3[[#This Row],[چندم]]=0,\"\",MID(Table3[[#This Row],[شماره تماس]],Table3[[#This Row],[چندم]]+1,30))","v":""}]
[null,211,null,null,null,{"$f":"IFERROR(FIND(\"_\",Table3[[#This Row],[شماره تماس]]),0)","v":0},{"$f":"IF(Table3[[#This Row],[چندم]]=0,Table3[[#This Row],[شماره تماس]],MID(Table3[[#This Row],[شماره تماس]],1,Table3[[#This Row],[چندم]]-1))","v":0},{"$f":"IF(Table3[[#This Row],[چندم]]=0,\"\",MID(Table3[[#This Row],[شماره تماس]],Table3[[#This Row],[چندم]]+1,30))","v":""}]
[null,212,null,null,null,{"$f":"IFERROR(FIND(\"_\",Table3[[#This Row],[شماره تماس]]),0)","v":0},{"$f":"IF(Table3[[#This Row],[چندم]]=0,Table3[[#This Row],[شماره تماس]],MID(Table3[[#This Row],[شماره تماس]],1,Table3[[#This Row],[چندم]]-1))","v":0},{"$f":"IF(Table3[[#This Row],[چندم]]=0,\"\",MID(Table3[[#This Row],[شماره تماس]],Table3[[#This Row],[چندم]]+1,30))","v":""}]
[null,213,null,null,null,{"$f":"IFERROR(FIND(\"_\",Table3[[#This Row],[شماره تماس]]),0)","v":0},{"$f":"IF(Table3[[#This Row],[چندم]]=0,Table3[[#This Row],[شماره تماس]],MID(Table3[[#This Row],[شماره تماس]],1,Table3[[#This Row],[چندم]]-1))","v":0},{"$f":"IF(Table3[[#This Row],[چندم]]=0,\"\",MID(Table3[[#This Row],[شماره تماس]],Table3[[#This Row],[چندم]]+1,30))","v":""}]
[null,214,null,null,null,{"$f":"IFERROR(FIND(\"_\",Table3[[#This Row],[شماره تماس]]),0)","v":0},{"$f":"IF(Table3[[#This Row],[چندم]]=0,Table3[[#This Row],[شماره تماس]],MID(Table3[[#This Row],[شماره تماس]],1,Table3[[#This Row],[چندم]]-1))","v":0},{"$f":"IF(Table3[[#This Row],[چندم]]=0,\"\",MID(Table3[[#This Row],[شماره تماس]],Table3[[#This Row],[چندم]]+1,30))","v":""}]
[null,215,null,null,null,{"$f":"IFERROR(FIND(\"_\",Table3[[#This Row],[شماره تماس]]),0)","v":0},{"$f":"IF(Table3[[#This Row],[چندم]]=0,Table3[[#This Row],[شماره تماس]],MID(Table3[[#This Row],[شماره تماس]],1,Table3[[#This Row],[چندم]]-1))","v":0},{"$f":"IF(Table3[[#This Row],[چندم]]=0,\"\",MID(Table3[[#This Row],[شماره تماس]],Table3[[#This Row],[چندم]]+1,30))","v":""}]
[null,216,null,null,null,{"$f":"IFERROR(FIND(\"_\",Table3[[#This Row],[شماره تماس]]),0)","v":0},{"$f":"IF(Table3[[#This Row],[چندم]]=0,Table3[[#This Row],[شماره تماس]],MID(Table3[[#This Row],[شماره تماس]],1,Table3[[#This Row],[چندم]]-1))","v":0},{"$f":"IF(Table3[[#This Row],[چندم]]=0,\"\",MID(Table3[[#This Row],[شماره تماس]],Table3[[#This Row],[چندم]]+1,30))","v":""}]
[null,217,null,null,null,{"$f":"IFERROR(FIND(\"_\",Table3[[#This Row],[شماره تماس]]),0)","v":0},{"$f":"IF(Table3[[#This Row],[چندم]]=0,Table3[[#This Row],[شماره تماس]],MID(Table3[[#This Row],[شماره تماس]],1,Table3[[#This Row],[چندم]]-1))","v":0},{"$f":"IF(Table3[[#This Row],[چندم]]=0,\"\",MID(Table3[[#This Row],[شماره تماس]],Table3[[#This Row],[چندم]]+1,30))","v":""}]
[null,218,null,null,null,{"$f":"IFERROR(FIND(\"_\",Table3[[#This Row],[شماره تماس]]),0)","v":0},{"$f":"IF(Table3[[#This Row],[چندم]]=0,Table3[[#This Row],[شماره تماس]],MID(Table3[[#This Row],[شماره تماس]],1,Table3[[#This Row],[چندم]]-1))","v":0},{"$f":"IF(Table3[[#This Row],[چندم]]=0,\"\",MID(Table3[[#This Row],[شماره تماس]],Table3[[#This Row],[چندم]]+1,30))","v":""}]
[null,219,null,null,null,{"$f":"IFERROR(FIND(\"_\",Table3[[#This Row],[شماره تماس]]),0)","v":0},{"$f":"IF(Table3[[#This Row],[چندم]]=0,Table3[[#This Row],[شماره تماس]],MID(Table3[[#This Row],[شماره تماس]],1,Table3[[#This Row],[چندم]]-1))","v":0},{"$f":"IF(Table3[[#This Row],[چندم]]=0,\"\",MID(Table3[[#This Row],[شماره تماس]],Table3[[#This Row],[چندم]]+1,30))","v":""}]
[null,220,null,null,null,{"$f":"IFERROR(FIND(\"_\",Table3[[#This Row],[شماره تماس]]),0)","v":0},{"$f":"IF(Table3[[#This Row],[چندم]]=0,Table3[[#This Row],[شماره تماس]],MID(Table3[[#This Row],[شماره تماس]],1,Table3[[#This Row],[چندم]]-1))","v":0},{"$f":"IF(Table3[[#This Row],[چندم]]=0,\"\",MID(Table3[[#This Row],[شماره تماس]],Table3[[#This Row],[چندم]]+1,30))","v":""}]
[null,221,null,null,null,{"$f":"IFERROR(FIND(\"_\",Table3[[#This Row],[شماره تماس]]),0)","v":0},{"$f":"IF(Table3[[#This Row],[چندم]]=0,Table3[[#This Row],[شماره تماس]],MID(Table3[[#This Row],[شماره تماس]],1,Table3[[#This Row],[چندم]]-1))","v":0},{"$f":"IF(Table3[[#This Row],[چندم]]=0,\"\",MID(Table3[[#This Row],[شماره تماس]],Table3[[#This Row],[چندم]]+1,30))","v":""}]
[null,222,null,null,null,{"$f":"IFERROR(FIND(\"_\",Table3[[#This Row],[شماره تماس]]),0)","v":0},{"$f":"IF(Table3[[#This Row],[چندم]]=0,Table3[[#This Row],[شماره تماس]],MID(Table3[[#This Row],[شماره تماس]],1,Table3[[#This Row],[چندم]]-1))","v":0},{"$f":"IF(Table3[[#This Row],[چندم]]=0,\"\",MID(Table3[[#This Row],[شماره تماس]],Table3[[#This Row],[چندم]]+1,30))","v":""}]
[null,223,null,null,null,{"$f":"IFERROR(FIND(\"_\",Table3[[#This Row],[شماره تماس]]),0)","v":0},{"$f":"IF(Table3[[#This Row],[چندم]]=0,Table3[[#This Row],[شماره تماس]],MID(Table3[[#This Row],[شماره تماس]],1,Table3[[#This Row],[چندم]]-1))","v":0},{"$f":"IF(Table3[[#This Row],[چندم]]=0,\"\",MID(Table3[[#This Row],[شماره تماس]],Table3[[#This Row],[چندم]]+1,30))","v":""}]
[null,224,null,null,null,{"$f":"IFERROR(FIND(\"_\",Table3[[#This Row],[شماره تماس]]),0)","v":0},{"$f":"IF(Table3[[#This Row],[چندم]]=0,Table3[[#This Row],[شماره تماس]],MID(Table3[[#This Row],[شماره تماس]],1,Table3[[#This Row],[چندم]]-1))","v":0},{"$f":"IF(Table3[[#This Row],[چندم]]=0,\"\",MID(Table3[[#This Row],[شماره تماس]],Table3[[#This Row],[چندم]]+1,30))","v":""}]
[null,225,null,null,null,{"$f":"IFERROR(FIND(\"_\",Table3[[#This Row],[شماره تماس]]),0)","v":0},{"$f":"IF(Table3[[#This Row],[چندم]]=0,Table3[[#This Row],[شماره تماس]],MID(Table3[[#This Row],[شماره تماس]],1,Table3[[#This Row],[چندم]]-1))","v":0},{"$f":"IF(Table3[[#This Row],[چندم]]=0,\"\",MID(Table3[[#This Row],[شماره تماس]],Table3[[#This Row],[چندم]]+1,30))","v":""}]
[null,226,null,null,null,{"$f":"IFERROR(FIND(\"_\",Table3[[#This Row],[شماره تماس]]),0)","v":0},{"$f":"IF(Table3[[#This Row],[چندم]]=0,Table3[[#This Row],[شماره تماس]],MID(Table3[[#This Row],[شماره تماس]],1,Table3[[#This Row],[چندم]]-1))","v":0},{"$f":"IF(Table3[[#This Row],[چندم]]=0,\"\",MID(Table3[[#This Row],[شماره تماس]],Table3[[#This Row],[چندم]]+1,30))","v":""}]
[null,227,null,null,null,{"$f":"IFERROR(FIND(\"_\",Table3[[#This Row],[شماره تماس]]),0)","v":0},{"$f":"IF(Table3[[#This Row],[چندم]]=0,Table3[[#This Row],[شماره تماس]],MID(Table3[[#This Row],[شماره تماس]],1,Table3[[#This Row],[چندم]]-1))","v":0},{"$f":"IF(Table3[[#This Row],[چندم]]=0,\"\",MID(Table3[[#This Row],[شماره تماس]],Table3[[#This Row],[چندم]]+1,30))","v":""}]
[null,228,null,null,null,{"$f":"IFERROR(FIND(\"_\",Table3[[#This Row],[شماره تماس]]),0)","v":0},{"$f":"IF(Table3[[#This Row],[چندم]]=0,Table3[[#This Row],[شماره تماس]],MID(Table3[[#This Row],[شماره تماس]],1,Table3[[#This Row],[چندم]]-1))","v":0},{"$f":"IF(Table3[[#This Row],[چندم]]=0,\"\",MID(Table3[[#This Row],[شماره تماس]],Table3[[#This Row],[چندم]]+1,30))","v":""}]
[null,229,null,null,null,{"$f":"IFERROR(FIND(\"_\",Table3[[#This Row],[شماره تماس]]),0)","v":0},{"$f":"IF(Table3[[#This Row],[چندم]]=0,Table3[[#This Row],[شماره تماس]],MID(Table3[[#This Row],[شماره تماس]],1,Table3[[#This Row],[چندم]]-1))","v":0},{"$f":"IF(Table3[[#This Row],[چندم]]=0,\"\",MID(Table3[[#This Row],[شماره تماس]],Table3[[#This Row],[چندم]]+1,30))","v":""}]
[null,230,null,null,null,{"$f":"IFERROR(FIND(\"_\",Table3[[#This Row],[شماره تماس]]),0)","v":0},{"$f":"IF(Table3[[#This Row],[چندم]]=0,Table3[[#This Row],[شماره تماس]],MID(Table3[[#This Row],[شماره تماس]],1,Table3[[#This Row],[چندم]]-1))","v":0},{"$f":"IF(Table3[[#This Row],[چندم]]=0,\"\",MID(Table3[[#This Row],[شماره تماس]],Table3[[#This Row],[چندم]]+1,30))","v":""}]
[null,{"$f":"ROW()-3","v":231},null,null,null,{"$f":"IFERROR(FIND(\"_\",Table3[[#This Row],[شماره تماس]]),0)","v":0},{"$f":"IF(Table3[[#This Row],[چندم]]=0,Table3[[#This Row],[شماره تماس]],MID(Table3[[#This Row],[شماره تماس]],1,Table3[[#This Row],[چندم]]-1))","v":0},{"$f":"IF(Table3[[#This Row],[چندم]]=0,\"\",MID(Table3[[#This Row],[شماره تماس]],Table3[[#This Row],[چندم]]+1,30))","v":""}]
[null,232,null,null,null,{"$f":"IFERROR(FIND(\"_\",Table3[[#This Row],[شماره تماس]]),0)","v":0},{"$f":"IF(Table3[[#This Row],[چندم]]=0,Table3[[#This Row],[شماره تماس]],MID(Table3[[#This Row],[شماره تماس]],1,Table3[[#This Row],[چندم]]-1))","v":0},{"$f":"IF(Table3[[#This Row],[چندم]]=0,\"\",MID(Table3[[#This Row],[شماره تماس]],Table3[[#This Row],[چندم]]+1,30))","v":""}]
[null,233,null,null,null,{"$f":"IFERROR(FIND(\"_\",Table3[[#This Row],[شماره تماس]]),0)","v":0},{"$f":"IF(Table3[[#This Row],[چندم]]=0,Table3[[#This Row],[شماره تماس]],MID(Table3[[#This Row],[شماره تماس]],1,Table3[[#This Row],[چندم]]-1))","v":0},{"$f":"IF(Table3[[#This Row],[چندم]]=0,\"\",MID(Table3[[#This Row],[شماره تماس]],Table3[[#This Row],[چندم]]+1,30))","v":""}]
[null,234,null,null,null,{"$f":"IFERROR(FIND(\"_\",Table3[[#This Row],[شماره تماس]]),0)","v":0},{"$f":"IF(Table3[[#This Row],[چندم]]=0,Table3[[#This Row],[شماره تماس]],MID(Table3[[#This Row],[شماره تماس]],1,Table3[[#This Row],[چندم]]-1))","v":0},{"$f":"IF(Table3[[#This Row],[چندم]]=0,\"\",MID(Table3[[#This Row],[شماره تماس]],Table3[[#This Row],[چندم]]+1,30))","v":""}]
[null,235,null,null,null,{"$f":"IFERROR(FIND(\"_\",Table3[[#This Row],[شماره تماس]]),0)","v":0},{"$f":"IF(Table3[[#This Row],[چندم]]=0,Table3[[#This Row],[شماره تماس]],MID(Table3[[#This Row],[شماره تماس]],1,Table3[[#This Row],[چندم]]-1))","v":0},{"$f":"IF(Table3[[#This Row],[چندم]]=0,\"\",MID(Table3[[#This Row],[شماره تماس]],Table3[[#This Row],[چندم]]+1,30))","v":""}]
[null,236,null,null,null,{"$f":"IFERROR(FIND(\"_\",Table3[[#This Row],[شماره تماس]]),0)","v":0},{"$f":"IF(Table3[[#This Row],[چندم]]=0,Table3[[#This Row],[شماره تماس]],MID(Table3[[#This Row],[شماره تماس]],1,Table3[[#This Row],[چندم]]-1))","v":0},{"$f":"IF(Table3[[#This Row],[چندم]]=0,\"\",MID(Table3[[#This Row],[شماره تماس]],Table3[[#This Row],[چندم]]+1,30))","v":""}]
[null,237,null,null,null,{"$f":"IFERROR(FIND(\"_\",Table3[[#This Row],[شماره تماس]]),0)","v":0},{"$f":"IF(Table3[[#This Row],[چندم]]=0,Table3[[#This Row],[شماره تماس]],MID(Table3[[#This Row],[شماره تماس]],1,Table3[[#This Row],[چندم]]-1))","v":0},{"$f":"IF(Table3[[#This Row],[چندم]]=0,\"\",MID(Table3[[#This Row],[شماره تماس]],Table3[[#This Row],[چندم]]+1,30))","v":""}]
[null,238,null,null,null,{"$f":"IFERROR(FIND(\"_\",Table3[[#This Row],[شماره تماس]]),0)","v":0},{"$f":"IF(Table3[[#This Row],[چندم]]=0,Table3[[#This Row],[شماره تماس]],MID(Table3[[#This Row],[شماره تماس]],1,Table3[[#This Row],[چندم]]-1))","v":0},{"$f":"IF(Table3[[#This Row],[چندم]]=0,\"\",MID(Table3[[#This Row],[شماره تماس]],Table3[[#This Row],[چندم]]+1,30))","v":""}]
[null,239,null,null,null,{"$f":"IFERROR(FIND(\"_\",Table3[[#This Row],[شماره تماس]]),0)","v":0},{"$f":"IF(Table3[[#This Row],[چندم]]=0,Table3[[#This Row],[شماره تماس]],MID(Table3[[#This Row],[شماره تماس]],1,Table3[[#This Row],[چندم]]-1))","v":0},{"$f":"IF(Table3[[#This Row],[چندم]]=0,\"\",MID(Table3[[#This Row],[شماره تماس]],Table3[[#This Row],[چندم]]+1,30))","v":""}]
[null,240,null,null,null,{"$f":"IFERROR(FIND(\"_\",Table3[[#This Row],[شماره تماس]]),0)","v":0},{"$f":"IF(Table3[[#This Row],[چندم]]=0,Table3[[#This Row],[شماره تماس]],MID(Table3[[#This Row],[شماره تماس]],1,Table3[[#This Row],[چندم]]-1))","v":0},{"$f":"IF(Table3[[#This Row],[چندم]]=0,\"\",MID(Table3[[#This Row],[شماره تماس]],Table3[[#This Row],[چندم]]+1,30))","v":""}]
[null,241,null,null,null,{"$f":"IFERROR(FIND(\"_\",Table3[[#This Row],[شماره تماس]]),0)","v":0},{"$f":"IF(Table3[[#This Row],[چندم]]=0,Table3[[#This Row],[شماره تماس]],MID(Table3[[#This Row],[شماره تماس]],1,Table3[[#This Row],[چندم]]-1))","v":0},{"$f":"IF(Table3[[#This Row],[چندم]]=0,\"\",MID(Table3[[#This Row],[شماره تماس]],Table3[[#This Row],[چندم]]+1,30))","v":""}]
[null,242,null,null,null,{"$f":"IFERROR(FIND(\"_\",Table3[[#This Row],[شماره تماس]]),0)","v":0},{"$f":"IF(Table3[[#This Row],[چندم]]=0,Table3[[#This Row],[شماره تماس]],MID(Table3[[#This Row],[شماره تماس]],1,Table3[[#This Row],[چندم]]-1))","v":0},{"$f":"IF(Table3[[#This Row],[چندم]]=0,\"\",MID(Table3[[#This Row],[شماره تماس]],Table3[[#This Row],[چندم]]+1,30))","v":""}]
[null,243,null,null,null,{"$f":"IFERROR(FIND(\"_\",Table3[[#This Row],[شماره تماس]]),0)","v":0},{"$f":"IF(Table3[[#This Row],[چندم]]=0,Table3[[#This Row],[شماره تماس]],MID(Table3[[#This Row],[شماره تماس]],1,Table3[[#This Row],[چندم]]-1))","v":0},{"$f":"IF(Table3[[#This Row],[چندم]]=0,\"\",MID(Table3[[#This Row],[شماره تماس]],Table3[[#This Row],[چندم]]+1,30))","v":""}]
[null,244,null,null,null,{"$f":"IFERROR(FIND(\"_\",Table3[[#This Row],[شماره تماس]]),0)","v":0},{"$f":"IF(Table3[[#This Row],[چندم]]=0,Table3[[#This Row],[شماره تماس]],MID(Table3[[#This Row],[شماره تماس]],1,Table3[[#This Row],[چندم]]-1))","v":0},{"$f":"IF(Table3[[#This Row],[چندم]]=0,\"\",MID(Table3[[#This Row],[شماره تماس]],Table3[[#This Row],[چندم]]+1,30))","v":""}]
[null,245,null,null,null,{"$f":"IFERROR(FIND(\"_\",Table3[[#This Row],[شماره تماس]]),0)","v":0},{"$f":"IF(Table3[[#This Row],[چندم]]=0,Table3[[#This Row],[شماره تماس]],MID(Table3[[#This Row],[شماره تماس]],1,Table3[[#This Row],[چندم]]-1))","v":0},{"$f":"IF(Table3[[#This Row],[چندم]]=0,\"\",MID(Table3[[#This Row],[شماره تماس]],Table3[[#This Row],[چندم]]+1,30))","v":""}]
[null,246,null,null,null,{"$f":"IFERROR(FIND(\"_\",Table3[[#This Row],[شماره تماس]]),0)","v":0},{"$f":"IF(Table3[[#This Row],[چندم]]=0,Table3[[#This Row],[شماره تماس]],MID(Table3[[#This Row],[شماره تماس]],1,Table3[[#This Row],[چندم]]-1))","v":0},{"$f":"IF(Table3[[#This Row],[چندم]]=0,\"\",MID(Table3[[#This Row],[شماره تماس]],Table3[[#This Row],[چندم]]+1,30))","v":""}]
[null,247,null,null,null,{"$f":"IFERROR(FIND(\"_\",Table3[[#This Row],[شماره تماس]]),0)","v":0},{"$f":"IF(Table3[[#This Row],[چندم]]=0,Table3[[#This Row],[شماره تماس]],MID(Table3[[#This Row],[شماره تماس]],1,Table3[[#This Row],[چندم]]-1))","v":0},{"$f":"IF(Table3[[#This Row],[چندم]]=0,\"\",MID(Table3[[#This Row],[شماره تماس]],Table3[[#This Row],[چندم]]+1,30))","v":""}]
[null,248,null,null,null,{"$f":"IFERROR(FIND(\"_\",Table3[[#This Row],[شماره تماس]]),0)","v":0},{"$f":"IF(Table3[[#This Row],[چندم]]=0,Table3[[#This Row],[شماره تماس]],MID(Table3[[#This Row],[شماره تماس]],1,Table3[[#This Row],[چندم]]-1))","v":0},{"$f":"IF(Table3[[#This Row],[چندم]]=0,\"\",MID(Table3[[#This Row],[شماره تماس]],Table3[[#This Row],[چندم]]+1,30))","v":""}]
[null,249,null,null,null,{"$f":"IFERROR(FIND(\"_\",Table3[[#This Row],[شماره تماس]]),0)","v":0},{"$f":"IF(Table3[[#This Row],[چندم]]=0,Table3[[#This Row],[شماره تماس]],MID(Table3[[#This Row],[شماره تماس]],1,Table3[[#This Row],[چندم]]-1))","v":0},{"$f":"IF(Table3[[#This Row],[چندم]]=0,\"\",MID(Table3[[#This Row],[شماره تماس]],Table3[[#This Row],[چندم]]+1,30))","v":""}]
[null,250,null,null,null,{"$f":"IFERROR(FIND(\"_\",Table3[[#This Row],[شماره تماس]]),0)","v":0},{"$f":"IF(Table3[[#This Row],[چندم]]=0,Table3[[#This Row],[شماره تماس]],MID(Table3[[#This Row],[شماره تماس]],1,Table3[[#This Row],[چندم]]-1))","v":0},{"$f":"IF(Table3[[#This Row],[چندم]]=0,\"\",MID(Table3[[#This Row],[شماره تماس]],Table3[[#This Row],[چندم]]+1,30))","v":""}]
[null,251,null,null,null,{"$f":"IFERROR(FIND(\"_\",Table3[[#This Row],[شماره تماس]]),0)","v":0},{"$f":"IF(Table3[[#This Row],[چندم]]=0,Table3[[#This Row],[شماره تماس]],MID(Table3[[#This Row],[شماره تماس]],1,Table3[[#This Row],[چندم]]-1))","v":0},{"$f":"IF(Table3[[#This Row],[چندم]]=0,\"\",MID(Table3[[#This Row],[شماره تماس]],Table3[[#This Row],[چندم]]+1,30))","v":""}]
[null,252,null,null,null,{"$f":"IFERROR(FIND(\"_\",Table3[[#This Row],[شماره تماس]]),0)","v":0},{"$f":"IF(Table3[[#This Row],[چندم]]=0,Table3[[#This Row],[شماره تماس]],MID(Table3[[#This Row],[شماره تماس]],1,Table3[[#This Row],[چندم]]-1))","v":0},{"$f":"IF(Table3[[#This Row],[چندم]]=0,\"\",MID(Table3[[#This Row],[شماره تماس]],Table3[[#This Row],[چندم]]+1,30))","v":""}]
[null,253,null,null,null,{"$f":"IFERROR(FIND(\"_\",Table3[[#This Row],[شماره تماس]]),0)","v":0},{"$f":"IF(Table3[[#This Row],[چندم]]=0,Table3[[#This Row],[شماره تماس]],MID(Table3[[#This Row],[شماره تماس]],1,Table3[[#This Row],[چندم]]-1))","v":0},{"$f":"IF(Table3[[#This Row],[چندم]]=0,\"\",MID(Table3[[#This Row],[شماره تماس]],Table3[[#This Row],[چندم]]+1,30))","v":""}]
[null,254,null,null,null,{"$f":"IFERROR(FIND(\"_\",Table3[[#This Row],[شماره تماس]]),0)","v":0},{"$f":"IF(Table3[[#This Row],[چندم]]=0,Table3[[#This Row],[شماره تماس]],MID(Table3[[#This Row],[شماره تماس]],1,Table3[[#This Row],[چندم]]-1))","v":0},{"$f":"IF(Table3[[#This Row],[چندم]]=0,\"\",MID(Table3[[#This Row],[شماره تماس]],Table3[[#This Row],[چندم]]+1,30))","v":""}]
[null,255,null,null,null,{"$f":"IFERROR(FIND(\"_\",Table3[[#This Row],[شماره تماس]]),0)","v":0},{"$f":"IF(Table3[[#This Row],[چندم]]=0,Table3[[#This Row],[شماره تماس]],MID(Table3[[#This Row],[شماره تماس]],1,Table3[[#This Row],[چندم]]-1))","v":0},{"$f":"IF(Table3[[#This Row],[چندم]]=0,\"\",MID(Table3[[#This Row],[شماره تماس]],Table3[[#This Row],[چندم]]+1,30))","v":""}]
[null,256,null,null,null,{"$f":"IFERROR(FIND(\"_\",Table3[[#This Row],[شماره تماس]]),0)","v":0},{"$f":"IF(Table3[[#This Row],[چندم]]=0,Table3[[#This Row],[شماره تماس]],MID(Table3[[#This Row],[شماره تماس]],1,Table3[[#This Row],[چندم]]-1))","v":0},{"$f":"IF(Table3[[#This Row],[چندم]]=0,\"\",MID(Table3[[#This Row],[شماره تماس]],Table3[[#This Row],[چندم]]+1,30))","v":""}]
[null,257,null,null,null,{"$f":"IFERROR(FIND(\"_\",Table3[[#This Row],[شماره تماس]]),0)","v":0},{"$f":"IF(Table3[[#This Row],[چندم]]=0,Table3[[#This Row],[شماره تماس]],MID(Table3[[#This Row],[شماره تماس]],1,Table3[[#This Row],[چندم]]-1))","v":0},{"$f":"IF(Table3[[#This Row],[چندم]]=0,\"\",MID(Table3[[#This Row],[شماره تماس]],Table3[[#This Row],[چندم]]+1,30))","v":""}]
[null,258,null,null,null,{"$f":"IFERROR(FIND(\"_\",Table3[[#This Row],[شماره تماس]]),0)","v":0},{"$f":"IF(Table3[[#This Row],[چندم]]=0,Table3[[#This Row],[شماره تماس]],MID(Table3[[#This Row],[شماره تماس]],1,Table3[[#This Row],[چندم]]-1))","v":0},{"$f":"IF(Table3[[#This Row],[چندم]]=0,\"\",MID(Table3[[#This Row],[شماره تماس]],Table3[[#This Row],[چندم]]+1,30))","v":""}]
[null,259,null,null,null,{"$f":"IFERROR(FIND(\"_\",Table3[[#This Row],[شماره تماس]]),0)","v":0},{"$f":"IF(Table3[[#This Row],[چندم]]=0,Table3[[#This Row],[شماره تماس]],MID(Table3[[#This Row],[شماره تماس]],1,Table3[[#This Row],[چندم]]-1))","v":0},{"$f":"IF(Table3[[#This Row],[چندم]]=0,\"\",MID(Table3[[#This Row],[شماره تماس]],Table3[[#This Row],[چندم]]+1,30))","v":""}]
[null,260,null,null,null,{"$f":"IFERROR(FIND(\"_\",Table3[[#This Row],[شماره تماس]]),0)","v":0},{"$f":"IF(Table3[[#This Row],[چندم]]=0,Table3[[#This Row],[شماره تماس]],MID(Table3[[#This Row],[شماره تماس]],1,Table3[[#This Row],[چندم]]-1))","v":0},{"$f":"IF(Table3[[#This Row],[چندم]]=0,\"\",MID(Table3[[#This Row],[شماره تماس]],Table3[[#This Row],[چندم]]+1,30))","v":""}]
[null,261,null,null,null,{"$f":"IFERROR(FIND(\"_\",Table3[[#This Row],[شماره تماس]]),0)","v":0},{"$f":"IF(Table3[[#This Row],[چندم]]=0,Table3[[#This Row],[شماره تماس]],MID(Table3[[#This Row],[شماره تماس]],1,Table3[[#This Row],[چندم]]-1))","v":0},{"$f":"IF(Table3[[#This Row],[چندم]]=0,\"\",MID(Table3[[#This Row],[شماره تماس]],Table3[[#This Row],[چندم]]+1,30))","v":""}]
[null,262,null,null,null,{"$f":"IFERROR(FIND(\"_\",Table3[[#This Row],[شماره تماس]]),0)","v":0},{"$f":"IF(Table3[[#This Row],[چندم]]=0,Table3[[#This Row],[شماره تماس]],MID(Table3[[#This Row],[شماره تماس]],1,Table3[[#This Row],[چندم]]-1))","v":0},{"$f":"IF(Table3[[#This Row],[چندم]]=0,\"\",MID(Table3[[#This Row],[شماره تماس]],Table3[[#This Row],[چندم]]+1,30))","v":""}]
[null,263,null,null,null,{"$f":"IFERROR(FIND(\"_\",Table3[[#This Row],[شماره تماس]]),0)","v":0},{"$f":"IF(Table3[[#This Row],[چندم]]=0,Table3[[#This Row],[شماره تماس]],MID(Table3[[#This Row],[شماره تماس]],1,Table3[[#This Row],[چندم]]-1))","v":0},{"$f":"IF(Table3[[#This Row],[چندم]]=0,\"\",MID(Table3[[#This Row],[شماره تماس]],Table3[[#This Row],[چندم]]+1,30))","v":""}]
[null,264,null,null,null,{"$f":"IFERROR(FIND(\"_\",Table3[[#This Row],[شماره تماس]]),0)","v":0},{"$f":"IF(Table3[[#This Row],[چندم]]=0,Table3[[#This Row],[شماره تماس]],MID(Table3[[#This Row],[شماره تماس]],1,Table3[[#This Row],[چندم]]-1))","v":0},{"$f":"IF(Table3[[#This Row],[چندم]]=0,\"\",MID(Table3[[#This Row],[شماره تماس]],Table3[[#This Row],[چندم]]+1,30))","v":""}]
[null,265,null,null,null,{"$f":"IFERROR(FIND(\"_\",Table3[[#This Row],[شماره تماس]]),0)","v":0},{"$f":"IF(Table3[[#This Row],[چندم]]=0,Table3[[#This Row],[شماره تماس]],MID(Table3[[#This Row],[شماره تماس]],1,Table3[[#This Row],[چندم]]-1))","v":0},{"$f":"IF(Table3[[#This Row],[چندم]]=0,\"\",MID(Table3[[#This Row],[شماره تماس]],Table3[[#This Row],[چندم]]+1,30))","v":""}]
[null,266,null,null,null,{"$f":"IFERROR(FIND(\"_\",Table3[[#This Row],[شماره تماس]]),0)","v":0},{"$f":"IF(Table3[[#This Row],[چندم]]=0,Table3[[#This Row],[شماره تماس]],MID(Table3[[#This Row],[شماره تماس]],1,Table3[[#This Row],[چندم]]-1))","v":0},{"$f":"IF(Table3[[#This Row],[چندم]]=0,\"\",MID(Table3[[#This Row],[شماره تماس]],Table3[[#This Row],[چندم]]+1,30))","v":""}]
[null,267,null,null,null,{"$f":"IFERROR(FIND(\"_\",Table3[[#This Row],[شماره تماس]]),0)","v":0},{"$f":"IF(Table3[[#This Row],[چندم]]=0,Table3[[#This Row],[شماره تماس]],MID(Table3[[#This Row],[شماره تماس]],1,Table3[[#This Row],[چندم]]-1))","v":0},{"$f":"IF(Table3[[#This Row],[چندم]]=0,\"\",MID(Table3[[#This Row],[شماره تماس]],Table3[[#This Row],[چندم]]+1,30))","v":""}]
[null,268,null,null,null,{"$f":"IFERROR(FIND(\"_\",Table3[[#This Row],[شماره تماس]]),0)","v":0},{"$f":"IF(Table3[[#This Row],[چندم]]=0,Table3[[#This Row],[شماره تماس]],MID(Table3[[#This Row],[شماره تماس]],1,Table3[[#This Row],[چندم]]-1))","v":0},{"$f":"IF(Table3[[#This Row],[چندم]]=0,\"\",MID(Table3[[#This Row],[شماره تماس]],Table3[[#This Row],[چندم]]+1,30))","v":""}]
[null,269,null,null,null,{"$f":"IFERROR(FIND(\"_\",Table3[[#This Row],[شماره تماس]]),0)","v":0},{"$f":"IF(Table3[[#This Row],[چندم]]=0,Table3[[#This Row],[شماره تماس]],MID(Table3[[#This Row],[شماره تماس]],1,Table3[[#This Row],[چندم]]-1))","v":0},{"$f":"IF(Table3[[#This Row],[چندم]]=0,\"\",MID(Table3[[#This Row],[شماره تماس]],Table3[[#This Row],[چندم]]+1,30))","v":""}]
[null,270,null,null,null,{"$f":"IFERROR(FIND(\"_\",Table3[[#This Row],[شماره تماس]]),0)","v":0},{"$f":"IF(Table3[[#This Row],[چندم]]=0,Table3[[#This Row],[شماره تماس]],MID(Table3[[#This Row],[شماره تماس]],1,Table3[[#This Row],[چندم]]-1))","v":0},{"$f":"IF(Table3[[#This Row],[چندم]]=0,\"\",MID(Table3[[#This Row],[شماره تماس]],Table3[[#This Row],[چندم]]+1,30))","v":""}]
[null,271,null,null,null,{"$f":"IFERROR(FIND(\"_\",Table3[[#This Row],[شماره تماس]]),0)","v":0},{"$f":"IF(Table3[[#This Row],[چندم]]=0,Table3[[#This Row],[شماره تماس]],MID(Table3[[#This Row],[شماره تماس]],1,Table3[[#This Row],[چندم]]-1))","v":0},{"$f":"IF(Table3[[#This Row],[چندم]]=0,\"\",MID(Table3[[#This Row],[شماره تماس]],Table3[[#This Row],[چندم]]+1,30))","v":""}]
[null,272,null,null,null,{"$f":"IFERROR(FIND(\"_\",Table3[[#This Row],[شماره تماس]]),0)","v":0},{"$f":"IF(Table3[[#This Row],[چندم]]=0,Table3[[#This Row],[شماره تماس]],MID(Table3[[#This Row],[شماره تماس]],1,Table3[[#This Row],[چندم]]-1))","v":0},{"$f":"IF(Table3[[#This Row],[چندم]]=0,\"\",MID(Table3[[#This Row],[شماره تماس]],Table3[[#This Row],[چندم]]+1,30))","v":""}]
[null,273,null,null,null,{"$f":"IFERROR(FIND(\"_\",Table3[[#This Row],[شماره تماس]]),0)","v":0},{"$f":"IF(Table3[[#This Row],[چندم]]=0,Table3[[#This Row],[شماره تماس]],MID(Table3[[#This Row],[شماره تماس]],1,Table3[[#This Row],[چندم]]-1))","v":0},{"$f":"IF(Table3[[#This Row],[چندم]]=0,\"\",MID(Table3[[#This Row],[شماره تماس]],Table3[[#This Row],[چندم]]+1,30))","v":""}]
[null,274,null,null,null,{"$f":"IFERROR(FIND(\"_\",Table3[[#This Row],[شماره تماس]]),0)","v":0},{"$f":"IF(Table3[[#This Row],[چندم]]=0,Table3[[#This Row],[شماره تماس]],MID(Table3[[#This Row],[شماره تماس]],1,Table3[[#This Row],[چندم]]-1))","v":0},{"$f":"IF(Table3[[#This Row],[چندم]]=0,\"\",MID(Table3[[#This Row],[شماره تماس]],Table3[[#This Row],[چندم]]+1,30))","v":""}]
[null,275,null,null,null,{"$f":"IFERROR(FIND(\"_\",Table3[[#This Row],[شماره تماس]]),0)","v":0},{"$f":"IF(Table3[[#This Row],[چندم]]=0,Table3[[#This Row],[شماره تماس]],MID(Table3[[#This Row],[شماره تماس]],1,Table3[[#This Row],[چندم]]-1))","v":0},{"$f":"IF(Table3[[#This Row],[چندم]]=0,\"\",MID(Table3[[#This Row],[شماره تماس]],Table3[[#This Row],[چندم]]+1,30))","v":""}]
[null,276,null,null,null,{"$f":"IFERROR(FIND(\"_\",Table3[[#This Row],[شماره تماس]]),0)","v":0},{"$f":"IF(Table3[[#This Row],[چندم]]=0,Table3[[#This Row],[شماره تماس]],MID(Table3[[#This Row],[شماره تماس]],1,Table3[[#This Row],[چندم]]-1))","v":0},{"$f":"IF(Table3[[#This Row],[چندم]]=0,\"\",MID(Table3[[#This Row],[شماره تماس]],Table3[[#This Row],[چندم]]+1,30))","v":""}]
[null,277,null,null,null,{"$f":"IFERROR(FIND(\"_\",Table3[[#This Row],[شماره تماس]]),0)","v":0},{"$f":"IF(Table3[[#This Row],[چندم]]=0,Table3[[#This Row],[شماره تماس]],MID(Table3[[#This Row],[شماره تماس]],1,Table3[[#This Row],[چندم]]-1))","v":0},{"$f":"IF(Table3[[#This Row],[چندم]]=0,\"\",MID(Table3[[#This Row],[شماره تماس]],Table3[[#This Row],[چندم]]+1,30))","v":""}]
[null,278,null,null,null,{"$f":"IFERROR(FIND(\"_\",Table3[[#This Row],[شماره تماس]]),0)","v":0},{"$f":"IF(Table3[[#This Row],[چندم]]=0,Table3[[#This Row],[شماره تماس]],MID(Table3[[#This Row],[شماره تماس]],1,Table3[[#This Row],[چندم]]-1))","v":0},{"$f":"IF(Table3[[#This Row],[چندم]]=0,\"\",MID(Table3[[#This Row],[شماره تماس]],Table3[[#This Row],[چندم]]+1,30))","v":""}]
[null,279,null,null,null,{"$f":"IFERROR(FIND(\"_\",Table3[[#This Row],[شماره تماس]]),0)","v":0},{"$f":"IF(Table3[[#This Row],[چندم]]=0,Table3[[#This Row],[شماره تماس]],MID(Table3[[#This Row],[شماره تماس]],1,Table3[[#This Row],[چندم]]-1))","v":0},{"$f":"IF(Table3[[#This Row],[چندم]]=0,\"\",MID(Table3[[#This Row],[شماره تماس]],Table3[[#This Row],[چندم]]+1,30))","v":""}]
[null,280,null,null,null,{"$f":"IFERROR(FIND(\"_\",Table3[[#This Row],[شماره تماس]]),0)","v":0},{"$f":"IF(Table3[[#This Row],[چندم]]=0,Table3[[#This Row],[شماره تماس]],MID(Table3[[#This Row],[شماره تماس]],1,Table3[[#This Row],[چندم]]-1))","v":0},{"$f":"IF(Table3[[#This Row],[چندم]]=0,\"\",MID(Table3[[#This Row],[شماره تماس]],Table3[[#This Row],[چندم]]+1,30))","v":""}]
[null,281,null,null,null,{"$f":"IFERROR(FIND(\"_\",Table3[[#This Row],[شماره تماس]]),0)","v":0},{"$f":"IF(Table3[[#This Row],[چندم]]=0,Table3[[#This Row],[شماره تماس]],MID(Table3[[#This Row],[شماره تماس]],1,Table3[[#This Row],[چندم]]-1))","v":0},{"$f":"IF(Table3[[#This Row],[چندم]]=0,\"\",MID(Table3[[#This Row],[شماره تماس]],Table3[[#This Row],[چندم]]+1,30))","v":""}]
[null,282,null,null,null,{"$f":"IFERROR(FIND(\"_\",Table3[[#This Row],[شماره تماس]]),0)","v":0},{"$f":"IF(Table3[[#This Row],[چندم]]=0,Table3[[#This Row],[شماره تماس]],MID(Table3[[#This Row],[شماره تماس]],1,Table3[[#This Row],[چندم]]-1))","v":0},{"$f":"IF(Table3[[#This Row],[چندم]]=0,\"\",MID(Table3[[#This Row],[شماره تماس]],Table3[[#This Row],[چندم]]+1,30))","v":""}]
[null,283,null,null,null,{"$f":"IFERROR(FIND(\"_\",Table3[[#This Row],[شماره تماس]]),0)","v":0},{"$f":"IF(Table3[[#This Row],[چندم]]=0,Table3[[#This Row],[شماره تماس]],MID(Table3[[#This Row],[شماره تماس]],1,Table3[[#This Row],[چندم]]-1))","v":0},{"$f":"IF(Table3[[#This Row],[چندم]]=0,\"\",MID(Table3[[#This Row],[شماره تماس]],Table3[[#This Row],[چندم]]+1,30))","v":""}]
[null,284,null,null,null,{"$f":"IFERROR(FIND(\"_\",Table3[[#This Row],[شماره تماس]]),0)","v":0},{"$f":"IF(Table3[[#This Row],[چندم]]=0,Table3[[#This Row],[شماره تماس]],MID(Table3[[#This Row],[شماره تماس]],1,Table3[[#This Row],[چندم]]-1))","v":0},{"$f":"IF(Table3[[#This Row],[چندم]]=0,\"\",MID(Table3[[#This Row],[شماره تماس]],Table3[[#This Row],[چندم]]+1,30))","v":""}]
[null,285,null,null,null,{"$f":"IFERROR(FIND(\"_\",Table3[[#This Row],[شماره تماس]]),0)","v":0},{"$f":"IF(Table3[[#This Row],[چندم]]=0,Table3[[#This Row],[شماره تماس]],MID(Table3[[#This Row],[شماره تماس]],1,Table3[[#This Row],[چندم]]-1))","v":0},{"$f":"IF(Table3[[#This Row],[چندم]]=0,\"\",MID(Table3[[#This Row],[شماره تماس]],Table3[[#This Row],[چندم]]+1,30))","v":""}]
[null,286,null,null,null,{"$f":"IFERROR(FIND(\"_\",Table3[[#This Row],[شماره تماس]]),0)","v":0},{"$f":"IF(Table3[[#This Row],[چندم]]=0,Table3[[#This Row],[شماره تماس]],MID(Table3[[#This Row],[شماره تماس]],1,Table3[[#This Row],[چندم]]-1))","v":0},{"$f":"IF(Table3[[#This Row],[چندم]]=0,\"\",MID(Table3[[#This Row],[شماره تماس]],Table3[[#This Row],[چندم]]+1,30))","v":""}]
[null,287,null,null,null,{"$f":"IFERROR(FIND(\"_\",Table3[[#This Row],[شماره تماس]]),0)","v":0},{"$f":"IF(Table3[[#This Row],[چندم]]=0,Table3[[#This Row],[شماره تماس]],MID(Table3[[#This Row],[شماره تماس]],1,Table3[[#This Row],[چندم]]-1))","v":0},{"$f":"IF(Table3[[#This Row],[چندم]]=0,\"\",MID(Table3[[#This Row],[شماره تماس]],Table3[[#This Row],[چندم]]+1,30))","v":""}]
[null,288,null,null,null,{"$f":"IFERROR(FIND(\"_\",Table3[[#This Row],[شماره تماس]]),0)","v":0},{"$f":"IF(Table3[[#This Row],[چندم]]=0,Table3[[#This Row],[شماره تماس]],MID(Table3[[#This Row],[شماره تماس]],1,Table3[[#This Row],[چندم]]-1))","v":0},{"$f":"IF(Table3[[#This Row],[چندم]]=0,\"\",MID(Table3[[#This Row],[شماره تماس]],Table3[[#This Row],[چندم]]+1,30))","v":""}]
[null,289,null,null,null,{"$f":"IFERROR(FIND(\"_\",Table3[[#This Row],[شماره تماس]]),0)","v":0},{"$f":"IF(Table3[[#This Row],[چندم]]=0,Table3[[#This Row],[شماره تماس]],MID(Table3[[#This Row],[شماره تماس]],1,Table3[[#This Row],[چندم]]-1))","v":0},{"$f":"IF(Table3[[#This Row],[چندم]]=0,\"\",MID(Table3[[#This Row],[شماره تماس]],Table3[[#This Row],[چندم]]+1,30))","v":""}]
[null,290,null,null,null,{"$f":"IFERROR(FIND(\"_\",Table3[[#This Row],[شماره تماس]]),0)","v":0},{"$f":"IF(Table3[[#This Row],[چندم]]=0,Table3[[#This Row],[شماره تماس]],MID(Table3[[#This Row],[شماره تماس]],1,Table3[[#This Row],[چندم]]-1))","v":0},{"$f":"IF(Table3[[#This Row],[چندم]]=0,\"\",MID(Table3[[#This Row],[شماره تماس]],Table3[[#This Row],[چندم]]+1,30))","v":""}]
[null,291,null,null,null,{"$f":"IFERROR(FIND(\"_\",Table3[[#This Row],[شماره تماس]]),0)","v":0},{"$f":"IF(Table3[[#This Row],[چندم]]=0,Table3[[#This Row],[شماره تماس]],MID(Table3[[#This Row],[شماره تماس]],1,Table3[[#This Row],[چندم]]-1))","v":0},{"$f":"IF(Table3[[#This Row],[چندم]]=0,\"\",MID(Table3[[#This Row],[شماره تماس]],Table3[[#This Row],[چندم]]+1,30))","v":""}]
[null,292,null,null,null,{"$f":"IFERROR(FIND(\"_\",Table3[[#This Row],[شماره تماس]]),0)","v":0},{"$f":"IF(Table3[[#This Row],[چندم]]=0,Table3[[#This Row],[شماره تماس]],MID(Table3[[#This Row],[شماره تماس]],1,Table3[[#This Row],[چندم]]-1))","v":0},{"$f":"IF(Table3[[#This Row],[چندم]]=0,\"\",MID(Table3[[#This Row],[شماره تماس]],Table3[[#This Row],[چندم]]+1,30))","v":""}]
[null,293,null,null,null,{"$f":"IFERROR(FIND(\"_\",Table3[[#This Row],[شماره تماس]]),0)","v":0},{"$f":"IF(Table3[[#This Row],[چندم]]=0,Table3[[#This Row],[شماره تماس]],MID(Table3[[#This Row],[شماره تماس]],1,Table3[[#This Row],[چندم]]-1))","v":0},{"$f":"IF(Table3[[#This Row],[چندم]]=0,\"\",MID(Table3[[#This Row],[شماره تماس]],Table3[[#This Row],[چندم]]+1,30))","v":""}]
[null,294,null,null,null,{"$f":"IFERROR(FIND(\"_\",Table3[[#This Row],[شماره تماس]]),0)","v":0},{"$f":"IF(Table3[[#This Row],[چندم]]=0,Table3[[#This Row],[شماره تماس]],MID(Table3[[#This Row],[شماره تماس]],1,Table3[[#This Row],[چندم]]-1))","v":0},{"$f":"IF(Table3[[#This Row],[چندم]]=0,\"\",MID(Table3[[#This Row],[شماره تماس]],Table3[[#This Row],[چندم]]+1,30))","v":""}]
[null,{"$f":"ROW()-3","v":295},null,null,null,{"$f":"IFERROR(FIND(\"_\",Table3[[#This Row],[شماره تماس]]),0)","v":0},{"$f":"IF(Table3[[#This Row],[چندم]]=0,Table3[[#This Row],[شماره تماس]],MID(Table3[[#This Row],[شماره تماس]],1,Table3[[#This Row],[چندم]]-1))","v":0},{"$f":"IF(Table3[[#This Row],[چندم]]=0,\"\",MID(Table3[[#This Row],[شماره تماس]],Table3[[#This Row],[چندم]]+1,30))","v":""}]
[null,296,null,null,null,{"$f":"IFERROR(FIND(\"_\",Table3[[#This Row],[شماره تماس]]),0)","v":0},{"$f":"IF(Table3[[#This Row],[چندم]]=0,Table3[[#This Row],[شماره تماس]],MID(Table3[[#This Row],[شماره تماس]],1,Table3[[#This Row],[چندم]]-1))","v":0},{"$f":"IF(Table3[[#This Row],[چندم]]=0,\"\",MID(Table3[[#This Row],[شماره تماس]],Table3[[#This Row],[چندم]]+1,30))","v":""}]
[null,297,null,null,null,{"$f":"IFERROR(FIND(\"_\",Table3[[#This Row],[شماره تماس]]),0)","v":0},{"$f":"IF(Table3[[#This Row],[چندم]]=0,Table3[[#This Row],[شماره تماس]],MID(Table3[[#This Row],[شماره تماس]],1,Table3[[#This Row],[چندم]]-1))","v":0},{"$f":"IF(Table3[[#This Row],[چندم]]=0,\"\",MID(Table3[[#This Row],[شماره تماس]],Table3[[#This Row],[چندم]]+1,30))","v":""}]
[null,298,null,null,null,{"$f":"IFERROR(FIND(\"_\",Table3[[#This Row],[شماره تماس]]),0)","v":0},{"$f":"IF(Table3[[#This Row],[چندم]]=0,Table3[[#This Row],[شماره تماس]],MID(Table3[[#This Row],[شماره تماس]],1,Table3[[#This Row],[چندم]]-1))","v":0},{"$f":"IF(Table3[[#This Row],[چندم]]=0,\"\",MID(Table3[[#This Row],[شماره تماس]],Table3[[#This Row],[چندم]]+1,30))","v":""}]
[null,299,null,null,null,{"$f":"IFERROR(FIND(\"_\",Table3[[#This Row],[شماره تماس]]),0)","v":0},{"$f":"IF(Table3[[#This Row],[چندم]]=0,Table3[[#This Row],[شماره تماس]],MID(Table3[[#This Row],[شماره تماس]],1,Table3[[#This Row],[چندم]]-1))","v":0},{"$f":"IF(Table3[[#This Row],[چندم]]=0,\"\",MID(Table3[[#This Row],[شماره تماس]],Table3[[#This Row],[چندم]]+1,30))","v":""}]
[null,300,null,null,null,{"$f":"IFERROR(FIND(\"_\",Table3[[#This Row],[شماره تماس]]),0)","v":0},{"$f":"IF(Table3[[#This Row],[چندم]]=0,Table3[[#This Row],[شماره تماس]],MID(Table3[[#This Row],[شماره تماس]],1,Table3[[#This Row],[چندم]]-1))","v":0},{"$f":"IF(Table3[[#This Row],[چندم]]=0,\"\",MID(Table3[[#This Row],[شماره تماس]],Table3[[#This Row],[چندم]]+1,30))","v":""}]
[null,301,null,null,null,{"$f":"IFERROR(FIND(\"_\",Table3[[#This Row],[شماره تماس]]),0)","v":0},{"$f":"IF(Table3[[#This Row],[چندم]]=0,Table3[[#This Row],[شماره تماس]],MID(Table3[[#This Row],[شماره تماس]],1,Table3[[#This Row],[چندم]]-1))","v":0},{"$f":"IF(Table3[[#This Row],[چندم]]=0,\"\",MID(Table3[[#This Row],[شماره تماس]],Table3[[#This Row],[چندم]]+1,30))","v":""}]
[null,302,null,null,null,{"$f":"IFERROR(FIND(\"_\",Table3[[#This Row],[شماره تماس]]),0)","v":0},{"$f":"IF(Table3[[#This Row],[چندم]]=0,Table3[[#This Row],[شماره تماس]],MID(Table3[[#This Row],[شماره تماس]],1,Table3[[#This Row],[چندم]]-1))","v":0},{"$f":"IF(Table3[[#This Row],[چندم]]=0,\"\",MID(Table3[[#This Row],[شماره تماس]],Table3[[#This Row],[چندم]]+1,30))","v":""}]
[null,303,null,null,null,{"$f":"IFERROR(FIND(\"_\",Table3[[#This Row],[شماره تماس]]),0)","v":0},{"$f":"IF(Table3[[#This Row],[چندم]]=0,Table3[[#This Row],[شماره تماس]],MID(Table3[[#This Row],[شماره تماس]],1,Table3[[#This Row],[چندم]]-1))","v":0},{"$f":"IF(Table3[[#This Row],[چندم]]=0,\"\",MID(Table3[[#This Row],[شماره تماس]],Table3[[#This Row],[چندم]]+1,30))","v":""}]
[null,304,null,null,null,{"$f":"IFERROR(FIND(\"_\",Table3[[#This Row],[شماره تماس]]),0)","v":0},{"$f":"IF(Table3[[#This Row],[چندم]]=0,Table3[[#This Row],[شماره تماس]],MID(Table3[[#This Row],[شماره تماس]],1,Table3[[#This Row],[چندم]]-1))","v":0},{"$f":"IF(Table3[[#This Row],[چندم]]=0,\"\",MID(Table3[[#This Row],[شماره تماس]],Table3[[#This Row],[چندم]]+1,30))","v":""}]
[null,305,null,null,null,{"$f":"IFERROR(FIND(\"_\",Table3[[#This Row],[شماره تماس]]),0)","v":0},{"$f":"IF(Table3[[#This Row],[چندم]]=0,Table3[[#This Row],[شماره تماس]],MID(Table3[[#This Row],[شماره تماس]],1,Table3[[#This Row],[چندم]]-1))","v":0},{"$f":"IF(Table3[[#This Row],[چندم]]=0,\"\",MID(Table3[[#This Row],[شماره تماس]],Table3[[#This Row],[چندم]]+1,30))","v":""}]
[null,306,null,null,null,{"$f":"IFERROR(FIND(\"_\",Table3[[#This Row],[شماره تماس]]),0)","v":0},{"$f":"IF(Table3[[#This Row],[چندم]]=0,Table3[[#This Row],[شماره تماس]],MID(Table3[[#This Row],[شماره تماس]],1,Table3[[#This Row],[چندم]]-1))","v":0},{"$f":"IF(Table3[[#This Row],[چندم]]=0,\"\",MID(Table3[[#This Row],[شماره تماس]],Table3[[#This Row],[چندم]]+1,30))","v":""}]
[null,307,null,null,null,{"$f":"IFERROR(FIND(\"_\",Table3[[#This Row],[شماره تماس]]),0)","v":0},{"$f":"IF(Table3[[#This Row],[چندم]]=0,Table3[[#This Row],[شماره تماس]],MID(Table3[[#This Row],[شماره تماس]],1,Table3[[#This Row],[چندم]]-1))","v":0},{"$f":"IF(Table3[[#This Row],[چندم]]=0,\"\",MID(Table3[[#This Row],[شماره تماس]],Table3[[#This Row],[چندم]]+1,30))","v":""}]
[null,308,null,null,null,{"$f":"IFERROR(FIND(\"_\",Table3[[#This Row],[شماره تماس]]),0)","v":0},{"$f":"IF(Table3[[#This Row],[چندم]]=0,Table3[[#This Row],[شماره تماس]],MID(Table3[[#This Row],[شماره تماس]],1,Table3[[#This Row],[چندم]]-1))","v":0},{"$f":"IF(Table3[[#This Row],[چندم]]=0,\"\",MID(Table3[[#This Row],[شماره تماس]],Table3[[#This Row],[چندم]]+1,30))","v":""}]
[null,309,null,null,null,{"$f":"IFERROR(FIND(\"_\",Table3[[#This Row],[شماره تماس]]),0)","v":0},{"$f":"IF(Table3[[#This Row],[چندم]]=0,Table3[[#This Row],[شماره تماس]],MID(Table3[[#This Row],[شماره تماس]],1,Table3[[#This Row],[چندم]]-1))","v":0},{"$f":"IF(Table3[[#This Row],[چندم]]=0,\"\",MID(Table3[[#This Row],[شماره تماس]],Table3[[#This Row],[چندم]]+1,30))","v":""}]
[null,310,null,null,null,{"$f":"IFERROR(FIND(\"_\",Table3[[#This Row],[شماره تماس]]),0)","v":0},{"$f":"IF(Table3[[#This Row],[چندم]]=0,Table3[[#This Row],[شماره تماس]],MID(Table3[[#This Row],[شماره تماس]],1,Table3[[#This Row],[چندم]]-1))","v":0},{"$f":"IF(Table3[[#This Row],[چندم]]=0,\"\",MID(Table3[[#This Row],[شماره تماس]],Table3[[#This Row],[چندم]]+1,30))","v":""}]
[null,311,null,null,null,{"$f":"IFERROR(FIND(\"_\",Table3[[#This Row],[شماره تماس]]),0)","v":0},{"$f":"IF(Table3[[#This Row],[چندم]]=0,Table3[[#This Row],[شماره تماس]],MID(Table3[[#This Row],[شماره تماس]],1,Table3[[#This Row],[چندم]]-1))","v":0},{"$f":"IF(Table3[[#This Row],[چندم]]=0,\"\",MID(Table3[[#This Row],[شماره تماس]],Table3[[#This Row],[چندم]]+1,30))","v":""}]
[null,312,null,null,null,{"$f":"IFERROR(FIND(\"_\",Table3[[#This Row],[شماره تماس]]),0)","v":0},{"$f":"IF(Table3[[#This Row],[چندم]]=0,Table3[[#This Row],[شماره تماس]],MID(Table3[[#This Row],[شماره تماس]],1,Table3[[#This Row],[چندم]]-1))","v":0},{"$f":"IF(Table3[[#This Row],[چندم]]=0,\"\",MID(Table3[[#This Row],[شماره تماس]],Table3[[#This Row],[چندم]]+1,30))","v":""}]
[null,313,null,null,null,{"$f":"IFERROR(FIND(\"_\",Table3[[#This Row],[شماره تماس]]),0)","v":0},{"$f":"IF(Table3[[#This Row],[چندم]]=0,Table3[[#This Row],[شماره تماس]],MID(Table3[[#This Row],[شماره تماس]],1,Table3[[#This Row],[چندم]]-1))","v":0},{"$f":"IF(Table3[[#This Row],[چندم]]=0,\"\",MID(Table3[[#This Row],[شماره تماس]],Table3[[#This Row],[چندم]]+1,30))","v":""}]
[null,314,null,null,null,{"$f":"IFERROR(FIND(\"_\",Table3[[#This Row],[شماره تماس]]),0)","v":0},{"$f":"IF(Table3[[#This Row],[چندم]]=0,Table3[[#This Row],[شماره تماس]],MID(Table3[[#This Row],[شماره تماس]],1,Table3[[#This Row],[چندم]]-1))","v":0},{"$f":"IF(Table3[[#This Row],[چندم]]=0,\"\",MID(Table3[[#This Row],[شماره تماس]],Table3[[#This Row],[چندم]]+1,30))","v":""}]
[null,315,null,null,null,{"$f":"IFERROR(FIND(\"_\",Table3[[#This Row],[شماره تماس]]),0)","v":0},{"$f":"IF(Table3[[#This Row],[چندم]]=0,Table3[[#This Row],[شماره تماس]],MID(Table3[[#This Row],[شماره تماس]],1,Table3[[#This Row],[چندم]]-1))","v":0},{"$f":"IF(Table3[[#This Row],[چندم]]=0,\"\",MID(Table3[[#This Row],[شماره تماس]],Table3[[#This Row],[چندم]]+1,30))","v":""}]
[null,316,null,null,null,{"$f":"IFERROR(FIND(\"_\",Table3[[#This Row],[شماره تماس]]),0)","v":0},{"$f":"IF(Table3[[#This Row],[چندم]]=0,Table3[[#This Row],[شماره تماس]],MID(Table3[[#This Row],[شماره تماس]],1,Table3[[#This Row],[چندم]]-1))","v":0},{"$f":"IF(Table3[[#This Row],[چندم]]=0,\"\",MID(Table3[[#This Row],[شماره تماس]],Table3[[#This Row],[چندم]]+1,30))","v":""}]
[null,317,null,null,null,{"$f":"IFERROR(FIND(\"_\",Table3[[#This Row],[شماره تماس]]),0)","v":0},{"$f":"IF(Table3[[#This Row],[چندم]]=0,Table3[[#This Row],[شماره تماس]],MID(Table3[[#This Row],[شماره تماس]],1,Table3[[#This Row],[چندم]]-1))","v":0},{"$f":"IF(Table3[[#This Row],[چندم]]=0,\"\",MID(Table3[[#This Row],[شماره تماس]],Table3[[#This Row],[چندم]]+1,30))","v":""}]
[null,318,null,null,null,{"$f":"IFERROR(FIND(\"_\",Table3[[#This Row],[شماره تماس]]),0)","v":0},{"$f":"IF(Table3[[#This Row],[چندم]]=0,Table3[[#This Row],[شماره تماس]],MID(Table3[[#This Row],[شماره تماس]],1,Table3[[#This Row],[چندم]]-1))","v":0},{"$f":"IF(Table3[[#This Row],[چندم]]=0,\"\",MID(Table3[[#This Row],[شماره تماس]],Table3[[#This Row],[چندم]]+1,30))","v":""}]
[null,319,null,null,null,{"$f":"IFERROR(FIND(\"_\",Table3[[#This Row],[شماره تماس]]),0)","v":0},{"$f":"IF(Table3[[#This Row],[چندم]]=0,Table3[[#This Row],[شماره تماس]],MID(Table3[[#This Row],[شماره تماس]],1,Table3[[#This Row],[چندم]]-1))","v":0},{"$f":"IF(Table3[[#This Row],[چندم]]=0,\"\",MID(Table3[[#This Row],[شماره تماس]],Table3[[#This Row],[چندم]]+1,30))","v":""}]
[null,320,null,null,null,{"$f":"IFERROR(FIND(\"_\",Table3[[#This Row],[شماره تماس]]),0)","v":0},{"$f":"IF(Table3[[#This Row],[چندم]]=0,Table3[[#This Row],[شماره تماس]],MID(Table3[[#This Row],[شماره تماس]],1,Table3[[#This Row],[چندم]]-1))","v":0},{"$f":"IF(Table3[[#This Row],[چندم]]=0,\"\",MID(Table3[[#This Row],[شماره تماس]],Table3[[#This Row],[چندم]]+1,30))","v":""}]
[null,321,null,null,null,{"$f":"IFERROR(FIND(\"_\",Table3[[#This Row],[شماره تماس]]),0)","v":0},{"$f":"IF(Table3[[#This Row],[چندم]]=0,Table3[[#This Row],[شماره تماس]],MID(Table3[[#This Row],[شماره تماس]],1,Table3[[#This Row],[چندم]]-1))","v":0},{"$f":"IF(Table3[[#This Row],[چندم]]=0,\"\",MID(Table3[[#This Row],[شماره تماس]],Table3[[#This Row],[چندم]]+1,30))","v":""}]
[null,322,null,null,null,{"$f":"IFERROR(FIND(\"_\",Table3[[#This Row],[شماره تماس]]),0)","v":0},{"$f":"IF(Table3[[#This Row],[چندم]]=0,Table3[[#This Row],[شماره تماس]],MID(Table3[[#This Row],[شماره تماس]],1,Table3[[#This Row],[چندم]]-1))","v":0},{"$f":"IF(Table3[[#This Row],[چندم]]=0,\"\",MID(Table3[[#This Row],[شماره تماس]],Table3[[#This Row],[چندم]]+1,30))","v":""}]
[null,323,null,null,null,{"$f":"IFERROR(FIND(\"_\",Table3[[#This Row],[شماره تماس]]),0)","v":0},{"$f":"IF(Table3[[#This Row],[چندم]]=0,Table3[[#This Row],[شماره تماس]],MID(Table3[[#This Row],[شماره تماس]],1,Table3[[#This Row],[چندم]]-1))","v":0},{"$f":"IF(Table3[[#This Row],[چندم]]=0,\"\",MID(Table3[[#This Row],[شماره تماس]],Table3[[#This Row],[چندم]]+1,30))","v":""}]
[null,324,null,null,null,{"$f":"IFERROR(FIND(\"_\",Table3[[#This Row],[شماره تماس]]),0)","v":0},{"$f":"IF(Table3[[#This Row],[چندم]]=0,Table3[[#This Row],[شماره تماس]],MID(Table3[[#This Row],[شماره تماس]],1,Table3[[#This Row],[چندم]]-1))","v":0},{"$f":"IF(Table3[[#This Row],[چندم]]=0,\"\",MID(Table3[[#This Row],[شماره تماس]],Table3[[#This Row],[چندم]]+1,30))","v":""}]
[null,325,null,null,null,{"$f":"IFERROR(FIND(\"_\",Table3[[#This Row],[شماره تماس]]),0)","v":0},{"$f":"IF(Table3[[#This Row],[چندم]]=0,Table3[[#This Row],[شماره تماس]],MID(Table3[[#This Row],[شماره تماس]],1,Table3[[#This Row],[چندم]]-1))","v":0},{"$f":"IF(Table3[[#This Row],[چندم]]=0,\"\",MID(Table3[[#This Row],[شماره تماس]],Table3[[#This Row],[چندم]]+1,30))","v":""}]
[null,326,null,null,null,{"$f":"IFERROR(FIND(\"_\",Table3[[#This Row],[شماره تماس]]),0)","v":0},{"$f":"IF(Table3[[#This Row],[چندم]]=0,Table3[[#This Row],[شماره تماس]],MID(Table3[[#This Row],[شماره تماس]],1,Table3[[#This Row],[چندم]]-1))","v":0},{"$f":"IF(Table3[[#This Row],[چندم]]=0,\"\",MID(Table3[[#This Row],[شماره تماس]],Table3[[#This Row],[چندم]]+1,30))","v":""}]
[null,327,null,null,null,{"$f":"IFERROR(FIND(\"_\",Table3[[#This Row],[شماره تماس]]),0)","v":0},{"$f":"IF(Table3[[#This Row],[چندم]]=0,Table3[[#This Row],[شماره تماس]],MID(Table3[[#This Row],[شماره تماس]],1,Table3[[#This Row],[چندم]]-1))","v":0},{"$f":"IF(Table3[[#This Row],[چندم]]=0,\"\",MID(Table3[[#This Row],[شماره تماس]],Table3[[#This Row],[چندم]]+1,30))","v":""}]
[null,328,null,null,null,{"$f":"IFERROR(FIND(\"_\",Table3[[#This Row],[شماره تماس]]),0)","v":0},{"$f":"IF(Table3[[#This Row],[چندم]]=0,Table3[[#This Row],[شماره تماس]],MID(Table3[[#This Row],[شماره تماس]],1,Table3[[#This Row],[چندم]]-1))","v":0},{"$f":"IF(Table3[[#This Row],[چندم]]=0,\"\",MID(Table3[[#This Row],[شماره تماس]],Table3[[#This Row],[چندم]]+1,30))","v":""}]
[null,329,null,null,null,{"$f":"IFERROR(FIND(\"_\",Table3[[#This Row],[شماره تماس]]),0)","v":0},{"$f":"IF(Table3[[#This Row],[چندم]]=0,Table3[[#This Row],[شماره تماس]],MID(Table3[[#This Row],[شماره تماس]],1,Table3[[#This Row],[چندم]]-1))","v":0},{"$f":"IF(Table3[[#This Row],[چندم]]=0,\"\",MID(Table3[[#This Row],[شماره تماس]],Table3[[#This Row],[چندم]]+1,30))","v":""}]
[null,330,null,null,null,{"$f":"IFERROR(FIND(\"_\",Table3[[#This Row],[شماره تماس]]),0)","v":0},{"$f":"IF(Table3[[#This Row],[چندم]]=0,Table3[[#This Row],[شماره تماس]],MID(Table3[[#This Row],[شماره تماس]],1,Table3[[#This Row],[چندم]]-1))","v":0},{"$f":"IF(Table3[[#This Row],[چندم]]=0,\"\",MID(Table3[[#This Row],[شماره تماس]],Table3[[#This Row],[چندم]]+1,30))","v":""}]
[null,331,null,null,null,{"$f":"IFERROR(FIND(\"_\",Table3[[#This Row],[شماره تماس]]),0)","v":0},{"$f":"IF(Table3[[#This Row],[چندم]]=0,Table3[[#This Row],[شماره تماس]],MID(Table3[[#This Row],[شماره تماس]],1,Table3[[#This Row],[چندم]]-1))","v":0},{"$f":"IF(Table3[[#This Row],[چندم]]=0,\"\",MID(Table3[[#This Row],[شماره تماس]],Table3[[#This Row],[چندم]]+1,30))","v":""}]
[null,332,null,null,null,{"$f":"IFERROR(FIND(\"_\",Table3[[#This Row],[شماره تماس]]),0)","v":0},{"$f":"IF(Table3[[#This Row],[چندم]]=0,Table3[[#This Row],[شماره تماس]],MID(Table3[[#This Row],[شماره تماس]],1,Table3[[#This Row],[چندم]]-1))","v":0},{"$f":"IF(Table3[[#This Row],[چندم]]=0,\"\",MID(Table3[[#This Row],[شماره تماس]],Table3[[#This Row],[چندم]]+1,30))","v":""}]
[null,333,null,null,null,{"$f":"IFERROR(FIND(\"_\",Table3[[#This Row],[شماره تماس]]),0)","v":0},{"$f":"IF(Table3[[#This Row],[چندم]]=0,Table3[[#This Row],[شماره تماس]],MID(Table3[[#This Row],[شماره تماس]],1,Table3[[#This Row],[چندم]]-1))","v":0},{"$f":"IF(Table3[[#This Row],[چندم]]=0,\"\",MID(Table3[[#This Row],[شماره تماس]],Table3[[#This Row],[چندم]]+1,30))","v":""}]
[null,334,null,null,null,{"$f":"IFERROR(FIND(\"_\",Table3[[#This Row],[شماره تماس]]),0)","v":0},{"$f":"IF(Table3[[#This Row],[چندم]]=0,Table3[[#This Row],[شماره تماس]],MID(Table3[[#This Row],[شماره تماس]],1,Table3[[#This Row],[چندم]]-1))","v":0},{"$f":"IF(Table3[[#This Row],[چندم]]=0,\"\",MID(Table3[[#This Row],[شماره تماس]],Table3[[#This Row],[چندم]]+1,30))","v":""}]
[null,335,null,null,null,{"$f":"IFERROR(FIND(\"_\",Table3[[#This Row],[شماره تماس]]),0)","v":0},{"$f":"IF(Table3[[#This Row],[چندم]]=0,Table3[[#This Row],[شماره تماس]],MID(Table3[[#This Row],[شماره تماس]],1,Table3[[#This Row],[چندم]]-1))","v":0},{"$f":"IF(Table3[[#This Row],[چندم]]=0,\"\",MID(Table3[[#This Row],[شماره تماس]],Table3[[#This Row],[چندم]]+1,30))","v":""}]
[null,336,null,null,null,{"$f":"IFERROR(FIND(\"_\",Table3[[#This Row],[شماره تماس]]),0)","v":0},{"$f":"IF(Table3[[#This Row],[چندم]]=0,Table3[[#This Row],[شماره تماس]],MID(Table3[[#This Row],[شماره تماس]],1,Table3[[#This Row],[چندم]]-1))","v":0},{"$f":"IF(Table3[[#This Row],[چندم]]=0,\"\",MID(Table3[[#This Row],[شماره تماس]],Table3[[#This Row],[چندم]]+1,30))","v":""}]
[null,337,null,null,null,{"$f":"IFERROR(FIND(\"_\",Table3[[#This Row],[شماره تماس]]),0)","v":0},{"$f":"IF(Table3[[#This Row],[چندم]]=0,Table3[[#This Row],[شماره تماس]],MID(Table3[[#This Row],[شماره تماس]],1,Table3[[#This Row],[چندم]]-1))","v":0},{"$f":"IF(Table3[[#This Row],[چندم]]=0,\"\",MID(Table3[[#This Row],[شماره تماس]],Table3[[#This Row],[چندم]]+1,30))","v":""}]
[null,338,null,null,null,{"$f":"IFERROR(FIND(\"_\",Table3[[#This Row],[شماره تماس]]),0)","v":0},{"$f":"IF(Table3[[#This Row],[چندم]]=0,Table3[[#This Row],[شماره تماس]],MID(Table3[[#This Row],[شماره تماس]],1,Table3[[#This Row],[چندم]]-1))","v":0},{"$f":"IF(Table3[[#This Row],[چندم]]=0,\"\",MID(Table3[[#This Row],[شماره تماس]],Table3[[#This Row],[چندم]]+1,30))","v":""}]
[null,339,null,null,null,{"$f":"IFERROR(FIND(\"_\",Table3[[#This Row],[شماره تماس]]),0)","v":0},{"$f":"IF(Table3[[#This Row],[چندم]]=0,Table3[[#This Row],[شماره تماس]],MID(Table3[[#This Row],[شماره تماس]],1,Table3[[#This Row],[چندم]]-1))","v":0},{"$f":"IF(Table3[[#This Row],[چندم]]=0,\"\",MID(Table3[[#This Row],[شماره تماس]],Table3[[#This Row],[چندم]]+1,30))","v":""}]
[null,340,null,null,null,{"$f":"IFERROR(FIND(\"_\",Table3[[#This Row],[شماره تماس]]),0)","v":0},{"$f":"IF(Table3[[#This Row],[چندم]]=0,Table3[[#This Row],[شماره تماس]],MID(Table3[[#This Row],[شماره تماس]],1,Table3[[#This Row],[چندم]]-1))","v":0},{"$f":"IF(Table3[[#This Row],[چندم]]=0,\"\",MID(Table3[[#This Row],[شماره تماس]],Table3[[#This Row],[چندم]]+1,30))","v":""}]
[null,341,null,null,null,{"$f":"IFERROR(FIND(\"_\",Table3[[#This Row],[شماره تماس]]),0)","v":0},{"$f":"IF(Table3[[#This Row],[چندم]]=0,Table3[[#This Row],[شماره تماس]],MID(Table3[[#This Row],[شماره تماس]],1,Table3[[#This Row],[چندم]]-1))","v":0},{"$f":"IF(Table3[[#This Row],[چندم]]=0,\"\",MID(Table3[[#This Row],[شماره تماس]],Table3[[#This Row],[چندم]]+1,30))","v":""}]
[null,342,null,null,null,{"$f":"IFERROR(FIND(\"_\",Table3[[#This Row],[شماره تماس]]),0)","v":0},{"$f":"IF(Table3[[#This Row],[چندم]]=0,Table3[[#This Row],[شماره تماس]],MID(Table3[[#This Row],[شماره تماس]],1,Table3[[#This Row],[چندم]]-1))","v":0},{"$f":"IF(Table3[[#This Row],[چندم]]=0,\"\",MID(Table3[[#This Row],[شماره تماس]],Table3[[#This Row],[چندم]]+1,30))","v":""}]
[null,343,null,null,null,{"$f":"IFERROR(FIND(\"_\",Table3[[#This Row],[شماره تماس]]),0)","v":0},{"$f":"IF(Table3[[#This Row],[چندم]]=0,Table3[[#This Row],[شماره تماس]],MID(Table3[[#This Row],[شماره تماس]],1,Table3[[#This Row],[چندم]]-1))","v":0},{"$f":"IF(Table3[[#This Row],[چندم]]=0,\"\",MID(Table3[[#This Row],[شماره تماس]],Table3[[#This Row],[چندم]]+1,30))","v":""}]
[null,344,null,null,null,{"$f":"IFERROR(FIND(\"_\",Table3[[#This Row],[شماره تماس]]),0)","v":0},{"$f":"IF(Table3[[#This Row],[چندم]]=0,Table3[[#This Row],[شماره تماس]],MID(Table3[[#This Row],[شماره تماس]],1,Table3[[#This Row],[چندم]]-1))","v":0},{"$f":"IF(Table3[[#This Row],[چندم]]=0,\"\",MID(Table3[[#This Row],[شماره تماس]],Table3[[#This Row],[چندم]]+1,30))","v":""}]
[null,345,null,null,null,{"$f":"IFERROR(FIND(\"_\",Table3[[#This Row],[شماره تماس]]),0)","v":0},{"$f":"IF(Table3[[#This Row],[چندم]]=0,Table3[[#This Row],[شماره تماس]],MID(Table3[[#This Row],[شماره تماس]],1,Table3[[#This Row],[چندم]]-1))","v":0},{"$f":"IF(Table3[[#This Row],[چندم]]=0,\"\",MID(Table3[[#This Row],[شماره تماس]],Table3[[#This Row],[چندم]]+1,30))","v":""}]
[null,346,null,null,null,{"$f":"IFERROR(FIND(\"_\",Table3[[#This Row],[شماره تماس]]),0)","v":0},{"$f":"IF(Table3[[#This Row],[چندم]]=0,Table3[[#This Row],[شماره تماس]],MID(Table3[[#This Row],[شماره تماس]],1,Table3[[#This Row],[چندم]]-1))","v":0},{"$f":"IF(Table3[[#This Row],[چندم]]=0,\"\",MID(Table3[[#This Row],[شماره تماس]],Table3[[#This Row],[چندم]]+1,30))","v":""}]
[null,347,null,null,null,{"$f":"IFERROR(FIND(\"_\",Table3[[#This Row],[شماره تماس]]),0)","v":0},{"$f":"IF(Table3[[#This Row],[چندم]]=0,Table3[[#This Row],[شماره تماس]],MID(Table3[[#This Row],[شماره تماس]],1,Table3[[#This Row],[چندم]]-1))","v":0},{"$f":"IF(Table3[[#This Row],[چندم]]=0,\"\",MID(Table3[[#This Row],[شماره تماس]],Table3[[#This Row],[چندم]]+1,30))","v":""}]
[null,348,null,null,null,{"$f":"IFERROR(FIND(\"_\",Table3[[#This Row],[شماره تماس]]),0)","v":0},{"$f":"IF(Table3[[#This Row],[چندم]]=0,Table3[[#This Row],[شماره تماس]],MID(Table3[[#This Row],[شماره تماس]],1,Table3[[#This Row],[چندم]]-1))","v":0},{"$f":"IF(Table3[[#This Row],[چندم]]=0,\"\",MID(Table3[[#This Row],[شماره تماس]],Table3[[#This Row],[چندم]]+1,30))","v":""}]
[null,349,null,null,null,{"$f":"IFERROR(FIND(\"_\",Table3[[#This Row],[شماره تماس]]),0)","v":0},{"$f":"IF(Table3[[#This Row],[چندم]]=0,Table3[[#This Row],[شماره تماس]],MID(Table3[[#This Row],[شماره تماس]],1,Table3[[#This Row],[چندم]]-1))","v":0},{"$f":"IF(Table3[[#This Row],[چندم]]=0,\"\",MID(Table3[[#This Row],[شماره تماس]],Table3[[#This Row],[چندم]]+1,30))","v":""}]
[null,350,null,null,null,{"$f":"IFERROR(FIND(\"_\",Table3[[#This Row],[شماره تماس]]),0)","v":0},{"$f":"IF(Table3[[#This Row],[چندم]]=0,Table3[[#This Row],[شماره تماس]],MID(Table3[[#This Row],[شماره تماس]],1,Table3[[#This Row],[چندم]]-1))","v":0},{"$f":"IF(Table3[[#This Row],[چندم]]=0,\"\",MID(Table3[[#This Row],[شماره تماس]],Table3[[#This Row],[چندم]]+1,30))","v":""}]
[null,351,null,null,null,{"$f":"IFERROR(FIND(\"_\",Table3[[#This Row],[شماره تماس]]),0)","v":0},{"$f":"IF(Table3[[#This Row],[چندم]]=0,Table3[[#This Row],[شماره تماس]],MID(Table3[[#This Row],[شماره تماس]],1,Table3[[#This Row],[چندم]]-1))","v":0},{"$f":"IF(Table3[[#This Row],[چندم]]=0,\"\",MID(Table3[[#This Row],[شماره تماس]],Table3[[#This Row],[چندم]]+1,30))","v":""}]
[null,352,null,null,null,{"$f":"IFERROR(FIND(\"_\",Table3[[#This Row],[شماره تماس]]),0)","v":0},{"$f":"IF(Table3[[#This Row],[چندم]]=0,Table3[[#This Row],[شماره تماس]],MID(Table3[[#This Row],[شماره تماس]],1,Table3[[#This Row],[چندم]]-1))","v":0},{"$f":"IF(Table3[[#This Row],[چندم]]=0,\"\",MID(Table3[[#This Row],[شماره تماس]],Table3[[#This Row],[چندم]]+1,30))","v":""}]
[null,353,null,null,null,{"$f":"IFERROR(FIND(\"_\",Table3[[#This Row],[شماره تماس]]),0)","v":0},{"$f":"IF(Table3[[#This Row],[چندم]]=0,Table3[[#This Row],[شماره تماس]],MID(Table3[[#This Row],[شماره تماس]],1,Table3[[#This Row],[چندم]]-1))","v":0},{"$f":"IF(Table3[[#This Row],[چندم]]=0,\"\",MID(Table3[[#This Row],[شماره تماس]],Table3[[#This Row],[چندم]]+1,30))","v":""}]
[null,354,null,null,null,{"$f":"IFERROR(FIND(\"_\",Table3[[#This Row],[شماره تماس]]),0)","v":0},{"$f":"IF(Table3[[#This Row],[چندم]]=0,Table3[[#This Row],[شماره تماس]],MID(Table3[[#This Row],[شماره تماس]],1,Table3[[#This Row],[چندم]]-1))","v":0},{"$f":"IF(Table3[[#This Row],[چندم]]=0,\"\",MID(Table3[[#This Row],[شماره تماس]],Table3[[#This Row],[چندم]]+1,30))","v":""}]
[null,355,null,null,null,{"$f":"IFERROR(FIND(\"_\",Table3[[#This Row],[شماره تماس]]),0)","v":0},{"$f":"IF(Table3[[#This Row],[چندم]]=0,Table3[[#This Row],[شماره تماس]],MID(Table3[[#This Row],[شماره تماس]],1,Table3[[#This Row],[چندم]]-1))","v":0},{"$f":"IF(Table3[[#This Row],[چندم]]=0,\"\",MID(Table3[[#This Row],[شماره تماس]],Table3[[#This Row],[چندم]]+1,30))","v":""}]
[null,356,null,null,null,{"$f":"IFERROR(FIND(\"_\",Table3[[#This Row],[شماره تماس]]),0)","v":0},{"$f":"IF(Table3[[#This Row],[چندم]]=0,Table3[[#This Row],[شماره تماس]],MID(Table3[[#This Row],[شماره تماس]],1,Table3[[#This Row],[چندم]]-1))","v":0},{"$f":"IF(Table3[[#This Row],[چندم]]=0,\"\",MID(Table3[[#This Row],[شماره تماس]],Table3[[#This Row],[چندم]]+1,30))","v":""}]
[null,357,null,null,null,{"$f":"IFERROR(FIND(\"_\",Table3[[#This Row],[شماره تماس]]),0)","v":0},{"$f":"IF(Table3[[#This Row],[چندم]]=0,Table3[[#This Row],[شماره تماس]],MID(Table3[[#This Row],[شماره تماس]],1,Table3[[#This Row],[چندم]]-1))","v":0},{"$f":"IF(Table3[[#This Row],[چندم]]=0,\"\",MID(Table3[[#This Row],[شماره تماس]],Table3[[#This Row],[چندم]]+1,30))","v":""}]
[null,358,null,null,null,{"$f":"IFERROR(FIND(\"_\",Table3[[#This Row],[شماره تماس]]),0)","v":0},{"$f":"IF(Table3[[#This Row],[چندم]]=0,Table3[[#This Row],[شماره تماس]],MID(Table3[[#This Row],[شماره تماس]],1,Table3[[#This Row],[چندم]]-1))","v":0},{"$f":"IF(Table3[[#This Row],[چندم]]=0,\"\",MID(Table3[[#This Row],[شماره تماس]],Table3[[#This Row],[چندم]]+1,30))","v":""}]
[null,{"$f":"ROW()-3","v":359},null,null,null,{"$f":"IFERROR(FIND(\"_\",Table3[[#This Row],[شماره تماس]]),0)","v":0},{"$f":"IF(Table3[[#This Row],[چندم]]=0,Table3[[#This Row],[شماره تماس]],MID(Table3[[#This Row],[شماره تماس]],1,Table3[[#This Row],[چندم]]-1))","v":0},{"$f":"IF(Table3[[#This Row],[چندم]]=0,\"\",MID(Table3[[#This Row],[شماره تماس]],Table3[[#This Row],[چندم]]+1,30))","v":""}]
[null,360,null,null,null,{"$f":"IFERROR(FIND(\"_\",Table3[[#This Row],[شماره تماس]]),0)","v":0},{"$f":"IF(Table3[[#This Row],[چندم]]=0,Table3[[#This Row],[شماره تماس]],MID(Table3[[#This Row],[شماره تماس]],1,Table3[[#This Row],[چندم]]-1))","v":0},{"$f":"IF(Table3[[#This Row],[چندم]]=0,\"\",MID(Table3[[#This Row],[شماره تماس]],Table3[[#This Row],[چندم]]+1,30))","v":""}]
[null,361,null,null,null,{"$f":"IFERROR(FIND(\"_\",Table3[[#This Row],[شماره تماس]]),0)","v":0},{"$f":"IF(Table3[[#This Row],[چندم]]=0,Table3[[#This Row],[شماره تماس]],MID(Table3[[#This Row],[شماره تماس]],1,Table3[[#This Row],[چندم]]-1))","v":0},{"$f":"IF(Table3[[#This Row],[چندم]]=0,\"\",MID(Table3[[#This Row],[شماره تماس]],Table3[[#This Row],[چندم]]+1,30))","v":""}]
[null,362,null,null,null,{"$f":"IFERROR(FIND(\"_\",Table3[[#This Row],[شماره تماس]]),0)","v":0},{"$f":"IF(Table3[[#This Row],[چندم]]=0,Table3[[#This Row],[شماره تماس]],MID(Table3[[#This Row],[شماره تماس]],1,Table3[[#This Row],[چندم]]-1))","v":0},{"$f":"IF(Table3[[#This Row],[چندم]]=0,\"\",MID(Table3[[#This Row],[شماره تماس]],Table3[[#This Row],[چندم]]+1,30))","v":""}]
[null,363,null,null,null,{"$f":"IFERROR(FIND(\"_\",Table3[[#This Row],[شماره تماس]]),0)","v":0},{"$f":"IF(Table3[[#This Row],[چندم]]=0,Table3[[#This Row],[شماره تماس]],MID(Table3[[#This Row],[شماره تماس]],1,Table3[[#This Row],[چندم]]-1))","v":0},{"$f":"IF(Table3[[#This Row],[چندم]]=0,\"\",MID(Table3[[#This Row],[شماره تماس]],Table3[[#This Row],[چندم]]+1,30))","v":""}]
[null,364,null,null,null,{"$f":"IFERROR(FIND(\"_\",Table3[[#This Row],[شماره تماس]]),0)","v":0},{"$f":"IF(Table3[[#This Row],[چندم]]=0,Table3[[#This Row],[شماره تماس]],MID(Table3[[#This Row],[شماره تماس]],1,Table3[[#This Row],[چندم]]-1))","v":0},{"$f":"IF(Table3[[#This Row],[چندم]]=0,\"\",MID(Table3[[#This Row],[شماره تماس]],Table3[[#This Row],[چندم]]+1,30))","v":""}]
[null,365,null,null,null,{"$f":"IFERROR(FIND(\"_\",Table3[[#This Row],[شماره تماس]]),0)","v":0},{"$f":"IF(Table3[[#This Row],[چندم]]=0,Table3[[#This Row],[شماره تماس]],MID(Table3[[#This Row],[شماره تماس]],1,Table3[[#This Row],[چندم]]-1))","v":0},{"$f":"IF(Table3[[#This Row],[چندم]]=0,\"\",MID(Table3[[#This Row],[شماره تماس]],Table3[[#This Row],[چندم]]+1,30))","v":""}]
[null,366,null,null,null,{"$f":"IFERROR(FIND(\"_\",Table3[[#This Row],[شماره تماس]]),0)","v":0},{"$f":"IF(Table3[[#This Row],[چندم]]=0,Table3[[#This Row],[شماره تماس]],MID(Table3[[#This Row],[شماره تماس]],1,Table3[[#This Row],[چندم]]-1))","v":0},{"$f":"IF(Table3[[#This Row],[چندم]]=0,\"\",MID(Table3[[#This Row],[شماره تماس]],Table3[[#This Row],[چندم]]+1,30))","v":""}]
[null,367,null,null,null,{"$f":"IFERROR(FIND(\"_\",Table3[[#This Row],[شماره تماس]]),0)","v":0},{"$f":"IF(Table3[[#This Row],[چندم]]=0,Table3[[#This Row],[شماره تماس]],MID(Table3[[#This Row],[شماره تماس]],1,Table3[[#This Row],[چندم]]-1))","v":0},{"$f":"IF(Table3[[#This Row],[چندم]]=0,\"\",MID(Table3[[#This Row],[شماره تماس]],Table3[[#This Row],[چندم]]+1,30))","v":""}]
[null,368,null,null,null,{"$f":"IFERROR(FIND(\"_\",Table3[[#This Row],[شماره تماس]]),0)","v":0},{"$f":"IF(Table3[[#This Row],[چندم]]=0,Table3[[#This Row],[شماره تماس]],MID(Table3[[#This Row],[شماره تماس]],1,Table3[[#This Row],[چندم]]-1))","v":0},{"$f":"IF(Table3[[#This Row],[چندم]]=0,\"\",MID(Table3[[#This Row],[شماره تماس]],Table3[[#This Row],[چندم]]+1,30))","v":""}]
[null,369,null,null,null,{"$f":"IFERROR(FIND(\"_\",Table3[[#This Row],[شماره تماس]]),0)","v":0},{"$f":"IF(Table3[[#This Row],[چندم]]=0,Table3[[#This Row],[شماره تماس]],MID(Table3[[#This Row],[شماره تماس]],1,Table3[[#This Row],[چندم]]-1))","v":0},{"$f":"IF(Table3[[#This Row],[چندم]]=0,\"\",MID(Table3[[#This Row],[شماره تماس]],Table3[[#This Row],[چندم]]+1,30))","v":""}]
[null,370,null,null,null,{"$f":"IFERROR(FIND(\"_\",Table3[[#This Row],[شماره تماس]]),0)","v":0},{"$f":"IF(Table3[[#This Row],[چندم]]=0,Table3[[#This Row],[شماره تماس]],MID(Table3[[#This Row],[شماره تماس]],1,Table3[[#This Row],[چندم]]-1))","v":0},{"$f":"IF(Table3[[#This Row],[چندم]]=0,\"\",MID(Table3[[#This Row],[شماره تماس]],Table3[[#This Row],[چندم]]+1,30))","v":""}]
[null,371,null,null,null,{"$f":"IFERROR(FIND(\"_\",Table3[[#This Row],[شماره تماس]]),0)","v":0},{"$f":"IF(Table3[[#This Row],[چندم]]=0,Table3[[#This Row],[شماره تماس]],MID(Table3[[#This Row],[شماره تماس]],1,Table3[[#This Row],[چندم]]-1))","v":0},{"$f":"IF(Table3[[#This Row],[چندم]]=0,\"\",MID(Table3[[#This Row],[شماره تماس]],Table3[[#This Row],[چندم]]+1,30))","v":""}]
[null,372,null,null,null,{"$f":"IFERROR(FIND(\"_\",Table3[[#This Row],[شماره تماس]]),0)","v":0},{"$f":"IF(Table3[[#This Row],[چندم]]=0,Table3[[#This Row],[شماره تماس]],MID(Table3[[#This Row],[شماره تماس]],1,Table3[[#This Row],[چندم]]-1))","v":0},{"$f":"IF(Table3[[#This Row],[چندم]]=0,\"\",MID(Table3[[#This Row],[شماره تماس]],Table3[[#This Row],[چندم]]+1,30))","v":""}]
[null,373,null,null,null,{"$f":"IFERROR(FIND(\"_\",Table3[[#This Row],[شماره تماس]]),0)","v":0},{"$f":"IF(Table3[[#This Row],[چندم]]=0,Table3[[#This Row],[شماره تماس]],MID(Table3[[#This Row],[شماره تماس]],1,Table3[[#This Row],[چندم]]-1))","v":0},{"$f":"IF(Table3[[#This Row],[چندم]]=0,\"\",MID(Table3[[#This Row],[شماره تماس]],Table3[[#This Row],[چندم]]+1,30))","v":""}]
[null,374,null,null,null,{"$f":"IFERROR(FIND(\"_\",Table3[[#This Row],[شماره تماس]]),0)","v":0},{"$f":"IF(Table3[[#This Row],[چندم]]=0,Table3[[#This Row],[شماره تماس]],MID(Table3[[#This Row],[شماره تماس]],1,Table3[[#This Row],[چندم]]-1))","v":0},{"$f":"IF(Table3[[#This Row],[چندم]]=0,\"\",MID(Table3[[#This Row],[شماره تماس]],Table3[[#This Row],[چندم]]+1,30))","v":""}]
[null,375,null,null,null,{"$f":"IFERROR(FIND(\"_\",Table3[[#This Row],[شماره تماس]]),0)","v":0},{"$f":"IF(Table3[[#This Row],[چندم]]=0,Table3[[#This Row],[شماره تماس]],MID(Table3[[#This Row],[شماره تماس]],1,Table3[[#This Row],[چندم]]-1))","v":0},{"$f":"IF(Table3[[#This Row],[چندم]]=0,\"\",MID(Table3[[#This Row],[شماره تماس]],Table3[[#This Row],[چندم]]+1,30))","v":""}]
[null,376,null,null,null,{"$f":"IFERROR(FIND(\"_\",Table3[[#This Row],[شماره تماس]]),0)","v":0},{"$f":"IF(Table3[[#This Row],[چندم]]=0,Table3[[#This Row],[شماره تماس]],MID(Table3[[#This Row],[شماره تماس]],1,Table3[[#This Row],[چندم]]-1))","v":0},{"$f":"IF(Table3[[#This Row],[چندم]]=0,\"\",MID(Table3[[#This Row],[شماره تماس]],Table3[[#This Row],[چندم]]+1,30))","v":""}]
[null,377,null,null,null,{"$f":"IFERROR(FIND(\"_\",Table3[[#This Row],[شماره تماس]]),0)","v":0},{"$f":"IF(Table3[[#This Row],[چندم]]=0,Table3[[#This Row],[شماره تماس]],MID(Table3[[#This Row],[شماره تماس]],1,Table3[[#This Row],[چندم]]-1))","v":0},{"$f":"IF(Table3[[#This Row],[چندم]]=0,\"\",MID(Table3[[#This Row],[شماره تماس]],Table3[[#This Row],[چندم]]+1,30))","v":""}]
[null,378,null,null,null,{"$f":"IFERROR(FIND(\"_\",Table3[[#This Row],[شماره تماس]]),0)","v":0},{"$f":"IF(Table3[[#This Row],[چندم]]=0,Table3[[#This Row],[شماره تماس]],MID(Table3[[#This Row],[شماره تماس]],1,Table3[[#This Row],[چندم]]-1))","v":0},{"$f":"IF(Table3[[#This Row],[چندم]]=0,\"\",MID(Table3[[#This Row],[شماره تماس]],Table3[[#This Row],[چندم]]+1,30))","v":""}]
[null,379,null,null,null,{"$f":"IFERROR(FIND(\"_\",Table3[[#This Row],[شماره تماس]]),0)","v":0},{"$f":"IF(Table3[[#This Row],[چندم]]=0,Table3[[#This Row],[شماره تماس]],MID(Table3[[#This Row],[شماره تماس]],1,Table3[[#This Row],[چندم]]-1))","v":0},{"$f":"IF(Table3[[#This Row],[چندم]]=0,\"\",MID(Table3[[#This Row],[شماره تماس]],Table3[[#This Row],[چندم]]+1,30))","v":""}]
[null,380,null,null,null,{"$f":"IFERROR(FIND(\"_\",Table3[[#This Row],[شماره تماس]]),0)","v":0},{"$f":"IF(Table3[[#This Row],[چندم]]=0,Table3[[#This Row],[شماره تماس]],MID(Table3[[#This Row],[شماره تماس]],1,Table3[[#This Row],[چندم]]-1))","v":0},{"$f":"IF(Table3[[#This Row],[چندم]]=0,\"\",MID(Table3[[#This Row],[شماره تماس]],Table3[[#This Row],[چندم]]+1,30))","v":""}]
[null,381,null,null,null,{"$f":"IFERROR(FIND(\"_\",Table3[[#This Row],[شماره تماس]]),0)","v":0},{"$f":"IF(Table3[[#This Row],[چندم]]=0,Table3[[#This Row],[شماره تماس]],MID(Table3[[#This Row],[شماره تماس]],1,Table3[[#This Row],[چندم]]-1))","v":0},{"$f":"IF(Table3[[#This Row],[چندم]]=0,\"\",MID(Table3[[#This Row],[شماره تماس]],Table3[[#This Row],[چندم]]+1,30))","v":""}]
[null,382,null,null,null,{"$f":"IFERROR(FIND(\"_\",Table3[[#This Row],[شماره تماس]]),0)","v":0},{"$f":"IF(Table3[[#This Row],[چندم]]=0,Table3[[#This Row],[شماره تماس]],MID(Table3[[#This Row],[شماره تماس]],1,Table3[[#This Row],[چندم]]-1))","v":0},{"$f":"IF(Table3[[#This Row],[چندم]]=0,\"\",MID(Table3[[#This Row],[شماره تماس]],Table3[[#This Row],[چندم]]+1,30))","v":""}]
[null,383,null,null,null,{"$f":"IFERROR(FIND(\"_\",Table3[[#This Row],[شماره تماس]]),0)","v":0},{"$f":"IF(Table3[[#This Row],[چندم]]=0,Table3[[#This Row],[شماره تماس]],MID(Table3[[#This Row],[شماره تماس]],1,Table3[[#This Row],[چندم]]-1))","v":0},{"$f":"IF(Table3[[#This Row],[چندم]]=0,\"\",MID(Table3[[#This Row],[شماره تماس]],Table3[[#This Row],[چندم]]+1,30))","v":""}]
[null,384,null,null,null,{"$f":"IFERROR(FIND(\"_\",Table3[[#This Row],[شماره تماس]]),0)","v":0},{"$f":"IF(Table3[[#This Row],[چندم]]=0,Table3[[#This Row],[شماره تماس]],MID(Table3[[#This Row],[شماره تماس]],1,Table3[[#This Row],[چندم]]-1))","v":0},{"$f":"IF(Table3[[#This Row],[چندم]]=0,\"\",MID(Table3[[#This Row],[شماره تماس]],Table3[[#This Row],[چندم]]+1,30))","v":""}]
[null,385,null,null,null,{"$f":"IFERROR(FIND(\"_\",Table3[[#This Row],[شماره تماس]]),0)","v":0},{"$f":"IF(Table3[[#This Row],[چندم]]=0,Table3[[#This Row],[شماره تماس]],MID(Table3[[#This Row],[شماره تماس]],1,Table3[[#This Row],[چندم]]-1))","v":0},{"$f":"IF(Table3[[#This Row],[چندم]]=0,\"\",MID(Table3[[#This Row],[شماره تماس]],Table3[[#This Row],[چندم]]+1,30))","v":""}]
[null,386,null,null,null,{"$f":"IFERROR(FIND(\"_\",Table3[[#This Row],[شماره تماس]]),0)","v":0},{"$f":"IF(Table3[[#This Row],[چندم]]=0,Table3[[#This Row],[شماره تماس]],MID(Table3[[#This Row],[شماره تماس]],1,Table3[[#This Row],[چندم]]-1))","v":0},{"$f":"IF(Table3[[#This Row],[چندم]]=0,\"\",MID(Table3[[#This Row],[شماره تماس]],Table3[[#This Row],[چندم]]+1,30))","v":""}]
[null,387,null,null,null,{"$f":"IFERROR(FIND(\"_\",Table3[[#This Row],[شماره تماس]]),0)","v":0},{"$f":"IF(Table3[[#This Row],[چندم]]=0,Table3[[#This Row],[شماره تماس]],MID(Table3[[#This Row],[شماره تماس]],1,Table3[[#This Row],[چندم]]-1))","v":0},{"$f":"IF(Table3[[#This Row],[چندم]]=0,\"\",MID(Table3[[#This Row],[شماره تماس]],Table3[[#This Row],[چندم]]+1,30))","v":""}]
[null,388,null,null,null,{"$f":"IFERROR(FIND(\"_\",Table3[[#This Row],[شماره تماس]]),0)","v":0},{"$f":"IF(Table3[[#This Row],[چندم]]=0,Table3[[#This Row],[شماره تماس]],MID(Table3[[#This Row],[شماره تماس]],1,Table3[[#This Row],[چندم]]-1))","v":0},{"$f":"IF(Table3[[#This Row],[چندم]]=0,\"\",MID(Table3[[#This Row],[شماره تماس]],Table3[[#This Row],[چندم]]+1,30))","v":""}]
[null,389,null,null,null,{"$f":"IFERROR(FIND(\"_\",Table3[[#This Row],[شماره تماس]]),0)","v":0},{"$f":"IF(Table3[[#This Row],[چندم]]=0,Table3[[#This Row],[شماره تماس]],MID(Table3[[#This Row],[شماره تماس]],1,Table3[[#This Row],[چندم]]-1))","v":0},{"$f":"IF(Table3[[#This Row],[چندم]]=0,\"\",MID(Table3[[#This Row],[شماره تماس]],Table3[[#This Row],[چندم]]+1,30))","v":""}]
[null,390,null,null,null,{"$f":"IFERROR(FIND(\"_\",Table3[[#This Row],[شماره تماس]]),0)","v":0},{"$f":"IF(Table3[[#This Row],[چندم]]=0,Table3[[#This Row],[شماره تماس]],MID(Table3[[#This Row],[شماره تماس]],1,Table3[[#This Row],[چندم]]-1))","v":0},{"$f":"IF(Table3[[#This Row],[چندم]]=0,\"\",MID(Table3[[#This Row],[شماره تماس]],Table3[[#This Row],[چندم]]+1,30))","v":""}]
[null,391,null,null,null,{"$f":"IFERROR(FIND(\"_\",Table3[[#This Row],[شماره تماس]]),0)","v":0},{"$f":"IF(Table3[[#This Row],[چندم]]=0,Table3[[#This Row],[شماره تماس]],MID(Table3[[#This Row],[شماره تماس]],1,Table3[[#This Row],[چندم]]-1))","v":0},{"$f":"IF(Table3[[#This Row],[چندم]]=0,\"\",MID(Table3[[#This Row],[شماره تماس]],Table3[[#This Row],[چندم]]+1,30))","v":""}]
[null,392,null,null,null,{"$f":"IFERROR(FIND(\"_\",Table3[[#This Row],[شماره تماس]]),0)","v":0},{"$f":"IF(Table3[[#This Row],[چندم]]=0,Table3[[#This Row],[شماره تماس]],MID(Table3[[#This Row],[شماره تماس]],1,Table3[[#This Row],[چندم]]-1))","v":0},{"$f":"IF(Table3[[#This Row],[چندم]]=0,\"\",MID(Table3[[#This Row],[شماره تماس]],Table3[[#This Row],[چندم]]+1,30))","v":""}]
[null,393,null,null,null,{"$f":"IFERROR(FIND(\"_\",Table3[[#This Row],[شماره تماس]]),0)","v":0},{"$f":"IF(Table3[[#This Row],[چندم]]=0,Table3[[#This Row],[شماره تماس]],MID(Table3[[#This Row],[شماره تماس]],1,Table3[[#This Row],[چندم]]-1))","v":0},{"$f":"IF(Table3[[#This Row],[چندم]]=0,\"\",MID(Table3[[#This Row],[شماره تماس]],Table3[[#This Row],[چندم]]+1,30))","v":""}]
[null,394,null,null,null,{"$f":"IFERROR(FIND(\"_\",Table3[[#This Row],[شماره تماس]]),0)","v":0},{"$f":"IF(Table3[[#This Row],[چندم]]=0,Table3[[#This Row],[شماره تماس]],MID(Table3[[#This Row],[شماره تماس]],1,Table3[[#This Row],[چندم]]-1))","v":0},{"$f":"IF(Table3[[#This Row],[چندم]]=0,\"\",MID(Table3[[#This Row],[شماره تماس]],Table3[[#This Row],[چندم]]+1,30))","v":""}]
[null,395,null,null,null,{"$f":"IFERROR(FIND(\"_\",Table3[[#This Row],[شماره تماس]]),0)","v":0},{"$f":"IF(Table3[[#This Row],[چندم]]=0,Table3[[#This Row],[شماره تماس]],MID(Table3[[#This Row],[شماره تماس]],1,Table3[[#This Row],[چندم]]-1))","v":0},{"$f":"IF(Table3[[#This Row],[چندم]]=0,\"\",MID(Table3[[#This Row],[شماره تماس]],Table3[[#This Row],[چندم]]+1,30))","v":""}]
[null,396,null,null,null,{"$f":"IFERROR(FIND(\"_\",Table3[[#This Row],[شماره تماس]]),0)","v":0},{"$f":"IF(Table3[[#This Row],[چندم]]=0,Table3[[#This Row],[شماره تماس]],MID(Table3[[#This Row],[شماره تماس]],1,Table3[[#This Row],[چندم]]-1))","v":0},{"$f":"IF(Table3[[#This Row],[چندم]]=0,\"\",MID(Table3[[#This Row],[شماره تماس]],Table3[[#This Row],[چندم]]+1,30))","v":""}]
[null,397,null,null,null,{"$f":"IFERROR(FIND(\"_\",Table3[[#This Row],[شماره تماس]]),0)","v":0},{"$f":"IF(Table3[[#This Row],[چندم]]=0,Table3[[#This Row],[شماره تماس]],MID(Table3[[#This Row],[شماره تماس]],1,Table3[[#This Row],[چندم]]-1))","v":0},{"$f":"IF(Table3[[#This Row],[چندم]]=0,\"\",MID(Table3[[#This Row],[شماره تماس]],Table3[[#This Row],[چندم]]+1,30))","v":""}]
[null,398,null,null,null,{"$f":"IFERROR(FIND(\"_\",Table3[[#This Row],[شماره تماس]]),0)","v":0},{"$f":"IF(Table3[[#This Row],[چندم]]=0,Table3[[#This Row],[شماره تماس]],MID(Table3[[#This Row],[شماره تماس]],1,Table3[[#This Row],[چندم]]-1))","v":0},{"$f":"IF(Table3[[#This Row],[چندم]]=0,\"\",MID(Table3[[#This Row],[شماره تماس]],Table3[[#This Row],[چندم]]+1,30))","v":""}]
[null,399,null,null,null,{"$f":"IFERROR(FIND(\"_\",Table3[[#This Row],[شماره تماس]]),0)","v":0},{"$f":"IF(Table3[[#This Row],[چندم]]=0,Table3[[#This Row],[شماره تماس]],MID(Table3[[#This Row],[شماره تماس]],1,Table3[[#This Row],[چندم]]-1))","v":0},{"$f":"IF(Table3[[#This Row],[چندم]]=0,\"\",MID(Table3[[#This Row],[شماره تماس]],Table3[[#This Row],[چندم]]+1,30))","v":""}]
[null,400,null,null,null,{"$f":"IFERROR(FIND(\"_\",Table3[[#This Row],[شماره تماس]]),0)","v":0},{"$f":"IF(Table3[[#This Row],[چندم]]=0,Table3[[#This Row],[شماره تماس]],MID(Table3[[#This Row],[شماره تماس]],1,Table3[[#This Row],[چندم]]-1))","v":0},{"$f":"IF(Table3[[#This Row],[چندم]]=0,\"\",MID(Table3[[#This Row],[شماره تماس]],Table3[[#This Row],[چندم]]+1,30))","v":""}]
[null,401,null,null,null,{"$f":"IFERROR(FIND(\"_\",Table3[[#This Row],[شماره تماس]]),0)","v":0},{"$f":"IF(Table3[[#This Row],[چندم]]=0,Table3[[#This Row],[شماره تماس]],MID(Table3[[#This Row],[شماره تماس]],1,Table3[[#This Row],[چندم]]-1))","v":0},{"$f":"IF(Table3[[#This Row],[چندم]]=0,\"\",MID(Table3[[#This Row],[شماره تماس]],Table3[[#This Row],[چندم]]+1,30))","v":""}]
[null,402,null,null,null,{"$f":"IFERROR(FIND(\"_\",Table3[[#This Row],[شماره تماس]]),0)","v":0},{"$f":"IF(Table3[[#This Row],[چندم]]=0,Table3[[#This Row],[شماره تماس]],MID(Table3[[#This Row],[شماره تماس]],1,Table3[[#This Row],[چندم]]-1))","v":0},{"$f":"IF(Table3[[#This Row],[چندم]]=0,\"\",MID(Table3[[#This Row],[شماره تماس]],Table3[[#This Row],[چندم]]+1,30))","v":""}]
[null,403,null,null,null,{"$f":"IFERROR(FIND(\"_\",Table3[[#This Row],[شماره تماس]]),0)","v":0},{"$f":"IF(Table3[[#This Row],[چندم]]=0,Table3[[#This Row],[شماره تماس]],MID(Table3[[#This Row],[شماره تماس]],1,Table3[[#This Row],[چندم]]-1))","v":0},{"$f":"IF(Table3[[#This Row],[چندم]]=0,\"\",MID(Table3[[#This Row],[شماره تماس]],Table3[[#This Row],[چندم]]+1,30))","v":""}]
[null,404,null,null,null,{"$f":"IFERROR(FIND(\"_\",Table3[[#This Row],[شماره تماس]]),0)","v":0},{"$f":"IF(Table3[[#This Row],[چندم]]=0,Table3[[#This Row],[شماره تماس]],MID(Table3[[#This Row],[شماره تماس]],1,Table3[[#This Row],[چندم]]-1))","v":0},{"$f":"IF(Table3[[#This Row],[چندم]]=0,\"\",MID(Table3[[#This Row],[شماره تماس]],Table3[[#This Row],[چندم]]+1,30))","v":""}]
[null,405,null,null,null,{"$f":"IFERROR(FIND(\"_\",Table3[[#This Row],[شماره تماس]]),0)","v":0},{"$f":"IF(Table3[[#This Row],[چندم]]=0,Table3[[#This Row],[شماره تماس]],MID(Table3[[#This Row],[شماره تماس]],1,Table3[[#This Row],[چندم]]-1))","v":0},{"$f":"IF(Table3[[#This Row],[چندم]]=0,\"\",MID(Table3[[#This Row],[شماره تماس]],Table3[[#This Row],[چندم]]+1,30))","v":""}]
[null,406,null,null,null,{"$f":"IFERROR(FIND(\"_\",Table3[[#This Row],[شماره تماس]]),0)","v":0},{"$f":"IF(Table3[[#This Row],[چندم]]=0,Table3[[#This Row],[شماره تماس]],MID(Table3[[#This Row],[شماره تماس]],1,Table3[[#This Row],[چندم]]-1))","v":0},{"$f":"IF(Table3[[#This Row],[چندم]]=0,\"\",MID(Table3[[#This Row],[شماره تماس]],Table3[[#This Row],[چندم]]+1,30))","v":""}]
[null,407,null,null,null,{"$f":"IFERROR(FIND(\"_\",Table3[[#This Row],[شماره تماس]]),0)","v":0},{"$f":"IF(Table3[[#This Row],[چندم]]=0,Table3[[#This Row],[شماره تماس]],MID(Table3[[#This Row],[شماره تماس]],1,Table3[[#This Row],[چندم]]-1))","v":0},{"$f":"IF(Table3[[#This Row],[چندم]]=0,\"\",MID(Table3[[#This Row],[شماره تماس]],Table3[[#This Row],[چندم]]+1,30))","v":""}]
[null,408,null,null,null,{"$f":"IFERROR(FIND(\"_\",Table3[[#This Row],[شماره تماس]]),0)","v":0},{"$f":"IF(Table3[[#This Row],[چندم]]=0,Table3[[#This Row],[شماره تماس]],MID(Table3[[#This Row],[شماره تماس]],1,Table3[[#This Row],[چندم]]-1))","v":0},{"$f":"IF(Table3[[#This Row],[چندم]]=0,\"\",MID(Table3[[#This Row],[شماره تماس]],Table3[[#This Row],[چندم]]+1,30))","v":""}]
[null,409,null,null,null,{"$f":"IFERROR(FIND(\"_\",Table3[[#This Row],[شماره تماس]]),0)","v":0},{"$f":"IF(Table3[[#This Row],[چندم]]=0,Table3[[#This Row],[شماره تماس]],MID(Table3[[#This Row],[شماره تماس]],1,Table3[[#This Row],[چندم]]-1))","v":0},{"$f":"IF(Table3[[#This Row],[چندم]]=0,\"\",MID(Table3[[#This Row],[شماره تماس]],Table3[[#This Row],[چندم]]+1,30))","v":""}]
[null,410,null,null,null,{"$f":"IFERROR(FIND(\"_\",Table3[[#This Row],[شماره تماس]]),0)","v":0},{"$f":"IF(Table3[[#This Row],[چندم]]=0,Table3[[#This Row],[شماره تماس]],MID(Table3[[#This Row],[شماره تماس]],1,Table3[[#This Row],[چندم]]-1))","v":0},{"$f":"IF(Table3[[#This Row],[چندم]]=0,\"\",MID(Table3[[#This Row],[شماره تماس]],Table3[[#This Row],[چندم]]+1,30))","v":""}]
[null,411,null,null,null,{"$f":"IFERROR(FIND(\"_\",Table3[[#This Row],[شماره تماس]]),0)","v":0},{"$f":"IF(Table3[[#This Row],[چندم]]=0,Table3[[#This Row],[شماره تماس]],MID(Table3[[#This Row],[شماره تماس]],1,Table3[[#This Row],[چندم]]-1))","v":0},{"$f":"IF(Table3[[#This Row],[چندم]]=0,\"\",MID(Table3[[#This Row],[شماره تماس]],Table3[[#This Row],[چندم]]+1,30))","v":""}]
[null,412,null,null,null,{"$f":"IFERROR(FIND(\"_\",Table3[[#This Row],[شماره تماس]]),0)","v":0},{"$f":"IF(Table3[[#This Row],[چندم]]=0,Table3[[#This Row],[شماره تماس]],MID(Table3[[#This Row],[شماره تماس]],1,Table3[[#This Row],[چندم]]-1))","v":0},{"$f":"IF(Table3[[#This Row],[چندم]]=0,\"\",MID(Table3[[#This Row],[شماره تماس]],Table3[[#This Row],[چندم]]+1,30))","v":""}]
[null,413,null,null,null,{"$f":"IFERROR(FIND(\"_\",Table3[[#This Row],[شماره تماس]]),0)","v":0},{"$f":"IF(Table3[[#This Row],[چندم]]=0,Table3[[#This Row],[شماره تماس]],MID(Table3[[#This Row],[شماره تماس]],1,Table3[[#This Row],[چندم]]-1))","v":0},{"$f":"IF(Table3[[#This Row],[چندم]]=0,\"\",MID(Table3[[#This Row],[شماره تماس]],Table3[[#This Row],[چندم]]+1,30))","v":""}]
[null,414,null,null,null,{"$f":"IFERROR(FIND(\"_\",Table3[[#This Row],[شماره تماس]]),0)","v":0},{"$f":"IF(Table3[[#This Row],[چندم]]=0,Table3[[#This Row],[شماره تماس]],MID(Table3[[#This Row],[شماره تماس]],1,Table3[[#This Row],[چندم]]-1))","v":0},{"$f":"IF(Table3[[#This Row],[چندم]]=0,\"\",MID(Table3[[#This Row],[شماره تماس]],Table3[[#This Row],[چندم]]+1,30))","v":""}]
[null,415,null,null,null,{"$f":"IFERROR(FIND(\"_\",Table3[[#This Row],[شماره تماس]]),0)","v":0},{"$f":"IF(Table3[[#This Row],[چندم]]=0,Table3[[#This Row],[شماره تماس]],MID(Table3[[#This Row],[شماره تماس]],1,Table3[[#This Row],[چندم]]-1))","v":0},{"$f":"IF(Table3[[#This Row],[چندم]]=0,\"\",MID(Table3[[#This Row],[شماره تماس]],Table3[[#This Row],[چندم]]+1,30))","v":""}]
[null,416,null,null,null,{"$f":"IFERROR(FIND(\"_\",Table3[[#This Row],[شماره تماس]]),0)","v":0},{"$f":"IF(Table3[[#This Row],[چندم]]=0,Table3[[#This Row],[شماره تماس]],MID(Table3[[#This Row],[شماره تماس]],1,Table3[[#This Row],[چندم]]-1))","v":0},{"$f":"IF(Table3[[#This Row],[چندم]]=0,\"\",MID(Table3[[#This Row],[شماره تماس]],Table3[[#This Row],[چندم]]+1,30))","v":""}]
[null,417,null,null,null,{"$f":"IFERROR(FIND(\"_\",Table3[[#This Row],[شماره تماس]]),0)","v":0},{"$f":"IF(Table3[[#This Row],[چندم]]=0,Table3[[#This Row],[شماره تماس]],MID(Table3[[#This Row],[شماره تماس]],1,Table3[[#This Row],[چندم]]-1))","v":0},{"$f":"IF(Table3[[#This Row],[چندم]]=0,\"\",MID(Table3[[#This Row],[شماره تماس]],Table3[[#This Row],[چندم]]+1,30))","v":""}]
[null,418,null,null,null,{"$f":"IFERROR(FIND(\"_\",Table3[[#This Row],[شماره تماس]]),0)","v":0},{"$f":"IF(Table3[[#This Row],[چندم]]=0,Table3[[#This Row],[شماره تماس]],MID(Table3[[#This Row],[شماره تماس]],1,Table3[[#This Row],[چندم]]-1))","v":0},{"$f":"IF(Table3[[#This Row],[چندم]]=0,\"\",MID(Table3[[#This Row],[شماره تماس]],Table3[[#This Row],[چندم]]+1,30))","v":""}]
[null,419,null,null,null,{"$f":"IFERROR(FIND(\"_\",Table3[[#This Row],[شماره تماس]]),0)","v":0},{"$f":"IF(Table3[[#This Row],[چندم]]=0,Table3[[#This Row],[شماره تماس]],MID(Table3[[#This Row],[شماره تماس]],1,Table3[[#This Row],[چندم]]-1))","v":0},{"$f":"IF(Table3[[#This Row],[چندم]]=0,\"\",MID(Table3[[#This Row],[شماره تماس]],Table3[[#This Row],[چندم]]+1,30))","v":""}]
[null,420,null,null,null,{"$f":"IFERROR(FIND(\"_\",Table3[[#This Row],[شماره تماس]]),0)","v":0},{"$f":"IF(Table3[[#This Row],[چندم]]=0,Table3[[#This Row],[شماره تماس]],MID(Table3[[#This Row],[شماره تماس]],1,Table3[[#This Row],[چندم]]-1))","v":0},{"$f":"IF(Table3[[#This Row],[چندم]]=0,\"\",MID(Table3[[#This Row],[شماره تماس]],Table3[[#This Row],[چندم]]+1,30))","v":""}]
[null,421,null,null,null,{"$f":"IFERROR(FIND(\"_\",Table3[[#This Row],[شماره تماس]]),0)","v":0},{"$f":"IF(Table3[[#This Row],[چندم]]=0,Table3[[#This Row],[شماره تماس]],MID(Table3[[#This Row],[شماره تماس]],1,Table3[[#This Row],[چندم]]-1))","v":0},{"$f":"IF(Table3[[#This Row],[چندم]]=0,\"\",MID(Table3[[#This Row],[شماره تماس]],Table3[[#This Row],[چندم]]+1,30))","v":""}]
[null,422,null,null,null,{"$f":"IFERROR(FIND(\"_\",Table3[[#This Row],[شماره تماس]]),0)","v":0},{"$f":"IF(Table3[[#This Row],[چندم]]=0,Table3[[#This Row],[شماره تماس]],MID(Table3[[#This Row],[شماره تماس]],1,Table3[[#This Row],[چندم]]-1))","v":0},{"$f":"IF(Table3[[#This Row],[چندم]]=0,\"\",MID(Table3[[#This Row],[شماره تماس]],Table3[[#This Row],[چندم]]+1,30))","v":""}]
[null,{"$f":"ROW()-3","v":423},null,null,null,{"$f":"IFERROR(FIND(\"_\",Table3[[#This Row],[شماره تماس]]),0)","v":0},{"$f":"IF(Table3[[#This Row],[چندم]]=0,Table3[[#This Row],[شماره تماس]],MID(Table3[[#This Row],[شماره تماس]],1,Table3[[#This Row],[چندم]]-1))","v":0},{"$f":"IF(Table3[[#This Row],[چندم]]=0,\"\",MID(Table3[[#This Row],[شماره تماس]],Table3[[#This Row],[چندم]]+1,30))","v":""}]
[null,424,null,null,null,{"$f":"IFERROR(FIND(\"_\",Table3[[#This Row],[شماره تماس]]),0)","v":0},{"$f":"IF(Table3[[#This Row],[چندم]]=0,Table3[[#This Row],[شماره تماس]],MID(Table3[[#This Row],[شماره تماس]],1,Table3[[#This Row],[چندم]]-1))","v":0},{"$f":"IF(Table3[[#This Row],[چندم]]=0,\"\",MID(Table3[[#This Row],[شماره تماس]],Table3[[#This Row],[چندم]]+1,30))","v":""}]
[null,425,null,null,null,{"$f":"IFERROR(FIND(\"_\",Table3[[#This Row],[شماره تماس]]),0)","v":0},{"$f":"IF(Table3[[#This Row],[چندم]]=0,Table3[[#This Row],[شماره تماس]],MID(Table3[[#This Row],[شماره تماس]],1,Table3[[#This Row],[چندم]]-1))","v":0},{"$f":"IF(Table3[[#This Row],[چندم]]=0,\"\",MID(Table3[[#This Row],[شماره تماس]],Table3[[#This Row],[چندم]]+1,30))","v":""}]
[null,426,null,null,null,{"$f":"IFERROR(FIND(\"_\",Table3[[#This Row],[شماره تماس]]),0)","v":0},{"$f":"IF(Table3[[#This Row],[چندم]]=0,Table3[[#This Row],[شماره تماس]],MID(Table3[[#This Row],[شماره تماس]],1,Table3[[#This Row],[چندم]]-1))","v":0},{"$f":"IF(Table3[[#This Row],[چندم]]=0,\"\",MID(Table3[[#This Row],[شماره تماس]],Table3[[#This Row],[چندم]]+1,30))","v":""}]
[null,427,null,null,null,{"$f":"IFERROR(FIND(\"_\",Table3[[#This Row],[شماره تماس]]),0)","v":0},{"$f":"IF(Table3[[#This Row],[چندم]]=0,Table3[[#This Row],[شماره تماس]],MID(Table3[[#This Row],[شماره تماس]],1,Table3[[#This Row],[چندم]]-1))","v":0},{"$f":"IF(Table3[[#This Row],[چندم]]=0,\"\",MID(Table3[[#This Row],[شماره تماس]],Table3[[#This Row],[چندم]]+1,30))","v":""}]
[null,428,null,null,null,{"$f":"IFERROR(FIND(\"_\",Table3[[#This Row],[شماره تماس]]),0)","v":0},{"$f":"IF(Table3[[#This Row],[چندم]]=0,Table3[[#This Row],[شماره تماس]],MID(Table3[[#This Row],[شماره تماس]],1,Table3[[#This Row],[چندم]]-1))","v":0},{"$f":"IF(Table3[[#This Row],[چندم]]=0,\"\",MID(Table3[[#This Row],[شماره تماس]],Table3[[#This Row],[چندم]]+1,30))","v":""}]
[null,429,null,null,null,{"$f":"IFERROR(FIND(\"_\",Table3[[#This Row],[شماره تماس]]),0)","v":0},{"$f":"IF(Table3[[#This Row],[چندم]]=0,Table3[[#This Row],[شماره تماس]],MID(Table3[[#This Row],[شماره تماس]],1,Table3[[#This Row],[چندم]]-1))","v":0},{"$f":"IF(Table3[[#This Row],[چندم]]=0,\"\",MID(Table3[[#This Row],[شماره تماس]],Table3[[#This Row],[چندم]]+1,30))","v":""}]
[null,430,null,null,null,{"$f":"IFERROR(FIND(\"_\",Table3[[#This Row],[شماره تماس]]),0)","v":0},{"$f":"IF(Table3[[#This Row],[چندم]]=0,Table3[[#This Row],[شماره تماس]],MID(Table3[[#This Row],[شماره تماس]],1,Table3[[#This Row],[چندم]]-1))","v":0},{"$f":"IF(Table3[[#This Row],[چندم]]=0,\"\",MID(Table3[[#This Row],[شماره تماس]],Table3[[#This Row],[چندم]]+1,30))","v":""}]
[null,431,null,null,null,{"$f":"IFERROR(FIND(\"_\",Table3[[#This Row],[شماره تماس]]),0)","v":0},{"$f":"IF(Table3[[#This Row],[چندم]]=0,Table3[[#This Row],[شماره تماس]],MID(Table3[[#This Row],[شماره تماس]],1,Table3[[#This Row],[چندم]]-1))","v":0},{"$f":"IF(Table3[[#This Row],[چندم]]=0,\"\",MID(Table3[[#This Row],[شماره تماس]],Table3[[#This Row],[چندم]]+1,30))","v":""}]
[null,432,null,null,null,{"$f":"IFERROR(FIND(\"_\",Table3[[#This Row],[شماره تماس]]),0)","v":0},{"$f":"IF(Table3[[#This Row],[چندم]]=0,Table3[[#This Row],[شماره تماس]],MID(Table3[[#This Row],[شماره تماس]],1,Table3[[#This Row],[چندم]]-1))","v":0},{"$f":"IF(Table3[[#This Row],[چندم]]=0,\"\",MID(Table3[[#This Row],[شماره تماس]],Table3[[#This Row],[چندم]]+1,30))","v":""}]
[null,433,null,null,null,{"$f":"IFERROR(FIND(\"_\",Table3[[#This Row],[شماره تماس]]),0)","v":0},{"$f":"IF(Table3[[#This Row],[چندم]]=0,Table3[[#This Row],[شماره تماس]],MID(Table3[[#This Row],[شماره تماس]],1,Table3[[#This Row],[چندم]]-1))","v":0},{"$f":"IF(Table3[[#This Row],[چندم]]=0,\"\",MID(Table3[[#This Row],[شماره تماس]],Table3[[#This Row],[چندم]]+1,30))","v":""}]
[null,434,null,null,null,{"$f":"IFERROR(FIND(\"_\",Table3[[#This Row],[شماره تماس]]),0)","v":0},{"$f":"IF(Table3[[#This Row],[چندم]]=0,Table3[[#This Row],[شماره تماس]],MID(Table3[[#This Row],[شماره تماس]],1,Table3[[#This Row],[چندم]]-1))","v":0},{"$f":"IF(Table3[[#This Row],[چندم]]=0,\"\",MID(Table3[[#This Row],[شماره تماس]],Table3[[#This Row],[چندم]]+1,30))","v":""}]
[null,435,null,null,null,{"$f":"IFERROR(FIND(\"_\",Table3[[#This Row],[شماره تماس]]),0)","v":0},{"$f":"IF(Table3[[#This Row],[چندم]]=0,Table3[[#This Row],[شماره تماس]],MID(Table3[[#This Row],[شماره تماس]],1,Table3[[#This Row],[چندم]]-1))","v":0},{"$f":"IF(Table3[[#This Row],[چندم]]=0,\"\",MID(Table3[[#This Row],[شماره تماس]],Table3[[#This Row],[چندم]]+1,30))","v":""}]
[null,436,null,null,null,{"$f":"IFERROR(FIND(\"_\",Table3[[#This Row],[شماره تماس]]),0)","v":0},{"$f":"IF(Table3[[#This Row],[چندم]]=0,Table3[[#This Row],[شماره تماس]],MID(Table3[[#This Row],[شماره تماس]],1,Table3[[#This Row],[چندم]]-1))","v":0},{"$f":"IF(Table3[[#This Row],[چندم]]=0,\"\",MID(Table3[[#This Row],[شماره تماس]],Table3[[#This Row],[چندم]]+1,30))","v":""}]
[null,437,null,null,null,{"$f":"IFERROR(FIND(\"_\",Table3[[#This Row],[شماره تماس]]),0)","v":0},{"$f":"IF(Table3[[#This Row],[چندم]]=0,Table3[[#This Row],[شماره تماس]],MID(Table3[[#This Row],[شماره تماس]],1,Table3[[#This Row],[چندم]]-1))","v":0},{"$f":"IF(Table3[[#This Row],[چندم]]=0,\"\",MID(Table3[[#This Row],[شماره تماس]],Table3[[#This Row],[چندم]]+1,30))","v":""}]
[null,438,null,null,null,{"$f":"IFERROR(FIND(\"_\",Table3[[#This Row],[شماره تماس]]),0)","v":0},{"$f":"IF(Table3[[#This Row],[چندم]]=0,Table3[[#This Row],[شماره تماس]],MID(Table3[[#This Row],[شماره تماس]],1,Table3[[#This Row],[چندم]]-1))","v":0},{"$f":"IF(Table3[[#This Row],[چندم]]=0,\"\",MID(Table3[[#This Row],[شماره تماس]],Table3[[#This Row],[چندم]]+1,30))","v":""}]
[null,439,null,null,null,{"$f":"IFERROR(FIND(\"_\",Table3[[#This Row],[شماره تماس]]),0)","v":0},{"$f":"IF(Table3[[#This Row],[چندم]]=0,Table3[[#This Row],[شماره تماس]],MID(Table3[[#This Row],[شماره تماس]],1,Table3[[#This Row],[چندم]]-1))","v":0},{"$f":"IF(Table3[[#This Row],[چندم]]=0,\"\",MID(Table3[[#This Row],[شماره تماس]],Table3[[#This Row],[چندم]]+1,30))","v":""}]
[null,440,null,null,null,{"$f":"IFERROR(FIND(\"_\",Table3[[#This Row],[شماره تماس]]),0)","v":0},{"$f":"IF(Table3[[#This Row],[چندم]]=0,Table3[[#This Row],[شماره تماس]],MID(Table3[[#This Row],[شماره تماس]],1,Table3[[#This Row],[چندم]]-1))","v":0},{"$f":"IF(Table3[[#This Row],[چندم]]=0,\"\",MID(Table3[[#This Row],[شماره تماس]],Table3[[#This Row],[چندم]]+1,30))","v":""}]
[null,441,null,null,null,{"$f":"IFERROR(FIND(\"_\",Table3[[#This Row],[شماره تماس]]),0)","v":0},{"$f":"IF(Table3[[#This Row],[چندم]]=0,Table3[[#This Row],[شماره تماس]],MID(Table3[[#This Row],[شماره تماس]],1,Table3[[#This Row],[چندم]]-1))","v":0},{"$f":"IF(Table3[[#This Row],[چندم]]=0,\"\",MID(Table3[[#This Row],[شماره تماس]],Table3[[#This Row],[چندم]]+1,30))","v":""}]
[null,442,null,null,null,{"$f":"IFERROR(FIND(\"_\",Table3[[#This Row],[شماره تماس]]),0)","v":0},{"$f":"IF(Table3[[#This Row],[چندم]]=0,Table3[[#This Row],[شماره تماس]],MID(Table3[[#This Row],[شماره تماس]],1,Table3[[#This Row],[چندم]]-1))","v":0},{"$f":"IF(Table3[[#This Row],[چندم]]=0,\"\",MID(Table3[[#This Row],[شماره تماس]],Table3[[#This Row],[چندم]]+1,30))","v":""}]
[null,443,null,null,null,{"$f":"IFERROR(FIND(\"_\",Table3[[#This Row],[شماره تماس]]),0)","v":0},{"$f":"IF(Table3[[#This Row],[چندم]]=0,Table3[[#This Row],[شماره تماس]],MID(Table3[[#This Row],[شماره تماس]],1,Table3[[#This Row],[چندم]]-1))","v":0},{"$f":"IF(Table3[[#This Row],[چندم]]=0,\"\",MID(Table3[[#This Row],[شماره تماس]],Table3[[#This Row],[چندم]]+1,30))","v":""}]
[null,444,null,null,null,{"$f":"IFERROR(FIND(\"_\",Table3[[#This Row],[شماره تماس]]),0)","v":0},{"$f":"IF(Table3[[#This Row],[چندم]]=0,Table3[[#This Row],[شماره تماس]],MID(Table3[[#This Row],[شماره تماس]],1,Table3[[#This Row],[چندم]]-1))","v":0},{"$f":"IF(Table3[[#This Row],[چندم]]=0,\"\",MID(Table3[[#This Row],[شماره تماس]],Table3[[#This Row],[چندم]]+1,30))","v":""}]
[null,445,null,null,null,{"$f":"IFERROR(FIND(\"_\",Table3[[#This Row],[شماره تماس]]),0)","v":0},{"$f":"IF(Table3[[#This Row],[چندم]]=0,Table3[[#This Row],[شماره تماس]],MID(Table3[[#This Row],[شماره تماس]],1,Table3[[#This Row],[چندم]]-1))","v":0},{"$f":"IF(Table3[[#This Row],[چندم]]=0,\"\",MID(Table3[[#This Row],[شماره تماس]],Table3[[#This Row],[چندم]]+1,30))","v":""}]
[null,446,null,null,null,{"$f":"IFERROR(FIND(\"_\",Table3[[#This Row],[شماره تماس]]),0)","v":0},{"$f":"IF(Table3[[#This Row],[چندم]]=0,Table3[[#This Row],[شماره تماس]],MID(Table3[[#This Row],[شماره تماس]],1,Table3[[#This Row],[چندم]]-1))","v":0},{"$f":"IF(Table3[[#This Row],[چندم]]=0,\"\",MID(Table3[[#This Row],[شماره تماس]],Table3[[#This Row],[چندم]]+1,30))","v":""}]
[null,447,null,null,null,{"$f":"IFERROR(FIND(\"_\",Table3[[#This Row],[شماره تماس]]),0)","v":0},{"$f":"IF(Table3[[#This Row],[چندم]]=0,Table3[[#This Row],[شماره تماس]],MID(Table3[[#This Row],[شماره تماس]],1,Table3[[#This Row],[چندم]]-1))","v":0},{"$f":"IF(Table3[[#This Row],[چندم]]=0,\"\",MID(Table3[[#This Row],[شماره تماس]],Table3[[#This Row],[چندم]]+1,30))","v":""}]
[null,448,null,null,null,{"$f":"IFERROR(FIND(\"_\",Table3[[#This Row],[شماره تماس]]),0)","v":0},{"$f":"IF(Table3[[#This Row],[چندم]]=0,Table3[[#This Row],[شماره تماس]],MID(Table3[[#This Row],[شماره تماس]],1,Table3[[#This Row],[چندم]]-1))","v":0},{"$f":"IF(Table3[[#This Row],[چندم]]=0,\"\",MID(Table3[[#This Row],[شماره تماس]],Table3[[#This Row],[چندم]]+1,30))","v":""}]
[null,449,null,null,null,{"$f":"IFERROR(FIND(\"_\",Table3[[#This Row],[شماره تماس]]),0)","v":0},{"$f":"IF(Table3[[#This Row],[چندم]]=0,Table3[[#This Row],[شماره تماس]],MID(Table3[[#This Row],[شماره تماس]],1,Table3[[#This Row],[چندم]]-1))","v":0},{"$f":"IF(Table3[[#This Row],[چندم]]=0,\"\",MID(Table3[[#This Row],[شماره تماس]],Table3[[#This Row],[چندم]]+1,30))","v":""}]
[null,450,null,null,null,{"$f":"IFERROR(FIND(\"_\",Table3[[#This Row],[شماره تماس]]),0)","v":0},{"$f":"IF(Table3[[#This Row],[چندم]]=0,Table3[[#This Row],[شماره تماس]],MID(Table3[[#This Row],[شماره تماس]],1,Table3[[#This Row],[چندم]]-1))","v":0},{"$f":"IF(Table3[[#This Row],[چندم]]=0,\"\",MID(Table3[[#This Row],[شماره تماس]],Table3[[#This Row],[چندم]]+1,30))","v":""}]
[null,451,null,null,null,{"$f":"IFERROR(FIND(\"_\",Table3[[#This Row],[شماره تماس]]),0)","v":0},{"$f":"IF(Table3[[#This Row],[چندم]]=0,Table3[[#This Row],[شماره تماس]],MID(Table3[[#This Row],[شماره تماس]],1,Table3[[#This Row],[چندم]]-1))","v":0},{"$f":"IF(Table3[[#This Row],[چندم]]=0,\"\",MID(Table3[[#This Row],[شماره تماس]],Table3[[#This Row],[چندم]]+1,30))","v":""}]
[null,452,null,null,null,{"$f":"IFERROR(FIND(\"_\",Table3[[#This Row],[شماره تماس]]),0)","v":0},{"$f":"IF(Table3[[#This Row],[چندم]]=0,Table3[[#This Row],[شماره تماس]],MID(Table3[[#This Row],[شماره تماس]],1,Table3[[#This Row],[چندم]]-1))","v":0},{"$f":"IF(Table3[[#This Row],[چندم]]=0,\"\",MID(Table3[[#This Row],[شماره تماس]],Table3[[#This Row],[چندم]]+1,30))","v":""}]
[null,453,null,null,null,{"$f":"IFERROR(FIND(\"_\",Table3[[#This Row],[شماره تماس]]),0)","v":0},{"$f":"IF(Table3[[#This Row],[چندم]]=0,Table3[[#This Row],[شماره تماس]],MID(Table3[[#This Row],[شماره تماس]],1,Table3[[#This Row],[چندم]]-1))","v":0},{"$f":"IF(Table3[[#This Row],[چندم]]=0,\"\",MID(Table3[[#This Row],[شماره تماس]],Table3[[#This Row],[چندم]]+1,30))","v":""}]
[null,454,null,null,null,{"$f":"IFERROR(FIND(\"_\",Table3[[#This Row],[شماره تماس]]),0)","v":0},{"$f":"IF(Table3[[#This Row],[چندم]]=0,Table3[[#This Row],[شماره تماس]],MID(Table3[[#This Row],[شماره تماس]],1,Table3[[#This Row],[چندم]]-1))","v":0},{"$f":"IF(Table3[[#This Row],[چندم]]=0,\"\",MID(Table3[[#This Row],[شماره تماس]],Table3[[#This Row],[چندم]]+1,30))","v":""}]
[null,455,null,null,null,{"$f":"IFERROR(FIND(\"_\",Table3[[#This Row],[شماره تماس]]),0)","v":0},{"$f":"IF(Table3[[#This Row],[چندم]]=0,Table3[[#This Row],[شماره تماس]],MID(Table3[[#This Row],[شماره تماس]],1,Table3[[#This Row],[چندم]]-1))","v":0},{"$f":"IF(Table3[[#This Row],[چندم]]=0,\"\",MID(Table3[[#This Row],[شماره تماس]],Table3[[#This Row],[چندم]]+1,30))","v":""}]
[null,456,null,null,null,{"$f":"IFERROR(FIND(\"_\",Table3[[#This Row],[شماره تماس]]),0)","v":0},{"$f":"IF(Table3[[#This Row],[چندم]]=0,Table3[[#This Row],[شماره تماس]],MID(Table3[[#This Row],[شماره تماس]],1,Table3[[#This Row],[چندم]]-1))","v":0},{"$f":"IF(Table3[[#This Row],[چندم]]=0,\"\",MID(Table3[[#This Row],[شماره تماس]],Table3[[#This Row],[چندم]]+1,30))","v":""}]
[null,457,null,null,null,{"$f":"IFERROR(FIND(\"_\",Table3[[#This Row],[شماره تماس]]),0)","v":0},{"$f":"IF(Table3[[#This Row],[چندم]]=0,Table3[[#This Row],[شماره تماس]],MID(Table3[[#This Row],[شماره تماس]],1,Table3[[#This Row],[چندم]]-1))","v":0},{"$f":"IF(Table3[[#This Row],[چندم]]=0,\"\",MID(Table3[[#This Row],[شماره تماس]],Table3[[#This Row],[چندم]]+1,30))","v":""}]
[null,458,null,null,null,{"$f":"IFERROR(FIND(\"_\",Table3[[#This Row],[شماره تماس]]),0)","v":0},{"$f":"IF(Table3[[#This Row],[چندم]]=0,Table3[[#This Row],[شماره تماس]],MID(Table3[[#This Row],[شماره تماس]],1,Table3[[#This Row],[چندم]]-1))","v":0},{"$f":"IF(Table3[[#This Row],[چندم]]=0,\"\",MID(Table3[[#This Row],[شماره تماس]],Table3[[#This Row],[چندم]]+1,30))","v":""}]
[null,459,null,null,null,{"$f":"IFERROR(FIND(\"_\",Table3[[#This Row],[شماره تماس]]),0)","v":0},{"$f":"IF(Table3[[#This Row],[چندم]]=0,Table3[[#This Row],[شماره تماس]],MID(Table3[[#This Row],[شماره تماس]],1,Table3[[#This Row],[چندم]]-1))","v":0},{"$f":"IF(Table3[[#This Row],[چندم]]=0,\"\",MID(Table3[[#This Row],[شماره تماس]],Table3[[#This Row],[چندم]]+1,30))","v":""}]
[null,460,null,null,null,{"$f":"IFERROR(FIND(\"_\",Table3[[#This Row],[شماره تماس]]),0)","v":0},{"$f":"IF(Table3[[#This Row],[چندم]]=0,Table3[[#This Row],[شماره تماس]],MID(Table3[[#This Row],[شماره تماس]],1,Table3[[#This Row],[چندم]]-1))","v":0},{"$f":"IF(Table3[[#This Row],[چندم]]=0,\"\",MID(Table3[[#This Row],[شماره تماس]],Table3[[#This Row],[چندم]]+1,30))","v":""}]
[null,461,null,null,null,{"$f":"IFERROR(FIND(\"_\",Table3[[#This Row],[شماره تماس]]),0)","v":0},{"$f":"IF(Table3[[#This Row],[چندم]]=0,Table3[[#This Row],[شماره تماس]],MID(Table3[[#This Row],[شماره تماس]],1,Table3[[#This Row],[چندم]]-1))","v":0},{"$f":"IF(Table3[[#This Row],[چندم]]=0,\"\",MID(Table3[[#This Row],[شماره تماس]],Table3[[#This Row],[چندم]]+1,30))","v":""}]
[null,462,null,null,null,{"$f":"IFERROR(FIND(\"_\",Table3[[#This Row],[شماره تماس]]),0)","v":0},{"$f":"IF(Table3[[#This Row],[چندم]]=0,Table3[[#This Row],[شماره تماس]],MID(Table3[[#This Row],[شماره تماس]],1,Table3[[#This Row],[چندم]]-1))","v":0},{"$f":"IF(Table3[[#This Row],[چندم]]=0,\"\",MID(Table3[[#This Row],[شماره تماس]],Table3[[#This Row],[چندم]]+1,30))","v":""}]
[null,463,null,null,null,{"$f":"IFERROR(FIND(\"_\",Table3[[#This Row],[شماره تماس]]),0)","v":0},{"$f":"IF(Table3[[#This Row],[چندم]]=0,Table3[[#This Row],[شماره تماس]],MID(Table3[[#This Row],[شماره تماس]],1,Table3[[#This Row],[چندم]]-1))","v":0},{"$f":"IF(Table3[[#This Row],[چندم]]=0,\"\",MID(Table3[[#This Row],[شماره تماس]],Table3[[#This Row],[چندم]]+1,30))","v":""}]
[null,464,null,null,null,{"$f":"IFERROR(FIND(\"_\",Table3[[#This Row],[شماره تماس]]),0)","v":0},{"$f":"IF(Table3[[#This Row],[چندم]]=0,Table3[[#This Row],[شماره تماس]],MID(Table3[[#This Row],[شماره تماس]],1,Table3[[#This Row],[چندم]]-1))","v":0},{"$f":"IF(Table3[[#This Row],[چندم]]=0,\"\",MID(Table3[[#This Row],[شماره تماس]],Table3[[#This Row],[چندم]]+1,30))","v":""}]
[null,465,null,null,null,{"$f":"IFERROR(FIND(\"_\",Table3[[#This Row],[شماره تماس]]),0)","v":0},{"$f":"IF(Table3[[#This Row],[چندم]]=0,Table3[[#This Row],[شماره تماس]],MID(Table3[[#This Row],[شماره تماس]],1,Table3[[#This Row],[چندم]]-1))","v":0},{"$f":"IF(Table3[[#This Row],[چندم]]=0,\"\",MID(Table3[[#This Row],[شماره تماس]],Table3[[#This Row],[چندم]]+1,30))","v":""}]
[null,466,null,null,null,{"$f":"IFERROR(FIND(\"_\",Table3[[#This Row],[شماره تماس]]),0)","v":0},{"$f":"IF(Table3[[#This Row],[چندم]]=0,Table3[[#This Row],[شماره تماس]],MID(Table3[[#This Row],[شماره تماس]],1,Table3[[#This Row],[چندم]]-1))","v":0},{"$f":"IF(Table3[[#This Row],[چندم]]=0,\"\",MID(Table3[[#This Row],[شماره تماس]],Table3[[#This Row],[چندم]]+1,30))","v":""}]
[null,467,null,null,null,{"$f":"IFERROR(FIND(\"_\",Table3[[#This Row],[شماره تماس]]),0)","v":0},{"$f":"IF(Table3[[#This Row],[چندم]]=0,Table3[[#This Row],[شماره تماس]],MID(Table3[[#This Row],[شماره تماس]],1,Table3[[#This Row],[چندم]]-1))","v":0},{"$f":"IF(Table3[[#This Row],[چندم]]=0,\"\",MID(Table3[[#This Row],[شماره تماس]],Table3[[#This Row],[چندم]]+1,30))","v":""}]
[null,468,null,null,null,{"$f":"IFERROR(FIND(\"_\",Table3[[#This Row],[شماره تماس]]),0)","v":0},{"$f":"IF(Table3[[#This Row],[چندم]]=0,Table3[[#This Row],[شماره تماس]],MID(Table3[[#This Row],[شماره تماس]],1,Table3[[#This Row],[چندم]]-1))","v":0},{"$f":"IF(Table3[[#This Row],[چندم]]=0,\"\",MID(Table3[[#This Row],[شماره تماس]],Table3[[#This Row],[چندم]]+1,30))","v":""}]
[null,469,null,null,null,{"$f":"IFERROR(FIND(\"_\",Table3[[#This Row],[شماره تماس]]),0)","v":0},{"$f":"IF(Table3[[#This Row],[چندم]]=0,Table3[[#This Row],[شماره تماس]],MID(Table3[[#This Row],[شماره تماس]],1,Table3[[#This Row],[چندم]]-1))","v":0},{"$f":"IF(Table3[[#This Row],[چندم]]=0,\"\",MID(Table3[[#This Row],[شماره تماس]],Table3[[#This Row],[چندم]]+1,30))","v":""}]
[null,470,null,null,null,{"$f":"IFERROR(FIND(\"_\",Table3[[#This Row],[شماره تماس]]),0)","v":0},{"$f":"IF(Table3[[#This Row],[چندم]]=0,Table3[[#This Row],[شماره تماس]],MID(Table3[[#This Row],[شماره تماس]],1,Table3[[#This Row],[چندم]]-1))","v":0},{"$f":"IF(Table3[[#This Row],[چندم]]=0,\"\",MID(Table3[[#This Row],[شماره تماس]],Table3[[#This Row],[چندم]]+1,30))","v":""}]
[null,471,null,null,null,{"$f":"IFERROR(FIND(\"_\",Table3[[#This Row],[شماره تماس]]),0)","v":0},{"$f":"IF(Table3[[#This Row],[چندم]]=0,Table3[[#This Row],[شماره تماس]],MID(Table3[[#This Row],[شماره تماس]],1,Table3[[#This Row],[چندم]]-1))","v":0},{"$f":"IF(Table3[[#This Row],[چندم]]=0,\"\",MID(Table3[[#This Row],[شماره تماس]],Table3[[#This Row],[چندم]]+1,30))","v":""}]
[null,472,null,null,null,{"$f":"IFERROR(FIND(\"_\",Table3[[#This Row],[شماره تماس]]),0)","v":0},{"$f":"IF(Table3[[#This Row],[چندم]]=0,Table3[[#This Row],[شماره تماس]],MID(Table3[[#This Row],[شماره تماس]],1,Table3[[#This Row],[چندم]]-1))","v":0},{"$f":"IF(Table3[[#This Row],[چندم]]=0,\"\",MID(Table3[[#This Row],[شماره تماس]],Table3[[#This Row],[چندم]]+1,30))","v":""}]
[null,473,null,null,null,{"$f":"IFERROR(FIND(\"_\",Table3[[#This Row],[شماره تماس]]),0)","v":0},{"$f":"IF(Table3[[#This Row],[چندم]]=0,Table3[[#This Row],[شماره تماس]],MID(Table3[[#This Row],[شماره تماس]],1,Table3[[#This Row],[چندم]]-1))","v":0},{"$f":"IF(Table3[[#This Row],[چندم]]=0,\"\",MID(Table3[[#This Row],[شماره تماس]],Table3[[#This Row],[چندم]]+1,30))","v":""}]
[null,474,null,null,null,{"$f":"IFERROR(FIND(\"_\",Table3[[#This Row],[شماره تماس]]),0)","v":0},{"$f":"IF(Table3[[#This Row],[چندم]]=0,Table3[[#This Row],[شماره تماس]],MID(Table3[[#This Row],[شماره تماس]],1,Table3[[#This Row],[چندم]]-1))","v":0},{"$f":"IF(Table3[[#This Row],[چندم]]=0,\"\",MID(Table3[[#This Row],[شماره تماس]],Table3[[#This Row],[چندم]]+1,30))","v":""}]
[null,475,null,null,null,{"$f":"IFERROR(FIND(\"_\",Table3[[#This Row],[شماره تماس]]),0)","v":0},{"$f":"IF(Table3[[#This Row],[چندم]]=0,Table3[[#This Row],[شماره تماس]],MID(Table3[[#This Row],[شماره تماس]],1,Table3[[#This Row],[چندم]]-1))","v":0},{"$f":"IF(Table3[[#This Row],[چندم]]=0,\"\",MID(Table3[[#This Row],[شماره تماس]],Table3[[#This Row],[چندم]]+1,30))","v":""}]
[null,476,null,null,null,{"$f":"IFERROR(FIND(\"_\",Table3[[#This Row],[شماره تماس]]),0)","v":0},{"$f":"IF(Table3[[#This Row],[چندم]]=0,Table3[[#This Row],[شماره تماس]],MID(Table3[[#This Row],[شماره تماس]],1,Table3[[#This Row],[چندم]]-1))","v":0},{"$f":"IF(Table3[[#This Row],[چندم]]=0,\"\",MID(Table3[[#This Row],[شماره تماس]],Table3[[#This Row],[چندم]]+1,30))","v":""}]
[null,477,null,null,null,{"$f":"IFERROR(FIND(\"_\",Table3[[#This Row],[شماره تماس]]),0)","v":0},{"$f":"IF(Table3[[#This Row],[چندم]]=0,Table3[[#This Row],[شماره تماس]],MID(Table3[[#This Row],[شماره تماس]],1,Table3[[#This Row],[چندم]]-1))","v":0},{"$f":"IF(Table3[[#This Row],[چندم]]=0,\"\",MID(Table3[[#This Row],[شماره تماس]],Table3[[#This Row],[چندم]]+1,30))","v":""}]
[null,478,null,null,null,{"$f":"IFERROR(FIND(\"_\",Table3[[#This Row],[شماره تماس]]),0)","v":0},{"$f":"IF(Table3[[#This Row],[چندم]]=0,Table3[[#This Row],[شماره تماس]],MID(Table3[[#This Row],[شماره تماس]],1,Table3[[#This Row],[چندم]]-1))","v":0},{"$f":"IF(Table3[[#This Row],[چندم]]=0,\"\",MID(Table3[[#This Row],[شماره تماس]],Table3[[#This Row],[چندم]]+1,30))","v":""}]
[null,479,null,null,null,{"$f":"IFERROR(FIND(\"_\",Table3[[#This Row],[شماره تماس]]),0)","v":0},{"$f":"IF(Table3[[#This Row],[چندم]]=0,Table3[[#This Row],[شماره تماس]],MID(Table3[[#This Row],[شماره تماس]],1,Table3[[#This Row],[چندم]]-1))","v":0},{"$f":"IF(Table3[[#This Row],[چندم]]=0,\"\",MID(Table3[[#This Row],[شماره تماس]],Table3[[#This Row],[چندم]]+1,30))","v":""}]
[null,480,null,null,null,{"$f":"IFERROR(FIND(\"_\",Table3[[#This Row],[شماره تماس]]),0)","v":0},{"$f":"IF(Table3[[#This Row],[چندم]]=0,Table3[[#This Row],[شماره تماس]],MID(Table3[[#This Row],[شماره تماس]],1,Table3[[#This Row],[چندم]]-1))","v":0},{"$f":"IF(Table3[[#This Row],[چندم]]=0,\"\",MID(Table3[[#This Row],[شماره تماس]],Table3[[#This Row],[چندم]]+1,30))","v":""}]
[null,481,null,null,null,{"$f":"IFERROR(FIND(\"_\",Table3[[#This Row],[شماره تماس]]),0)","v":0},{"$f":"IF(Table3[[#This Row],[چندم]]=0,Table3[[#This Row],[شماره تماس]],MID(Table3[[#This Row],[شماره تماس]],1,Table3[[#This Row],[چندم]]-1))","v":0},{"$f":"IF(Table3[[#This Row],[چندم]]=0,\"\",MID(Table3[[#This Row],[شماره تماس]],Table3[[#This Row],[چندم]]+1,30))","v":""}]
[null,482,null,null,null,{"$f":"IFERROR(FIND(\"_\",Table3[[#This Row],[شماره تماس]]),0)","v":0},{"$f":"IF(Table3[[#This Row],[چندم]]=0,Table3[[#This Row],[شماره تماس]],MID(Table3[[#This Row],[شماره تماس]],1,Table3[[#This Row],[چندم]]-1))","v":0},{"$f":"IF(Table3[[#This Row],[چندم]]=0,\"\",MID(Table3[[#This Row],[شماره تماس]],Table3[[#This Row],[چندم]]+1,30))","v":""}]
[null,483,null,null,null,{"$f":"IFERROR(FIND(\"_\",Table3[[#This Row],[شماره تماس]]),0)","v":0},{"$f":"IF(Table3[[#This Row],[چندم]]=0,Table3[[#This Row],[شماره تماس]],MID(Table3[[#This Row],[شماره تماس]],1,Table3[[#This Row],[چندم]]-1))","v":0},{"$f":"IF(Table3[[#This Row],[چندم]]=0,\"\",MID(Table3[[#This Row],[شماره تماس]],Table3[[#This Row],[چندم]]+1,30))","v":""}]
[null,484,null,null,null,{"$f":"IFERROR(FIND(\"_\",Table3[[#This Row],[شماره تماس]]),0)","v":0},{"$f":"IF(Table3[[#This Row],[چندم]]=0,Table3[[#This Row],[شماره تماس]],MID(Table3[[#This Row],[شماره تماس]],1,Table3[[#This Row],[چندم]]-1))","v":0},{"$f":"IF(Table3[[#This Row],[چندم]]=0,\"\",MID(Table3[[#This Row],[شماره تماس]],Table3[[#This Row],[چندم]]+1,30))","v":""}]
[null,485,null,null,null,{"$f":"IFERROR(FIND(\"_\",Table3[[#This Row],[شماره تماس]]),0)","v":0},{"$f":"IF(Table3[[#This Row],[چندم]]=0,Table3[[#This Row],[شماره تماس]],MID(Table3[[#This Row],[شماره تماس]],1,Table3[[#This Row],[چندم]]-1))","v":0},{"$f":"IF(Table3[[#This Row],[چندم]]=0,\"\",MID(Table3[[#This Row],[شماره تماس]],Table3[[#This Row],[چندم]]+1,30))","v":""}]
[null,486,null,null,null,{"$f":"IFERROR(FIND(\"_\",Table3[[#This Row],[شماره تماس]]),0)","v":0},{"$f":"IF(Table3[[#This Row],[چندم]]=0,Table3[[#This Row],[شماره تماس]],MID(Table3[[#This Row],[شماره تماس]],1,Table3[[#This Row],[چندم]]-1))","v":0},{"$f":"IF(Table3[[#This Row],[چندم]]=0,\"\",MID(Table3[[#This Row],[شماره تماس]],Table3[[#This Row],[چندم]]+1,30))","v":""}]
[null,{"$f":"ROW()-3","v":487},null,null,null,{"$f":"IFERROR(FIND(\"_\",Table3[[#This Row],[شماره تماس]]),0)","v":0},{"$f":"IF(Table3[[#This Row],[چندم]]=0,Table3[[#This Row],[شماره تماس]],MID(Table3[[#This Row],[شماره تماس]],1,Table3[[#This Row],[چندم]]-1))","v":0},{"$f":"IF(Table3[[#This Row],[چندم]]=0,\"\",MID(Table3[[#This Row],[شماره تماس]],Table3[[#This Row],[چندم]]+1,30))","v":""}]
[null,488,null,null,null,{"$f":"IFERROR(FIND(\"_\",Table3[[#This Row],[شماره تماس]]),0)","v":0},{"$f":"IF(Table3[[#This Row],[چندم]]=0,Table3[[#This Row],[شماره تماس]],MID(Table3[[#This Row],[شماره تماس]],1,Table3[[#This Row],[چندم]]-1))","v":0},{"$f":"IF(Table3[[#This Row],[چندم]]=0,\"\",MID(Table3[[#This Row],[شماره تماس]],Table3[[#This Row],[چندم]]+1,30))","v":""}]
[null,489,null,null,null,{"$f":"IFERROR(FIND(\"_\",Table3[[#This Row],[شماره تماس]]),0)","v":0},{"$f":"IF(Table3[[#This Row],[چندم]]=0,Table3[[#This Row],[شماره تماس]],MID(Table3[[#This Row],[شماره تماس]],1,Table3[[#This Row],[چندم]]-1))","v":0},{"$f":"IF(Table3[[#This Row],[چندم]]=0,\"\",MID(Table3[[#This Row],[شماره تماس]],Table3[[#This Row],[چندم]]+1,30))","v":""}]
[null,490,null,null,null,{"$f":"IFERROR(FIND(\"_\",Table3[[#This Row],[شماره تماس]]),0)","v":0},{"$f":"IF(Table3[[#This Row],[چندم]]=0,Table3[[#This Row],[شماره تماس]],MID(Table3[[#This Row],[شماره تماس]],1,Table3[[#This Row],[چندم]]-1))","v":0},{"$f":"IF(Table3[[#This Row],[چندم]]=0,\"\",MID(Table3[[#This Row],[شماره تماس]],Table3[[#This Row],[چندم]]+1,30))","v":""}]
[null,491,null,null,null,{"$f":"IFERROR(FIND(\"_\",Table3[[#This Row],[شماره تماس]]),0)","v":0},{"$f":"IF(Table3[[#This Row],[چندم]]=0,Table3[[#This Row],[شماره تماس]],MID(Table3[[#This Row],[شماره تماس]],1,Table3[[#This Row],[چندم]]-1))","v":0},{"$f":"IF(Table3[[#This Row],[چندم]]=0,\"\",MID(Table3[[#This Row],[شماره تماس]],Table3[[#This Row],[چندم]]+1,30))","v":""}]
[null,492,null,null,null,{"$f":"IFERROR(FIND(\"_\",Table3[[#This Row],[شماره تماس]]),0)","v":0},{"$f":"IF(Table3[[#This Row],[چندم]]=0,Table3[[#This Row],[شماره تماس]],MID(Table3[[#This Row],[شماره تماس]],1,Table3[[#This Row],[چندم]]-1))","v":0},{"$f":"IF(Table3[[#This Row],[چندم]]=0,\"\",MID(Table3[[#This Row],[شماره تماس]],Table3[[#This Row],[چندم]]+1,30))","v":""}]
[null,493,null,null,null,{"$f":"IFERROR(FIND(\"_\",Table3[[#This Row],[شماره تماس]]),0)","v":0},{"$f":"IF(Table3[[#This Row],[چندم]]=0,Table3[[#This Row],[شماره تماس]],MID(Table3[[#This Row],[شماره تماس]],1,Table3[[#This Row],[چندم]]-1))","v":0},{"$f":"IF(Table3[[#This Row],[چندم]]=0,\"\",MID(Table3[[#This Row],[شماره تماس]],Table3[[#This Row],[چندم]]+1,30))","v":""}]
[null,494,null,null,null,{"$f":"IFERROR(FIND(\"_\",Table3[[#This Row],[شماره تماس]]),0)","v":0},{"$f":"IF(Table3[[#This Row],[چندم]]=0,Table3[[#This Row],[شماره تماس]],MID(Table3[[#This Row],[شماره تماس]],1,Table3[[#This Row],[چندم]]-1))","v":0},{"$f":"IF(Table3[[#This Row],[چندم]]=0,\"\",MID(Table3[[#This Row],[شماره تماس]],Table3[[#This Row],[چندم]]+1,30))","v":""}]
[null,495,null,null,null,{"$f":"IFERROR(FIND(\"_\",Table3[[#This Row],[شماره تماس]]),0)","v":0},{"$f":"IF(Table3[[#This Row],[چندم]]=0,Table3[[#This Row],[شماره تماس]],MID(Table3[[#This Row],[شماره تماس]],1,Table3[[#This Row],[چندم]]-1))","v":0},{"$f":"IF(Table3[[#This Row],[چندم]]=0,\"\",MID(Table3[[#This Row],[شماره تماس]],Table3[[#This Row],[چندم]]+1,30))","v":""}]
[null,496,null,null,null,{"$f":"IFERROR(FIND(\"_\",Table3[[#This Row],[شماره تماس]]),0)","v":0},{"$f":"IF(Table3[[#This Row],[چندم]]=0,Table3[[#This Row],[شماره تماس]],MID(Table3[[#This Row],[شماره تماس]],1,Table3[[#This Row],[چندم]]-1))","v":0},{"$f":"IF(Table3[[#This Row],[چندم]]=0,\"\",MID(Table3[[#This Row],[شماره تماس]],Table3[[#This Row],[چندم]]+1,30))","v":""}]
[null,497,null,null,null,{"$f":"IFERROR(FIND(\"_\",Table3[[#This Row],[شماره تماس]]),0)","v":0},{"$f":"IF(Table3[[#This Row],[چندم]]=0,Table3[[#This Row],[شماره تماس]],MID(Table3[[#This Row],[شماره تماس]],1,Table3[[#This Row],[چندم]]-1))","v":0},{"$f":"IF(Table3[[#This Row],[چندم]]=0,\"\",MID(Table3[[#This Row],[شماره تماس]],Table3[[#This Row],[چندم]]+1,30))","v":""}]
[null,498,null,null,null,{"$f":"IFERROR(FIND(\"_\",Table3[[#This Row],[شماره تماس]]),0)","v":0},{"$f":"IF(Table3[[#This Row],[چندم]]=0,Table3[[#This Row],[شماره تماس]],MID(Table3[[#This Row],[شماره تماس]],1,Table3[[#This Row],[چندم]]-1))","v":0},{"$f":"IF(Table3[[#This Row],[چندم]]=0,\"\",MID(Table3[[#This Row],[شماره تماس]],Table3[[#This Row],[چندم]]+1,30))","v":""}]
[null,499,null,null,null,{"$f":"IFERROR(FIND(\"_\",Table3[[#This Row],[شماره تماس]]),0)","v":0},{"$f":"IF(Table3[[#This Row],[چندم]]=0,Table3[[#This Row],[شماره تماس]],MID(Table3[[#This Row],[شماره تماس]],1,Table3[[#This Row],[چندم]]-1))","v":0},{"$f":"IF(Table3[[#This Row],[چندم]]=0,\"\",MID(Table3[[#This Row],[شماره تماس]],Table3[[#This Row],[چندم]]+1,30))","v":""}]
[null,500,null,null,null,{"$f":"IFERROR(FIND(\"_\",Table3[[#This Row],[شماره تماس]]),0)","v":0},{"$f":"IF(Table3[[#This Row],[چندم]]=0,Table3[[#This Row],[شماره تماس]],MID(Table3[[#This Row],[شماره تماس]],1,Table3[[#This Row],[چندم]]-1))","v":0},{"$f":"IF(Table3[[#This Row],[چندم]]=0,\"\",MID(Table3[[#This Row],[شماره تماس]],Table3[[#This Row],[چندم]]+1,30))","v":""}]
[null,501,null,null,null,{"$f":"IFERROR(FIND(\"_\",Table3[[#This Row],[شماره تماس]]),0)","v":0},{"$f":"IF(Table3[[#This Row],[چندم]]=0,Table3[[#This Row],[شماره تماس]],MID(Table3[[#This Row],[شماره تماس]],1,Table3[[#This Row],[چندم]]-1))","v":0},{"$f":"IF(Table3[[#This Row],[چندم]]=0,\"\",MID(Table3[[#This Row],[شماره تماس]],Table3[[#This Row],[چندم]]+1,30))","v":""}]
[null,502,null,null,null,{"$f":"IFERROR(FIND(\"_\",Table3[[#This Row],[شماره تماس]]),0)","v":0},{"$f":"IF(Table3[[#This Row],[چندم]]=0,Table3[[#This Row],[شماره تماس]],MID(Table3[[#This Row],[شماره تماس]],1,Table3[[#This Row],[چندم]]-1))","v":0},{"$f":"IF(Table3[[#This Row],[چندم]]=0,\"\",MID(Table3[[#This Row],[شماره تماس]],Table3[[#This Row],[چندم]]+1,30))","v":""}]
[null,503,null,null,null,{"$f":"IFERROR(FIND(\"_\",Table3[[#This Row],[شماره تماس]]),0)","v":0},{"$f":"IF(Table3[[#This Row],[چندم]]=0,Table3[[#This Row],[شماره تماس]],MID(Table3[[#This Row],[شماره تماس]],1,Table3[[#This Row],[چندم]]-1))","v":0},{"$f":"IF(Table3[[#This Row],[چندم]]=0,\"\",MID(Table3[[#This Row],[شماره تماس]],Table3[[#This Row],[چندم]]+1,30))","v":""}]
[null,504,null,null,null,{"$f":"IFERROR(FIND(\"_\",Table3[[#This Row],[شماره تماس]]),0)","v":0},{"$f":"IF(Table3[[#This Row],[چندم]]=0,Table3[[#This Row],[شماره تماس]],MID(Table3[[#This Row],[شماره تماس]],1,Table3[[#This Row],[چندم]]-1))","v":0},{"$f":"IF(Table3[[#This Row],[چندم]]=0,\"\",MID(Table3[[#This Row],[شماره تماس]],Table3[[#This Row],[چندم]]+1,30))","v":""}]
[null,505,null,null,null,{"$f":"IFERROR(FIND(\"_\",Table3[[#This Row],[شماره تماس]]),0)","v":0},{"$f":"IF(Table3[[#This Row],[چندم]]=0,Table3[[#This Row],[شماره تماس]],MID(Table3[[#This Row],[شماره تماس]],1,Table3[[#This Row],[چندم]]-1))","v":0},{"$f":"IF(Table3[[#This Row],[چندم]]=0,\"\",MID(Table3[[#This Row],[شماره تماس]],Table3[[#This Row],[چندم]]+1,30))","v":""}]
[null,506,null,null,null,{"$f":"IFERROR(FIND(\"_\",Table3[[#This Row],[شماره تماس]]),0)","v":0},{"$f":"IF(Table3[[#This Row],[چندم]]=0,Table3[[#This Row],[شماره تماس]],MID(Table3[[#This Row],[شماره تماس]],1,Table3[[#This Row],[چندم]]-1))","v":0},{"$f":"IF(Table3[[#This Row],[چندم]]=0,\"\",MID(Table3[[#This Row],[شماره تماس]],Table3[[#This Row],[چندم]]+1,30))","v":""}]
[null,507,null,null,null,{"$f":"IFERROR(FIND(\"_\",Table3[[#This Row],[شماره تماس]]),0)","v":0},{"$f":"IF(Table3[[#This Row],[چندم]]=0,Table3[[#This Row],[شماره تماس]],MID(Table3[[#This Row],[شماره تماس]],1,Table3[[#This Row],[چندم]]-1))","v":0},{"$f":"IF(Table3[[#This Row],[چندم]]=0,\"\",MID(Table3[[#This Row],[شماره تماس]],Table3[[#This Row],[چندم]]+1,30))","v":""}]
[null,508,null,null,null,{"$f":"IFERROR(FIND(\"_\",Table3[[#This Row],[شماره تماس]]),0)","v":0},{"$f":"IF(Table3[[#This Row],[چندم]]=0,Table3[[#This Row],[شماره تماس]],MID(Table3[[#This Row],[شماره تماس]],1,Table3[[#This Row],[چندم]]-1))","v":0},{"$f":"IF(Table3[[#This Row],[چندم]]=0,\"\",MID(Table3[[#This Row],[شماره تماس]],Table3[[#This Row],[چندم]]+1,30))","v":""}]
[null,509,null,null,null,{"$f":"IFERROR(FIND(\"_\",Table3[[#This Row],[شماره تماس]]),0)","v":0},{"$f":"IF(Table3[[#This Row],[چندم]]=0,Table3[[#This Row],[شماره تماس]],MID(Table3[[#This Row],[شماره تماس]],1,Table3[[#This Row],[چندم]]-1))","v":0},{"$f":"IF(Table3[[#This Row],[چندم]]=0,\"\",MID(Table3[[#This Row],[شماره تماس]],Table3[[#This Row],[چندم]]+1,30))","v":""}]
[null,510,null,null,null,{"$f":"IFERROR(FIND(\"_\",Table3[[#This Row],[شماره تماس]]),0)","v":0},{"$f":"IF(Table3[[#This Row],[چندم]]=0,Table3[[#This Row],[شماره تماس]],MID(Table3[[#This Row],[شماره تماس]],1,Table3[[#This Row],[چندم]]-1))","v":0},{"$f":"IF(Table3[[#This Row],[چندم]]=0,\"\",MID(Table3[[#This Row],[شماره تماس]],Table3[[#This Row],[چندم]]+1,30))","v":""}]
[null,511,null,null,null,{"$f":"IFERROR(FIND(\"_\",Table3[[#This Row],[شماره تماس]]),0)","v":0},{"$f":"IF(Table3[[#This Row],[چندم]]=0,Table3[[#This Row],[شماره تماس]],MID(Table3[[#This Row],[شماره تماس]],1,Table3[[#This Row],[چندم]]-1))","v":0},{"$f":"IF(Table3[[#This Row],[چندم]]=0,\"\",MID(Table3[[#This Row],[شماره تماس]],Table3[[#This Row],[چندم]]+1,30))","v":""}]
[null,512,null,null,null,{"$f":"IFERROR(FIND(\"_\",Table3[[#This Row],[شماره تماس]]),0)","v":0},{"$f":"IF(Table3[[#This Row],[چندم]]=0,Table3[[#This Row],[شماره تماس]],MID(Table3[[#This Row],[شماره تماس]],1,Table3[[#This Row],[چندم]]-1))","v":0},{"$f":"IF(Table3[[#This Row],[چندم]]=0,\"\",MID(Table3[[#This Row],[شماره تماس]],Table3[[#This Row],[چندم]]+1,30))","v":""}]
[null,513,null,null,null,{"$f":"IFERROR(FIND(\"_\",Table3[[#This Row],[شماره تماس]]),0)","v":0},{"$f":"IF(Table3[[#This Row],[چندم]]=0,Table3[[#This Row],[شماره تماس]],MID(Table3[[#This Row],[شماره تماس]],1,Table3[[#This Row],[چندم]]-1))","v":0},{"$f":"IF(Table3[[#This Row],[چندم]]=0,\"\",MID(Table3[[#This Row],[شماره تماس]],Table3[[#This Row],[چندم]]+1,30))","v":""}]
[null,514,null,null,null,{"$f":"IFERROR(FIND(\"_\",Table3[[#This Row],[شماره تماس]]),0)","v":0},{"$f":"IF(Table3[[#This Row],[چندم]]=0,Table3[[#This Row],[شماره تماس]],MID(Table3[[#This Row],[شماره تماس]],1,Table3[[#This Row],[چندم]]-1))","v":0},{"$f":"IF(Table3[[#This Row],[چندم]]=0,\"\",MID(Table3[[#This Row],[شماره تماس]],Table3[[#This Row],[چندم]]+1,30))","v":""}]
[null,515,null,null,null,{"$f":"IFERROR(FIND(\"_\",Table3[[#This Row],[شماره تماس]]),0)","v":0},{"$f":"IF(Table3[[#This Row],[چندم]]=0,Table3[[#This Row],[شماره تماس]],MID(Table3[[#This Row],[شماره تماس]],1,Table3[[#This Row],[چندم]]-1))","v":0},{"$f":"IF(Table3[[#This Row],[چندم]]=0,\"\",MID(Table3[[#This Row],[شماره تماس]],Table3[[#This Row],[چندم]]+1,30))","v":""}]
[null,516,null,null,null,{"$f":"IFERROR(FIND(\"_\",Table3[[#This Row],[شماره تماس]]),0)","v":0},{"$f":"IF(Table3[[#This Row],[چندم]]=0,Table3[[#This Row],[شماره تماس]],MID(Table3[[#This Row],[شماره تماس]],1,Table3[[#This Row],[چندم]]-1))","v":0},{"$f":"IF(Table3[[#This Row],[چندم]]=0,\"\",MID(Table3[[#This Row],[شماره تماس]],Table3[[#This Row],[چندم]]+1,30))","v":""}]
[null,517,null,null,null,{"$f":"IFERROR(FIND(\"_\",Table3[[#This Row],[شماره تماس]]),0)","v":0},{"$f":"IF(Table3[[#This Row],[چندم]]=0,Table3[[#This Row],[شماره تماس]],MID(Table3[[#This Row],[شماره تماس]],1,Table3[[#This Row],[چندم]]-1))","v":0},{"$f":"IF(Table3[[#This Row],[چندم]]=0,\"\",MID(Table3[[#This Row],[شماره تماس]],Table3[[#This Row],[چندم]]+1,30))","v":""}]
[null,518,null,null,null,{"$f":"IFERROR(FIND(\"_\",Table3[[#This Row],[شماره تماس]]),0)","v":0},{"$f":"IF(Table3[[#This Row],[چندم]]=0,Table3[[#This Row],[شماره تماس]],MID(Table3[[#This Row],[شماره تماس]],1,Table3[[#This Row],[چندم]]-1))","v":0},{"$f":"IF(Table3[[#This Row],[چندم]]=0,\"\",MID(Table3[[#This Row],[شماره تماس]],Table3[[#This Row],[چندم]]+1,30))","v":""}]
[null,519,null,null,null,{"$f":"IFERROR(FIND(\"_\",Table3[[#This Row],[شماره تماس]]),0)","v":0},{"$f":"IF(Table3[[#This Row],[چندم]]=0,Table3[[#This Row],[شماره تماس]],MID(Table3[[#This Row],[شماره تماس]],1,Table3[[#This Row],[چندم]]-1))","v":0},{"$f":"IF(Table3[[#This Row],[چندم]]=0,\"\",MID(Table3[[#This Row],[شماره تماس]],Table3[[#This Row],[چندم]]+1,30))","v":""}]
[null,520,null,null,null,{"$f":"IFERROR(FIND(\"_\",Table3[[#This Row],[شماره تماس]]),0)","v":0},{"$f":"IF(Table3[[#This Row],[چندم]]=0,Table3[[#This Row],[شماره تماس]],MID(Table3[[#This Row],[شماره تماس]],1,Table3[[#This Row],[چندم]]-1))","v":0},{"$f":"IF(Table3[[#This Row],[چندم]]=0,\"\",MID(Table3[[#This Row],[شماره تماس]],Table3[[#This Row],[چندم]]+1,30))","v":""}]
[null,521,null,null,null,{"$f":"IFERROR(FIND(\"_\",Table3[[#This Row],[شماره تماس]]),0)","v":0},{"$f":"IF(Table3[[#This Row],[چندم]]=0,Table3[[#This Row],[شماره تماس]],MID(Table3[[#This Row],[شماره تماس]],1,Table3[[#This Row],[چندم]]-1))","v":0},{"$f":"IF(Table3[[#This Row],[چندم]]=0,\"\",MID(Table3[[#This Row],[شماره تماس]],Table3[[#This Row],[چندم]]+1,30))","v":""}]
[null,522,null,null,null,{"$f":"IFERROR(FIND(\"_\",Table3[[#This Row],[شماره تماس]]),0)","v":0},{"$f":"IF(Table3[[#This Row],[چندم]]=0,Table3[[#This Row],[شماره تماس]],MID(Table3[[#This Row],[شماره تماس]],1,Table3[[#This Row],[چندم]]-1))","v":0},{"$f":"IF(Table3[[#This Row],[چندم]]=0,\"\",MID(Table3[[#This Row],[شماره تماس]],Table3[[#This Row],[چندم]]+1,30))","v":""}]
[null,523,null,null,null,{"$f":"IFERROR(FIND(\"_\",Table3[[#This Row],[شماره تماس]]),0)","v":0},{"$f":"IF(Table3[[#This Row],[چندم]]=0,Table3[[#This Row],[شماره تماس]],MID(Table3[[#This Row],[شماره تماس]],1,Table3[[#This Row],[چندم]]-1))","v":0},{"$f":"IF(Table3[[#This Row],[چندم]]=0,\"\",MID(Table3[[#This Row],[شماره تماس]],Table3[[#This Row],[چندم]]+1,30))","v":""}]
[null,524,null,null,null,{"$f":"IFERROR(FIND(\"_\",Table3[[#This Row],[شماره تماس]]),0)","v":0},{"$f":"IF(Table3[[#This Row],[چندم]]=0,Table3[[#This Row],[شماره تماس]],MID(Table3[[#This Row],[شماره تماس]],1,Table3[[#This Row],[چندم]]-1))","v":0},{"$f":"IF(Table3[[#This Row],[چندم]]=0,\"\",MID(Table3[[#This Row],[شماره تماس]],Table3[[#This Row],[چندم]]+1,30))","v":""}]
[null,525,null,null,null,{"$f":"IFERROR(FIND(\"_\",Table3[[#This Row],[شماره تماس]]),0)","v":0},{"$f":"IF(Table3[[#This Row],[چندم]]=0,Table3[[#This Row],[شماره تماس]],MID(Table3[[#This Row],[شماره تماس]],1,Table3[[#This Row],[چندم]]-1))","v":0},{"$f":"IF(Table3[[#This Row],[چندم]]=0,\"\",MID(Table3[[#This Row],[شماره تماس]],Table3[[#This Row],[چندم]]+1,30))","v":""}]
[null,526,null,null,null,{"$f":"IFERROR(FIND(\"_\",Table3[[#This Row],[شماره تماس]]),0)","v":0},{"$f":"IF(Table3[[#This Row],[چندم]]=0,Table3[[#This Row],[شماره تماس]],MID(Table3[[#This Row],[شماره تماس]],1,Table3[[#This Row],[چندم]]-1))","v":0},{"$f":"IF(Table3[[#This Row],[چندم]]=0,\"\",MID(Table3[[#This Row],[شماره تماس]],Table3[[#This Row],[چندم]]+1,30))","v":""}]
[null,527,null,null,null,{"$f":"IFERROR(FIND(\"_\",Table3[[#This Row],[شماره تماس]]),0)","v":0},{"$f":"IF(Table3[[#This Row],[چندم]]=0,Table3[[#This Row],[شماره تماس]],MID(Table3[[#This Row],[شماره تماس]],1,Table3[[#This Row],[چندم]]-1))","v":0},{"$f":"IF(Table3[[#This Row],[چندم]]=0,\"\",MID(Table3[[#This Row],[شماره تماس]],Table3[[#This Row],[چندم]]+1,30))","v":""}]
[null,528,null,null,null,{"$f":"IFERROR(FIND(\"_\",Table3[[#This Row],[شماره تماس]]),0)","v":0},{"$f":"IF(Table3[[#This Row],[چندم]]=0,Table3[[#This Row],[شماره تماس]],MID(Table3[[#This Row],[شماره تماس]],1,Table3[[#This Row],[چندم]]-1))","v":0},{"$f":"IF(Table3[[#This Row],[چندم]]=0,\"\",MID(Table3[[#This Row],[شماره تماس]],Table3[[#This Row],[چندم]]+1,30))","v":""}]
[null,529,null,null,null,{"$f":"IFERROR(FIND(\"_\",Table3[[#This Row],[شماره تماس]]),0)","v":0},{"$f":"IF(Table3[[#This Row],[چندم]]=0,Table3[[#This Row],[شماره تماس]],MID(Table3[[#This Row],[شماره تماس]],1,Table3[[#This Row],[چندم]]-1))","v":0},{"$f":"IF(Table3[[#This Row],[چندم]]=0,\"\",MID(Table3[[#This Row],[شماره تماس]],Table3[[#This Row],[چندم]]+1,30))","v":""}]
[null,530,null,null,null,{"$f":"IFERROR(FIND(\"_\",Table3[[#This Row],[شماره تماس]]),0)","v":0},{"$f":"IF(Table3[[#This Row],[چندم]]=0,Table3[[#This Row],[شماره تماس]],MID(Table3[[#This Row],[شماره تماس]],1,Table3[[#This Row],[چندم]]-1))","v":0},{"$f":"IF(Table3[[#This Row],[چندم]]=0,\"\",MID(Table3[[#This Row],[شماره تماس]],Table3[[#This Row],[چندم]]+1,30))","v":""}]
[null,531,null,null,null,{"$f":"IFERROR(FIND(\"_\",Table3[[#This Row],[شماره تماس]]),0)","v":0},{"$f":"IF(Table3[[#This Row],[چندم]]=0,Table3[[#This Row],[شماره تماس]],MID(Table3[[#This Row],[شماره تماس]],1,Table3[[#This Row],[چندم]]-1))","v":0},{"$f":"IF(Table3[[#This Row],[چندم]]=0,\"\",MID(Table3[[#This Row],[شماره تماس]],Table3[[#This Row],[چندم]]+1,30))","v":""}]
[null,532,null,null,null,{"$f":"IFERROR(FIND(\"_\",Table3[[#This Row],[شماره تماس]]),0)","v":0},{"$f":"IF(Table3[[#This Row],[چندم]]=0,Table3[[#This Row],[شماره تماس]],MID(Table3[[#This Row],[شماره تماس]],1,Table3[[#This Row],[چندم]]-1))","v":0},{"$f":"IF(Table3[[#This Row],[چندم]]=0,\"\",MID(Table3[[#This Row],[شماره تماس]],Table3[[#This Row],[چندم]]+1,30))","v":""}]
[null,533,null,null,null,{"$f":"IFERROR(FIND(\"_\",Table3[[#This Row],[شماره تماس]]),0)","v":0},{"$f":"IF(Table3[[#This Row],[چندم]]=0,Table3[[#This Row],[شماره تماس]],MID(Table3[[#This Row],[شماره تماس]],1,Table3[[#This Row],[چندم]]-1))","v":0},{"$f":"IF(Table3[[#This Row],[چندم]]=0,\"\",MID(Table3[[#This Row],[شماره تماس]],Table3[[#This Row],[چندم]]+1,30))","v":""}]
[null,534,null,null,null,{"$f":"IFERROR(FIND(\"_\",Table3[[#This Row],[شماره تماس]]),0)","v":0},{"$f":"IF(Table3[[#This Row],[چندم]]=0,Table3[[#This Row],[شماره تماس]],MID(Table3[[#This Row],[شماره تماس]],1,Table3[[#This Row],[چندم]]-1))","v":0},{"$f":"IF(Table3[[#This Row],[چندم]]=0,\"\",MID(Table3[[#This Row],[شماره تماس]],Table3[[#This Row],[چندم]]+1,30))","v":""}]
[null,535,null,null,null,{"$f":"IFERROR(FIND(\"_\",Table3[[#This Row],[شماره تماس]]),0)","v":0},{"$f":"IF(Table3[[#This Row],[چندم]]=0,Table3[[#This Row],[شماره تماس]],MID(Table3[[#This Row],[شماره تماس]],1,Table3[[#This Row],[چندم]]-1))","v":0},{"$f":"IF(Table3[[#This Row],[چندم]]=0,\"\",MID(Table3[[#This Row],[شماره تماس]],Table3[[#This Row],[چندم]]+1,30))","v":""}]
[null,536,null,null,null,{"$f":"IFERROR(FIND(\"_\",Table3[[#This Row],[شماره تماس]]),0)","v":0},{"$f":"IF(Table3[[#This Row],[چندم]]=0,Table3[[#This Row],[شماره تماس]],MID(Table3[[#This Row],[شماره تماس]],1,Table3[[#This Row],[چندم]]-1))","v":0},{"$f":"IF(Table3[[#This Row],[چندم]]=0,\"\",MID(Table3[[#This Row],[شماره تماس]],Table3[[#This Row],[چندم]]+1,30))","v":""}]
[null,537,null,null,null,{"$f":"IFERROR(FIND(\"_\",Table3[[#This Row],[شماره تماس]]),0)","v":0},{"$f":"IF(Table3[[#This Row],[چندم]]=0,Table3[[#This Row],[شماره تماس]],MID(Table3[[#This Row],[شماره تماس]],1,Table3[[#This Row],[چندم]]-1))","v":0},{"$f":"IF(Table3[[#This Row],[چندم]]=0,\"\",MID(Table3[[#This Row],[شماره تماس]],Table3[[#This Row],[چندم]]+1,30))","v":""}]
[null,538,null,null,null,{"$f":"IFERROR(FIND(\"_\",Table3[[#This Row],[شماره تماس]]),0)","v":0},{"$f":"IF(Table3[[#This Row],[چندم]]=0,Table3[[#This Row],[شماره تماس]],MID(Table3[[#This Row],[شماره تماس]],1,Table3[[#This Row],[چندم]]-1))","v":0},{"$f":"IF(Table3[[#This Row],[چندم]]=0,\"\",MID(Table3[[#This Row],[شماره تماس]],Table3[[#This Row],[چندم]]+1,30))","v":""}]
[null,539,null,null,null,{"$f":"IFERROR(FIND(\"_\",Table3[[#This Row],[شماره تماس]]),0)","v":0},{"$f":"IF(Table3[[#This Row],[چندم]]=0,Table3[[#This Row],[شماره تماس]],MID(Table3[[#This Row],[شماره تماس]],1,Table3[[#This Row],[چندم]]-1))","v":0},{"$f":"IF(Table3[[#This Row],[چندم]]=0,\"\",MID(Table3[[#This Row],[شماره تماس]],Table3[[#This Row],[چندم]]+1,30))","v":""}]
[null,540,null,null,null,{"$f":"IFERROR(FIND(\"_\",Table3[[#This Row],[شماره تماس]]),0)","v":0},{"$f":"IF(Table3[[#This Row],[چندم]]=0,Table3[[#This Row],[شماره تماس]],MID(Table3[[#This Row],[شماره تماس]],1,Table3[[#This Row],[چندم]]-1))","v":0},{"$f":"IF(Table3[[#This Row],[چندم]]=0,\"\",MID(Table3[[#This Row],[شماره تماس]],Table3[[#This Row],[چندم]]+1,30))","v":""}]
[null,541,null,null,null,{"$f":"IFERROR(FIND(\"_\",Table3[[#This Row],[شماره تماس]]),0)","v":0},{"$f":"IF(Table3[[#This Row],[چندم]]=0,Table3[[#This Row],[شماره تماس]],MID(Table3[[#This Row],[شماره تماس]],1,Table3[[#This Row],[چندم]]-1))","v":0},{"$f":"IF(Table3[[#This Row],[چندم]]=0,\"\",MID(Table3[[#This Row],[شماره تماس]],Table3[[#This Row],[چندم]]+1,30))","v":""}]
[null,542,null,null,null,{"$f":"IFERROR(FIND(\"_\",Table3[[#This Row],[شماره تماس]]),0)","v":0},{"$f":"IF(Table3[[#This Row],[چندم]]=0,Table3[[#This Row],[شماره تماس]],MID(Table3[[#This Row],[شماره تماس]],1,Table3[[#This Row],[چندم]]-1))","v":0},{"$f":"IF(Table3[[#This Row],[چندم]]=0,\"\",MID(Table3[[#This Row],[شماره تماس]],Table3[[#This Row],[چندم]]+1,30))","v":""}]
[null,543,null,null,null,{"$f":"IFERROR(FIND(\"_\",Table3[[#This Row],[شماره تماس]]),0)","v":0},{"$f":"IF(Table3[[#This Row],[چندم]]=0,Table3[[#This Row],[شماره تماس]],MID(Table3[[#This Row],[شماره تماس]],1,Table3[[#This Row],[چندم]]-1))","v":0},{"$f":"IF(Table3[[#This Row],[چندم]]=0,\"\",MID(Table3[[#This Row],[شماره تماس]],Table3[[#This Row],[چندم]]+1,30))","v":""}]
[null,544,null,null,null,{"$f":"IFERROR(FIND(\"_\",Table3[[#This Row],[شماره تماس]]),0)","v":0},{"$f":"IF(Table3[[#This Row],[چندم]]=0,Table3[[#This Row],[شماره تماس]],MID(Table3[[#This Row],[شماره تماس]],1,Table3[[#This Row],[چندم]]-1))","v":0},{"$f":"IF(Table3[[#This Row],[چندم]]=0,\"\",MID(Table3[[#This Row],[شماره تماس]],Table3[[#This Row],[چندم]]+1,30))","v":""}]
[null,545,null,null,null,{"$f":"IFERROR(FIND(\"_\",Table3[[#This Row],[شماره تماس]]),0)","v":0},{"$f":"IF(Table3[[#This Row],[چندم]]=0,Table3[[#This Row],[شماره تماس]],MID(Table3[[#This Row],[شماره تماس]],1,Table3[[#This Row],[چندم]]-1))","v":0},{"$f":"IF(Table3[[#This Row],[چندم]]=0,\"\",MID(Table3[[#This Row],[شماره تماس]],Table3[[#This Row],[چندم]]+1,30))","v":""}]
[null,546,null,null,null,{"$f":"IFERROR(FIND(\"_\",Table3[[#This Row],[شماره تماس]]),0)","v":0},{"$f":"IF(Table3[[#This Row],[چندم]]=0,Table3[[#This Row],[شماره تماس]],MID(Table3[[#This Row],[شماره تماس]],1,Table3[[#This Row],[چندم]]-1))","v":0},{"$f":"IF(Table3[[#This Row],[چندم]]=0,\"\",MID(Table3[[#This Row],[شماره تماس]],Table3[[#This Row],[چندم]]+1,30))","v":""}]
[null,547,null,null,null,{"$f":"IFERROR(FIND(\"_\",Table3[[#This Row],[شماره تماس]]),0)","v":0},{"$f":"IF(Table3[[#This Row],[چندم]]=0,Table3[[#This Row],[شماره تماس]],MID(Table3[[#This Row],[شماره تماس]],1,Table3[[#This Row],[چندم]]-1))","v":0},{"$f":"IF(Table3[[#This Row],[چندم]]=0,\"\",MID(Table3[[#This Row],[شماره تماس]],Table3[[#This Row],[چندم]]+1,30))","v":""}]
[null,548,null,null,null,{"$f":"IFERROR(FIND(\"_\",Table3[[#This Row],[شماره تماس]]),0)","v":0},{"$f":"IF(Table3[[#This Row],[چندم]]=0,Table3[[#This Row],[شماره تماس]],MID(Table3[[#This Row],[شماره تماس]],1,Table3[[#This Row],[چندم]]-1))","v":0},{"$f":"IF(Table3[[#This Row],[چندم]]=0,\"\",MID(Table3[[#This Row],[شماره تماس]],Table3[[#This Row],[چندم]]+1,30))","v":""}]
[null,549,null,null,null,{"$f":"IFERROR(FIND(\"_\",Table3[[#This Row],[شماره تماس]]),0)","v":0},{"$f":"IF(Table3[[#This Row],[چندم]]=0,Table3[[#This Row],[شماره تماس]],MID(Table3[[#This Row],[شماره تماس]],1,Table3[[#This Row],[چندم]]-1))","v":0},{"$f":"IF(Table3[[#This Row],[چندم]]=0,\"\",MID(Table3[[#This Row],[شماره تماس]],Table3[[#This Row],[چندم]]+1,30))","v":""}]
[null,550,null,null,null,{"$f":"IFERROR(FIND(\"_\",Table3[[#This Row],[شماره تماس]]),0)","v":0},{"$f":"IF(Table3[[#This Row],[چندم]]=0,Table3[[#This Row],[شماره تماس]],MID(Table3[[#This Row],[شماره تماس]],1,Table3[[#This Row],[چندم]]-1))","v":0},{"$f":"IF(Table3[[#This Row],[چندم]]=0,\"\",MID(Table3[[#This Row],[شماره تماس]],Table3[[#This Row],[چندم]]+1,30))","v":""}]
[null,{"$f":"ROW()-3","v":551},null,null,null,{"$f":"IFERROR(FIND(\"_\",Table3[[#This Row],[شماره تماس]]),0)","v":0},{"$f":"IF(Table3[[#This Row],[چندم]]=0,Table3[[#This Row],[شماره تماس]],MID(Table3[[#This Row],[شماره تماس]],1,Table3[[#This Row],[چندم]]-1))","v":0},{"$f":"IF(Table3[[#This Row],[چندم]]=0,\"\",MID(Table3[[#This Row],[شماره تماس]],Table3[[#This Row],[چندم]]+1,30))","v":""}]
[null,552,null,null,null,{"$f":"IFERROR(FIND(\"_\",Table3[[#This Row],[شماره تماس]]),0)","v":0},{"$f":"IF(Table3[[#This Row],[چندم]]=0,Table3[[#This Row],[شماره تماس]],MID(Table3[[#This Row],[شماره تماس]],1,Table3[[#This Row],[چندم]]-1))","v":0},{"$f":"IF(Table3[[#This Row],[چندم]]=0,\"\",MID(Table3[[#This Row],[شماره تماس]],Table3[[#This Row],[چندم]]+1,30))","v":""}]
[null,553,null,null,null,{"$f":"IFERROR(FIND(\"_\",Table3[[#This Row],[شماره تماس]]),0)","v":0},{"$f":"IF(Table3[[#This Row],[چندم]]=0,Table3[[#This Row],[شماره تماس]],MID(Table3[[#This Row],[شماره تماس]],1,Table3[[#This Row],[چندم]]-1))","v":0},{"$f":"IF(Table3[[#This Row],[چندم]]=0,\"\",MID(Table3[[#This Row],[شماره تماس]],Table3[[#This Row],[چندم]]+1,30))","v":""}]
[null,554,null,null,null,{"$f":"IFERROR(FIND(\"_\",Table3[[#This Row],[شماره تماس]]),0)","v":0},{"$f":"IF(Table3[[#This Row],[چندم]]=0,Table3[[#This Row],[شماره تماس]],MID(Table3[[#This Row],[شماره تماس]],1,Table3[[#This Row],[چندم]]-1))","v":0},{"$f":"IF(Table3[[#This Row],[چندم]]=0,\"\",MID(Table3[[#This Row],[شماره تماس]],Table3[[#This Row],[چندم]]+1,30))","v":""}]
[null,555,null,null,null,{"$f":"IFERROR(FIND(\"_\",Table3[[#This Row],[شماره تماس]]),0)","v":0},{"$f":"IF(Table3[[#This Row],[چندم]]=0,Table3[[#This Row],[شماره تماس]],MID(Table3[[#This Row],[شماره تماس]],1,Table3[[#This Row],[چندم]]-1))","v":0},{"$f":"IF(Table3[[#This Row],[چندم]]=0,\"\",MID(Table3[[#This Row],[شماره تماس]],Table3[[#This Row],[چندم]]+1,30))","v":""}]
[null,556,null,null,null,{"$f":"IFERROR(FIND(\"_\",Table3[[#This Row],[شماره تماس]]),0)","v":0},{"$f":"IF(Table3[[#This Row],[چندم]]=0,Table3[[#This Row],[شماره تماس]],MID(Table3[[#This Row],[شماره تماس]],1,Table3[[#This Row],[چندم]]-1))","v":0},{"$f":"IF(Table3[[#This Row],[چندم]]=0,\"\",MID(Table3[[#This Row],[شماره تماس]],Table3[[#This Row],[چندم]]+1,30))","v":""}]
[null,557,null,null,null,{"$f":"IFERROR(FIND(\"_\",Table3[[#This Row],[شماره تماس]]),0)","v":0},{"$f":"IF(Table3[[#This Row],[چندم]]=0,Table3[[#This Row],[شماره تماس]],MID(Table3[[#This Row],[شماره تماس]],1,Table3[[#This Row],[چندم]]-1))","v":0},{"$f":"IF(Table3[[#This Row],[چندم]]=0,\"\",MID(Table3[[#This Row],[شماره تماس]],Table3[[#This Row],[چندم]]+1,30))","v":""}]
[null,558,null,null,null,{"$f":"IFERROR(FIND(\"_\",Table3[[#This Row],[شماره تماس]]),0)","v":0},{"$f":"IF(Table3[[#This Row],[چندم]]=0,Table3[[#This Row],[شماره تماس]],MID(Table3[[#This Row],[شماره تماس]],1,Table3[[#This Row],[چندم]]-1))","v":0},{"$f":"IF(Table3[[#This Row],[چندم]]=0,\"\",MID(Table3[[#This Row],[شماره تماس]],Table3[[#This Row],[چندم]]+1,30))","v":""}]
[null,559,null,null,null,{"$f":"IFERROR(FIND(\"_\",Table3[[#This Row],[شماره تماس]]),0)","v":0},{"$f":"IF(Table3[[#This Row],[چندم]]=0,Table3[[#This Row],[شماره تماس]],MID(Table3[[#This Row],[شماره تماس]],1,Table3[[#This Row],[چندم]]-1))","v":0},{"$f":"IF(Table3[[#This Row],[چندم]]=0,\"\",MID(Table3[[#This Row],[شماره تماس]],Table3[[#This Row],[چندم]]+1,30))","v":""}]
[null,560,null,null,null,{"$f":"IFERROR(FIND(\"_\",Table3[[#This Row],[شماره تماس]]),0)","v":0},{"$f":"IF(Table3[[#This Row],[چندم]]=0,Table3[[#This Row],[شماره تماس]],MID(Table3[[#This Row],[شماره تماس]],1,Table3[[#This Row],[چندم]]-1))","v":0},{"$f":"IF(Table3[[#This Row],[چندم]]=0,\"\",MID(Table3[[#This Row],[شماره تماس]],Table3[[#This Row],[چندم]]+1,30))","v":""}]
[null,561,null,null,null,{"$f":"IFERROR(FIND(\"_\",Table3[[#This Row],[شماره تماس]]),0)","v":0},{"$f":"IF(Table3[[#This Row],[چندم]]=0,Table3[[#This Row],[شماره تماس]],MID(Table3[[#This Row],[شماره تماس]],1,Table3[[#This Row],[چندم]]-1))","v":0},{"$f":"IF(Table3[[#This Row],[چندم]]=0,\"\",MID(Table3[[#This Row],[شماره تماس]],Table3[[#This Row],[چندم]]+1,30))","v":""}]
[null,562,null,null,null,{"$f":"IFERROR(FIND(\"_\",Table3[[#This Row],[شماره تماس]]),0)","v":0},{"$f":"IF(Table3[[#This Row],[چندم]]=0,Table3[[#This Row],[شماره تماس]],MID(Table3[[#This Row],[شماره تماس]],1,Table3[[#This Row],[چندم]]-1))","v":0},{"$f":"IF(Table3[[#This Row],[چندم]]=0,\"\",MID(Table3[[#This Row],[شماره تماس]],Table3[[#This Row],[چندم]]+1,30))","v":""}]
[null,563,null,null,null,{"$f":"IFERROR(FIND(\"_\",Table3[[#This Row],[شماره تماس]]),0)","v":0},{"$f":"IF(Table3[[#This Row],[چندم]]=0,Table3[[#This Row],[شماره تماس]],MID(Table3[[#This Row],[شماره تماس]],1,Table3[[#This Row],[چندم]]-1))","v":0},{"$f":"IF(Table3[[#This Row],[چندم]]=0,\"\",MID(Table3[[#This Row],[شماره تماس]],Table3[[#This Row],[چندم]]+1,30))","v":""}]
[null,564,null,null,null,{"$f":"IFERROR(FIND(\"_\",Table3[[#This Row],[شماره تماس]]),0)","v":0},{"$f":"IF(Table3[[#This Row],[چندم]]=0,Table3[[#This Row],[شماره تماس]],MID(Table3[[#This Row],[شماره تماس]],1,Table3[[#This Row],[چندم]]-1))","v":0},{"$f":"IF(Table3[[#This Row],[چندم]]=0,\"\",MID(Table3[[#This Row],[شماره تماس]],Table3[[#This Row],[چندم]]+1,30))","v":""}]
[null,565,null,null,null,{"$f":"IFERROR(FIND(\"_\",Table3[[#This Row],[شماره تماس]]),0)","v":0},{"$f":"IF(Table3[[#This Row],[چندم]]=0,Table3[[#This Row],[شماره تماس]],MID(Table3[[#This Row],[شماره تماس]],1,Table3[[#This Row],[چندم]]-1))","v":0},{"$f":"IF(Table3[[#This Row],[چندم]]=0,\"\",MID(Table3[[#This Row],[شماره تماس]],Table3[[#This Row],[چندم]]+1,30))","v":""}]
[null,566,null,null,null,{"$f":"IFERROR(FIND(\"_\",Table3[[#This Row],[شماره تماس]]),0)","v":0},{"$f":"IF(Table3[[#This Row],[چندم]]=0,Table3[[#This Row],[شماره تماس]],MID(Table3[[#This Row],[شماره تماس]],1,Table3[[#This Row],[چندم]]-1))","v":0},{"$f":"IF(Table3[[#This Row],[چندم]]=0,\"\",MID(Table3[[#This Row],[شماره تماس]],Table3[[#This Row],[چندم]]+1,30))","v":""}]
[null,567,null,null,null,{"$f":"IFERROR(FIND(\"_\",Table3[[#This Row],[شماره تماس]]),0)","v":0},{"$f":"IF(Table3[[#This Row],[چندم]]=0,Table3[[#This Row],[شماره تماس]],MID(Table3[[#This Row],[شماره تماس]],1,Table3[[#This Row],[چندم]]-1))","v":0},{"$f":"IF(Table3[[#This Row],[چندم]]=0,\"\",MID(Table3[[#This Row],[شماره تماس]],Table3[[#This Row],[چندم]]+1,30))","v":""}]
[null,568,null,null,null,{"$f":"IFERROR(FIND(\"_\",Table3[[#This Row],[شماره تماس]]),0)","v":0},{"$f":"IF(Table3[[#This Row],[چندم]]=0,Table3[[#This Row],[شماره تماس]],MID(Table3[[#This Row],[شماره تماس]],1,Table3[[#This Row],[چندم]]-1))","v":0},{"$f":"IF(Table3[[#This Row],[چندم]]=0,\"\",MID(Table3[[#This Row],[شماره تماس]],Table3[[#This Row],[چندم]]+1,30))","v":""}]
[null,569,null,null,null,{"$f":"IFERROR(FIND(\"_\",Table3[[#This Row],[شماره تماس]]),0)","v":0},{"$f":"IF(Table3[[#This Row],[چندم]]=0,Table3[[#This Row],[شماره تماس]],MID(Table3[[#This Row],[شماره تماس]],1,Table3[[#This Row],[چندم]]-1))","v":0},{"$f":"IF(Table3[[#This Row],[چندم]]=0,\"\",MID(Table3[[#This Row],[شماره تماس]],Table3[[#This Row],[چندم]]+1,30))","v":""}]
[null,570,null,null,null,{"$f":"IFERROR(FIND(\"_\",Table3[[#This Row],[شماره تماس]]),0)","v":0},{"$f":"IF(Table3[[#This Row],[چندم]]=0,Table3[[#This Row],[شماره تماس]],MID(Table3[[#This Row],[شماره تماس]],1,Table3[[#This Row],[چندم]]-1))","v":0},{"$f":"IF(Table3[[#This Row],[چندم]]=0,\"\",MID(Table3[[#This Row],[شماره تماس]],Table3[[#This Row],[چندم]]+1,30))","v":""}]
[null,571,null,null,null,{"$f":"IFERROR(FIND(\"_\",Table3[[#This Row],[شماره تماس]]),0)","v":0},{"$f":"IF(Table3[[#This Row],[چندم]]=0,Table3[[#This Row],[شماره تماس]],MID(Table3[[#This Row],[شماره تماس]],1,Table3[[#This Row],[چندم]]-1))","v":0},{"$f":"IF(Table3[[#This Row],[چندم]]=0,\"\",MID(Table3[[#This Row],[شماره تماس]],Table3[[#This Row],[چندم]]+1,30))","v":""}]
[null,572,null,null,null,{"$f":"IFERROR(FIND(\"_\",Table3[[#This Row],[شماره تماس]]),0)","v":0},{"$f":"IF(Table3[[#This Row],[چندم]]=0,Table3[[#This Row],[شماره تماس]],MID(Table3[[#This Row],[شماره تماس]],1,Table3[[#This Row],[چندم]]-1))","v":0},{"$f":"IF(Table3[[#This Row],[چندم]]=0,\"\",MID(Table3[[#This Row],[شماره تماس]],Table3[[#This Row],[چندم]]+1,30))","v":""}]
[null,573,null,null,null,{"$f":"IFERROR(FIND(\"_\",Table3[[#This Row],[شماره تماس]]),0)","v":0},{"$f":"IF(Table3[[#This Row],[چندم]]=0,Table3[[#This Row],[شماره تماس]],MID(Table3[[#This Row],[شماره تماس]],1,Table3[[#This Row],[چندم]]-1))","v":0},{"$f":"IF(Table3[[#This Row],[چندم]]=0,\"\",MID(Table3[[#This Row],[شماره تماس]],Table3[[#This Row],[چندم]]+1,30))","v":""}]
[null,574,null,null,null,{"$f":"IFERROR(FIND(\"_\",Table3[[#This Row],[شماره تماس]]),0)","v":0},{"$f":"IF(Table3[[#This Row],[چندم]]=0,Table3[[#This Row],[شماره تماس]],MID(Table3[[#This Row],[شماره تماس]],1,Table3[[#This Row],[چندم]]-1))","v":0},{"$f":"IF(Table3[[#This Row],[چندم]]=0,\"\",MID(Table3[[#This Row],[شماره تماس]],Table3[[#This Row],[چندم]]+1,30))","v":""}]
[null,575,null,null,null,{"$f":"IFERROR(FIND(\"_\",Table3[[#This Row],[شماره تماس]]),0)","v":0},{"$f":"IF(Table3[[#This Row],[چندم]]=0,Table3[[#This Row],[شماره تماس]],MID(Table3[[#This Row],[شماره تماس]],1,Table3[[#This Row],[چندم]]-1))","v":0},{"$f":"IF(Table3[[#This Row],[چندم]]=0,\"\",MID(Table3[[#This Row],[شماره تماس]],Table3[[#This Row],[چندم]]+1,30))","v":""}]
[null,576,null,null,null,{"$f":"IFERROR(FIND(\"_\",Table3[[#This Row],[شماره تماس]]),0)","v":0},{"$f":"IF(Table3[[#This Row],[چندم]]=0,Table3[[#This Row],[شماره تماس]],MID(Table3[[#This Row],[شماره تماس]],1,Table3[[#This Row],[چندم]]-1))","v":0},{"$f":"IF(Table3[[#This Row],[چندم]]=0,\"\",MID(Table3[[#This Row],[شماره تماس]],Table3[[#This Row],[چندم]]+1,30))","v":""}]
[null,577,null,null,null,{"$f":"IFERROR(FIND(\"_\",Table3[[#This Row],[شماره تماس]]),0)","v":0},{"$f":"IF(Table3[[#This Row],[چندم]]=0,Table3[[#This Row],[شماره تماس]],MID(Table3[[#This Row],[شماره تماس]],1,Table3[[#This Row],[چندم]]-1))","v":0},{"$f":"IF(Table3[[#This Row],[چندم]]=0,\"\",MID(Table3[[#This Row],[شماره تماس]],Table3[[#This Row],[چندم]]+1,30))","v":""}]
[null,578,null,null,null,{"$f":"IFERROR(FIND(\"_\",Table3[[#This Row],[شماره تماس]]),0)","v":0},{"$f":"IF(Table3[[#This Row],[چندم]]=0,Table3[[#This Row],[شماره تماس]],MID(Table3[[#This Row],[شماره تماس]],1,Table3[[#This Row],[چندم]]-1))","v":0},{"$f":"IF(Table3[[#This Row],[چندم]]=0,\"\",MID(Table3[[#This Row],[شماره تماس]],Table3[[#This Row],[چندم]]+1,30))","v":""}]
[null,579,null,null,null,{"$f":"IFERROR(FIND(\"_\",Table3[[#This Row],[شماره تماس]]),0)","v":0},{"$f":"IF(Table3[[#This Row],[چندم]]=0,Table3[[#This Row],[شماره تماس]],MID(Table3[[#This Row],[شماره تماس]],1,Table3[[#This Row],[چندم]]-1))","v":0},{"$f":"IF(Table3[[#This Row],[چندم]]=0,\"\",MID(Table3[[#This Row],[شماره تماس]],Table3[[#This Row],[چندم]]+1,30))","v":""}]
[null,580,null,null,null,{"$f":"IFERROR(FIND(\"_\",Table3[[#This Row],[شماره تماس]]),0)","v":0},{"$f":"IF(Table3[[#This Row],[چندم]]=0,Table3[[#This Row],[شماره تماس]],MID(Table3[[#This Row],[شماره تماس]],1,Table3[[#This Row],[چندم]]-1))","v":0},{"$f":"IF(Table3[[#This Row],[چندم]]=0,\"\",MID(Table3[[#This Row],[شماره تماس]],Table3[[#This Row],[چندم]]+1,30))","v":""}]
[null,581,null,null,null,{"$f":"IFERROR(FIND(\"_\",Table3[[#This Row],[شماره تماس]]),0)","v":0},{"$f":"IF(Table3[[#This Row],[چندم]]=0,Table3[[#This Row],[شماره تماس]],MID(Table3[[#This Row],[شماره تماس]],1,Table3[[#This Row],[چندم]]-1))","v":0},{"$f":"IF(Table3[[#This Row],[چندم]]=0,\"\",MID(Table3[[#This Row],[شماره تماس]],Table3[[#This Row],[چندم]]+1,30))","v":""}]
[null,582,null,null,null,{"$f":"IFERROR(FIND(\"_\",Table3[[#This Row],[شماره تماس]]),0)","v":0},{"$f":"IF(Table3[[#This Row],[چندم]]=0,Table3[[#This Row],[شماره تماس]],MID(Table3[[#This Row],[شماره تماس]],1,Table3[[#This Row],[چندم]]-1))","v":0},{"$f":"IF(Table3[[#This Row],[چندم]]=0,\"\",MID(Table3[[#This Row],[شماره تماس]],Table3[[#This Row],[چندم]]+1,30))","v":""}]
[null,583,null,null,null,{"$f":"IFERROR(FIND(\"_\",Table3[[#This Row],[شماره تماس]]),0)","v":0},{"$f":"IF(Table3[[#This Row],[چندم]]=0,Table3[[#This Row],[شماره تماس]],MID(Table3[[#This Row],[شماره تماس]],1,Table3[[#This Row],[چندم]]-1))","v":0},{"$f":"IF(Table3[[#This Row],[چندم]]=0,\"\",MID(Table3[[#This Row],[شماره تماس]],Table3[[#This Row],[چندم]]+1,30))","v":""}]
[null,584,null,null,null,{"$f":"IFERROR(FIND(\"_\",Table3[[#This Row],[شماره تماس]]),0)","v":0},{"$f":"IF(Table3[[#This Row],[چندم]]=0,Table3[[#This Row],[شماره تماس]],MID(Table3[[#This Row],[شماره تماس]],1,Table3[[#This Row],[چندم]]-1))","v":0},{"$f":"IF(Table3[[#This Row],[چندم]]=0,\"\",MID(Table3[[#This Row],[شماره تماس]],Table3[[#This Row],[چندم]]+1,30))","v":""}]
[null,585,null,null,null,{"$f":"IFERROR(FIND(\"_\",Table3[[#This Row],[شماره تماس]]),0)","v":0},{"$f":"IF(Table3[[#This Row],[چندم]]=0,Table3[[#This Row],[شماره تماس]],MID(Table3[[#This Row],[شماره تماس]],1,Table3[[#This Row],[چندم]]-1))","v":0},{"$f":"IF(Table3[[#This Row],[چندم]]=0,\"\",MID(Table3[[#This Row],[شماره تماس]],Table3[[#This Row],[چندم]]+1,30))","v":""}]
[null,586,null,null,null,{"$f":"IFERROR(FIND(\"_\",Table3[[#This Row],[شماره تماس]]),0)","v":0},{"$f":"IF(Table3[[#This Row],[چندم]]=0,Table3[[#This Row],[شماره تماس]],MID(Table3[[#This Row],[شماره تماس]],1,Table3[[#This Row],[چندم]]-1))","v":0},{"$f":"IF(Table3[[#This Row],[چندم]]=0,\"\",MID(Table3[[#This Row],[شماره تماس]],Table3[[#This Row],[چندم]]+1,30))","v":""}]
[null,587,null,null,null,{"$f":"IFERROR(FIND(\"_\",Table3[[#This Row],[شماره تماس]]),0)","v":0},{"$f":"IF(Table3[[#This Row],[چندم]]=0,Table3[[#This Row],[شماره تماس]],MID(Table3[[#This Row],[شماره تماس]],1,Table3[[#This Row],[چندم]]-1))","v":0},{"$f":"IF(Table3[[#This Row],[چندم]]=0,\"\",MID(Table3[[#This Row],[شماره تماس]],Table3[[#This Row],[چندم]]+1,30))","v":""}]
[null,588,null,null,null,{"$f":"IFERROR(FIND(\"_\",Table3[[#This Row],[شماره تماس]]),0)","v":0},{"$f":"IF(Table3[[#This Row],[چندم]]=0,Table3[[#This Row],[شماره تماس]],MID(Table3[[#This Row],[شماره تماس]],1,Table3[[#This Row],[چندم]]-1))","v":0},{"$f":"IF(Table3[[#This Row],[چندم]]=0,\"\",MID(Table3[[#This Row],[شماره تماس]],Table3[[#This Row],[چندم]]+1,30))","v":""}]
[null,589,null,null,null,{"$f":"IFERROR(FIND(\"_\",Table3[[#This Row],[شماره تماس]]),0)","v":0},{"$f":"IF(Table3[[#This Row],[چندم]]=0,Table3[[#This Row],[شماره تماس]],MID(Table3[[#This Row],[شماره تماس]],1,Table3[[#This Row],[چندم]]-1))","v":0},{"$f":"IF(Table3[[#This Row],[چندم]]=0,\"\",MID(Table3[[#This Row],[شماره تماس]],Table3[[#This Row],[چندم]]+1,30))","v":""}]
[null,590,null,null,null,{"$f":"IFERROR(FIND(\"_\",Table3[[#This Row],[شماره تماس]]),0)","v":0},{"$f":"IF(Table3[[#This Row],[چندم]]=0,Table3[[#This Row],[شماره تماس]],MID(Table3[[#This Row],[شماره تماس]],1,Table3[[#This Row],[چندم]]-1))","v":0},{"$f":"IF(Table3[[#This Row],[چندم]]=0,\"\",MID(Table3[[#This Row],[شماره تماس]],Table3[[#This Row],[چندم]]+1,30))","v":""}]
[null,591,null,null,null,{"$f":"IFERROR(FIND(\"_\",Table3[[#This Row],[شماره تماس]]),0)","v":0},{"$f":"IF(Table3[[#This Row],[چندم]]=0,Table3[[#This Row],[شماره تماس]],MID(Table3[[#This Row],[شماره تماس]],1,Table3[[#This Row],[چندم]]-1))","v":0},{"$f":"IF(Table3[[#This Row],[چندم]]=0,\"\",MID(Table3[[#This Row],[شماره تماس]],Table3[[#This Row],[چندم]]+1,30))","v":""}]
[null,592,null,null,null,{"$f":"IFERROR(FIND(\"_\",Table3[[#This Row],[شماره تماس]]),0)","v":0},{"$f":"IF(Table3[[#This Row],[چندم]]=0,Table3[[#This Row],[شماره تماس]],MID(Table3[[#This Row],[شماره تماس]],1,Table3[[#This Row],[چندم]]-1))","v":0},{"$f":"IF(Table3[[#This Row],[چندم]]=0,\"\",MID(Table3[[#This Row],[شماره تماس]],Table3[[#This Row],[چندم]]+1,30))","v":""}]
[null,593,null,null,null,{"$f":"IFERROR(FIND(\"_\",Table3[[#This Row],[شماره تماس]]),0)","v":0},{"$f":"IF(Table3[[#This Row],[چندم]]=0,Table3[[#This Row],[شماره تماس]],MID(Table3[[#This Row],[شماره تماس]],1,Table3[[#This Row],[چندم]]-1))","v":0},{"$f":"IF(Table3[[#This Row],[چندم]]=0,\"\",MID(Table3[[#This Row],[شماره تماس]],Table3[[#This Row],[چندم]]+1,30))","v":""}]
[null,594,null,null,null,{"$f":"IFERROR(FIND(\"_\",Table3[[#This Row],[شماره تماس]]),0)","v":0},{"$f":"IF(Table3[[#This Row],[چندم]]=0,Table3[[#This Row],[شماره تماس]],MID(Table3[[#This Row],[شماره تماس]],1,Table3[[#This Row],[چندم]]-1))","v":0},{"$f":"IF(Table3[[#This Row],[چندم]]=0,\"\",MID(Table3[[#This Row],[شماره تماس]],Table3[[#This Row],[چندم]]+1,30))","v":""}]
[null,595,null,null,null,{"$f":"IFERROR(FIND(\"_\",Table3[[#This Row],[شماره تماس]]),0)","v":0},{"$f":"IF(Table3[[#This Row],[چندم]]=0,Table3[[#This Row],[شماره تماس]],MID(Table3[[#This Row],[شماره تماس]],1,Table3[[#This Row],[چندم]]-1))","v":0},{"$f":"IF(Table3[[#This Row],[چندم]]=0,\"\",MID(Table3[[#This Row],[شماره تماس]],Table3[[#This Row],[چندم]]+1,30))","v":""}]
[null,596,null,null,null,{"$f":"IFERROR(FIND(\"_\",Table3[[#This Row],[شماره تماس]]),0)","v":0},{"$f":"IF(Table3[[#This Row],[چندم]]=0,Table3[[#This Row],[شماره تماس]],MID(Table3[[#This Row],[شماره تماس]],1,Table3[[#This Row],[چندم]]-1))","v":0},{"$f":"IF(Table3[[#This Row],[چندم]]=0,\"\",MID(Table3[[#This Row],[شماره تماس]],Table3[[#This Row],[چندم]]+1,30))","v":""}]
[null,597,null,null,null,{"$f":"IFERROR(FIND(\"_\",Table3[[#This Row],[شماره تماس]]),0)","v":0},{"$f":"IF(Table3[[#This Row],[چندم]]=0,Table3[[#This Row],[شماره تماس]],MID(Table3[[#This Row],[شماره تماس]],1,Table3[[#This Row],[چندم]]-1))","v":0},{"$f":"IF(Table3[[#This Row],[چندم]]=0,\"\",MID(Table3[[#This Row],[شماره تماس]],Table3[[#This Row],[چندم]]+1,30))","v":""}]
[null,598,null,null,null,{"$f":"IFERROR(FIND(\"_\",Table3[[#This Row],[شماره تماس]]),0)","v":0},{"$f":"IF(Table3[[#This Row],[چندم]]=0,Table3[[#This Row],[شماره تماس]],MID(Table3[[#This Row],[شماره تماس]],1,Table3[[#This Row],[چندم]]-1))","v":0},{"$f":"IF(Table3[[#This Row],[چندم]]=0,\"\",MID(Table3[[#This Row],[شماره تماس]],Table3[[#This Row],[چندم]]+1,30))","v":""}]
[null,599,null,null,null,{"$f":"IFERROR(FIND(\"_\",Table3[[#This Row],[شماره تماس]]),0)","v":0},{"$f":"IF(Table3[[#This Row],[چندم]]=0,Table3[[#This Row],[شماره تماس]],MID(Table3[[#This Row],[شماره تماس]],1,Table3[[#This Row],[چندم]]-1))","v":0},{"$f":"IF(Table3[[#This Row],[چندم]]=0,\"\",MID(Table3[[#This Row],[شماره تماس]],Table3[[#This Row],[چندم]]+1,30))","v":""}]
[null,600,null,null,null,{"$f":"IFERROR(FIND(\"_\",Table3[[#This Row],[شماره تماس]]),0)","v":0},{"$f":"IF(Table3[[#This Row],[چندم]]=0,Table3[[#This Row],[شماره تماس]],MID(Table3[[#This Row],[شماره تماس]],1,Table3[[#This Row],[چندم]]-1))","v":0},{"$f":"IF(Table3[[#This Row],[چندم]]=0,\"\",MID(Table3[[#This Row],[شماره تماس]],Table3[[#This Row],[چندم]]+1,30))","v":""}]
[null,601,null,null,null,{"$f":"IFERROR(FIND(\"_\",Table3[[#This Row],[شماره تماس]]),0)","v":0},{"$f":"IF(Table3[[#This Row],[چندم]]=0,Table3[[#This Row],[شماره تماس]],MID(Table3[[#This Row],[شماره تماس]],1,Table3[[#This Row],[چندم]]-1))","v":0},{"$f":"IF(Table3[[#This Row],[چندم]]=0,\"\",MID(Table3[[#This Row],[شماره تماس]],Table3[[#This Row],[چندم]]+1,30))","v":""}]
[null,602,null,null,null,{"$f":"IFERROR(FIND(\"_\",Table3[[#This Row],[شماره تماس]]),0)","v":0},{"$f":"IF(Table3[[#This Row],[چندم]]=0,Table3[[#This Row],[شماره تماس]],MID(Table3[[#This Row],[شماره تماس]],1,Table3[[#This Row],[چندم]]-1))","v":0},{"$f":"IF(Table3[[#This Row],[چندم]]=0,\"\",MID(Table3[[#This Row],[شماره تماس]],Table3[[#This Row],[چندم]]+1,30))","v":""}]
[null,603,null,null,null,{"$f":"IFERROR(FIND(\"_\",Table3[[#This Row],[شماره تماس]]),0)","v":0},{"$f":"IF(Table3[[#This Row],[چندم]]=0,Table3[[#This Row],[شماره تماس]],MID(Table3[[#This Row],[شماره تماس]],1,Table3[[#This Row],[چندم]]-1))","v":0},{"$f":"IF(Table3[[#This Row],[چندم]]=0,\"\",MID(Table3[[#This Row],[شماره تماس]],Table3[[#This Row],[چندم]]+1,30))","v":""}]
[null,604,null,null,null,{"$f":"IFERROR(FIND(\"_\",Table3[[#This Row],[شماره تماس]]),0)","v":0},{"$f":"IF(Table3[[#This Row],[چندم]]=0,Table3[[#This Row],[شماره تماس]],MID(Table3[[#This Row],[شماره تماس]],1,Table3[[#This Row],[چندم]]-1))","v":0},{"$f":"IF(Table3[[#This Row],[چندم]]=0,\"\",MID(Table3[[#This Row],[شماره تماس]],Table3[[#This Row],[چندم]]+1,30))","v":""}]
[null,605,null,null,null,{"$f":"IFERROR(FIND(\"_\",Table3[[#This Row],[شماره تماس]]),0)","v":0},{"$f":"IF(Table3[[#This Row],[چندم]]=0,Table3[[#This Row],[شماره تماس]],MID(Table3[[#This Row],[شماره تماس]],1,Table3[[#This Row],[چندم]]-1))","v":0},{"$f":"IF(Table3[[#This Row],[چندم]]=0,\"\",MID(Table3[[#This Row],[شماره تماس]],Table3[[#This Row],[چندم]]+1,30))","v":""}]
[null,606,null,null,null,{"$f":"IFERROR(FIND(\"_\",Table3[[#This Row],[شماره تماس]]),0)","v":0},{"$f":"IF(Table3[[#This Row],[چندم]]=0,Table3[[#This Row],[شماره تماس]],MID(Table3[[#This Row],[شماره تماس]],1,Table3[[#This Row],[چندم]]-1))","v":0},{"$f":"IF(Table3[[#This Row],[چندم]]=0,\"\",MID(Table3[[#This Row],[شماره تماس]],Table3[[#This Row],[چندم]]+1,30))","v":""}]
[null,607,null,null,null,{"$f":"IFERROR(FIND(\"_\",Table3[[#This Row],[شماره تماس]]),0)","v":0},{"$f":"IF(Table3[[#This Row],[چندم]]=0,Table3[[#This Row],[شماره تماس]],MID(Table3[[#This Row],[شماره تماس]],1,Table3[[#This Row],[چندم]]-1))","v":0},{"$f":"IF(Table3[[#This Row],[چندم]]=0,\"\",MID(Table3[[#This Row],[شماره تماس]],Table3[[#This Row],[چندم]]+1,30))","v":""}]
[null,608,null,null,null,{"$f":"IFERROR(FIND(\"_\",Table3[[#This Row],[شماره تماس]]),0)","v":0},{"$f":"IF(Table3[[#This Row],[چندم]]=0,Table3[[#This Row],[شماره تماس]],MID(Table3[[#This Row],[شماره تماس]],1,Table3[[#This Row],[چندم]]-1))","v":0},{"$f":"IF(Table3[[#This Row],[چندم]]=0,\"\",MID(Table3[[#This Row],[شماره تماس]],Table3[[#This Row],[چندم]]+1,30))","v":""}]
[null,609,null,null,null,{"$f":"IFERROR(FIND(\"_\",Table3[[#This Row],[شماره تماس]]),0)","v":0},{"$f":"IF(Table3[[#This Row],[چندم]]=0,Table3[[#This Row],[شماره تماس]],MID(Table3[[#This Row],[شماره تماس]],1,Table3[[#This Row],[چندم]]-1))","v":0},{"$f":"IF(Table3[[#This Row],[چندم]]=0,\"\",MID(Table3[[#This Row],[شماره تماس]],Table3[[#This Row],[چندم]]+1,30))","v":""}]
[null,610,null,null,null,{"$f":"IFERROR(FIND(\"_\",Table3[[#This Row],[شماره تماس]]),0)","v":0},{"$f":"IF(Table3[[#This Row],[چندم]]=0,Table3[[#This Row],[شماره تماس]],MID(Table3[[#This Row],[شماره تماس]],1,Table3[[#This Row],[چندم]]-1))","v":0},{"$f":"IF(Table3[[#This Row],[چندم]]=0,\"\",MID(Table3[[#This Row],[شماره تماس]],Table3[[#This Row],[چندم]]+1,30))","v":""}]
[null,611,null,null,null,{"$f":"IFERROR(FIND(\"_\",Table3[[#This Row],[شماره تماس]]),0)","v":0},{"$f":"IF(Table3[[#This Row],[چندم]]=0,Table3[[#This Row],[شماره تماس]],MID(Table3[[#This Row],[شماره تماس]],1,Table3[[#This Row],[چندم]]-1))","v":0},{"$f":"IF(Table3[[#This Row],[چندم]]=0,\"\",MID(Table3[[#This Row],[شماره تماس]],Table3[[#This Row],[چندم]]+1,30))","v":""}]
[null,612,null,null,null,{"$f":"IFERROR(FIND(\"_\",Table3[[#This Row],[شماره تماس]]),0)","v":0},{"$f":"IF(Table3[[#This Row],[چندم]]=0,Table3[[#This Row],[شماره تماس]],MID(Table3[[#This Row],[شماره تماس]],1,Table3[[#This Row],[چندم]]-1))","v":0},{"$f":"IF(Table3[[#This Row],[چندم]]=0,\"\",MID(Table3[[#This Row],[شماره تماس]],Table3[[#This Row],[چندم]]+1,30))","v":""}]
[null,613,null,null,null,{"$f":"IFERROR(FIND(\"_\",Table3[[#This Row],[شماره تماس]]),0)","v":0},{"$f":"IF(Table3[[#This Row],[چندم]]=0,Table3[[#This Row],[شماره تماس]],MID(Table3[[#This Row],[شماره تماس]],1,Table3[[#This Row],[چندم]]-1))","v":0},{"$f":"IF(Table3[[#This Row],[چندم]]=0,\"\",MID(Table3[[#This Row],[شماره تماس]],Table3[[#This Row],[چندم]]+1,30))","v":""}]
[null,614,null,null,null,{"$f":"IFERROR(FIND(\"_\",Table3[[#This Row],[شماره تماس]]),0)","v":0},{"$f":"IF(Table3[[#This Row],[چندم]]=0,Table3[[#This Row],[شماره تماس]],MID(Table3[[#This Row],[شماره تماس]],1,Table3[[#This Row],[چندم]]-1))","v":0},{"$f":"IF(Table3[[#This Row],[چندم]]=0,\"\",MID(Table3[[#This Row],[شماره تماس]],Table3[[#This Row],[چندم]]+1,30))","v":""}]
[null,{"$f":"ROW()-3","v":615},null,null,null,{"$f":"IFERROR(FIND(\"_\",Table3[[#This Row],[شماره تماس]]),0)","v":0},{"$f":"IF(Table3[[#This Row],[چندم]]=0,Table3[[#This Row],[شماره تماس]],MID(Table3[[#This Row],[شماره تماس]],1,Table3[[#This Row],[چندم]]-1))","v":0},{"$f":"IF(Table3[[#This Row],[چندم]]=0,\"\",MID(Table3[[#This Row],[شماره تماس]],Table3[[#This Row],[چندم]]+1,30))","v":""}]
[null,616,null,null,null,{"$f":"IFERROR(FIND(\"_\",Table3[[#This Row],[شماره تماس]]),0)","v":0},{"$f":"IF(Table3[[#This Row],[چندم]]=0,Table3[[#This Row],[شماره تماس]],MID(Table3[[#This Row],[شماره تماس]],1,Table3[[#This Row],[چندم]]-1))","v":0},{"$f":"IF(Table3[[#This Row],[چندم]]=0,\"\",MID(Table3[[#This Row],[شماره تماس]],Table3[[#This Row],[چندم]]+1,30))","v":""}]
[null,617,null,null,null,{"$f":"IFERROR(FIND(\"_\",Table3[[#This Row],[شماره تماس]]),0)","v":0},{"$f":"IF(Table3[[#This Row],[چندم]]=0,Table3[[#This Row],[شماره تماس]],MID(Table3[[#This Row],[شماره تماس]],1,Table3[[#This Row],[چندم]]-1))","v":0},{"$f":"IF(Table3[[#This Row],[چندم]]=0,\"\",MID(Table3[[#This Row],[شماره تماس]],Table3[[#This Row],[چندم]]+1,30))","v":""}]
[null,618,null,null,null,{"$f":"IFERROR(FIND(\"_\",Table3[[#This Row],[شماره تماس]]),0)","v":0},{"$f":"IF(Table3[[#This Row],[چندم]]=0,Table3[[#This Row],[شماره تماس]],MID(Table3[[#This Row],[شماره تماس]],1,Table3[[#This Row],[چندم]]-1))","v":0},{"$f":"IF(Table3[[#This Row],[چندم]]=0,\"\",MID(Table3[[#This Row],[شماره تماس]],Table3[[#This Row],[چندم]]+1,30))","v":""}]
[null,619,null,null,null,{"$f":"IFERROR(FIND(\"_\",Table3[[#This Row],[شماره تماس]]),0)","v":0},{"$f":"IF(Table3[[#This Row],[چندم]]=0,Table3[[#This Row],[شماره تماس]],MID(Table3[[#This Row],[شماره تماس]],1,Table3[[#This Row],[چندم]]-1))","v":0},{"$f":"IF(Table3[[#This Row],[چندم]]=0,\"\",MID(Table3[[#This Row],[شماره تماس]],Table3[[#This Row],[چندم]]+1,30))","v":""}]
[null,620,null,null,null,{"$f":"IFERROR(FIND(\"_\",Table3[[#This Row],[شماره تماس]]),0)","v":0},{"$f":"IF(Table3[[#This Row],[چندم]]=0,Table3[[#This Row],[شماره تماس]],MID(Table3[[#This Row],[شماره تماس]],1,Table3[[#This Row],[چندم]]-1))","v":0},{"$f":"IF(Table3[[#This Row],[چندم]]=0,\"\",MID(Table3[[#This Row],[شماره تماس]],Table3[[#This Row],[چندم]]+1,30))","v":""}]
[null,621,null,null,null,{"$f":"IFERROR(FIND(\"_\",Table3[[#This Row],[شماره تماس]]),0)","v":0},{"$f":"IF(Table3[[#This Row],[چندم]]=0,Table3[[#This Row],[شماره تماس]],MID(Table3[[#This Row],[شماره تماس]],1,Table3[[#This Row],[چندم]]-1))","v":0},{"$f":"IF(Table3[[#This Row],[چندم]]=0,\"\",MID(Table3[[#This Row],[شماره تماس]],Table3[[#This Row],[چندم]]+1,30))","v":""}]
[null,622,null,null,null,{"$f":"IFERROR(FIND(\"_\",Table3[[#This Row],[شماره تماس]]),0)","v":0},{"$f":"IF(Table3[[#This Row],[چندم]]=0,Table3[[#This Row],[شماره تماس]],MID(Table3[[#This Row],[شماره تماس]],1,Table3[[#This Row],[چندم]]-1))","v":0},{"$f":"IF(Table3[[#This Row],[چندم]]=0,\"\",MID(Table3[[#This Row],[شماره تماس]],Table3[[#This Row],[چندم]]+1,30))","v":""}]
[null,623,null,null,null,{"$f":"IFERROR(FIND(\"_\",Table3[[#This Row],[شماره تماس]]),0)","v":0},{"$f":"IF(Table3[[#This Row],[چندم]]=0,Table3[[#This Row],[شماره تماس]],MID(Table3[[#This Row],[شماره تماس]],1,Table3[[#This Row],[چندم]]-1))","v":0},{"$f":"IF(Table3[[#This Row],[چندم]]=0,\"\",MID(Table3[[#This Row],[شماره تماس]],Table3[[#This Row],[چندم]]+1,30))","v":""}]
[null,624,null,null,null,{"$f":"IFERROR(FIND(\"_\",Table3[[#This Row],[شماره تماس]]),0)","v":0},{"$f":"IF(Table3[[#This Row],[چندم]]=0,Table3[[#This Row],[شماره تماس]],MID(Table3[[#This Row],[شماره تماس]],1,Table3[[#This Row],[چندم]]-1))","v":0},{"$f":"IF(Table3[[#This Row],[چندم]]=0,\"\",MID(Table3[[#This Row],[شماره تماس]],Table3[[#This Row],[چندم]]+1,30))","v":""}]
[null,625,null,null,null,{"$f":"IFERROR(FIND(\"_\",Table3[[#This Row],[شماره تماس]]),0)","v":0},{"$f":"IF(Table3[[#This Row],[چندم]]=0,Table3[[#This Row],[شماره تماس]],MID(Table3[[#This Row],[شماره تماس]],1,Table3[[#This Row],[چندم]]-1))","v":0},{"$f":"IF(Table3[[#This Row],[چندم]]=0,\"\",MID(Table3[[#This Row],[شماره تماس]],Table3[[#This Row],[چندم]]+1,30))","v":""}]
[null,626,null,null,null,{"$f":"IFERROR(FIND(\"_\",Table3[[#This Row],[شماره تماس]]),0)","v":0},{"$f":"IF(Table3[[#This Row],[چندم]]=0,Table3[[#This Row],[شماره تماس]],MID(Table3[[#This Row],[شماره تماس]],1,Table3[[#This Row],[چندم]]-1))","v":0},{"$f":"IF(Table3[[#This Row],[چندم]]=0,\"\",MID(Table3[[#This Row],[شماره تماس]],Table3[[#This Row],[چندم]]+1,30))","v":""}]
[null,627,null,null,null,{"$f":"IFERROR(FIND(\"_\",Table3[[#This Row],[شماره تماس]]),0)","v":0},{"$f":"IF(Table3[[#This Row],[چندم]]=0,Table3[[#This Row],[شماره تماس]],MID(Table3[[#This Row],[شماره تماس]],1,Table3[[#This Row],[چندم]]-1))","v":0},{"$f":"IF(Table3[[#This Row],[چندم]]=0,\"\",MID(Table3[[#This Row],[شماره تماس]],Table3[[#This Row],[چندم]]+1,30))","v":""}]
[null,628,null,null,null,{"$f":"IFERROR(FIND(\"_\",Table3[[#This Row],[شماره تماس]]),0)","v":0},{"$f":"IF(Table3[[#This Row],[چندم]]=0,Table3[[#This Row],[شماره تماس]],MID(Table3[[#This Row],[شماره تماس]],1,Table3[[#This Row],[چندم]]-1))","v":0},{"$f":"IF(Table3[[#This Row],[چندم]]=0,\"\",MID(Table3[[#This Row],[شماره تماس]],Table3[[#This Row],[چندم]]+1,30))","v":""}]
[null,629,null,null,null,{"$f":"IFERROR(FIND(\"_\",Table3[[#This Row],[شماره تماس]]),0)","v":0},{"$f":"IF(Table3[[#This Row],[چندم]]=0,Table3[[#This Row],[شماره تماس]],MID(Table3[[#This Row],[شماره تماس]],1,Table3[[#This Row],[چندم]]-1))","v":0},{"$f":"IF(Table3[[#This Row],[چندم]]=0,\"\",MID(Table3[[#This Row],[شماره تماس]],Table3[[#This Row],[چندم]]+1,30))","v":""}]
[null,630,null,null,null,{"$f":"IFERROR(FIND(\"_\",Table3[[#This Row],[شماره تماس]]),0)","v":0},{"$f":"IF(Table3[[#This Row],[چندم]]=0,Table3[[#This Row],[شماره تماس]],MID(Table3[[#This Row],[شماره تماس]],1,Table3[[#This Row],[چندم]]-1))","v":0},{"$f":"IF(Table3[[#This Row],[چندم]]=0,\"\",MID(Table3[[#This Row],[شماره تماس]],Table3[[#This Row],[چندم]]+1,30))","v":""}]
[null,631,null,null,null,{"$f":"IFERROR(FIND(\"_\",Table3[[#This Row],[شماره تماس]]),0)","v":0},{"$f":"IF(Table3[[#This Row],[چندم]]=0,Table3[[#This Row],[شماره تماس]],MID(Table3[[#This Row],[شماره تماس]],1,Table3[[#This Row],[چندم]]-1))","v":0},{"$f":"IF(Table3[[#This Row],[چندم]]=0,\"\",MID(Table3[[#This Row],[شماره تماس]],Table3[[#This Row],[چندم]]+1,30))","v":""}]
[null,632,null,null,null,{"$f":"IFERROR(FIND(\"_\",Table3[[#This Row],[شماره تماس]]),0)","v":0},{"$f":"IF(Table3[[#This Row],[چندم]]=0,Table3[[#This Row],[شماره تماس]],MID(Table3[[#This Row],[شماره تماس]],1,Table3[[#This Row],[چندم]]-1))","v":0},{"$f":"IF(Table3[[#This Row],[چندم]]=0,\"\",MID(Table3[[#This Row],[شماره تماس]],Table3[[#This Row],[چندم]]+1,30))","v":""}]
[null,633,null,null,null,{"$f":"IFERROR(FIND(\"_\",Table3[[#This Row],[شماره تماس]]),0)","v":0},{"$f":"IF(Table3[[#This Row],[چندم]]=0,Table3[[#This Row],[شماره تماس]],MID(Table3[[#This Row],[شماره تماس]],1,Table3[[#This Row],[چندم]]-1))","v":0},{"$f":"IF(Table3[[#This Row],[چندم]]=0,\"\",MID(Table3[[#This Row],[شماره تماس]],Table3[[#This Row],[چندم]]+1,30))","v":""}]
[null,634,null,null,null,{"$f":"IFERROR(FIND(\"_\",Table3[[#This Row],[شماره تماس]]),0)","v":0},{"$f":"IF(Table3[[#This Row],[چندم]]=0,Table3[[#This Row],[شماره تماس]],MID(Table3[[#This Row],[شماره تماس]],1,Table3[[#This Row],[چندم]]-1))","v":0},{"$f":"IF(Table3[[#This Row],[چندم]]=0,\"\",MID(Table3[[#This Row],[شماره تماس]],Table3[[#This Row],[چندم]]+1,30))","v":""}]
[null,635,null,null,null,{"$f":"IFERROR(FIND(\"_\",Table3[[#This Row],[شماره تماس]]),0)","v":0},{"$f":"IF(Table3[[#This Row],[چندم]]=0,Table3[[#This Row],[شماره تماس]],MID(Table3[[#This Row],[شماره تماس]],1,Table3[[#This Row],[چندم]]-1))","v":0},{"$f":"IF(Table3[[#This Row],[چندم]]=0,\"\",MID(Table3[[#This Row],[شماره تماس]],Table3[[#This Row],[چندم]]+1,30))","v":""}]
[null,636,null,null,null,{"$f":"IFERROR(FIND(\"_\",Table3[[#This Row],[شماره تماس]]),0)","v":0},{"$f":"IF(Table3[[#This Row],[چندم]]=0,Table3[[#This Row],[شماره تماس]],MID(Table3[[#This Row],[شماره تماس]],1,Table3[[#This Row],[چندم]]-1))","v":0},{"$f":"IF(Table3[[#This Row],[چندم]]=0,\"\",MID(Table3[[#This Row],[شماره تماس]],Table3[[#This Row],[چندم]]+1,30))","v":""}]
[null,637,null,null,null,{"$f":"IFERROR(FIND(\"_\",Table3[[#This Row],[شماره تماس]]),0)","v":0},{"$f":"IF(Table3[[#This Row],[چندم]]=0,Table3[[#This Row],[شماره تماس]],MID(Table3[[#This Row],[شماره تماس]],1,Table3[[#This Row],[چندم]]-1))","v":0},{"$f":"IF(Table3[[#This Row],[چندم]]=0,\"\",MID(Table3[[#This Row],[شماره تماس]],Table3[[#This Row],[چندم]]+1,30))","v":""}]
[null,638,null,null,null,{"$f":"IFERROR(FIND(\"_\",Table3[[#This Row],[شماره تماس]]),0)","v":0},{"$f":"IF(Table3[[#This Row],[چندم]]=0,Table3[[#This Row],[شماره تماس]],MID(Table3[[#This Row],[شماره تماس]],1,Table3[[#This Row],[چندم]]-1))","v":0},{"$f":"IF(Table3[[#This Row],[چندم]]=0,\"\",MID(Table3[[#This Row],[شماره تماس]],Table3[[#This Row],[چندم]]+1,30))","v":""}]
[null,639,null,null,null,{"$f":"IFERROR(FIND(\"_\",Table3[[#This Row],[شماره تماس]]),0)","v":0},{"$f":"IF(Table3[[#This Row],[چندم]]=0,Table3[[#This Row],[شماره تماس]],MID(Table3[[#This Row],[شماره تماس]],1,Table3[[#This Row],[چندم]]-1))","v":0},{"$f":"IF(Table3[[#This Row],[چندم]]=0,\"\",MID(Table3[[#This Row],[شماره تماس]],Table3[[#This Row],[چندم]]+1,30))","v":""}]
[null,640,null,null,null,{"$f":"IFERROR(FIND(\"_\",Table3[[#This Row],[شماره تماس]]),0)","v":0},{"$f":"IF(Table3[[#This Row],[چندم]]=0,Table3[[#This Row],[شماره تماس]],MID(Table3[[#This Row],[شماره تماس]],1,Table3[[#This Row],[چندم]]-1))","v":0},{"$f":"IF(Table3[[#This Row],[چندم]]=0,\"\",MID(Table3[[#This Row],[شماره تماس]],Table3[[#This Row],[چندم]]+1,30))","v":""}]
[null,641,null,null,null,{"$f":"IFERROR(FIND(\"_\",Table3[[#This Row],[شماره تماس]]),0)","v":0},{"$f":"IF(Table3[[#This Row],[چندم]]=0,Table3[[#This Row],[شماره تماس]],MID(Table3[[#This Row],[شماره تماس]],1,Table3[[#This Row],[چندم]]-1))","v":0},{"$f":"IF(Table3[[#This Row],[چندم]]=0,\"\",MID(Table3[[#This Row],[شماره تماس]],Table3[[#This Row],[چندم]]+1,30))","v":""}]
[null,642,null,null,null,{"$f":"IFERROR(FIND(\"_\",Table3[[#This Row],[شماره تماس]]),0)","v":0},{"$f":"IF(Table3[[#This Row],[چندم]]=0,Table3[[#This Row],[شماره تماس]],MID(Table3[[#This Row],[شماره تماس]],1,Table3[[#This Row],[چندم]]-1))","v":0},{"$f":"IF(Table3[[#This Row],[چندم]]=0,\"\",MID(Table3[[#This Row],[شماره تماس]],Table3[[#This Row],[چندم]]+1,30))","v":""}]
[null,643,null,null,null,{"$f":"IFERROR(FIND(\"_\",Table3[[#This Row],[شماره تماس]]),0)","v":0},{"$f":"IF(Table3[[#This Row],[چندم]]=0,Table3[[#This Row],[شماره تماس]],MID(Table3[[#This Row],[شماره تماس]],1,Table3[[#This Row],[چندم]]-1))","v":0},{"$f":"IF(Table3[[#This Row],[چندم]]=0,\"\",MID(Table3[[#This Row],[شماره تماس]],Table3[[#This Row],[چندم]]+1,30))","v":""}]
[null,644,null,null,null,{"$f":"IFERROR(FIND(\"_\",Table3[[#This Row],[شماره تماس]]),0)","v":0},{"$f":"IF(Table3[[#This Row],[چندم]]=0,Table3[[#This Row],[شماره تماس]],MID(Table3[[#This Row],[شماره تماس]],1,Table3[[#This Row],[چندم]]-1))","v":0},{"$f":"IF(Table3[[#This Row],[چندم]]=0,\"\",MID(Table3[[#This Row],[شماره تماس]],Table3[[#This Row],[چندم]]+1,30))","v":""}]
[null,645,null,null,null,{"$f":"IFERROR(FIND(\"_\",Table3[[#This Row],[شماره تماس]]),0)","v":0},{"$f":"IF(Table3[[#This Row],[چندم]]=0,Table3[[#This Row],[شماره تماس]],MID(Table3[[#This Row],[شماره تماس]],1,Table3[[#This Row],[چندم]]-1))","v":0},{"$f":"IF(Table3[[#This Row],[چندم]]=0,\"\",MID(Table3[[#This Row],[شماره تماس]],Table3[[#This Row],[چندم]]+1,30))","v":""}]
[null,646,null,null,null,{"$f":"IFERROR(FIND(\"_\",Table3[[#This Row],[شماره تماس]]),0)","v":0},{"$f":"IF(Table3[[#This Row],[چندم]]=0,Table3[[#This Row],[شماره تماس]],MID(Table3[[#This Row],[شماره تماس]],1,Table3[[#This Row],[چندم]]-1))","v":0},{"$f":"IF(Table3[[#This Row],[چندم]]=0,\"\",MID(Table3[[#This Row],[شماره تماس]],Table3[[#This Row],[چندم]]+1,30))","v":""}]
[null,647,null,null,null,{"$f":"IFERROR(FIND(\"_\",Table3[[#This Row],[شماره تماس]]),0)","v":0},{"$f":"IF(Table3[[#This Row],[چندم]]=0,Table3[[#This Row],[شماره تماس]],MID(Table3[[#This Row],[شماره تماس]],1,Table3[[#This Row],[چندم]]-1))","v":0},{"$f":"IF(Table3[[#This Row],[چندم]]=0,\"\",MID(Table3[[#This Row],[شماره تماس]],Table3[[#This Row],[چندم]]+1,30))","v":""}]
[null,648,null,null,null,{"$f":"IFERROR(FIND(\"_\",Table3[[#This Row],[شماره تماس]]),0)","v":0},{"$f":"IF(Table3[[#This Row],[چندم]]=0,Table3[[#This Row],[شماره تماس]],MID(Table3[[#This Row],[شماره تماس]],1,Table3[[#This Row],[چندم]]-1))","v":0},{"$f":"IF(Table3[[#This Row],[چندم]]=0,\"\",MID(Table3[[#This Row],[شماره تماس]],Table3[[#This Row],[چندم]]+1,30))","v":""}]
[null,649,null,null,null,{"$f":"IFERROR(FIND(\"_\",Table3[[#This Row],[شماره تماس]]),0)","v":0},{"$f":"IF(Table3[[#This Row],[چندم]]=0,Table3[[#This Row],[شماره تماس]],MID(Table3[[#This Row],[شماره تماس]],1,Table3[[#This Row],[چندم]]-1))","v":0},{"$f":"IF(Table3[[#This Row],[چندم]]=0,\"\",MID(Table3[[#This Row],[شماره تماس]],Table3[[#This Row],[چندم]]+1,30))","v":""}]
[null,650,null,null,null,{"$f":"IFERROR(FIND(\"_\",Table3[[#This Row],[شماره تماس]]),0)","v":0},{"$f":"IF(Table3[[#This Row],[چندم]]=0,Table3[[#This Row],[شماره تماس]],MID(Table3[[#This Row],[شماره تماس]],1,Table3[[#This Row],[چندم]]-1))","v":0},{"$f":"IF(Table3[[#This Row],[چندم]]=0,\"\",MID(Table3[[#This Row],[شماره تماس]],Table3[[#This Row],[چندم]]+1,30))","v":""}]
[null,651,null,null,null,{"$f":"IFERROR(FIND(\"_\",Table3[[#This Row],[شماره تماس]]),0)","v":0},{"$f":"IF(Table3[[#This Row],[چندم]]=0,Table3[[#This Row],[شماره تماس]],MID(Table3[[#This Row],[شماره تماس]],1,Table3[[#This Row],[چندم]]-1))","v":0},{"$f":"IF(Table3[[#This Row],[چندم]]=0,\"\",MID(Table3[[#This Row],[شماره تماس]],Table3[[#This Row],[چندم]]+1,30))","v":""}]
[null,652,null,null,null,{"$f":"IFERROR(FIND(\"_\",Table3[[#This Row],[شماره تماس]]),0)","v":0},{"$f":"IF(Table3[[#This Row],[چندم]]=0,Table3[[#This Row],[شماره تماس]],MID(Table3[[#This Row],[شماره تماس]],1,Table3[[#This Row],[چندم]]-1))","v":0},{"$f":"IF(Table3[[#This Row],[چندم]]=0,\"\",MID(Table3[[#This Row],[شماره تماس]],Table3[[#This Row],[چندم]]+1,30))","v":""}]
[null,653,null,null,null,{"$f":"IFERROR(FIND(\"_\",Table3[[#This Row],[شماره تماس]]),0)","v":0},{"$f":"IF(Table3[[#This Row],[چندم]]=0,Table3[[#This Row],[شماره تماس]],MID(Table3[[#This Row],[شماره تماس]],1,Table3[[#This Row],[چندم]]-1))","v":0},{"$f":"IF(Table3[[#This Row],[چندم]]=0,\"\",MID(Table3[[#This Row],[شماره تماس]],Table3[[#This Row],[چندم]]+1,30))","v":""}]
[null,654,null,null,null,{"$f":"IFERROR(FIND(\"_\",Table3[[#This Row],[شماره تماس]]),0)","v":0},{"$f":"IF(Table3[[#This Row],[چندم]]=0,Table3[[#This Row],[شماره تماس]],MID(Table3[[#This Row],[شماره تماس]],1,Table3[[#This Row],[چندم]]-1))","v":0},{"$f":"IF(Table3[[#This Row],[چندم]]=0,\"\",MID(Table3[[#This Row],[شماره تماس]],Table3[[#This Row],[چندم]]+1,30))","v":""}]
[null,655,null,null,null,{"$f":"IFERROR(FIND(\"_\",Table3[[#This Row],[شماره تماس]]),0)","v":0},{"$f":"IF(Table3[[#This Row],[چندم]]=0,Table3[[#This Row],[شماره تماس]],MID(Table3[[#This Row],[شماره تماس]],1,Table3[[#This Row],[چندم]]-1))","v":0},{"$f":"IF(Table3[[#This Row],[چندم]]=0,\"\",MID(Table3[[#This Row],[شماره تماس]],Table3[[#This Row],[چندم]]+1,30))","v":""}]
[null,656,null,null,null,{"$f":"IFERROR(FIND(\"_\",Table3[[#This Row],[شماره تماس]]),0)","v":0},{"$f":"IF(Table3[[#This Row],[چندم]]=0,Table3[[#This Row],[شماره تماس]],MID(Table3[[#This Row],[شماره تماس]],1,Table3[[#This Row],[چندم]]-1))","v":0},{"$f":"IF(Table3[[#This Row],[چندم]]=0,\"\",MID(Table3[[#This Row],[شماره تماس]],Table3[[#This Row],[چندم]]+1,30))","v":""}]
[null,657,null,null,null,{"$f":"IFERROR(FIND(\"_\",Table3[[#This Row],[شماره تماس]]),0)","v":0},{"$f":"IF(Table3[[#This Row],[چندم]]=0,Table3[[#This Row],[شماره تماس]],MID(Table3[[#This Row],[شماره تماس]],1,Table3[[#This Row],[چندم]]-1))","v":0},{"$f":"IF(Table3[[#This Row],[چندم]]=0,\"\",MID(Table3[[#This Row],[شماره تماس]],Table3[[#This Row],[چندم]]+1,30))","v":""}]
[null,658,null,null,null,{"$f":"IFERROR(FIND(\"_\",Table3[[#This Row],[شماره تماس]]),0)","v":0},{"$f":"IF(Table3[[#This Row],[چندم]]=0,Table3[[#This Row],[شماره تماس]],MID(Table3[[#This Row],[شماره تماس]],1,Table3[[#This Row],[چندم]]-1))","v":0},{"$f":"IF(Table3[[#This Row],[چندم]]=0,\"\",MID(Table3[[#This Row],[شماره تماس]],Table3[[#This Row],[چندم]]+1,30))","v":""}]
[null,659,null,null,null,{"$f":"IFERROR(FIND(\"_\",Table3[[#This Row],[شماره تماس]]),0)","v":0},{"$f":"IF(Table3[[#This Row],[چندم]]=0,Table3[[#This Row],[شماره تماس]],MID(Table3[[#This Row],[شماره تماس]],1,Table3[[#This Row],[چندم]]-1))","v":0},{"$f":"IF(Table3[[#This Row],[چندم]]=0,\"\",MID(Table3[[#This Row],[شماره تماس]],Table3[[#This Row],[چندم]]+1,30))","v":""}]
[null,660,null,null,null,{"$f":"IFERROR(FIND(\"_\",Table3[[#This Row],[شماره تماس]]),0)","v":0},{"$f":"IF(Table3[[#This Row],[چندم]]=0,Table3[[#This Row],[شماره تماس]],MID(Table3[[#This Row],[شماره تماس]],1,Table3[[#This Row],[چندم]]-1))","v":0},{"$f":"IF(Table3[[#This Row],[چندم]]=0,\"\",MID(Table3[[#This Row],[شماره تماس]],Table3[[#This Row],[چندم]]+1,30))","v":""}]
[null,661,null,null,null,{"$f":"IFERROR(FIND(\"_\",Table3[[#This Row],[شماره تماس]]),0)","v":0},{"$f":"IF(Table3[[#This Row],[چندم]]=0,Table3[[#This Row],[شماره تماس]],MID(Table3[[#This Row],[شماره تماس]],1,Table3[[#This Row],[چندم]]-1))","v":0},{"$f":"IF(Table3[[#This Row],[چندم]]=0,\"\",MID(Table3[[#This Row],[شماره تماس]],Table3[[#This Row],[چندم]]+1,30))","v":""}]
[null,662,null,null,null,{"$f":"IFERROR(FIND(\"_\",Table3[[#This Row],[شماره تماس]]),0)","v":0},{"$f":"IF(Table3[[#This Row],[چندم]]=0,Table3[[#This Row],[شماره تماس]],MID(Table3[[#This Row],[شماره تماس]],1,Table3[[#This Row],[چندم]]-1))","v":0},{"$f":"IF(Table3[[#This Row],[چندم]]=0,\"\",MID(Table3[[#This Row],[شماره تماس]],Table3[[#This Row],[چندم]]+1,30))","v":""}]
[null,663,null,null,null,{"$f":"IFERROR(FIND(\"_\",Table3[[#This Row],[شماره تماس]]),0)","v":0},{"$f":"IF(Table3[[#This Row],[چندم]]=0,Table3[[#This Row],[شماره تماس]],MID(Table3[[#This Row],[شماره تماس]],1,Table3[[#This Row],[چندم]]-1))","v":0},{"$f":"IF(Table3[[#This Row],[چندم]]=0,\"\",MID(Table3[[#This Row],[شماره تماس]],Table3[[#This Row],[چندم]]+1,30))","v":""}]
[null,664,null,null,null,{"$f":"IFERROR(FIND(\"_\",Table3[[#This Row],[شماره تماس]]),0)","v":0},{"$f":"IF(Table3[[#This Row],[چندم]]=0,Table3[[#This Row],[شماره تماس]],MID(Table3[[#This Row],[شماره تماس]],1,Table3[[#This Row],[چندم]]-1))","v":0},{"$f":"IF(Table3[[#This Row],[چندم]]=0,\"\",MID(Table3[[#This Row],[شماره تماس]],Table3[[#This Row],[چندم]]+1,30))","v":""}]
[null,665,null,null,null,{"$f":"IFERROR(FIND(\"_\",Table3[[#This Row],[شماره تماس]]),0)","v":0},{"$f":"IF(Table3[[#This Row],[چندم]]=0,Table3[[#This Row],[شماره تماس]],MID(Table3[[#This Row],[شماره تماس]],1,Table3[[#This Row],[چندم]]-1))","v":0},{"$f":"IF(Table3[[#This Row],[چندم]]=0,\"\",MID(Table3[[#This Row],[شماره تماس]],Table3[[#This Row],[چندم]]+1,30))","v":""}]
[null,666,null,null,null,{"$f":"IFERROR(FIND(\"_\",Table3[[#This Row],[شماره تماس]]),0)","v":0},{"$f":"IF(Table3[[#This Row],[چندم]]=0,Table3[[#This Row],[شماره تماس]],MID(Table3[[#This Row],[شماره تماس]],1,Table3[[#This Row],[چندم]]-1))","v":0},{"$f":"IF(Table3[[#This Row],[چندم]]=0,\"\",MID(Table3[[#This Row],[شماره تماس]],Table3[[#This Row],[چندم]]+1,30))","v":""}]
[null,667,null,null,null,{"$f":"IFERROR(FIND(\"_\",Table3[[#This Row],[شماره تماس]]),0)","v":0},{"$f":"IF(Table3[[#This Row],[چندم]]=0,Table3[[#This Row],[شماره تماس]],MID(Table3[[#This Row],[شماره تماس]],1,Table3[[#This Row],[چندم]]-1))","v":0},{"$f":"IF(Table3[[#This Row],[چندم]]=0,\"\",MID(Table3[[#This Row],[شماره تماس]],Table3[[#This Row],[چندم]]+1,30))","v":""}]
[null,668,null,null,null,{"$f":"IFERROR(FIND(\"_\",Table3[[#This Row],[شماره تماس]]),0)","v":0},{"$f":"IF(Table3[[#This Row],[چندم]]=0,Table3[[#This Row],[شماره تماس]],MID(Table3[[#This Row],[شماره تماس]],1,Table3[[#This Row],[چندم]]-1))","v":0},{"$f":"IF(Table3[[#This Row],[چندم]]=0,\"\",MID(Table3[[#This Row],[شماره تماس]],Table3[[#This Row],[چندم]]+1,30))","v":""}]
[null,669,null,null,null,{"$f":"IFERROR(FIND(\"_\",Table3[[#This Row],[شماره تماس]]),0)","v":0},{"$f":"IF(Table3[[#This Row],[چندم]]=0,Table3[[#This Row],[شماره تماس]],MID(Table3[[#This Row],[شماره تماس]],1,Table3[[#This Row],[چندم]]-1))","v":0},{"$f":"IF(Table3[[#This Row],[چندم]]=0,\"\",MID(Table3[[#This Row],[شماره تماس]],Table3[[#This Row],[چندم]]+1,30))","v":""}]
[null,670,null,null,null,{"$f":"IFERROR(FIND(\"_\",Table3[[#This Row],[شماره تماس]]),0)","v":0},{"$f":"IF(Table3[[#This Row],[چندم]]=0,Table3[[#This Row],[شماره تماس]],MID(Table3[[#This Row],[شماره تماس]],1,Table3[[#This Row],[چندم]]-1))","v":0},{"$f":"IF(Table3[[#This Row],[چندم]]=0,\"\",MID(Table3[[#This Row],[شماره تماس]],Table3[[#This Row],[چندم]]+1,30))","v":""}]
[null,671,null,null,null,{"$f":"IFERROR(FIND(\"_\",Table3[[#This Row],[شماره تماس]]),0)","v":0},{"$f":"IF(Table3[[#This Row],[چندم]]=0,Table3[[#This Row],[شماره تماس]],MID(Table3[[#This Row],[شماره تماس]],1,Table3[[#This Row],[چندم]]-1))","v":0},{"$f":"IF(Table3[[#This Row],[چندم]]=0,\"\",MID(Table3[[#This Row],[شماره تماس]],Table3[[#This Row],[چندم]]+1,30))","v":""}]
[null,672,null,null,null,{"$f":"IFERROR(FIND(\"_\",Table3[[#This Row],[شماره تماس]]),0)","v":0},{"$f":"IF(Table3[[#This Row],[چندم]]=0,Table3[[#This Row],[شماره تماس]],MID(Table3[[#This Row],[شماره تماس]],1,Table3[[#This Row],[چندم]]-1))","v":0},{"$f":"IF(Table3[[#This Row],[چندم]]=0,\"\",MID(Table3[[#This Row],[شماره تماس]],Table3[[#This Row],[چندم]]+1,30))","v":""}]
[null,673,null,null,null,{"$f":"IFERROR(FIND(\"_\",Table3[[#This Row],[شماره تماس]]),0)","v":0},{"$f":"IF(Table3[[#This Row],[چندم]]=0,Table3[[#This Row],[شماره تماس]],MID(Table3[[#This Row],[شماره تماس]],1,Table3[[#This Row],[چندم]]-1))","v":0},{"$f":"IF(Table3[[#This Row],[چندم]]=0,\"\",MID(Table3[[#This Row],[شماره تماس]],Table3[[#This Row],[چندم]]+1,30))","v":""}]
[null,674,null,null,null,{"$f":"IFERROR(FIND(\"_\",Table3[[#This Row],[شماره تماس]]),0)","v":0},{"$f":"IF(Table3[[#This Row],[چندم]]=0,Table3[[#This Row],[شماره تماس]],MID(Table3[[#This Row],[شماره تماس]],1,Table3[[#This Row],[چندم]]-1))","v":0},{"$f":"IF(Table3[[#This Row],[چندم]]=0,\"\",MID(Table3[[#This Row],[شماره تماس]],Table3[[#This Row],[چندم]]+1,30))","v":""}]
[null,675,null,null,null,{"$f":"IFERROR(FIND(\"_\",Table3[[#This Row],[شماره تماس]]),0)","v":0},{"$f":"IF(Table3[[#This Row],[چندم]]=0,Table3[[#This Row],[شماره تماس]],MID(Table3[[#This Row],[شماره تماس]],1,Table3[[#This Row],[چندم]]-1))","v":0},{"$f":"IF(Table3[[#This Row],[چندم]]=0,\"\",MID(Table3[[#This Row],[شماره تماس]],Table3[[#This Row],[چندم]]+1,30))","v":""}]
[null,676,null,null,null,{"$f":"IFERROR(FIND(\"_\",Table3[[#This Row],[شماره تماس]]),0)","v":0},{"$f":"IF(Table3[[#This Row],[چندم]]=0,Table3[[#This Row],[شماره تماس]],MID(Table3[[#This Row],[شماره تماس]],1,Table3[[#This Row],[چندم]]-1))","v":0},{"$f":"IF(Table3[[#This Row],[چندم]]=0,\"\",MID(Table3[[#This Row],[شماره تماس]],Table3[[#This Row],[چندم]]+1,30))","v":""}]
[null,677,null,null,null,{"$f":"IFERROR(FIND(\"_\",Table3[[#This Row],[شماره تماس]]),0)","v":0},{"$f":"IF(Table3[[#This Row],[چندم]]=0,Table3[[#This Row],[شماره تماس]],MID(Table3[[#This Row],[شماره تماس]],1,Table3[[#This Row],[چندم]]-1))","v":0},{"$f":"IF(Table3[[#This Row],[چندم]]=0,\"\",MID(Table3[[#This Row],[شماره تماس]],Table3[[#This Row],[چندم]]+1,30))","v":""}]
[null,678,null,null,null,{"$f":"IFERROR(FIND(\"_\",Table3[[#This Row],[شماره تماس]]),0)","v":0},{"$f":"IF(Table3[[#This Row],[چندم]]=0,Table3[[#This Row],[شماره تماس]],MID(Table3[[#This Row],[شماره تماس]],1,Table3[[#This Row],[چندم]]-1))","v":0},{"$f":"IF(Table3[[#This Row],[چندم]]=0,\"\",MID(Table3[[#This Row],[شماره تماس]],Table3[[#This Row],[چندم]]+1,30))","v":""}]
[null,{"$f":"ROW()-3","v":679},null,null,null,{"$f":"IFERROR(FIND(\"_\",Table3[[#This Row],[شماره تماس]]),0)","v":0},{"$f":"IF(Table3[[#This Row],[چندم]]=0,Table3[[#This Row],[شماره تماس]],MID(Table3[[#This Row],[شماره تماس]],1,Table3[[#This Row],[چندم]]-1))","v":0},{"$f":"IF(Table3[[#This Row],[چندم]]=0,\"\",MID(Table3[[#This Row],[شماره تماس]],Table3[[#This Row],[چندم]]+1,30))","v":""}]
[null,680,null,null,null,{"$f":"IFERROR(FIND(\"_\",Table3[[#This Row],[شماره تماس]]),0)","v":0},{"$f":"IF(Table3[[#This Row],[چندم]]=0,Table3[[#This Row],[شماره تماس]],MID(Table3[[#This Row],[شماره تماس]],1,Table3[[#This Row],[چندم]]-1))","v":0},{"$f":"IF(Table3[[#This Row],[چندم]]=0,\"\",MID(Table3[[#This Row],[شماره تماس]],Table3[[#This Row],[چندم]]+1,30))","v":""}]
[null,681,null,null,null,{"$f":"IFERROR(FIND(\"_\",Table3[[#This Row],[شماره تماس]]),0)","v":0},{"$f":"IF(Table3[[#This Row],[چندم]]=0,Table3[[#This Row],[شماره تماس]],MID(Table3[[#This Row],[شماره تماس]],1,Table3[[#This Row],[چندم]]-1))","v":0},{"$f":"IF(Table3[[#This Row],[چندم]]=0,\"\",MID(Table3[[#This Row],[شماره تماس]],Table3[[#This Row],[چندم]]+1,30))","v":""}]
[null,682,null,null,null,{"$f":"IFERROR(FIND(\"_\",Table3[[#This Row],[شماره تماس]]),0)","v":0},{"$f":"IF(Table3[[#This Row],[چندم]]=0,Table3[[#This Row],[شماره تماس]],MID(Table3[[#This Row],[شماره تماس]],1,Table3[[#This Row],[چندم]]-1))","v":0},{"$f":"IF(Table3[[#This Row],[چندم]]=0,\"\",MID(Table3[[#This Row],[شماره تماس]],Table3[[#This Row],[چندم]]+1,30))","v":""}]
[null,683,null,null,null,{"$f":"IFERROR(FIND(\"_\",Table3[[#This Row],[شماره تماس]]),0)","v":0},{"$f":"IF(Table3[[#This Row],[چندم]]=0,Table3[[#This Row],[شماره تماس]],MID(Table3[[#This Row],[شماره تماس]],1,Table3[[#This Row],[چندم]]-1))","v":0},{"$f":"IF(Table3[[#This Row],[چندم]]=0,\"\",MID(Table3[[#This Row],[شماره تماس]],Table3[[#This Row],[چندم]]+1,30))","v":""}]
[null,684,null,null,null,{"$f":"IFERROR(FIND(\"_\",Table3[[#This Row],[شماره تماس]]),0)","v":0},{"$f":"IF(Table3[[#This Row],[چندم]]=0,Table3[[#This Row],[شماره تماس]],MID(Table3[[#This Row],[شماره تماس]],1,Table3[[#This Row],[چندم]]-1))","v":0},{"$f":"IF(Table3[[#This Row],[چندم]]=0,\"\",MID(Table3[[#This Row],[شماره تماس]],Table3[[#This Row],[چندم]]+1,30))","v":""}]
[null,685,null,null,null,{"$f":"IFERROR(FIND(\"_\",Table3[[#This Row],[شماره تماس]]),0)","v":0},{"$f":"IF(Table3[[#This Row],[چندم]]=0,Table3[[#This Row],[شماره تماس]],MID(Table3[[#This Row],[شماره تماس]],1,Table3[[#This Row],[چندم]]-1))","v":0},{"$f":"IF(Table3[[#This Row],[چندم]]=0,\"\",MID(Table3[[#This Row],[شماره تماس]],Table3[[#This Row],[چندم]]+1,30))","v":""}]
[null,686,null,null,null,{"$f":"IFERROR(FIND(\"_\",Table3[[#This Row],[شماره تماس]]),0)","v":0},{"$f":"IF(Table3[[#This Row],[چندم]]=0,Table3[[#This Row],[شماره تماس]],MID(Table3[[#This Row],[شماره تماس]],1,Table3[[#This Row],[چندم]]-1))","v":0},{"$f":"IF(Table3[[#This Row],[چندم]]=0,\"\",MID(Table3[[#This Row],[شماره تماس]],Table3[[#This Row],[چندم]]+1,30))","v":""}]
[null,687,null,null,null,{"$f":"IFERROR(FIND(\"_\",Table3[[#This Row],[شماره تماس]]),0)","v":0},{"$f":"IF(Table3[[#This Row],[چندم]]=0,Table3[[#This Row],[شماره تماس]],MID(Table3[[#This Row],[شماره تماس]],1,Table3[[#This Row],[چندم]]-1))","v":0},{"$f":"IF(Table3[[#This Row],[چندم]]=0,\"\",MID(Table3[[#This Row],[شماره تماس]],Table3[[#This Row],[چندم]]+1,30))","v":""}]
[null,688,null,null,null,{"$f":"IFERROR(FIND(\"_\",Table3[[#This Row],[شماره تماس]]),0)","v":0},{"$f":"IF(Table3[[#This Row],[چندم]]=0,Table3[[#This Row],[شماره تماس]],MID(Table3[[#This Row],[شماره تماس]],1,Table3[[#This Row],[چندم]]-1))","v":0},{"$f":"IF(Table3[[#This Row],[چندم]]=0,\"\",MID(Table3[[#This Row],[شماره تماس]],Table3[[#This Row],[چندم]]+1,30))","v":""}]
[null,689,null,null,null,{"$f":"IFERROR(FIND(\"_\",Table3[[#This Row],[شماره تماس]]),0)","v":0},{"$f":"IF(Table3[[#This Row],[چندم]]=0,Table3[[#This Row],[شماره تماس]],MID(Table3[[#This Row],[شماره تماس]],1,Table3[[#This Row],[چندم]]-1))","v":0},{"$f":"IF(Table3[[#This Row],[چندم]]=0,\"\",MID(Table3[[#This Row],[شماره تماس]],Table3[[#This Row],[چندم]]+1,30))","v":""}]
[null,690,null,null,null,{"$f":"IFERROR(FIND(\"_\",Table3[[#This Row],[شماره تماس]]),0)","v":0},{"$f":"IF(Table3[[#This Row],[چندم]]=0,Table3[[#This Row],[شماره تماس]],MID(Table3[[#This Row],[شماره تماس]],1,Table3[[#This Row],[چندم]]-1))","v":0},{"$f":"IF(Table3[[#This Row],[چندم]]=0,\"\",MID(Table3[[#This Row],[شماره تماس]],Table3[[#This Row],[چندم]]+1,30))","v":""}]
[null,691,null,null,null,{"$f":"IFERROR(FIND(\"_\",Table3[[#This Row],[شماره تماس]]),0)","v":0},{"$f":"IF(Table3[[#This Row],[چندم]]=0,Table3[[#This Row],[شماره تماس]],MID(Table3[[#This Row],[شماره تماس]],1,Table3[[#This Row],[چندم]]-1))","v":0},{"$f":"IF(Table3[[#This Row],[چندم]]=0,\"\",MID(Table3[[#This Row],[شماره تماس]],Table3[[#This Row],[چندم]]+1,30))","v":""}]
[null,692,null,null,null,{"$f":"IFERROR(FIND(\"_\",Table3[[#This Row],[شماره تماس]]),0)","v":0},{"$f":"IF(Table3[[#This Row],[چندم]]=0,Table3[[#This Row],[شماره تماس]],MID(Table3[[#This Row],[شماره تماس]],1,Table3[[#This Row],[چندم]]-1))","v":0},{"$f":"IF(Table3[[#This Row],[چندم]]=0,\"\",MID(Table3[[#This Row],[شماره تماس]],Table3[[#This Row],[چندم]]+1,30))","v":""}]
[null,693,null,null,null,{"$f":"IFERROR(FIND(\"_\",Table3[[#This Row],[شماره تماس]]),0)","v":0},{"$f":"IF(Table3[[#This Row],[چندم]]=0,Table3[[#This Row],[شماره تماس]],MID(Table3[[#This Row],[شماره تماس]],1,Table3[[#This Row],[چندم]]-1))","v":0},{"$f":"IF(Table3[[#This Row],[چندم]]=0,\"\",MID(Table3[[#This Row],[شماره تماس]],Table3[[#This Row],[چندم]]+1,30))","v":""}]
[null,694,null,null,null,{"$f":"IFERROR(FIND(\"_\",Table3[[#This Row],[شماره تماس]]),0)","v":0},{"$f":"IF(Table3[[#This Row],[چندم]]=0,Table3[[#This Row],[شماره تماس]],MID(Table3[[#This Row],[شماره تماس]],1,Table3[[#This Row],[چندم]]-1))","v":0},{"$f":"IF(Table3[[#This Row],[چندم]]=0,\"\",MID(Table3[[#This Row],[شماره تماس]],Table3[[#This Row],[چندم]]+1,30))","v":""}]
[null,695,null,null,null,{"$f":"IFERROR(FIND(\"_\",Table3[[#This Row],[شماره تماس]]),0)","v":0},{"$f":"IF(Table3[[#This Row],[چندم]]=0,Table3[[#This Row],[شماره تماس]],MID(Table3[[#This Row],[شماره تماس]],1,Table3[[#This Row],[چندم]]-1))","v":0},{"$f":"IF(Table3[[#This Row],[چندم]]=0,\"\",MID(Table3[[#This Row],[شماره تماس]],Table3[[#This Row],[چندم]]+1,30))","v":""}]
[null,696,null,null,null,{"$f":"IFERROR(FIND(\"_\",Table3[[#This Row],[شماره تماس]]),0)","v":0},{"$f":"IF(Table3[[#This Row],[چندم]]=0,Table3[[#This Row],[شماره تماس]],MID(Table3[[#This Row],[شماره تماس]],1,Table3[[#This Row],[چندم]]-1))","v":0},{"$f":"IF(Table3[[#This Row],[چندم]]=0,\"\",MID(Table3[[#This Row],[شماره تماس]],Table3[[#This Row],[چندم]]+1,30))","v":""}]
[null,697,null,null,null,{"$f":"IFERROR(FIND(\"_\",Table3[[#This Row],[شماره تماس]]),0)","v":0},{"$f":"IF(Table3[[#This Row],[چندم]]=0,Table3[[#This Row],[شماره تماس]],MID(Table3[[#This Row],[شماره تماس]],1,Table3[[#This Row],[چندم]]-1))","v":0},{"$f":"IF(Table3[[#This Row],[چندم]]=0,\"\",MID(Table3[[#This Row],[شماره تماس]],Table3[[#This Row],[چندم]]+1,30))","v":""}]
[null,698,null,null,null,{"$f":"IFERROR(FIND(\"_\",Table3[[#This Row],[شماره تماس]]),0)","v":0},{"$f":"IF(Table3[[#This Row],[چندم]]=0,Table3[[#This Row],[شماره تماس]],MID(Table3[[#This Row],[شماره تماس]],1,Table3[[#This Row],[چندم]]-1))","v":0},{"$f":"IF(Table3[[#This Row],[چندم]]=0,\"\",MID(Table3[[#This Row],[شماره تماس]],Table3[[#This Row],[چندم]]+1,30))","v":""}]
[null,699,null,null,null,{"$f":"IFERROR(FIND(\"_\",Table3[[#This Row],[شماره تماس]]),0)","v":0},{"$f":"IF(Table3[[#This Row],[چندم]]=0,Table3[[#This Row],[شماره تماس]],MID(Table3[[#This Row],[شماره تماس]],1,Table3[[#This Row],[چندم]]-1))","v":0},{"$f":"IF(Table3[[#This Row],[چندم]]=0,\"\",MID(Table3[[#This Row],[شماره تماس]],Table3[[#This Row],[چندم]]+1,30))","v":""}]
[null,700,null,null,null,{"$f":"IFERROR(FIND(\"_\",Table3[[#This Row],[شماره تماس]]),0)","v":0},{"$f":"IF(Table3[[#This Row],[چندم]]=0,Table3[[#This Row],[شماره تماس]],MID(Table3[[#This Row],[شماره تماس]],1,Table3[[#This Row],[چندم]]-1))","v":0},{"$f":"IF(Table3[[#This Row],[چندم]]=0,\"\",MID(Table3[[#This Row],[شماره تماس]],Table3[[#This Row],[چندم]]+1,30))","v":""}]
[null,701,null,null,null,{"$f":"IFERROR(FIND(\"_\",Table3[[#This Row],[شماره تماس]]),0)","v":0},{"$f":"IF(Table3[[#This Row],[چندم]]=0,Table3[[#This Row],[شماره تماس]],MID(Table3[[#This Row],[شماره تماس]],1,Table3[[#This Row],[چندم]]-1))","v":0},{"$f":"IF(Table3[[#This Row],[چندم]]=0,\"\",MID(Table3[[#This Row],[شماره تماس]],Table3[[#This Row],[چندم]]+1,30))","v":""}]
[null,702,null,null,null,{"$f":"IFERROR(FIND(\"_\",Table3[[#This Row],[شماره تماس]]),0)","v":0},{"$f":"IF(Table3[[#This Row],[چندم]]=0,Table3[[#This Row],[شماره تماس]],MID(Table3[[#This Row],[شماره تماس]],1,Table3[[#This Row],[چندم]]-1))","v":0},{"$f":"IF(Table3[[#This Row],[چندم]]=0,\"\",MID(Table3[[#This Row],[شماره تماس]],Table3[[#This Row],[چندم]]+1,30))","v":""}]
[null,703,null,null,null,{"$f":"IFERROR(FIND(\"_\",Table3[[#This Row],[شماره تماس]]),0)","v":0},{"$f":"IF(Table3[[#This Row],[چندم]]=0,Table3[[#This Row],[شماره تماس]],MID(Table3[[#This Row],[شماره تماس]],1,Table3[[#This Row],[چندم]]-1))","v":0},{"$f":"IF(Table3[[#This Row],[چندم]]=0,\"\",MID(Table3[[#This Row],[شماره تماس]],Table3[[#This Row],[چندم]]+1,30))","v":""}]
[null,704,null,null,null,{"$f":"IFERROR(FIND(\"_\",Table3[[#This Row],[شماره تماس]]),0)","v":0},{"$f":"IF(Table3[[#This Row],[چندم]]=0,Table3[[#This Row],[شماره تماس]],MID(Table3[[#This Row],[شماره تماس]],1,Table3[[#This Row],[چندم]]-1))","v":0},{"$f":"IF(Table3[[#This Row],[چندم]]=0,\"\",MID(Table3[[#This Row],[شماره تماس]],Table3[[#This Row],[چندم]]+1,30))","v":""}]
[null,705,null,null,null,{"$f":"IFERROR(FIND(\"_\",Table3[[#This Row],[شماره تماس]]),0)","v":0},{"$f":"IF(Table3[[#This Row],[چندم]]=0,Table3[[#This Row],[شماره تماس]],MID(Table3[[#This Row],[شماره تماس]],1,Table3[[#This Row],[چندم]]-1))","v":0},{"$f":"IF(Table3[[#This Row],[چندم]]=0,\"\",MID(Table3[[#This Row],[شماره تماس]],Table3[[#This Row],[چندم]]+1,30))","v":""}]
[null,706,null,null,null,{"$f":"IFERROR(FIND(\"_\",Table3[[#This Row],[شماره تماس]]),0)","v":0},{"$f":"IF(Table3[[#This Row],[چندم]]=0,Table3[[#This Row],[شماره تماس]],MID(Table3[[#This Row],[شماره تماس]],1,Table3[[#This Row],[چندم]]-1))","v":0},{"$f":"IF(Table3[[#This Row],[چندم]]=0,\"\",MID(Table3[[#This Row],[شماره تماس]],Table3[[#This Row],[چندم]]+1,30))","v":""}]
[null,707,null,null,null,{"$f":"IFERROR(FIND(\"_\",Table3[[#This Row],[شماره تماس]]),0)","v":0},{"$f":"IF(Table3[[#This Row],[چندم]]=0,Table3[[#This Row],[شماره تماس]],MID(Table3[[#This Row],[شماره تماس]],1,Table3[[#This Row],[چندم]]-1))","v":0},{"$f":"IF(Table3[[#This Row],[چندم]]=0,\"\",MID(Table3[[#This Row],[شماره تماس]],Table3[[#This Row],[چندم]]+1,30))","v":""}]
[null,708,null,null,null,{"$f":"IFERROR(FIND(\"_\",Table3[[#This Row],[شماره تماس]]),0)","v":0},{"$f":"IF(Table3[[#This Row],[چندم]]=0,Table3[[#This Row],[شماره تماس]],MID(Table3[[#This Row],[شماره تماس]],1,Table3[[#This Row],[چندم]]-1))","v":0},{"$f":"IF(Table3[[#This Row],[چندم]]=0,\"\",MID(Table3[[#This Row],[شماره تماس]],Table3[[#This Row],[چندم]]+1,30))","v":""}]
[null,709,null,null,null,{"$f":"IFERROR(FIND(\"_\",Table3[[#This Row],[شماره تماس]]),0)","v":0},{"$f":"IF(Table3[[#This Row],[چندم]]=0,Table3[[#This Row],[شماره تماس]],MID(Table3[[#This Row],[شماره تماس]],1,Table3[[#This Row],[چندم]]-1))","v":0},{"$f":"IF(Table3[[#This Row],[چندم]]=0,\"\",MID(Table3[[#This Row],[شماره تماس]],Table3[[#This Row],[چندم]]+1,30))","v":""}]
[null,710,null,null,null,{"$f":"IFERROR(FIND(\"_\",Table3[[#This Row],[شماره تماس]]),0)","v":0},{"$f":"IF(Table3[[#This Row],[چندم]]=0,Table3[[#This Row],[شماره تماس]],MID(Table3[[#This Row],[شماره تماس]],1,Table3[[#This Row],[چندم]]-1))","v":0},{"$f":"IF(Table3[[#This Row],[چندم]]=0,\"\",MID(Table3[[#This Row],[شماره تماس]],Table3[[#This Row],[چندم]]+1,30))","v":""}]
[null,711,null,null,null,{"$f":"IFERROR(FIND(\"_\",Table3[[#This Row],[شماره تماس]]),0)","v":0},{"$f":"IF(Table3[[#This Row],[چندم]]=0,Table3[[#This Row],[شماره تماس]],MID(Table3[[#This Row],[شماره تماس]],1,Table3[[#This Row],[چندم]]-1))","v":0},{"$f":"IF(Table3[[#This Row],[چندم]]=0,\"\",MID(Table3[[#This Row],[شماره تماس]],Table3[[#This Row],[چندم]]+1,30))","v":""}]
[null,712,null,null,null,{"$f":"IFERROR(FIND(\"_\",Table3[[#This Row],[شماره تماس]]),0)","v":0},{"$f":"IF(Table3[[#This Row],[چندم]]=0,Table3[[#This Row],[شماره تماس]],MID(Table3[[#This Row],[شماره تماس]],1,Table3[[#This Row],[چندم]]-1))","v":0},{"$f":"IF(Table3[[#This Row],[چندم]]=0,\"\",MID(Table3[[#This Row],[شماره تماس]],Table3[[#This Row],[چندم]]+1,30))","v":""}]
[null,713,null,null,null,{"$f":"IFERROR(FIND(\"_\",Table3[[#This Row],[شماره تماس]]),0)","v":0},{"$f":"IF(Table3[[#This Row],[چندم]]=0,Table3[[#This Row],[شماره تماس]],MID(Table3[[#This Row],[شماره تماس]],1,Table3[[#This Row],[چندم]]-1))","v":0},{"$f":"IF(Table3[[#This Row],[چندم]]=0,\"\",MID(Table3[[#This Row],[شماره تماس]],Table3[[#This Row],[چندم]]+1,30))","v":""}]
[null,714,null,null,null,{"$f":"IFERROR(FIND(\"_\",Table3[[#This Row],[شماره تماس]]),0)","v":0},{"$f":"IF(Table3[[#This Row],[چندم]]=0,Table3[[#This Row],[شماره تماس]],MID(Table3[[#This Row],[شماره تماس]],1,Table3[[#This Row],[چندم]]-1))","v":0},{"$f":"IF(Table3[[#This Row],[چندم]]=0,\"\",MID(Table3[[#This Row],[شماره تماس]],Table3[[#This Row],[چندم]]+1,30))","v":""}]
[null,715,null,null,null,{"$f":"IFERROR(FIND(\"_\",Table3[[#This Row],[شماره تماس]]),0)","v":0},{"$f":"IF(Table3[[#This Row],[چندم]]=0,Table3[[#This Row],[شماره تماس]],MID(Table3[[#This Row],[شماره تماس]],1,Table3[[#This Row],[چندم]]-1))","v":0},{"$f":"IF(Table3[[#This Row],[چندم]]=0,\"\",MID(Table3[[#This Row],[شماره تماس]],Table3[[#This Row],[چندم]]+1,30))","v":""}]
[null,716,null,null,null,{"$f":"IFERROR(FIND(\"_\",Table3[[#This Row],[شماره تماس]]),0)","v":0},{"$f":"IF(Table3[[#This Row],[چندم]]=0,Table3[[#This Row],[شماره تماس]],MID(Table3[[#This Row],[شماره تماس]],1,Table3[[#This Row],[چندم]]-1))","v":0},{"$f":"IF(Table3[[#This Row],[چندم]]=0,\"\",MID(Table3[[#This Row],[شماره تماس]],Table3[[#This Row],[چندم]]+1,30))","v":""}]
[null,717,null,null,null,{"$f":"IFERROR(FIND(\"_\",Table3[[#This Row],[شماره تماس]]),0)","v":0},{"$f":"IF(Table3[[#This Row],[چندم]]=0,Table3[[#This Row],[شماره تماس]],MID(Table3[[#This Row],[شماره تماس]],1,Table3[[#This Row],[چندم]]-1))","v":0},{"$f":"IF(Table3[[#This Row],[چندم]]=0,\"\",MID(Table3[[#This Row],[شماره تماس]],Table3[[#This Row],[چندم]]+1,30))","v":""}]
[null,718,null,null,null,{"$f":"IFERROR(FIND(\"_\",Table3[[#This Row],[شماره تماس]]),0)","v":0},{"$f":"IF(Table3[[#This Row],[چندم]]=0,Table3[[#This Row],[شماره تماس]],MID(Table3[[#This Row],[شماره تماس]],1,Table3[[#This Row],[چندم]]-1))","v":0},{"$f":"IF(Table3[[#This Row],[چندم]]=0,\"\",MID(Table3[[#This Row],[شماره تماس]],Table3[[#This Row],[چندم]]+1,30))","v":""}]
[null,719,null,null,null,{"$f":"IFERROR(FIND(\"_\",Table3[[#This Row],[شماره تماس]]),0)","v":0},{"$f":"IF(Table3[[#This Row],[چندم]]=0,Table3[[#This Row],[شماره تماس]],MID(Table3[[#This Row],[شماره تماس]],1,Table3[[#This Row],[چندم]]-1))","v":0},{"$f":"IF(Table3[[#This Row],[چندم]]=0,\"\",MID(Table3[[#This Row],[شماره تماس]],Table3[[#This Row],[چندم]]+1,30))","v":""}]
[null,720,null,null,null,{"$f":"IFERROR(FIND(\"_\",Table3[[#This Row],[شماره تماس]]),0)","v":0},{"$f":"IF(Table3[[#This Row],[چندم]]=0,Table3[[#This Row],[شماره تماس]],MID(Table3[[#This Row],[شماره تماس]],1,Table3[[#This Row],[چندم]]-1))","v":0},{"$f":"IF(Table3[[#This Row],[چندم]]=0,\"\",MID(Table3[[#This Row],[شماره تماس]],Table3[[#This Row],[چندم]]+1,30))","v":""}]
[null,721,null,null,null,{"$f":"IFERROR(FIND(\"_\",Table3[[#This Row],[شماره تماس]]),0)","v":0},{"$f":"IF(Table3[[#This Row],[چندم]]=0,Table3[[#This Row],[شماره تماس]],MID(Table3[[#This Row],[شماره تماس]],1,Table3[[#This Row],[چندم]]-1))","v":0},{"$f":"IF(Table3[[#This Row],[چندم]]=0,\"\",MID(Table3[[#This Row],[شماره تماس]],Table3[[#This Row],[چندم]]+1,30))","v":""}]
[null,722,null,null,null,{"$f":"IFERROR(FIND(\"_\",Table3[[#This Row],[شماره تماس]]),0)","v":0},{"$f":"IF(Table3[[#This Row],[چندم]]=0,Table3[[#This Row],[شماره تماس]],MID(Table3[[#This Row],[شماره تماس]],1,Table3[[#This Row],[چندم]]-1))","v":0},{"$f":"IF(Table3[[#This Row],[چندم]]=0,\"\",MID(Table3[[#This Row],[شماره تماس]],Table3[[#This Row],[چندم]]+1,30))","v":""}]
[null,723,null,null,null,{"$f":"IFERROR(FIND(\"_\",Table3[[#This Row],[شماره تماس]]),0)","v":0},{"$f":"IF(Table3[[#This Row],[چندم]]=0,Table3[[#This Row],[شماره تماس]],MID(Table3[[#This Row],[شماره تماس]],1,Table3[[#This Row],[چندم]]-1))","v":0},{"$f":"IF(Table3[[#This Row],[چندم]]=0,\"\",MID(Table3[[#This Row],[شماره تماس]],Table3[[#This Row],[چندم]]+1,30))","v":""}]
[null,724,null,null,null,{"$f":"IFERROR(FIND(\"_\",Table3[[#This Row],[شماره تماس]]),0)","v":0},{"$f":"IF(Table3[[#This Row],[چندم]]=0,Table3[[#This Row],[شماره تماس]],MID(Table3[[#This Row],[شماره تماس]],1,Table3[[#This Row],[چندم]]-1))","v":0},{"$f":"IF(Table3[[#This Row],[چندم]]=0,\"\",MID(Table3[[#This Row],[شماره تماس]],Table3[[#This Row],[چندم]]+1,30))","v":""}]
[null,725,null,null,null,{"$f":"IFERROR(FIND(\"_\",Table3[[#This Row],[شماره تماس]]),0)","v":0},{"$f":"IF(Table3[[#This Row],[چندم]]=0,Table3[[#This Row],[شماره تماس]],MID(Table3[[#This Row],[شماره تماس]],1,Table3[[#This Row],[چندم]]-1))","v":0},{"$f":"IF(Table3[[#This Row],[چندم]]=0,\"\",MID(Table3[[#This Row],[شماره تماس]],Table3[[#This Row],[چندم]]+1,30))","v":""}]
[null,726,null,null,null,{"$f":"IFERROR(FIND(\"_\",Table3[[#This Row],[شماره تماس]]),0)","v":0},{"$f":"IF(Table3[[#This Row],[چندم]]=0,Table3[[#This Row],[شماره تماس]],MID(Table3[[#This Row],[شماره تماس]],1,Table3[[#This Row],[چندم]]-1))","v":0},{"$f":"IF(Table3[[#This Row],[چندم]]=0,\"\",MID(Table3[[#This Row],[شماره تماس]],Table3[[#This Row],[چندم]]+1,30))","v":""}]
[null,727,null,null,null,{"$f":"IFERROR(FIND(\"_\",Table3[[#This Row],[شماره تماس]]),0)","v":0},{"$f":"IF(Table3[[#This Row],[چندم]]=0,Table3[[#This Row],[شماره تماس]],MID(Table3[[#This Row],[شماره تماس]],1,Table3[[#This Row],[چندم]]-1))","v":0},{"$f":"IF(Table3[[#This Row],[چندم]]=0,\"\",MID(Table3[[#This Row],[شماره تماس]],Table3[[#This Row],[چندم]]+1,30))","v":""}]
[null,728,null,null,null,{"$f":"IFERROR(FIND(\"_\",Table3[[#This Row],[شماره تماس]]),0)","v":0},{"$f":"IF(Table3[[#This Row],[چندم]]=0,Table3[[#This Row],[شماره تماس]],MID(Table3[[#This Row],[شماره تماس]],1,Table3[[#This Row],[چندم]]-1))","v":0},{"$f":"IF(Table3[[#This Row],[چندم]]=0,\"\",MID(Table3[[#This Row],[شماره تماس]],Table3[[#This Row],[چندم]]+1,30))","v":""}]
[null,729,null,null,null,{"$f":"IFERROR(FIND(\"_\",Table3[[#This Row],[شماره تماس]]),0)","v":0},{"$f":"IF(Table3[[#This Row],[چندم]]=0,Table3[[#This Row],[شماره تماس]],MID(Table3[[#This Row],[شماره تماس]],1,Table3[[#This Row],[چندم]]-1))","v":0},{"$f":"IF(Table3[[#This Row],[چندم]]=0,\"\",MID(Table3[[#This Row],[شماره تماس]],Table3[[#This Row],[چندم]]+1,30))","v":""}]
[null,730,null,null,null,{"$f":"IFERROR(FIND(\"_\",Table3[[#This Row],[شماره تماس]]),0)","v":0},{"$f":"IF(Table3[[#This Row],[چندم]]=0,Table3[[#This Row],[شماره تماس]],MID(Table3[[#This Row],[شماره تماس]],1,Table3[[#This Row],[چندم]]-1))","v":0},{"$f":"IF(Table3[[#This Row],[چندم]]=0,\"\",MID(Table3[[#This Row],[شماره تماس]],Table3[[#This Row],[چندم]]+1,30))","v":""}]
[null,731,null,null,null,{"$f":"IFERROR(FIND(\"_\",Table3[[#This Row],[شماره تماس]]),0)","v":0},{"$f":"IF(Table3[[#This Row],[چندم]]=0,Table3[[#This Row],[شماره تماس]],MID(Table3[[#This Row],[شماره تماس]],1,Table3[[#This Row],[چندم]]-1))","v":0},{"$f":"IF(Table3[[#This Row],[چندم]]=0,\"\",MID(Table3[[#This Row],[شماره تماس]],Table3[[#This Row],[چندم]]+1,30))","v":""}]
[null,732,null,null,null,{"$f":"IFERROR(FIND(\"_\",Table3[[#This Row],[شماره تماس]]),0)","v":0},{"$f":"IF(Table3[[#This Row],[چندم]]=0,Table3[[#This Row],[شماره تماس]],MID(Table3[[#This Row],[شماره تماس]],1,Table3[[#This Row],[چندم]]-1))","v":0},{"$f":"IF(Table3[[#This Row],[چندم]]=0,\"\",MID(Table3[[#This Row],[شماره تماس]],Table3[[#This Row],[چندم]]+1,30))","v":""}]
[null,733,null,null,null,{"$f":"IFERROR(FIND(\"_\",Table3[[#This Row],[شماره تماس]]),0)","v":0},{"$f":"IF(Table3[[#This Row],[چندم]]=0,Table3[[#This Row],[شماره تماس]],MID(Table3[[#This Row],[شماره تماس]],1,Table3[[#This Row],[چندم]]-1))","v":0},{"$f":"IF(Table3[[#This Row],[چندم]]=0,\"\",MID(Table3[[#This Row],[شماره تماس]],Table3[[#This Row],[چندم]]+1,30))","v":""}]
[null,734,null,null,null,{"$f":"IFERROR(FIND(\"_\",Table3[[#This Row],[شماره تماس]]),0)","v":0},{"$f":"IF(Table3[[#This Row],[چندم]]=0,Table3[[#This Row],[شماره تماس]],MID(Table3[[#This Row],[شماره تماس]],1,Table3[[#This Row],[چندم]]-1))","v":0},{"$f":"IF(Table3[[#This Row],[چندم]]=0,\"\",MID(Table3[[#This Row],[شماره تماس]],Table3[[#This Row],[چندم]]+1,30))","v":""}]
[null,735,null,null,null,{"$f":"IFERROR(FIND(\"_\",Table3[[#This Row],[شماره تماس]]),0)","v":0},{"$f":"IF(Table3[[#This Row],[چندم]]=0,Table3[[#This Row],[شماره تماس]],MID(Table3[[#This Row],[شماره تماس]],1,Table3[[#This Row],[چندم]]-1))","v":0},{"$f":"IF(Table3[[#This Row],[چندم]]=0,\"\",MID(Table3[[#This Row],[شماره تماس]],Table3[[#This Row],[چندم]]+1,30))","v":""}]
[null,736,null,null,null,{"$f":"IFERROR(FIND(\"_\",Table3[[#This Row],[شماره تماس]]),0)","v":0},{"$f":"IF(Table3[[#This Row],[چندم]]=0,Table3[[#This Row],[شماره تماس]],MID(Table3[[#This Row],[شماره تماس]],1,Table3[[#This Row],[چندم]]-1))","v":0},{"$f":"IF(Table3[[#This Row],[چندم]]=0,\"\",MID(Table3[[#This Row],[شماره تماس]],Table3[[#This Row],[چندم]]+1,30))","v":""}]
[null,737,null,null,null,{"$f":"IFERROR(FIND(\"_\",Table3[[#This Row],[شماره تماس]]),0)","v":0},{"$f":"IF(Table3[[#This Row],[چندم]]=0,Table3[[#This Row],[شماره تماس]],MID(Table3[[#This Row],[شماره تماس]],1,Table3[[#This Row],[چندم]]-1))","v":0},{"$f":"IF(Table3[[#This Row],[چندم]]=0,\"\",MID(Table3[[#This Row],[شماره تماس]],Table3[[#This Row],[چندم]]+1,30))","v":""}]
[null,738,null,null,null,{"$f":"IFERROR(FIND(\"_\",Table3[[#This Row],[شماره تماس]]),0)","v":0},{"$f":"IF(Table3[[#This Row],[چندم]]=0,Table3[[#This Row],[شماره تماس]],MID(Table3[[#This Row],[شماره تماس]],1,Table3[[#This Row],[چندم]]-1))","v":0},{"$f":"IF(Table3[[#This Row],[چندم]]=0,\"\",MID(Table3[[#This Row],[شماره تماس]],Table3[[#This Row],[چندم]]+1,30))","v":""}]
[null,739,null,null,null,{"$f":"IFERROR(FIND(\"_\",Table3[[#This Row],[شماره تماس]]),0)","v":0},{"$f":"IF(Table3[[#This Row],[چندم]]=0,Table3[[#This Row],[شماره تماس]],MID(Table3[[#This Row],[شماره تماس]],1,Table3[[#This Row],[چندم]]-1))","v":0},{"$f":"IF(Table3[[#This Row],[چندم]]=0,\"\",MID(Table3[[#This Row],[شماره تماس]],Table3[[#This Row],[چندم]]+1,30))","v":""}]
[null,740,null,null,null,{"$f":"IFERROR(FIND(\"_\",Table3[[#This Row],[شماره تماس]]),0)","v":0},{"$f":"IF(Table3[[#This Row],[چندم]]=0,Table3[[#This Row],[شماره تماس]],MID(Table3[[#This Row],[شماره تماس]],1,Table3[[#This Row],[چندم]]-1))","v":0},{"$f":"IF(Table3[[#This Row],[چندم]]=0,\"\",MID(Table3[[#This Row],[شماره تماس]],Table3[[#This Row],[چندم]]+1,30))","v":""}]
[null,741,null,null,null,{"$f":"IFERROR(FIND(\"_\",Table3[[#This Row],[شماره تماس]]),0)","v":0},{"$f":"IF(Table3[[#This Row],[چندم]]=0,Table3[[#This Row],[شماره تماس]],MID(Table3[[#This Row],[شماره تماس]],1,Table3[[#This Row],[چندم]]-1))","v":0},{"$f":"IF(Table3[[#This Row],[چندم]]=0,\"\",MID(Table3[[#This Row],[شماره تماس]],Table3[[#This Row],[چندم]]+1,30))","v":""}]
[null,742,null,null,null,{"$f":"IFERROR(FIND(\"_\",Table3[[#This Row],[شماره تماس]]),0)","v":0},{"$f":"IF(Table3[[#This Row],[چندم]]=0,Table3[[#This Row],[شماره تماس]],MID(Table3[[#This Row],[شماره تماس]],1,Table3[[#This Row],[چندم]]-1))","v":0},{"$f":"IF(Table3[[#This Row],[چندم]]=0,\"\",MID(Table3[[#This Row],[شماره تماس]],Table3[[#This Row],[چندم]]+1,30))","v":""}]
[null,{"$f":"ROW()-3","v":743},null,null,null,{"$f":"IFERROR(FIND(\"_\",Table3[[#This Row],[شماره تماس]]),0)","v":0},{"$f":"IF(Table3[[#This Row],[چندم]]=0,Table3[[#This Row],[شماره تماس]],MID(Table3[[#This Row],[شماره تماس]],1,Table3[[#This Row],[چندم]]-1))","v":0},{"$f":"IF(Table3[[#This Row],[چندم]]=0,\"\",MID(Table3[[#This Row],[شماره تماس]],Table3[[#This Row],[چندم]]+1,30))","v":""}]
[null,744,null,null,null,{"$f":"IFERROR(FIND(\"_\",Table3[[#This Row],[شماره تماس]]),0)","v":0},{"$f":"IF(Table3[[#This Row],[چندم]]=0,Table3[[#This Row],[شماره تماس]],MID(Table3[[#This Row],[شماره تماس]],1,Table3[[#This Row],[چندم]]-1))","v":0},{"$f":"IF(Table3[[#This Row],[چندم]]=0,\"\",MID(Table3[[#This Row],[شماره تماس]],Table3[[#This Row],[چندم]]+1,30))","v":""}]
[null,745,null,null,null,{"$f":"IFERROR(FIND(\"_\",Table3[[#This Row],[شماره تماس]]),0)","v":0},{"$f":"IF(Table3[[#This Row],[چندم]]=0,Table3[[#This Row],[شماره تماس]],MID(Table3[[#This Row],[شماره تماس]],1,Table3[[#This Row],[چندم]]-1))","v":0},{"$f":"IF(Table3[[#This Row],[چندم]]=0,\"\",MID(Table3[[#This Row],[شماره تماس]],Table3[[#This Row],[چندم]]+1,30))","v":""}]
[null,746,null,null,null,{"$f":"IFERROR(FIND(\"_\",Table3[[#This Row],[شماره تماس]]),0)","v":0},{"$f":"IF(Table3[[#This Row],[چندم]]=0,Table3[[#This Row],[شماره تماس]],MID(Table3[[#This Row],[شماره تماس]],1,Table3[[#This Row],[چندم]]-1))","v":0},{"$f":"IF(Table3[[#This Row],[چندم]]=0,\"\",MID(Table3[[#This Row],[شماره تماس]],Table3[[#This Row],[چندم]]+1,30))","v":""}]
[null,747,null,null,null,{"$f":"IFERROR(FIND(\"_\",Table3[[#This Row],[شماره تماس]]),0)","v":0},{"$f":"IF(Table3[[#This Row],[چندم]]=0,Table3[[#This Row],[شماره تماس]],MID(Table3[[#This Row],[شماره تماس]],1,Table3[[#This Row],[چندم]]-1))","v":0},{"$f":"IF(Table3[[#This Row],[چندم]]=0,\"\",MID(Table3[[#This Row],[شماره تماس]],Table3[[#This Row],[چندم]]+1,30))","v":""}]
[null,748,null,null,null,{"$f":"IFERROR(FIND(\"_\",Table3[[#This Row],[شماره تماس]]),0)","v":0},{"$f":"IF(Table3[[#This Row],[چندم]]=0,Table3[[#This Row],[شماره تماس]],MID(Table3[[#This Row],[شماره تماس]],1,Table3[[#This Row],[چندم]]-1))","v":0},{"$f":"IF(Table3[[#This Row],[چندم]]=0,\"\",MID(Table3[[#This Row],[شماره تماس]],Table3[[#This Row],[چندم]]+1,30))","v":""}]
[null,749,null,null,null,{"$f":"IFERROR(FIND(\"_\",Table3[[#This Row],[شماره تماس]]),0)","v":0},{"$f":"IF(Table3[[#This Row],[چندم]]=0,Table3[[#This Row],[شماره تماس]],MID(Table3[[#This Row],[شماره تماس]],1,Table3[[#This Row],[چندم]]-1))","v":0},{"$f":"IF(Table3[[#This Row],[چندم]]=0,\"\",MID(Table3[[#This Row],[شماره تماس]],Table3[[#This Row],[چندم]]+1,30))","v":""}]
[null,750,null,null,null,{"$f":"IFERROR(FIND(\"_\",Table3[[#This Row],[شماره تماس]]),0)","v":0},{"$f":"IF(Table3[[#This Row],[چندم]]=0,Table3[[#This Row],[شماره تماس]],MID(Table3[[#This Row],[شماره تماس]],1,Table3[[#This Row],[چندم]]-1))","v":0},{"$f":"IF(Table3[[#This Row],[چندم]]=0,\"\",MID(Table3[[#This Row],[شماره تماس]],Table3[[#This Row],[چندم]]+1,30))","v":""}]
[null,751,null,null,null,{"$f":"IFERROR(FIND(\"_\",Table3[[#This Row],[شماره تماس]]),0)","v":0},{"$f":"IF(Table3[[#This Row],[چندم]]=0,Table3[[#This Row],[شماره تماس]],MID(Table3[[#This Row],[شماره تماس]],1,Table3[[#This Row],[چندم]]-1))","v":0},{"$f":"IF(Table3[[#This Row],[چندم]]=0,\"\",MID(Table3[[#This Row],[شماره تماس]],Table3[[#This Row],[چندم]]+1,30))","v":""}]
[null,752,null,null,null,{"$f":"IFERROR(FIND(\"_\",Table3[[#This Row],[شماره تماس]]),0)","v":0},{"$f":"IF(Table3[[#This Row],[چندم]]=0,Table3[[#This Row],[شماره تماس]],MID(Table3[[#This Row],[شماره تماس]],1,Table3[[#This Row],[چندم]]-1))","v":0},{"$f":"IF(Table3[[#This Row],[چندم]]=0,\"\",MID(Table3[[#This Row],[شماره تماس]],Table3[[#This Row],[چندم]]+1,30))","v":""}]
[null,753,null,null,null,{"$f":"IFERROR(FIND(\"_\",Table3[[#This Row],[شماره تماس]]),0)","v":0},{"$f":"IF(Table3[[#This Row],[چندم]]=0,Table3[[#This Row],[شماره تماس]],MID(Table3[[#This Row],[شماره تماس]],1,Table3[[#This Row],[چندم]]-1))","v":0},{"$f":"IF(Table3[[#This Row],[چندم]]=0,\"\",MID(Table3[[#This Row],[شماره تماس]],Table3[[#This Row],[چندم]]+1,30))","v":""}]
[null,754,null,null,null,{"$f":"IFERROR(FIND(\"_\",Table3[[#This Row],[شماره تماس]]),0)","v":0},{"$f":"IF(Table3[[#This Row],[چندم]]=0,Table3[[#This Row],[شماره تماس]],MID(Table3[[#This Row],[شماره تماس]],1,Table3[[#This Row],[چندم]]-1))","v":0},{"$f":"IF(Table3[[#This Row],[چندم]]=0,\"\",MID(Table3[[#This Row],[شماره تماس]],Table3[[#This Row],[چندم]]+1,30))","v":""}]
[null,755,null,null,null,{"$f":"IFERROR(FIND(\"_\",Table3[[#This Row],[شماره تماس]]),0)","v":0},{"$f":"IF(Table3[[#This Row],[چندم]]=0,Table3[[#This Row],[شماره تماس]],MID(Table3[[#This Row],[شماره تماس]],1,Table3[[#This Row],[چندم]]-1))","v":0},{"$f":"IF(Table3[[#This Row],[چندم]]=0,\"\",MID(Table3[[#This Row],[شماره تماس]],Table3[[#This Row],[چندم]]+1,30))","v":""}]
[null,756,null,null,null,{"$f":"IFERROR(FIND(\"_\",Table3[[#This Row],[شماره تماس]]),0)","v":0},{"$f":"IF(Table3[[#This Row],[چندم]]=0,Table3[[#This Row],[شماره تماس]],MID(Table3[[#This Row],[شماره تماس]],1,Table3[[#This Row],[چندم]]-1))","v":0},{"$f":"IF(Table3[[#This Row],[چندم]]=0,\"\",MID(Table3[[#This Row],[شماره تماس]],Table3[[#This Row],[چندم]]+1,30))","v":""}]
[null,757,null,null,null,{"$f":"IFERROR(FIND(\"_\",Table3[[#This Row],[شماره تماس]]),0)","v":0},{"$f":"IF(Table3[[#This Row],[چندم]]=0,Table3[[#This Row],[شماره تماس]],MID(Table3[[#This Row],[شماره تماس]],1,Table3[[#This Row],[چندم]]-1))","v":0},{"$f":"IF(Table3[[#This Row],[چندم]]=0,\"\",MID(Table3[[#This Row],[شماره تماس]],Table3[[#This Row],[چندم]]+1,30))","v":""}]
[null,758,null,null,null,{"$f":"IFERROR(FIND(\"_\",Table3[[#This Row],[شماره تماس]]),0)","v":0},{"$f":"IF(Table3[[#This Row],[چندم]]=0,Table3[[#This Row],[شماره تماس]],MID(Table3[[#This Row],[شماره تماس]],1,Table3[[#This Row],[چندم]]-1))","v":0},{"$f":"IF(Table3[[#This Row],[چندم]]=0,\"\",MID(Table3[[#This Row],[شماره تماس]],Table3[[#This Row],[چندم]]+1,30))","v":""}]
[null,759,null,null,null,{"$f":"IFERROR(FIND(\"_\",Table3[[#This Row],[شماره تماس]]),0)","v":0},{"$f":"IF(Table3[[#This Row],[چندم]]=0,Table3[[#This Row],[شماره تماس]],MID(Table3[[#This Row],[شماره تماس]],1,Table3[[#This Row],[چندم]]-1))","v":0},{"$f":"IF(Table3[[#This Row],[چندم]]=0,\"\",MID(Table3[[#This Row],[شماره تماس]],Table3[[#This Row],[چندم]]+1,30))","v":""}]
[null,760,null,null,null,{"$f":"IFERROR(FIND(\"_\",Table3[[#This Row],[شماره تماس]]),0)","v":0},{"$f":"IF(Table3[[#This Row],[چندم]]=0,Table3[[#This Row],[شماره تماس]],MID(Table3[[#This Row],[شماره تماس]],1,Table3[[#This Row],[چندم]]-1))","v":0},{"$f":"IF(Table3[[#This Row],[چندم]]=0,\"\",MID(Table3[[#This Row],[شماره تماس]],Table3[[#This Row],[چندم]]+1,30))","v":""}]
[null,761,null,null,null,{"$f":"IFERROR(FIND(\"_\",Table3[[#This Row],[شماره تماس]]),0)","v":0},{"$f":"IF(Table3[[#This Row],[چندم]]=0,Table3[[#This Row],[شماره تماس]],MID(Table3[[#This Row],[شماره تماس]],1,Table3[[#This Row],[چندم]]-1))","v":0},{"$f":"IF(Table3[[#This Row],[چندم]]=0,\"\",MID(Table3[[#This Row],[شماره تماس]],Table3[[#This Row],[چندم]]+1,30))","v":""}]
[null,762,null,null,null,{"$f":"IFERROR(FIND(\"_\",Table3[[#This Row],[شماره تماس]]),0)","v":0},{"$f":"IF(Table3[[#This Row],[چندم]]=0,Table3[[#This Row],[شماره تماس]],MID(Table3[[#This Row],[شماره تماس]],1,Table3[[#This Row],[چندم]]-1))","v":0},{"$f":"IF(Table3[[#This Row],[چندم]]=0,\"\",MID(Table3[[#This Row],[شماره تماس]],Table3[[#This Row],[چندم]]+1,30))","v":""}]
[null,763,null,null,null,{"$f":"IFERROR(FIND(\"_\",Table3[[#This Row],[شماره تماس]]),0)","v":0},{"$f":"IF(Table3[[#This Row],[چندم]]=0,Table3[[#This Row],[شماره تماس]],MID(Table3[[#This Row],[شماره تماس]],1,Table3[[#This Row],[چندم]]-1))","v":0},{"$f":"IF(Table3[[#This Row],[چندم]]=0,\"\",MID(Table3[[#This Row],[شماره تماس]],Table3[[#This Row],[چندم]]+1,30))","v":""}]
[null,764,null,null,null,{"$f":"IFERROR(FIND(\"_\",Table3[[#This Row],[شماره تماس]]),0)","v":0},{"$f":"IF(Table3[[#This Row],[چندم]]=0,Table3[[#This Row],[شماره تماس]],MID(Table3[[#This Row],[شماره تماس]],1,Table3[[#This Row],[چندم]]-1))","v":0},{"$f":"IF(Table3[[#This Row],[چندم]]=0,\"\",MID(Table3[[#This Row],[شماره تماس]],Table3[[#This Row],[چندم]]+1,30))","v":""}]
[null,765,null,null,null,{"$f":"IFERROR(FIND(\"_\",Table3[[#This Row],[شماره تماس]]),0)","v":0},{"$f":"IF(Table3[[#This Row],[چندم]]=0,Table3[[#This Row],[شماره تماس]],MID(Table3[[#This Row],[شماره تماس]],1,Table3[[#This Row],[چندم]]-1))","v":0},{"$f":"IF(Table3[[#This Row],[چندم]]=0,\"\",MID(Table3[[#This Row],[شماره تماس]],Table3[[#This Row],[چندم]]+1,30))","v":""}]
[null,766,null,null,null,{"$f":"IFERROR(FIND(\"_\",Table3[[#This Row],[شماره تماس]]),0)","v":0},{"$f":"IF(Table3[[#This Row],[چندم]]=0,Table3[[#This Row],[شماره تماس]],MID(Table3[[#This Row],[شماره تماس]],1,Table3[[#This Row],[چندم]]-1))","v":0},{"$f":"IF(Table3[[#This Row],[چندم]]=0,\"\",MID(Table3[[#This Row],[شماره تماس]],Table3[[#This Row],[چندم]]+1,30))","v":""}]
[null,767,null,null,null,{"$f":"IFERROR(FIND(\"_\",Table3[[#This Row],[شماره تماس]]),0)","v":0},{"$f":"IF(Table3[[#This Row],[چندم]]=0,Table3[[#This Row],[شماره تماس]],MID(Table3[[#This Row],[شماره تماس]],1,Table3[[#This Row],[چندم]]-1))","v":0},{"$f":"IF(Table3[[#This Row],[چندم]]=0,\"\",MID(Table3[[#This Row],[شماره تماس]],Table3[[#This Row],[چندم]]+1,30))","v":""}]
[null,768,null,null,null,{"$f":"IFERROR(FIND(\"_\",Table3[[#This Row],[شماره تماس]]),0)","v":0},{"$f":"IF(Table3[[#This Row],[چندم]]=0,Table3[[#This Row],[شماره تماس]],MID(Table3[[#This Row],[شماره تماس]],1,Table3[[#This Row],[چندم]]-1))","v":0},{"$f":"IF(Table3[[#This Row],[چندم]]=0,\"\",MID(Table3[[#This Row],[شماره تماس]],Table3[[#This Row],[چندم]]+1,30))","v":""}]
[null,769,null,null,null,{"$f":"IFERROR(FIND(\"_\",Table3[[#This Row],[شماره تماس]]),0)","v":0},{"$f":"IF(Table3[[#This Row],[چندم]]=0,Table3[[#This Row],[شماره تماس]],MID(Table3[[#This Row],[شماره تماس]],1,Table3[[#This Row],[چندم]]-1))","v":0},{"$f":"IF(Table3[[#This Row],[چندم]]=0,\"\",MID(Table3[[#This Row],[شماره تماس]],Table3[[#This Row],[چندم]]+1,30))","v":""}]
[null,770,null,null,null,{"$f":"IFERROR(FIND(\"_\",Table3[[#This Row],[شماره تماس]]),0)","v":0},{"$f":"IF(Table3[[#This Row],[چندم]]=0,Table3[[#This Row],[شماره تماس]],MID(Table3[[#This Row],[شماره تماس]],1,Table3[[#This Row],[چندم]]-1))","v":0},{"$f":"IF(Table3[[#This Row],[چندم]]=0,\"\",MID(Table3[[#This Row],[شماره تماس]],Table3[[#This Row],[چندم]]+1,30))","v":""}]
[null,771,null,null,null,{"$f":"IFERROR(FIND(\"_\",Table3[[#This Row],[شماره تماس]]),0)","v":0},{"$f":"IF(Table3[[#This Row],[چندم]]=0,Table3[[#This Row],[شماره تماس]],MID(Table3[[#This Row],[شماره تماس]],1,Table3[[#This Row],[چندم]]-1))","v":0},{"$f":"IF(Table3[[#This Row],[چندم]]=0,\"\",MID(Table3[[#This Row],[شماره تماس]],Table3[[#This Row],[چندم]]+1,30))","v":""}]
[null,772,null,null,null,{"$f":"IFERROR(FIND(\"_\",Table3[[#This Row],[شماره تماس]]),0)","v":0},{"$f":"IF(Table3[[#This Row],[چندم]]=0,Table3[[#This Row],[شماره تماس]],MID(Table3[[#This Row],[شماره تماس]],1,Table3[[#This Row],[چندم]]-1))","v":0},{"$f":"IF(Table3[[#This Row],[چندم]]=0,\"\",MID(Table3[[#This Row],[شماره تماس]],Table3[[#This Row],[چندم]]+1,30))","v":""}]
[null,773,null,null,null,{"$f":"IFERROR(FIND(\"_\",Table3[[#This Row],[شماره تماس]]),0)","v":0},{"$f":"IF(Table3[[#This Row],[چندم]]=0,Table3[[#This Row],[شماره تماس]],MID(Table3[[#This Row],[شماره تماس]],1,Table3[[#This Row],[چندم]]-1))","v":0},{"$f":"IF(Table3[[#This Row],[چندم]]=0,\"\",MID(Table3[[#This Row],[شماره تماس]],Table3[[#This Row],[چندم]]+1,30))","v":""}]
[null,774,null,null,null,{"$f":"IFERROR(FIND(\"_\",Table3[[#This Row],[شماره تماس]]),0)","v":0},{"$f":"IF(Table3[[#This Row],[چندم]]=0,Table3[[#This Row],[شماره تماس]],MID(Table3[[#This Row],[شماره تماس]],1,Table3[[#This Row],[چندم]]-1))","v":0},{"$f":"IF(Table3[[#This Row],[چندم]]=0,\"\",MID(Table3[[#This Row],[شماره تماس]],Table3[[#This Row],[چندم]]+1,30))","v":""}]
[null,775,null,null,null,{"$f":"IFERROR(FIND(\"_\",Table3[[#This Row],[شماره تماس]]),0)","v":0},{"$f":"IF(Table3[[#This Row],[چندم]]=0,Table3[[#This Row],[شماره تماس]],MID(Table3[[#This Row],[شماره تماس]],1,Table3[[#This Row],[چندم]]-1))","v":0},{"$f":"IF(Table3[[#This Row],[چندم]]=0,\"\",MID(Table3[[#This Row],[شماره تماس]],Table3[[#This Row],[چندم]]+1,30))","v":""}]
[null,776,null,null,null,{"$f":"IFERROR(FIND(\"_\",Table3[[#This Row],[شماره تماس]]),0)","v":0},{"$f":"IF(Table3[[#This Row],[چندم]]=0,Table3[[#This Row],[شماره تماس]],MID(Table3[[#This Row],[شماره تماس]],1,Table3[[#This Row],[چندم]]-1))","v":0},{"$f":"IF(Table3[[#This Row],[چندم]]=0,\"\",MID(Table3[[#This Row],[شماره تماس]],Table3[[#This Row],[چندم]]+1,30))","v":""}]
[null,777,null,null,null,{"$f":"IFERROR(FIND(\"_\",Table3[[#This Row],[شماره تماس]]),0)","v":0},{"$f":"IF(Table3[[#This Row],[چندم]]=0,Table3[[#This Row],[شماره تماس]],MID(Table3[[#This Row],[شماره تماس]],1,Table3[[#This Row],[چندم]]-1))","v":0},{"$f":"IF(Table3[[#This Row],[چندم]]=0,\"\",MID(Table3[[#This Row],[شماره تماس]],Table3[[#This Row],[چندم]]+1,30))","v":""}]
[null,778,null,null,null,{"$f":"IFERROR(FIND(\"_\",Table3[[#This Row],[شماره تماس]]),0)","v":0},{"$f":"IF(Table3[[#This Row],[چندم]]=0,Table3[[#This Row],[شماره تماس]],MID(Table3[[#This Row],[شماره تماس]],1,Table3[[#This Row],[چندم]]-1))","v":0},{"$f":"IF(Table3[[#This Row],[چندم]]=0,\"\",MID(Table3[[#This Row],[شماره تماس]],Table3[[#This Row],[چندم]]+1,30))","v":""}]
[null,779,null,null,null,{"$f":"IFERROR(FIND(\"_\",Table3[[#This Row],[شماره تماس]]),0)","v":0},{"$f":"IF(Table3[[#This Row],[چندم]]=0,Table3[[#This Row],[شماره تماس]],MID(Table3[[#This Row],[شماره تماس]],1,Table3[[#This Row],[چندم]]-1))","v":0},{"$f":"IF(Table3[[#This Row],[چندم]]=0,\"\",MID(Table3[[#This Row],[شماره تماس]],Table3[[#This Row],[چندم]]+1,30))","v":""}]
[null,780,null,null,null,{"$f":"IFERROR(FIND(\"_\",Table3[[#This Row],[شماره تماس]]),0)","v":0},{"$f":"IF(Table3[[#This Row],[چندم]]=0,Table3[[#This Row],[شماره تماس]],MID(Table3[[#This Row],[شماره تماس]],1,Table3[[#This Row],[چندم]]-1))","v":0},{"$f":"IF(Table3[[#This Row],[چندم]]=0,\"\",MID(Table3[[#This Row],[شماره تماس]],Table3[[#This Row],[چندم]]+1,30))","v":""}]
[null,781,null,null,null,{"$f":"IFERROR(FIND(\"_\",Table3[[#This Row],[شماره تماس]]),0)","v":0},{"$f":"IF(Table3[[#This Row],[چندم]]=0,Table3[[#This Row],[شماره تماس]],MID(Table3[[#This Row],[شماره تماس]],1,Table3[[#This Row],[چندم]]-1))","v":0},{"$f":"IF(Table3[[#This Row],[چندم]]=0,\"\",MID(Table3[[#This Row],[شماره تماس]],Table3[[#This Row],[چندم]]+1,30))","v":""}]
[null,782,null,null,null,{"$f":"IFERROR(FIND(\"_\",Table3[[#This Row],[شماره تماس]]),0)","v":0},{"$f":"IF(Table3[[#This Row],[چندم]]=0,Table3[[#This Row],[شماره تماس]],MID(Table3[[#This Row],[شماره تماس]],1,Table3[[#This Row],[چندم]]-1))","v":0},{"$f":"IF(Table3[[#This Row],[چندم]]=0,\"\",MID(Table3[[#This Row],[شماره تماس]],Table3[[#This Row],[چندم]]+1,30))","v":""}]
[null,783,null,null,null,{"$f":"IFERROR(FIND(\"_\",Table3[[#This Row],[شماره تماس]]),0)","v":0},{"$f":"IF(Table3[[#This Row],[چندم]]=0,Table3[[#This Row],[شماره تماس]],MID(Table3[[#This Row],[شماره تماس]],1,Table3[[#This Row],[چندم]]-1))","v":0},{"$f":"IF(Table3[[#This Row],[چندم]]=0,\"\",MID(Table3[[#This Row],[شماره تماس]],Table3[[#This Row],[چندم]]+1,30))","v":""}]
[null,784,null,null,null,{"$f":"IFERROR(FIND(\"_\",Table3[[#This Row],[شماره تماس]]),0)","v":0},{"$f":"IF(Table3[[#This Row],[چندم]]=0,Table3[[#This Row],[شماره تماس]],MID(Table3[[#This Row],[شماره تماس]],1,Table3[[#This Row],[چندم]]-1))","v":0},{"$f":"IF(Table3[[#This Row],[چندم]]=0,\"\",MID(Table3[[#This Row],[شماره تماس]],Table3[[#This Row],[چندم]]+1,30))","v":""}]
[null,785,null,null,null,{"$f":"IFERROR(FIND(\"_\",Table3[[#This Row],[شماره تماس]]),0)","v":0},{"$f":"IF(Table3[[#This Row],[چندم]]=0,Table3[[#This Row],[شماره تماس]],MID(Table3[[#This Row],[شماره تماس]],1,Table3[[#This Row],[چندم]]-1))","v":0},{"$f":"IF(Table3[[#This Row],[چندم]]=0,\"\",MID(Table3[[#This Row],[شماره تماس]],Table3[[#This Row],[چندم]]+1,30))","v":""}]
[null,786,null,null,null,{"$f":"IFERROR(FIND(\"_\",Table3[[#This Row],[شماره تماس]]),0)","v":0},{"$f":"IF(Table3[[#This Row],[چندم]]=0,Table3[[#This Row],[شماره تماس]],MID(Table3[[#This Row],[شماره تماس]],1,Table3[[#This Row],[چندم]]-1))","v":0},{"$f":"IF(Table3[[#This Row],[چندم]]=0,\"\",MID(Table3[[#This Row],[شماره تماس]],Table3[[#This Row],[چندم]]+1,30))","v":""}]
[null,787,null,null,null,{"$f":"IFERROR(FIND(\"_\",Table3[[#This Row],[شماره تماس]]),0)","v":0},{"$f":"IF(Table3[[#This Row],[چندم]]=0,Table3[[#This Row],[شماره تماس]],MID(Table3[[#This Row],[شماره تماس]],1,Table3[[#This Row],[چندم]]-1))","v":0},{"$f":"IF(Table3[[#This Row],[چندم]]=0,\"\",MID(Table3[[#This Row],[شماره تماس]],Table3[[#This Row],[چندم]]+1,30))","v":""}]
[null,788,null,null,null,{"$f":"IFERROR(FIND(\"_\",Table3[[#This Row],[شماره تماس]]),0)","v":0},{"$f":"IF(Table3[[#This Row],[چندم]]=0,Table3[[#This Row],[شماره تماس]],MID(Table3[[#This Row],[شماره تماس]],1,Table3[[#This Row],[چندم]]-1))","v":0},{"$f":"IF(Table3[[#This Row],[چندم]]=0,\"\",MID(Table3[[#This Row],[شماره تماس]],Table3[[#This Row],[چندم]]+1,30))","v":""}]
[null,789,null,null,null,{"$f":"IFERROR(FIND(\"_\",Table3[[#This Row],[شماره تماس]]),0)","v":0},{"$f":"IF(Table3[[#This Row],[چندم]]=0,Table3[[#This Row],[شماره تماس]],MID(Table3[[#This Row],[شماره تماس]],1,Table3[[#This Row],[چندم]]-1))","v":0},{"$f":"IF(Table3[[#This Row],[چندم]]=0,\"\",MID(Table3[[#This Row],[شماره تماس]],Table3[[#This Row],[چندم]]+1,30))","v":""}]
[null,790,null,null,null,{"$f":"IFERROR(FIND(\"_\",Table3[[#This Row],[شماره تماس]]),0)","v":0},{"$f":"IF(Table3[[#This Row],[چندم]]=0,Table3[[#This Row],[شماره تماس]],MID(Table3[[#This Row],[شماره تماس]],1,Table3[[#This Row],[چندم]]-1))","v":0},{"$f":"IF(Table3[[#This Row],[چندم]]=0,\"\",MID(Table3[[#This Row],[شماره تماس]],Table3[[#This Row],[چندم]]+1,30))","v":""}]
[null,791,null,null,null,{"$f":"IFERROR(FIND(\"_\",Table3[[#This Row],[شماره تماس]]),0)","v":0},{"$f":"IF(Table3[[#This Row],[چندم]]=0,Table3[[#This Row],[شماره تماس]],MID(Table3[[#This Row],[شماره تماس]],1,Table3[[#This Row],[چندم]]-1))","v":0},{"$f":"IF(Table3[[#This Row],[چندم]]=0,\"\",MID(Table3[[#This Row],[شماره تماس]],Table3[[#This Row],[چندم]]+1,30))","v":""}]
[null,792,null,null,null,{"$f":"IFERROR(FIND(\"_\",Table3[[#This Row],[شماره تماس]]),0)","v":0},{"$f":"IF(Table3[[#This Row],[چندم]]=0,Table3[[#This Row],[شماره تماس]],MID(Table3[[#This Row],[شماره تماس]],1,Table3[[#This Row],[چندم]]-1))","v":0},{"$f":"IF(Table3[[#This Row],[چندم]]=0,\"\",MID(Table3[[#This Row],[شماره تماس]],Table3[[#This Row],[چندم]]+1,30))","v":""}]
[null,793,null,null,null,{"$f":"IFERROR(FIND(\"_\",Table3[[#This Row],[شماره تماس]]),0)","v":0},{"$f":"IF(Table3[[#This Row],[چندم]]=0,Table3[[#This Row],[شماره تماس]],MID(Table3[[#This Row],[شماره تماس]],1,Table3[[#This Row],[چندم]]-1))","v":0},{"$f":"IF(Table3[[#This Row],[چندم]]=0,\"\",MID(Table3[[#This Row],[شماره تماس]],Table3[[#This Row],[چندم]]+1,30))","v":""}]
[null,794,null,null,null,{"$f":"IFERROR(FIND(\"_\",Table3[[#This Row],[شماره تماس]]),0)","v":0},{"$f":"IF(Table3[[#This Row],[چندم]]=0,Table3[[#This Row],[شماره تماس]],MID(Table3[[#This Row],[شماره تماس]],1,Table3[[#This Row],[چندم]]-1))","v":0},{"$f":"IF(Table3[[#This Row],[چندم]]=0,\"\",MID(Table3[[#This Row],[شماره تماس]],Table3[[#This Row],[چندم]]+1,30))","v":""}]
[null,795,null,null,null,{"$f":"IFERROR(FIND(\"_\",Table3[[#This Row],[شماره تماس]]),0)","v":0},{"$f":"IF(Table3[[#This Row],[چندم]]=0,Table3[[#This Row],[شماره تماس]],MID(Table3[[#This Row],[شماره تماس]],1,Table3[[#This Row],[چندم]]-1))","v":0},{"$f":"IF(Table3[[#This Row],[چندم]]=0,\"\",MID(Table3[[#This Row],[شماره تماس]],Table3[[#This Row],[چندم]]+1,30))","v":""}]
[null,796,null,null,null,{"$f":"IFERROR(FIND(\"_\",Table3[[#This Row],[شماره تماس]]),0)","v":0},{"$f":"IF(Table3[[#This Row],[چندم]]=0,Table3[[#This Row],[شماره تماس]],MID(Table3[[#This Row],[شماره تماس]],1,Table3[[#This Row],[چندم]]-1))","v":0},{"$f":"IF(Table3[[#This Row],[چندم]]=0,\"\",MID(Table3[[#This Row],[شماره تماس]],Table3[[#This Row],[چندم]]+1,30))","v":""}]
[null,797,null,null,null,{"$f":"IFERROR(FIND(\"_\",Table3[[#This Row],[شماره تماس]]),0)","v":0},{"$f":"IF(Table3[[#This Row],[چندم]]=0,Table3[[#This Row],[شماره تماس]],MID(Table3[[#This Row],[شماره تماس]],1,Table3[[#This Row],[چندم]]-1))","v":0},{"$f":"IF(Table3[[#This Row],[چندم]]=0,\"\",MID(Table3[[#This Row],[شماره تماس]],Table3[[#This Row],[چندم]]+1,30))","v":""}]
[null,798,null,null,null,{"$f":"IFERROR(FIND(\"_\",Table3[[#This Row],[شماره تماس]]),0)","v":0},{"$f":"IF(Table3[[#This Row],[چندم]]=0,Table3[[#This Row],[شماره تماس]],MID(Table3[[#This Row],[شماره تماس]],1,Table3[[#This Row],[چندم]]-1))","v":0},{"$f":"IF(Table3[[#This Row],[چندم]]=0,\"\",MID(Table3[[#This Row],[شماره تماس]],Table3[[#This Row],[چندم]]+1,30))","v":""}]
[null,799,null,null,null,{"$f":"IFERROR(FIND(\"_\",Table3[[#This Row],[شماره تماس]]),0)","v":0},{"$f":"IF(Table3[[#This Row],[چندم]]=0,Table3[[#This Row],[شماره تماس]],MID(Table3[[#This Row],[شماره تماس]],1,Table3[[#This Row],[چندم]]-1))","v":0},{"$f":"IF(Table3[[#This Row],[چندم]]=0,\"\",MID(Table3[[#This Row],[شماره تماس]],Table3[[#This Row],[چندم]]+1,30))","v":""}]
[null,800,null,null,null,{"$f":"IFERROR(FIND(\"_\",Table3[[#This Row],[شماره تماس]]),0)","v":0},{"$f":"IF(Table3[[#This Row],[چندم]]=0,Table3[[#This Row],[شماره تماس]],MID(Table3[[#This Row],[شماره تماس]],1,Table3[[#This Row],[چندم]]-1))","v":0},{"$f":"IF(Table3[[#This Row],[چندم]]=0,\"\",MID(Table3[[#This Row],[شماره تماس]],Table3[[#This Row],[چندم]]+1,30))","v":""}]
[null,801,null,null,null,{"$f":"IFERROR(FIND(\"_\",Table3[[#This Row],[شماره تماس]]),0)","v":0},{"$f":"IF(Table3[[#This Row],[چندم]]=0,Table3[[#This Row],[شماره تماس]],MID(Table3[[#This Row],[شماره تماس]],1,Table3[[#This Row],[چندم]]-1))","v":0},{"$f":"IF(Table3[[#This Row],[چندم]]=0,\"\",MID(Table3[[#This Row],[شماره تماس]],Table3[[#This Row],[چندم]]+1,30))","v":""}]
[null,802,null,null,null,{"$f":"IFERROR(FIND(\"_\",Table3[[#This Row],[شماره تماس]]),0)","v":0},{"$f":"IF(Table3[[#This Row],[چندم]]=0,Table3[[#This Row],[شماره تماس]],MID(Table3[[#This Row],[شماره تماس]],1,Table3[[#This Row],[چندم]]-1))","v":0},{"$f":"IF(Table3[[#This Row],[چندم]]=0,\"\",MID(Table3[[#This Row],[شماره تماس]],Table3[[#This Row],[چندم]]+1,30))","v":""}]
[null,803,null,null,null,{"$f":"IFERROR(FIND(\"_\",Table3[[#This Row],[شماره تماس]]),0)","v":0},{"$f":"IF(Table3[[#This Row],[چندم]]=0,Table3[[#This Row],[شماره تماس]],MID(Table3[[#This Row],[شماره تماس]],1,Table3[[#This Row],[چندم]]-1))","v":0},{"$f":"IF(Table3[[#This Row],[چندم]]=0,\"\",MID(Table3[[#This Row],[شماره تماس]],Table3[[#This Row],[چندم]]+1,30))","v":""}]
[null,804,null,null,null,{"$f":"IFERROR(FIND(\"_\",Table3[[#This Row],[شماره تماس]]),0)","v":0},{"$f":"IF(Table3[[#This Row],[چندم]]=0,Table3[[#This Row],[شماره تماس]],MID(Table3[[#This Row],[شماره تماس]],1,Table3[[#This Row],[چندم]]-1))","v":0},{"$f":"IF(Table3[[#This Row],[چندم]]=0,\"\",MID(Table3[[#This Row],[شماره تماس]],Table3[[#This Row],[چندم]]+1,30))","v":""}]
[null,805,null,null,null,{"$f":"IFERROR(FIND(\"_\",Table3[[#This Row],[شماره تماس]]),0)","v":0},{"$f":"IF(Table3[[#This Row],[چندم]]=0,Table3[[#This Row],[شماره تماس]],MID(Table3[[#This Row],[شماره تماس]],1,Table3[[#This Row],[چندم]]-1))","v":0},{"$f":"IF(Table3[[#This Row],[چندم]]=0,\"\",MID(Table3[[#This Row],[شماره تماس]],Table3[[#This Row],[چندم]]+1,30))","v":""}]
[null,806,null,null,null,{"$f":"IFERROR(FIND(\"_\",Table3[[#This Row],[شماره تماس]]),0)","v":0},{"$f":"IF(Table3[[#This Row],[چندم]]=0,Table3[[#This Row],[شماره تماس]],MID(Table3[[#This Row],[شماره تماس]],1,Table3[[#This Row],[چندم]]-1))","v":0},{"$f":"IF(Table3[[#This Row],[چندم]]=0,\"\",MID(Table3[[#This Row],[شماره تماس]],Table3[[#This Row],[چندم]]+1,30))","v":""}]
[null,{"$f":"ROW()-3","v":807},null,null,null,{"$f":"IFERROR(FIND(\"_\",Table3[[#This Row],[شماره تماس]]),0)","v":0},{"$f":"IF(Table3[[#This Row],[چندم]]=0,Table3[[#This Row],[شماره تماس]],MID(Table3[[#This Row],[شماره تماس]],1,Table3[[#This Row],[چندم]]-1))","v":0},{"$f":"IF(Table3[[#This Row],[چندم]]=0,\"\",MID(Table3[[#This Row],[شماره تماس]],Table3[[#This Row],[چندم]]+1,30))","v":""}]
[null,808,null,null,null,{"$f":"IFERROR(FIND(\"_\",Table3[[#This Row],[شماره تماس]]),0)","v":0},{"$f":"IF(Table3[[#This Row],[چندم]]=0,Table3[[#This Row],[شماره تماس]],MID(Table3[[#This Row],[شماره تماس]],1,Table3[[#This Row],[چندم]]-1))","v":0},{"$f":"IF(Table3[[#This Row],[چندم]]=0,\"\",MID(Table3[[#This Row],[شماره تماس]],Table3[[#This Row],[چندم]]+1,30))","v":""}]
[null,809,null,null,null,{"$f":"IFERROR(FIND(\"_\",Table3[[#This Row],[شماره تماس]]),0)","v":0},{"$f":"IF(Table3[[#This Row],[چندم]]=0,Table3[[#This Row],[شماره تماس]],MID(Table3[[#This Row],[شماره تماس]],1,Table3[[#This Row],[چندم]]-1))","v":0},{"$f":"IF(Table3[[#This Row],[چندم]]=0,\"\",MID(Table3[[#This Row],[شماره تماس]],Table3[[#This Row],[چندم]]+1,30))","v":""}]
[null,810,null,null,null,{"$f":"IFERROR(FIND(\"_\",Table3[[#This Row],[شماره تماس]]),0)","v":0},{"$f":"IF(Table3[[#This Row],[چندم]]=0,Table3[[#This Row],[شماره تماس]],MID(Table3[[#This Row],[شماره تماس]],1,Table3[[#This Row],[چندم]]-1))","v":0},{"$f":"IF(Table3[[#This Row],[چندم]]=0,\"\",MID(Table3[[#This Row],[شماره تماس]],Table3[[#This Row],[چندم]]+1,30))","v":""}]
[null,811,null,null,null,{"$f":"IFERROR(FIND(\"_\",Table3[[#This Row],[شماره تماس]]),0)","v":0},{"$f":"IF(Table3[[#This Row],[چندم]]=0,Table3[[#This Row],[شماره تماس]],MID(Table3[[#This Row],[شماره تماس]],1,Table3[[#This Row],[چندم]]-1))","v":0},{"$f":"IF(Table3[[#This Row],[چندم]]=0,\"\",MID(Table3[[#This Row],[شماره تماس]],Table3[[#This Row],[چندم]]+1,30))","v":""}]
[null,812,null,null,null,{"$f":"IFERROR(FIND(\"_\",Table3[[#This Row],[شماره تماس]]),0)","v":0},{"$f":"IF(Table3[[#This Row],[چندم]]=0,Table3[[#This Row],[شماره تماس]],MID(Table3[[#This Row],[شماره تماس]],1,Table3[[#This Row],[چندم]]-1))","v":0},{"$f":"IF(Table3[[#This Row],[چندم]]=0,\"\",MID(Table3[[#This Row],[شماره تماس]],Table3[[#This Row],[چندم]]+1,30))","v":""}]
[null,813,null,null,null,{"$f":"IFERROR(FIND(\"_\",Table3[[#This Row],[شماره تماس]]),0)","v":0},{"$f":"IF(Table3[[#This Row],[چندم]]=0,Table3[[#This Row],[شماره تماس]],MID(Table3[[#This Row],[شماره تماس]],1,Table3[[#This Row],[چندم]]-1))","v":0},{"$f":"IF(Table3[[#This Row],[چندم]]=0,\"\",MID(Table3[[#This Row],[شماره تماس]],Table3[[#This Row],[چندم]]+1,30))","v":""}]
[null,814,null,null,null,{"$f":"IFERROR(FIND(\"_\",Table3[[#This Row],[شماره تماس]]),0)","v":0},{"$f":"IF(Table3[[#This Row],[چندم]]=0,Table3[[#This Row],[شماره تماس]],MID(Table3[[#This Row],[شماره تماس]],1,Table3[[#This Row],[چندم]]-1))","v":0},{"$f":"IF(Table3[[#This Row],[چندم]]=0,\"\",MID(Table3[[#This Row],[شماره تماس]],Table3[[#This Row],[چندم]]+1,30))","v":""}]
[null,815,null,null,null,{"$f":"IFERROR(FIND(\"_\",Table3[[#This Row],[شماره تماس]]),0)","v":0},{"$f":"IF(Table3[[#This Row],[چندم]]=0,Table3[[#This Row],[شماره تماس]],MID(Table3[[#This Row],[شماره تماس]],1,Table3[[#This Row],[چندم]]-1))","v":0},{"$f":"IF(Table3[[#This Row],[چندم]]=0,\"\",MID(Table3[[#This Row],[شماره تماس]],Table3[[#This Row],[چندم]]+1,30))","v":""}]
[null,816,null,null,null,{"$f":"IFERROR(FIND(\"_\",Table3[[#This Row],[شماره تماس]]),0)","v":0},{"$f":"IF(Table3[[#This Row],[چندم]]=0,Table3[[#This Row],[شماره تماس]],MID(Table3[[#This Row],[شماره تماس]],1,Table3[[#This Row],[چندم]]-1))","v":0},{"$f":"IF(Table3[[#This Row],[چندم]]=0,\"\",MID(Table3[[#This Row],[شماره تماس]],Table3[[#This Row],[چندم]]+1,30))","v":""}]
[null,817,null,null,null,{"$f":"IFERROR(FIND(\"_\",Table3[[#This Row],[شماره تماس]]),0)","v":0},{"$f":"IF(Table3[[#This Row],[چندم]]=0,Table3[[#This Row],[شماره تماس]],MID(Table3[[#This Row],[شماره تماس]],1,Table3[[#This Row],[چندم]]-1))","v":0},{"$f":"IF(Table3[[#This Row],[چندم]]=0,\"\",MID(Table3[[#This Row],[شماره تماس]],Table3[[#This Row],[چندم]]+1,30))","v":""}]
[null,818,null,null,null,{"$f":"IFERROR(FIND(\"_\",Table3[[#This Row],[شماره تماس]]),0)","v":0},{"$f":"IF(Table3[[#This Row],[چندم]]=0,Table3[[#This Row],[شماره تماس]],MID(Table3[[#This Row],[شماره تماس]],1,Table3[[#This Row],[چندم]]-1))","v":0},{"$f":"IF(Table3[[#This Row],[چندم]]=0,\"\",MID(Table3[[#This Row],[شماره تماس]],Table3[[#This Row],[چندم]]+1,30))","v":""}]
[null,819,null,null,null,{"$f":"IFERROR(FIND(\"_\",Table3[[#This Row],[شماره تماس]]),0)","v":0},{"$f":"IF(Table3[[#This Row],[چندم]]=0,Table3[[#This Row],[شماره تماس]],MID(Table3[[#This Row],[شماره تماس]],1,Table3[[#This Row],[چندم]]-1))","v":0},{"$f":"IF(Table3[[#This Row],[چندم]]=0,\"\",MID(Table3[[#This Row],[شماره تماس]],Table3[[#This Row],[چندم]]+1,30))","v":""}]
[null,820,null,null,null,{"$f":"IFERROR(FIND(\"_\",Table3[[#This Row],[شماره تماس]]),0)","v":0},{"$f":"IF(Table3[[#This Row],[چندم]]=0,Table3[[#This Row],[شماره تماس]],MID(Table3[[#This Row],[شماره تماس]],1,Table3[[#This Row],[چندم]]-1))","v":0},{"$f":"IF(Table3[[#This Row],[چندم]]=0,\"\",MID(Table3[[#This Row],[شماره تماس]],Table3[[#This Row],[چندم]]+1,30))","v":""}]
[null,821,null,null,null,{"$f":"IFERROR(FIND(\"_\",Table3[[#This Row],[شماره تماس]]),0)","v":0},{"$f":"IF(Table3[[#This Row],[چندم]]=0,Table3[[#This Row],[شماره تماس]],MID(Table3[[#This Row],[شماره تماس]],1,Table3[[#This Row],[چندم]]-1))","v":0},{"$f":"IF(Table3[[#This Row],[چندم]]=0,\"\",MID(Table3[[#This Row],[شماره تماس]],Table3[[#This Row],[چندم]]+1,30))","v":""}]
[null,822,null,null,null,{"$f":"IFERROR(FIND(\"_\",Table3[[#This Row],[شماره تماس]]),0)","v":0},{"$f":"IF(Table3[[#This Row],[چندم]]=0,Table3[[#This Row],[شماره تماس]],MID(Table3[[#This Row],[شماره تماس]],1,Table3[[#This Row],[چندم]]-1))","v":0},{"$f":"IF(Table3[[#This Row],[چندم]]=0,\"\",MID(Table3[[#This Row],[شماره تماس]],Table3[[#This Row],[چندم]]+1,30))","v":""}]
[null,823,null,null,null,{"$f":"IFERROR(FIND(\"_\",Table3[[#This Row],[شماره تماس]]),0)","v":0},{"$f":"IF(Table3[[#This Row],[چندم]]=0,Table3[[#This Row],[شماره تماس]],MID(Table3[[#This Row],[شماره تماس]],1,Table3[[#This Row],[چندم]]-1))","v":0},{"$f":"IF(Table3[[#This Row],[چندم]]=0,\"\",MID(Table3[[#This Row],[شماره تماس]],Table3[[#This Row],[چندم]]+1,30))","v":""}]
[null,824,null,null,null,{"$f":"IFERROR(FIND(\"_\",Table3[[#This Row],[شماره تماس]]),0)","v":0},{"$f":"IF(Table3[[#This Row],[چندم]]=0,Table3[[#This Row],[شماره تماس]],MID(Table3[[#This Row],[شماره تماس]],1,Table3[[#This Row],[چندم]]-1))","v":0},{"$f":"IF(Table3[[#This Row],[چندم]]=0,\"\",MID(Table3[[#This Row],[شماره تماس]],Table3[[#This Row],[چندم]]+1,30))","v":""}]
[null,825,null,null,null,{"$f":"IFERROR(FIND(\"_\",Table3[[#This Row],[شماره تماس]]),0)","v":0},{"$f":"IF(Table3[[#This Row],[چندم]]=0,Table3[[#This Row],[شماره تماس]],MID(Table3[[#This Row],[شماره تماس]],1,Table3[[#This Row],[چندم]]-1))","v":0},{"$f":"IF(Table3[[#This Row],[چندم]]=0,\"\",MID(Table3[[#This Row],[شماره تماس]],Table3[[#This Row],[چندم]]+1,30))","v":""}]
[null,826,null,null,null,{"$f":"IFERROR(FIND(\"_\",Table3[[#This Row],[شماره تماس]]),0)","v":0},{"$f":"IF(Table3[[#This Row],[چندم]]=0,Table3[[#This Row],[شماره تماس]],MID(Table3[[#This Row],[شماره تماس]],1,Table3[[#This Row],[چندم]]-1))","v":0},{"$f":"IF(Table3[[#This Row],[چندم]]=0,\"\",MID(Table3[[#This Row],[شماره تماس]],Table3[[#This Row],[چندم]]+1,30))","v":""}]
[null,827,null,null,null,{"$f":"IFERROR(FIND(\"_\",Table3[[#This Row],[شماره تماس]]),0)","v":0},{"$f":"IF(Table3[[#This Row],[چندم]]=0,Table3[[#This Row],[شماره تماس]],MID(Table3[[#This Row],[شماره تماس]],1,Table3[[#This Row],[چندم]]-1))","v":0},{"$f":"IF(Table3[[#This Row],[چندم]]=0,\"\",MID(Table3[[#This Row],[شماره تماس]],Table3[[#This Row],[چندم]]+1,30))","v":""}]
[null,828,null,null,null,{"$f":"IFERROR(FIND(\"_\",Table3[[#This Row],[شماره تماس]]),0)","v":0},{"$f":"IF(Table3[[#This Row],[چندم]]=0,Table3[[#This Row],[شماره تماس]],MID(Table3[[#This Row],[شماره تماس]],1,Table3[[#This Row],[چندم]]-1))","v":0},{"$f":"IF(Table3[[#This Row],[چندم]]=0,\"\",MID(Table3[[#This Row],[شماره تماس]],Table3[[#This Row],[چندم]]+1,30))","v":""}]
[null,829,null,null,null,{"$f":"IFERROR(FIND(\"_\",Table3[[#This Row],[شماره تماس]]),0)","v":0},{"$f":"IF(Table3[[#This Row],[چندم]]=0,Table3[[#This Row],[شماره تماس]],MID(Table3[[#This Row],[شماره تماس]],1,Table3[[#This Row],[چندم]]-1))","v":0},{"$f":"IF(Table3[[#This Row],[چندم]]=0,\"\",MID(Table3[[#This Row],[شماره تماس]],Table3[[#This Row],[چندم]]+1,30))","v":""}]
[null,830,null,null,null,{"$f":"IFERROR(FIND(\"_\",Table3[[#This Row],[شماره تماس]]),0)","v":0},{"$f":"IF(Table3[[#This Row],[چندم]]=0,Table3[[#This Row],[شماره تماس]],MID(Table3[[#This Row],[شماره تماس]],1,Table3[[#This Row],[چندم]]-1))","v":0},{"$f":"IF(Table3[[#This Row],[چندم]]=0,\"\",MID(Table3[[#This Row],[شماره تماس]],Table3[[#This Row],[چندم]]+1,30))","v":""}]
[null,831,null,null,null,{"$f":"IFERROR(FIND(\"_\",Table3[[#This Row],[شماره تماس]]),0)","v":0},{"$f":"IF(Table3[[#This Row],[چندم]]=0,Table3[[#This Row],[شماره تماس]],MID(Table3[[#This Row],[شماره تماس]],1,Table3[[#This Row],[چندم]]-1))","v":0},{"$f":"IF(Table3[[#This Row],[چندم]]=0,\"\",MID(Table3[[#This Row],[شماره تماس]],Table3[[#This Row],[چندم]]+1,30))","v":""}]
[null,832,null,null,null,{"$f":"IFERROR(FIND(\"_\",Table3[[#This Row],[شماره تماس]]),0)","v":0},{"$f":"IF(Table3[[#This Row],[چندم]]=0,Table3[[#This Row],[شماره تماس]],MID(Table3[[#This Row],[شماره تماس]],1,Table3[[#This Row],[چندم]]-1))","v":0},{"$f":"IF(Table3[[#This Row],[چندم]]=0,\"\",MID(Table3[[#This Row],[شماره تماس]],Table3[[#This Row],[چندم]]+1,30))","v":""}]
[null,833,null,null,null,{"$f":"IFERROR(FIND(\"_\",Table3[[#This Row],[شماره تماس]]),0)","v":0},{"$f":"IF(Table3[[#This Row],[چندم]]=0,Table3[[#This Row],[شماره تماس]],MID(Table3[[#This Row],[شماره تماس]],1,Table3[[#This Row],[چندم]]-1))","v":0},{"$f":"IF(Table3[[#This Row],[چندم]]=0,\"\",MID(Table3[[#This Row],[شماره تماس]],Table3[[#This Row],[چندم]]+1,30))","v":""}]
[null,834,null,null,null,{"$f":"IFERROR(FIND(\"_\",Table3[[#This Row],[شماره تماس]]),0)","v":0},{"$f":"IF(Table3[[#This Row],[چندم]]=0,Table3[[#This Row],[شماره تماس]],MID(Table3[[#This Row],[شماره تماس]],1,Table3[[#This Row],[چندم]]-1))","v":0},{"$f":"IF(Table3[[#This Row],[چندم]]=0,\"\",MID(Table3[[#This Row],[شماره تماس]],Table3[[#This Row],[چندم]]+1,30))","v":""}]
[null,835,null,null,null,{"$f":"IFERROR(FIND(\"_\",Table3[[#This Row],[شماره تماس]]),0)","v":0},{"$f":"IF(Table3[[#This Row],[چندم]]=0,Table3[[#This Row],[شماره تماس]],MID(Table3[[#This Row],[شماره تماس]],1,Table3[[#This Row],[چندم]]-1))","v":0},{"$f":"IF(Table3[[#This Row],[چندم]]=0,\"\",MID(Table3[[#This Row],[شماره تماس]],Table3[[#This Row],[چندم]]+1,30))","v":""}]
[null,836,null,null,null,{"$f":"IFERROR(FIND(\"_\",Table3[[#This Row],[شماره تماس]]),0)","v":0},{"$f":"IF(Table3[[#This Row],[چندم]]=0,Table3[[#This Row],[شماره تماس]],MID(Table3[[#This Row],[شماره تماس]],1,Table3[[#This Row],[چندم]]-1))","v":0},{"$f":"IF(Table3[[#This Row],[چندم]]=0,\"\",MID(Table3[[#This Row],[شماره تماس]],Table3[[#This Row],[چندم]]+1,30))","v":""}]
[null,837,null,null,null,{"$f":"IFERROR(FIND(\"_\",Table3[[#This Row],[شماره تماس]]),0)","v":0},{"$f":"IF(Table3[[#This Row],[چندم]]=0,Table3[[#This Row],[شماره تماس]],MID(Table3[[#This Row],[شماره تماس]],1,Table3[[#This Row],[چندم]]-1))","v":0},{"$f":"IF(Table3[[#This Row],[چندم]]=0,\"\",MID(Table3[[#This Row],[شماره تماس]],Table3[[#This Row],[چندم]]+1,30))","v":""}]
[null,838,null,null,null,{"$f":"IFERROR(FIND(\"_\",Table3[[#This Row],[شماره تماس]]),0)","v":0},{"$f":"IF(Table3[[#This Row],[چندم]]=0,Table3[[#This Row],[شماره تماس]],MID(Table3[[#This Row],[شماره تماس]],1,Table3[[#This Row],[چندم]]-1))","v":0},{"$f":"IF(Table3[[#This Row],[چندم]]=0,\"\",MID(Table3[[#This Row],[شماره تماس]],Table3[[#This Row],[چندم]]+1,30))","v":""}]
[null,839,null,null,null,{"$f":"IFERROR(FIND(\"_\",Table3[[#This Row],[شماره تماس]]),0)","v":0},{"$f":"IF(Table3[[#This Row],[چندم]]=0,Table3[[#This Row],[شماره تماس]],MID(Table3[[#This Row],[شماره تماس]],1,Table3[[#This Row],[چندم]]-1))","v":0},{"$f":"IF(Table3[[#This Row],[چندم]]=0,\"\",MID(Table3[[#This Row],[شماره تماس]],Table3[[#This Row],[چندم]]+1,30))","v":""}]
[null,840,null,null,null,{"$f":"IFERROR(FIND(\"_\",Table3[[#This Row],[شماره تماس]]),0)","v":0},{"$f":"IF(Table3[[#This Row],[چندم]]=0,Table3[[#This Row],[شماره تماس]],MID(Table3[[#This Row],[شماره تماس]],1,Table3[[#This Row],[چندم]]-1))","v":0},{"$f":"IF(Table3[[#This Row],[چندم]]=0,\"\",MID(Table3[[#This Row],[شماره تماس]],Table3[[#This Row],[چندم]]+1,30))","v":""}]
[null,841,null,null,null,{"$f":"IFERROR(FIND(\"_\",Table3[[#This Row],[شماره تماس]]),0)","v":0},{"$f":"IF(Table3[[#This Row],[چندم]]=0,Table3[[#This Row],[شماره تماس]],MID(Table3[[#This Row],[شماره تماس]],1,Table3[[#This Row],[چندم]]-1))","v":0},{"$f":"IF(Table3[[#This Row],[چندم]]=0,\"\",MID(Table3[[#This Row],[شماره تماس]],Table3[[#This Row],[چندم]]+1,30))","v":""}]
[null,842,null,null,null,{"$f":"IFERROR(FIND(\"_\",Table3[[#This Row],[شماره تماس]]),0)","v":0},{"$f":"IF(Table3[[#This Row],[چندم]]=0,Table3[[#This Row],[شماره تماس]],MID(Table3[[#This Row],[شماره تماس]],1,Table3[[#This Row],[چندم]]-1))","v":0},{"$f":"IF(Table3[[#This Row],[چندم]]=0,\"\",MID(Table3[[#This Row],[شماره تماس]],Table3[[#This Row],[چندم]]+1,30))","v":""}]
[null,843,null,null,null,{"$f":"IFERROR(FIND(\"_\",Table3[[#This Row],[شماره تماس]]),0)","v":0},{"$f":"IF(Table3[[#This Row],[چندم]]=0,Table3[[#This Row],[شماره تماس]],MID(Table3[[#This Row],[شماره تماس]],1,Table3[[#This Row],[چندم]]-1))","v":0},{"$f":"IF(Table3[[#This Row],[چندم]]=0,\"\",MID(Table3[[#This Row],[شماره تماس]],Table3[[#This Row],[چندم]]+1,30))","v":""}]
[null,844,null,null,null,{"$f":"IFERROR(FIND(\"_\",Table3[[#This Row],[شماره تماس]]),0)","v":0},{"$f":"IF(Table3[[#This Row],[چندم]]=0,Table3[[#This Row],[شماره تماس]],MID(Table3[[#This Row],[شماره تماس]],1,Table3[[#This Row],[چندم]]-1))","v":0},{"$f":"IF(Table3[[#This Row],[چندم]]=0,\"\",MID(Table3[[#This Row],[شماره تماس]],Table3[[#This Row],[چندم]]+1,30))","v":""}]
[null,845,null,null,null,{"$f":"IFERROR(FIND(\"_\",Table3[[#This Row],[شماره تماس]]),0)","v":0},{"$f":"IF(Table3[[#This Row],[چندم]]=0,Table3[[#This Row],[شماره تماس]],MID(Table3[[#This Row],[شماره تماس]],1,Table3[[#This Row],[چندم]]-1))","v":0},{"$f":"IF(Table3[[#This Row],[چندم]]=0,\"\",MID(Table3[[#This Row],[شماره تماس]],Table3[[#This Row],[چندم]]+1,30))","v":""}]
[null,846,null,null,null,{"$f":"IFERROR(FIND(\"_\",Table3[[#This Row],[شماره تماس]]),0)","v":0},{"$f":"IF(Table3[[#This Row],[چندم]]=0,Table3[[#This Row],[شماره تماس]],MID(Table3[[#This Row],[شماره تماس]],1,Table3[[#This Row],[چندم]]-1))","v":0},{"$f":"IF(Table3[[#This Row],[چندم]]=0,\"\",MID(Table3[[#This Row],[شماره تماس]],Table3[[#This Row],[چندم]]+1,30))","v":""}]
[null,847,null,null,null,{"$f":"IFERROR(FIND(\"_\",Table3[[#This Row],[شماره تماس]]),0)","v":0},{"$f":"IF(Table3[[#This Row],[چندم]]=0,Table3[[#This Row],[شماره تماس]],MID(Table3[[#This Row],[شماره تماس]],1,Table3[[#This Row],[چندم]]-1))","v":0},{"$f":"IF(Table3[[#This Row],[چندم]]=0,\"\",MID(Table3[[#This Row],[شماره تماس]],Table3[[#This Row],[چندم]]+1,30))","v":""}]
[null,848,null,null,null,{"$f":"IFERROR(FIND(\"_\",Table3[[#This Row],[شماره تماس]]),0)","v":0},{"$f":"IF(Table3[[#This Row],[چندم]]=0,Table3[[#This Row],[شماره تماس]],MID(Table3[[#This Row],[شماره تماس]],1,Table3[[#This Row],[چندم]]-1))","v":0},{"$f":"IF(Table3[[#This Row],[چندم]]=0,\"\",MID(Table3[[#This Row],[شماره تماس]],Table3[[#This Row],[چندم]]+1,30))","v":""}]
[null,849,null,null,null,{"$f":"IFERROR(FIND(\"_\",Table3[[#This Row],[شماره تماس]]),0)","v":0},{"$f":"IF(Table3[[#This Row],[چندم]]=0,Table3[[#This Row],[شماره تماس]],MID(Table3[[#This Row],[شماره تماس]],1,Table3[[#This Row],[چندم]]-1))","v":0},{"$f":"IF(Table3[[#This Row],[چندم]]=0,\"\",MID(Table3[[#This Row],[شماره تماس]],Table3[[#This Row],[چندم]]+1,30))","v":""}]
[null,850,null,null,null,{"$f":"IFERROR(FIND(\"_\",Table3[[#This Row],[شماره تماس]]),0)","v":0},{"$f":"IF(Table3[[#This Row],[چندم]]=0,Table3[[#This Row],[شماره تماس]],MID(Table3[[#This Row],[شماره تماس]],1,Table3[[#This Row],[چندم]]-1))","v":0},{"$f":"IF(Table3[[#This Row],[چندم]]=0,\"\",MID(Table3[[#This Row],[شماره تماس]],Table3[[#This Row],[چندم]]+1,30))","v":""}]
[null,851,null,null,null,{"$f":"IFERROR(FIND(\"_\",Table3[[#This Row],[شماره تماس]]),0)","v":0},{"$f":"IF(Table3[[#This Row],[چندم]]=0,Table3[[#This Row],[شماره تماس]],MID(Table3[[#This Row],[شماره تماس]],1,Table3[[#This Row],[چندم]]-1))","v":0},{"$f":"IF(Table3[[#This Row],[چندم]]=0,\"\",MID(Table3[[#This Row],[شماره تماس]],Table3[[#This Row],[چندم]]+1,30))","v":""}]
[null,852,null,null,null,{"$f":"IFERROR(FIND(\"_\",Table3[[#This Row],[شماره تماس]]),0)","v":0},{"$f":"IF(Table3[[#This Row],[چندم]]=0,Table3[[#This Row],[شماره تماس]],MID(Table3[[#This Row],[شماره تماس]],1,Table3[[#This Row],[چندم]]-1))","v":0},{"$f":"IF(Table3[[#This Row],[چندم]]=0,\"\",MID(Table3[[#This Row],[شماره تماس]],Table3[[#This Row],[چندم]]+1,30))","v":""}]
[null,853,null,null,null,{"$f":"IFERROR(FIND(\"_\",Table3[[#This Row],[شماره تماس]]),0)","v":0},{"$f":"IF(Table3[[#This Row],[چندم]]=0,Table3[[#This Row],[شماره تماس]],MID(Table3[[#This Row],[شماره تماس]],1,Table3[[#This Row],[چندم]]-1))","v":0},{"$f":"IF(Table3[[#This Row],[چندم]]=0,\"\",MID(Table3[[#This Row],[شماره تماس]],Table3[[#This Row],[چندم]]+1,30))","v":""}]
[null,854,null,null,null,{"$f":"IFERROR(FIND(\"_\",Table3[[#This Row],[شماره تماس]]),0)","v":0},{"$f":"IF(Table3[[#This Row],[چندم]]=0,Table3[[#This Row],[شماره تماس]],MID(Table3[[#This Row],[شماره تماس]],1,Table3[[#This Row],[چندم]]-1))","v":0},{"$f":"IF(Table3[[#This Row],[چندم]]=0,\"\",MID(Table3[[#This Row],[شماره تماس]],Table3[[#This Row],[چندم]]+1,30))","v":""}]
[null,855,null,null,null,{"$f":"IFERROR(FIND(\"_\",Table3[[#This Row],[شماره تماس]]),0)","v":0},{"$f":"IF(Table3[[#This Row],[چندم]]=0,Table3[[#This Row],[شماره تماس]],MID(Table3[[#This Row],[شماره تماس]],1,Table3[[#This Row],[چندم]]-1))","v":0},{"$f":"IF(Table3[[#This Row],[چندم]]=0,\"\",MID(Table3[[#This Row],[شماره تماس]],Table3[[#This Row],[چندم]]+1,30))","v":""}]
[null,856,null,null,null,{"$f":"IFERROR(FIND(\"_\",Table3[[#This Row],[شماره تماس]]),0)","v":0},{"$f":"IF(Table3[[#This Row],[چندم]]=0,Table3[[#This Row],[شماره تماس]],MID(Table3[[#This Row],[شماره تماس]],1,Table3[[#This Row],[چندم]]-1))","v":0},{"$f":"IF(Table3[[#This Row],[چندم]]=0,\"\",MID(Table3[[#This Row],[شماره تماس]],Table3[[#This Row],[چندم]]+1,30))","v":""}]
[null,857,null,null,null,{"$f":"IFERROR(FIND(\"_\",Table3[[#This Row],[شماره تماس]]),0)","v":0},{"$f":"IF(Table3[[#This Row],[چندم]]=0,Table3[[#This Row],[شماره تماس]],MID(Table3[[#This Row],[شماره تماس]],1,Table3[[#This Row],[چندم]]-1))","v":0},{"$f":"IF(Table3[[#This Row],[چندم]]=0,\"\",MID(Table3[[#This Row],[شماره تماس]],Table3[[#This Row],[چندم]]+1,30))","v":""}]
[null,858,null,null,null,{"$f":"IFERROR(FIND(\"_\",Table3[[#This Row],[شماره تماس]]),0)","v":0},{"$f":"IF(Table3[[#This Row],[چندم]]=0,Table3[[#This Row],[شماره تماس]],MID(Table3[[#This Row],[شماره تماس]],1,Table3[[#This Row],[چندم]]-1))","v":0},{"$f":"IF(Table3[[#This Row],[چندم]]=0,\"\",MID(Table3[[#This Row],[شماره تماس]],Table3[[#This Row],[چندم]]+1,30))","v":""}]
[null,859,null,null,null,{"$f":"IFERROR(FIND(\"_\",Table3[[#This Row],[شماره تماس]]),0)","v":0},{"$f":"IF(Table3[[#This Row],[چندم]]=0,Table3[[#This Row],[شماره تماس]],MID(Table3[[#This Row],[شماره تماس]],1,Table3[[#This Row],[چندم]]-1))","v":0},{"$f":"IF(Table3[[#This Row],[چندم]]=0,\"\",MID(Table3[[#This Row],[شماره تماس]],Table3[[#This Row],[چندم]]+1,30))","v":""}]
[null,860,null,null,null,{"$f":"IFERROR(FIND(\"_\",Table3[[#This Row],[شماره تماس]]),0)","v":0},{"$f":"IF(Table3[[#This Row],[چندم]]=0,Table3[[#This Row],[شماره تماس]],MID(Table3[[#This Row],[شماره تماس]],1,Table3[[#This Row],[چندم]]-1))","v":0},{"$f":"IF(Table3[[#This Row],[چندم]]=0,\"\",MID(Table3[[#This Row],[شماره تماس]],Table3[[#This Row],[چندم]]+1,30))","v":""}]
[null,861,null,null,null,{"$f":"IFERROR(FIND(\"_\",Table3[[#This Row],[شماره تماس]]),0)","v":0},{"$f":"IF(Table3[[#This Row],[چندم]]=0,Table3[[#This Row],[شماره تماس]],MID(Table3[[#This Row],[شماره تماس]],1,Table3[[#This Row],[چندم]]-1))","v":0},{"$f":"IF(Table3[[#This Row],[چندم]]=0,\"\",MID(Table3[[#This Row],[شماره تماس]],Table3[[#This Row],[چندم]]+1,30))","v":""}]
[null,862,null,null,null,{"$f":"IFERROR(FIND(\"_\",Table3[[#This Row],[شماره تماس]]),0)","v":0},{"$f":"IF(Table3[[#This Row],[چندم]]=0,Table3[[#This Row],[شماره تماس]],MID(Table3[[#This Row],[شماره تماس]],1,Table3[[#This Row],[چندم]]-1))","v":0},{"$f":"IF(Table3[[#This Row],[چندم]]=0,\"\",MID(Table3[[#This Row],[شماره تماس]],Table3[[#This Row],[چندم]]+1,30))","v":""}]
[null,863,null,null,null,{"$f":"IFERROR(FIND(\"_\",Table3[[#This Row],[شماره تماس]]),0)","v":0},{"$f":"IF(Table3[[#This Row],[چندم]]=0,Table3[[#This Row],[شماره تماس]],MID(Table3[[#This Row],[شماره تماس]],1,Table3[[#This Row],[چندم]]-1))","v":0},{"$f":"IF(Table3[[#This Row],[چندم]]=0,\"\",MID(Table3[[#This Row],[شماره تماس]],Table3[[#This Row],[چندم]]+1,30))","v":""}]
[null,864,null,null,null,{"$f":"IFERROR(FIND(\"_\",Table3[[#This Row],[شماره تماس]]),0)","v":0},{"$f":"IF(Table3[[#This Row],[چندم]]=0,Table3[[#This Row],[شماره تماس]],MID(Table3[[#This Row],[شماره تماس]],1,Table3[[#This Row],[چندم]]-1))","v":0},{"$f":"IF(Table3[[#This Row],[چندم]]=0,\"\",MID(Table3[[#This Row],[شماره تماس]],Table3[[#This Row],[چندم]]+1,30))","v":""}]
[null,865,null,null,null,{"$f":"IFERROR(FIND(\"_\",Table3[[#This Row],[شماره تماس]]),0)","v":0},{"$f":"IF(Table3[[#This Row],[چندم]]=0,Table3[[#This Row],[شماره تماس]],MID(Table3[[#This Row],[شماره تماس]],1,Table3[[#This Row],[چندم]]-1))","v":0},{"$f":"IF(Table3[[#This Row],[چندم]]=0,\"\",MID(Table3[[#This Row],[شماره تماس]],Table3[[#This Row],[چندم]]+1,30))","v":""}]
[null,866,null,null,null,{"$f":"IFERROR(FIND(\"_\",Table3[[#This Row],[شماره تماس]]),0)","v":0},{"$f":"IF(Table3[[#This Row],[چندم]]=0,Table3[[#This Row],[شماره تماس]],MID(Table3[[#This Row],[شماره تماس]],1,Table3[[#This Row],[چندم]]-1))","v":0},{"$f":"IF(Table3[[#This Row],[چندم]]=0,\"\",MID(Table3[[#This Row],[شماره تماس]],Table3[[#This Row],[چندم]]+1,30))","v":""}]
[null,867,null,null,null,{"$f":"IFERROR(FIND(\"_\",Table3[[#This Row],[شماره تماس]]),0)","v":0},{"$f":"IF(Table3[[#This Row],[چندم]]=0,Table3[[#This Row],[شماره تماس]],MID(Table3[[#This Row],[شماره تماس]],1,Table3[[#This Row],[چندم]]-1))","v":0},{"$f":"IF(Table3[[#This Row],[چندم]]=0,\"\",MID(Table3[[#This Row],[شماره تماس]],Table3[[#This Row],[چندم]]+1,30))","v":""}]
[null,868,null,null,null,{"$f":"IFERROR(FIND(\"_\",Table3[[#This Row],[شماره تماس]]),0)","v":0},{"$f":"IF(Table3[[#This Row],[چندم]]=0,Table3[[#This Row],[شماره تماس]],MID(Table3[[#This Row],[شماره تماس]],1,Table3[[#This Row],[چندم]]-1))","v":0},{"$f":"IF(Table3[[#This Row],[چندم]]=0,\"\",MID(Table3[[#This Row],[شماره تماس]],Table3[[#This Row],[چندم]]+1,30))","v":""}]
[null,869,null,null,null,{"$f":"IFERROR(FIND(\"_\",Table3[[#This Row],[شماره تماس]]),0)","v":0},{"$f":"IF(Table3[[#This Row],[چندم]]=0,Table3[[#This Row],[شماره تماس]],MID(Table3[[#This Row],[شماره تماس]],1,Table3[[#This Row],[چندم]]-1))","v":0},{"$f":"IF(Table3[[#This Row],[چندم]]=0,\"\",MID(Table3[[#This Row],[شماره تماس]],Table3[[#This Row],[چندم]]+1,30))","v":""}]
[null,870,null,null,null,{"$f":"IFERROR(FIND(\"_\",Table3[[#This Row],[شماره تماس]]),0)","v":0},{"$f":"IF(Table3[[#This Row],[چندم]]=0,Table3[[#This Row],[شماره تماس]],MID(Table3[[#This Row],[شماره تماس]],1,Table3[[#This Row],[چندم]]-1))","v":0},{"$f":"IF(Table3[[#This Row],[چندم]]=0,\"\",MID(Table3[[#This Row],[شماره تماس]],Table3[[#This Row],[چندم]]+1,30))","v":""}]
[null,{"$f":"ROW()-3","v":871},null,null,null,{"$f":"IFERROR(FIND(\"_\",Table3[[#This Row],[شماره تماس]]),0)","v":0},{"$f":"IF(Table3[[#This Row],[چندم]]=0,Table3[[#This Row],[شماره تماس]],MID(Table3[[#This Row],[شماره تماس]],1,Table3[[#This Row],[چندم]]-1))","v":0},{"$f":"IF(Table3[[#This Row],[چندم]]=0,\"\",MID(Table3[[#This Row],[شماره تماس]],Table3[[#This Row],[چندم]]+1,30))","v":""}]
[null,872,null,null,null,{"$f":"IFERROR(FIND(\"_\",Table3[[#This Row],[شماره تماس]]),0)","v":0},{"$f":"IF(Table3[[#This Row],[چندم]]=0,Table3[[#This Row],[شماره تماس]],MID(Table3[[#This Row],[شماره تماس]],1,Table3[[#This Row],[چندم]]-1))","v":0},{"$f":"IF(Table3[[#This Row],[چندم]]=0,\"\",MID(Table3[[#This Row],[شماره تماس]],Table3[[#This Row],[چندم]]+1,30))","v":""}]
[null,873,null,null,null,{"$f":"IFERROR(FIND(\"_\",Table3[[#This Row],[شماره تماس]]),0)","v":0},{"$f":"IF(Table3[[#This Row],[چندم]]=0,Table3[[#This Row],[شماره تماس]],MID(Table3[[#This Row],[شماره تماس]],1,Table3[[#This Row],[چندم]]-1))","v":0},{"$f":"IF(Table3[[#This Row],[چندم]]=0,\"\",MID(Table3[[#This Row],[شماره تماس]],Table3[[#This Row],[چندم]]+1,30))","v":""}]
[null,874,null,null,null,{"$f":"IFERROR(FIND(\"_\",Table3[[#This Row],[شماره تماس]]),0)","v":0},{"$f":"IF(Table3[[#This Row],[چندم]]=0,Table3[[#This Row],[شماره تماس]],MID(Table3[[#This Row],[شماره تماس]],1,Table3[[#This Row],[چندم]]-1))","v":0},{"$f":"IF(Table3[[#This Row],[چندم]]=0,\"\",MID(Table3[[#This Row],[شماره تماس]],Table3[[#This Row],[چندم]]+1,30))","v":""}]
[null,875,null,null,null,{"$f":"IFERROR(FIND(\"_\",Table3[[#This Row],[شماره تماس]]),0)","v":0},{"$f":"IF(Table3[[#This Row],[چندم]]=0,Table3[[#This Row],[شماره تماس]],MID(Table3[[#This Row],[شماره تماس]],1,Table3[[#This Row],[چندم]]-1))","v":0},{"$f":"IF(Table3[[#This Row],[چندم]]=0,\"\",MID(Table3[[#This Row],[شماره تماس]],Table3[[#This Row],[چندم]]+1,30))","v":""}]
[null,876,null,null,null,{"$f":"IFERROR(FIND(\"_\",Table3[[#This Row],[شماره تماس]]),0)","v":0},{"$f":"IF(Table3[[#This Row],[چندم]]=0,Table3[[#This Row],[شماره تماس]],MID(Table3[[#This Row],[شماره تماس]],1,Table3[[#This Row],[چندم]]-1))","v":0},{"$f":"IF(Table3[[#This Row],[چندم]]=0,\"\",MID(Table3[[#This Row],[شماره تماس]],Table3[[#This Row],[چندم]]+1,30))","v":""}]
[null,877,null,null,null,{"$f":"IFERROR(FIND(\"_\",Table3[[#This Row],[شماره تماس]]),0)","v":0},{"$f":"IF(Table3[[#This Row],[چندم]]=0,Table3[[#This Row],[شماره تماس]],MID(Table3[[#This Row],[شماره تماس]],1,Table3[[#This Row],[چندم]]-1))","v":0},{"$f":"IF(Table3[[#This Row],[چندم]]=0,\"\",MID(Table3[[#This Row],[شماره تماس]],Table3[[#This Row],[چندم]]+1,30))","v":""}]
[null,878,null,null,null,{"$f":"IFERROR(FIND(\"_\",Table3[[#This Row],[شماره تماس]]),0)","v":0},{"$f":"IF(Table3[[#This Row],[چندم]]=0,Table3[[#This Row],[شماره تماس]],MID(Table3[[#This Row],[شماره تماس]],1,Table3[[#This Row],[چندم]]-1))","v":0},{"$f":"IF(Table3[[#This Row],[چندم]]=0,\"\",MID(Table3[[#This Row],[شماره تماس]],Table3[[#This Row],[چندم]]+1,30))","v":""}]
[null,879,null,null,null,{"$f":"IFERROR(FIND(\"_\",Table3[[#This Row],[شماره تماس]]),0)","v":0},{"$f":"IF(Table3[[#This Row],[چندم]]=0,Table3[[#This Row],[شماره تماس]],MID(Table3[[#This Row],[شماره تماس]],1,Table3[[#This Row],[چندم]]-1))","v":0},{"$f":"IF(Table3[[#This Row],[چندم]]=0,\"\",MID(Table3[[#This Row],[شماره تماس]],Table3[[#This Row],[چندم]]+1,30))","v":""}]
[null,880,null,null,null,{"$f":"IFERROR(FIND(\"_\",Table3[[#This Row],[شماره تماس]]),0)","v":0},{"$f":"IF(Table3[[#This Row],[چندم]]=0,Table3[[#This Row],[شماره تماس]],MID(Table3[[#This Row],[شماره تماس]],1,Table3[[#This Row],[چندم]]-1))","v":0},{"$f":"IF(Table3[[#This Row],[چندم]]=0,\"\",MID(Table3[[#This Row],[شماره تماس]],Table3[[#This Row],[چندم]]+1,30))","v":""}]
[null,881,null,null,null,{"$f":"IFERROR(FIND(\"_\",Table3[[#This Row],[شماره تماس]]),0)","v":0},{"$f":"IF(Table3[[#This Row],[چندم]]=0,Table3[[#This Row],[شماره تماس]],MID(Table3[[#This Row],[شماره تماس]],1,Table3[[#This Row],[چندم]]-1))","v":0},{"$f":"IF(Table3[[#This Row],[چندم]]=0,\"\",MID(Table3[[#This Row],[شماره تماس]],Table3[[#This Row],[چندم]]+1,30))","v":""}]
[null,882,null,null,null,{"$f":"IFERROR(FIND(\"_\",Table3[[#This Row],[شماره تماس]]),0)","v":0},{"$f":"IF(Table3[[#This Row],[چندم]]=0,Table3[[#This Row],[شماره تماس]],MID(Table3[[#This Row],[شماره تماس]],1,Table3[[#This Row],[چندم]]-1))","v":0},{"$f":"IF(Table3[[#This Row],[چندم]]=0,\"\",MID(Table3[[#This Row],[شماره تماس]],Table3[[#This Row],[چندم]]+1,30))","v":""}]
[null,883,null,null,null,{"$f":"IFERROR(FIND(\"_\",Table3[[#This Row],[شماره تماس]]),0)","v":0},{"$f":"IF(Table3[[#This Row],[چندم]]=0,Table3[[#This Row],[شماره تماس]],MID(Table3[[#This Row],[شماره تماس]],1,Table3[[#This Row],[چندم]]-1))","v":0},{"$f":"IF(Table3[[#This Row],[چندم]]=0,\"\",MID(Table3[[#This Row],[شماره تماس]],Table3[[#This Row],[چندم]]+1,30))","v":""}]
[null,884,null,null,null,{"$f":"IFERROR(FIND(\"_\",Table3[[#This Row],[شماره تماس]]),0)","v":0},{"$f":"IF(Table3[[#This Row],[چندم]]=0,Table3[[#This Row],[شماره تماس]],MID(Table3[[#This Row],[شماره تماس]],1,Table3[[#This Row],[چندم]]-1))","v":0},{"$f":"IF(Table3[[#This Row],[چندم]]=0,\"\",MID(Table3[[#This Row],[شماره تماس]],Table3[[#This Row],[چندم]]+1,30))","v":""}]
[null,885,null,null,null,{"$f":"IFERROR(FIND(\"_\",Table3[[#This Row],[شماره تماس]]),0)","v":0},{"$f":"IF(Table3[[#This Row],[چندم]]=0,Table3[[#This Row],[شماره تماس]],MID(Table3[[#This Row],[شماره تماس]],1,Table3[[#This Row],[چندم]]-1))","v":0},{"$f":"IF(Table3[[#This Row],[چندم]]=0,\"\",MID(Table3[[#This Row],[شماره تماس]],Table3[[#This Row],[چندم]]+1,30))","v":""}]
[null,886,null,null,null,{"$f":"IFERROR(FIND(\"_\",Table3[[#This Row],[شماره تماس]]),0)","v":0},{"$f":"IF(Table3[[#This Row],[چندم]]=0,Table3[[#This Row],[شماره تماس]],MID(Table3[[#This Row],[شماره تماس]],1,Table3[[#This Row],[چندم]]-1))","v":0},{"$f":"IF(Table3[[#This Row],[چندم]]=0,\"\",MID(Table3[[#This Row],[شماره تماس]],Table3[[#This Row],[چندم]]+1,30))","v":""}]
[null,887,null,null,null,{"$f":"IFERROR(FIND(\"_\",Table3[[#This Row],[شماره تماس]]),0)","v":0},{"$f":"IF(Table3[[#This Row],[چندم]]=0,Table3[[#This Row],[شماره تماس]],MID(Table3[[#This Row],[شماره تماس]],1,Table3[[#This Row],[چندم]]-1))","v":0},{"$f":"IF(Table3[[#This Row],[چندم]]=0,\"\",MID(Table3[[#This Row],[شماره تماس]],Table3[[#This Row],[چندم]]+1,30))","v":""}]
[null,888,null,null,null,{"$f":"IFERROR(FIND(\"_\",Table3[[#This Row],[شماره تماس]]),0)","v":0},{"$f":"IF(Table3[[#This Row],[چندم]]=0,Table3[[#This Row],[شماره تماس]],MID(Table3[[#This Row],[شماره تماس]],1,Table3[[#This Row],[چندم]]-1))","v":0},{"$f":"IF(Table3[[#This Row],[چندم]]=0,\"\",MID(Table3[[#This Row],[شماره تماس]],Table3[[#This Row],[چندم]]+1,30))","v":""}]
[null,889,null,null,null,{"$f":"IFERROR(FIND(\"_\",Table3[[#This Row],[شماره تماس]]),0)","v":0},{"$f":"IF(Table3[[#This Row],[چندم]]=0,Table3[[#This Row],[شماره تماس]],MID(Table3[[#This Row],[شماره تماس]],1,Table3[[#This Row],[چندم]]-1))","v":0},{"$f":"IF(Table3[[#This Row],[چندم]]=0,\"\",MID(Table3[[#This Row],[شماره تماس]],Table3[[#This Row],[چندم]]+1,30))","v":""}]
[null,890,null,null,null,{"$f":"IFERROR(FIND(\"_\",Table3[[#This Row],[شماره تماس]]),0)","v":0},{"$f":"IF(Table3[[#This Row],[چندم]]=0,Table3[[#This Row],[شماره تماس]],MID(Table3[[#This Row],[شماره تماس]],1,Table3[[#This Row],[چندم]]-1))","v":0},{"$f":"IF(Table3[[#This Row],[چندم]]=0,\"\",MID(Table3[[#This Row],[شماره تماس]],Table3[[#This Row],[چندم]]+1,30))","v":""}]
[null,891,null,null,null,{"$f":"IFERROR(FIND(\"_\",Table3[[#This Row],[شماره تماس]]),0)","v":0},{"$f":"IF(Table3[[#This Row],[چندم]]=0,Table3[[#This Row],[شماره تماس]],MID(Table3[[#This Row],[شماره تماس]],1,Table3[[#This Row],[چندم]]-1))","v":0},{"$f":"IF(Table3[[#This Row],[چندم]]=0,\"\",MID(Table3[[#This Row],[شماره تماس]],Table3[[#This Row],[چندم]]+1,30))","v":""}]
[null,892,null,null,null,{"$f":"IFERROR(FIND(\"_\",Table3[[#This Row],[شماره تماس]]),0)","v":0},{"$f":"IF(Table3[[#This Row],[چندم]]=0,Table3[[#This Row],[شماره تماس]],MID(Table3[[#This Row],[شماره تماس]],1,Table3[[#This Row],[چندم]]-1))","v":0},{"$f":"IF(Table3[[#This Row],[چندم]]=0,\"\",MID(Table3[[#This Row],[شماره تماس]],Table3[[#This Row],[چندم]]+1,30))","v":""}]
[null,893,null,null,null,{"$f":"IFERROR(FIND(\"_\",Table3[[#This Row],[شماره تماس]]),0)","v":0},{"$f":"IF(Table3[[#This Row],[چندم]]=0,Table3[[#This Row],[شماره تماس]],MID(Table3[[#This Row],[شماره تماس]],1,Table3[[#This Row],[چندم]]-1))","v":0},{"$f":"IF(Table3[[#This Row],[چندم]]=0,\"\",MID(Table3[[#This Row],[شماره تماس]],Table3[[#This Row],[چندم]]+1,30))","v":""}]
[null,894,null,null,null,{"$f":"IFERROR(FIND(\"_\",Table3[[#This Row],[شماره تماس]]),0)","v":0},{"$f":"IF(Table3[[#This Row],[چندم]]=0,Table3[[#This Row],[شماره تماس]],MID(Table3[[#This Row],[شماره تماس]],1,Table3[[#This Row],[چندم]]-1))","v":0},{"$f":"IF(Table3[[#This Row],[چندم]]=0,\"\",MID(Table3[[#This Row],[شماره تماس]],Table3[[#This Row],[چندم]]+1,30))","v":""}]
[null,895,null,null,null,{"$f":"IFERROR(FIND(\"_\",Table3[[#This Row],[شماره تماس]]),0)","v":0},{"$f":"IF(Table3[[#This Row],[چندم]]=0,Table3[[#This Row],[شماره تماس]],MID(Table3[[#This Row],[شماره تماس]],1,Table3[[#This Row],[چندم]]-1))","v":0},{"$f":"IF(Table3[[#This Row],[چندم]]=0,\"\",MID(Table3[[#This Row],[شماره تماس]],Table3[[#This Row],[چندم]]+1,30))","v":""}]
[null,896,null,null,null,{"$f":"IFERROR(FIND(\"_\",Table3[[#This Row],[شماره تماس]]),0)","v":0},{"$f":"IF(Table3[[#This Row],[چندم]]=0,Table3[[#This Row],[شماره تماس]],MID(Table3[[#This Row],[شماره تماس]],1,Table3[[#This Row],[چندم]]-1))","v":0},{"$f":"IF(Table3[[#This Row],[چندم]]=0,\"\",MID(Table3[[#This Row],[شماره تماس]],Table3[[#This Row],[چندم]]+1,30))","v":""}]
[null,897,null,null,null,{"$f":"IFERROR(FIND(\"_\",Table3[[#This Row],[شماره تماس]]),0)","v":0},{"$f":"IF(Table3[[#This Row],[چندم]]=0,Table3[[#This Row],[شماره تماس]],MID(Table3[[#This Row],[شماره تماس]],1,Table3[[#This Row],[چندم]]-1))","v":0},{"$f":"IF(Table3[[#This Row],[چندم]]=0,\"\",MID(Table3[[#This Row],[شماره تماس]],Table3[[#This Row],[چندم]]+1,30))","v":""}]
[null,898,null,null,null,{"$f":"IFERROR(FIND(\"_\",Table3[[#This Row],[شماره تماس]]),0)","v":0},{"$f":"IF(Table3[[#This Row],[چندم]]=0,Table3[[#This Row],[شماره تماس]],MID(Table3[[#This Row],[شماره تماس]],1,Table3[[#This Row],[چندم]]-1))","v":0},{"$f":"IF(Table3[[#This Row],[چندم]]=0,\"\",MID(Table3[[#This Row],[شماره تماس]],Table3[[#This Row],[چندم]]+1,30))","v":""}]
[null,899,null,null,null,{"$f":"IFERROR(FIND(\"_\",Table3[[#This Row],[شماره تماس]]),0)","v":0},{"$f":"IF(Table3[[#This Row],[چندم]]=0,Table3[[#This Row],[شماره تماس]],MID(Table3[[#This Row],[شماره تماس]],1,Table3[[#This Row],[چندم]]-1))","v":0},{"$f":"IF(Table3[[#This Row],[چندم]]=0,\"\",MID(Table3[[#This Row],[شماره تماس]],Table3[[#This Row],[چندم]]+1,30))","v":""}]
[null,900,null,null,null,{"$f":"IFERROR(FIND(\"_\",Table3[[#This Row],[شماره تماس]]),0)","v":0},{"$f":"IF(Table3[[#This Row],[چندم]]=0,Table3[[#This Row],[شماره تماس]],MID(Table3[[#This Row],[شماره تماس]],1,Table3[[#This Row],[چندم]]-1))","v":0},{"$f":"IF(Table3[[#This Row],[چندم]]=0,\"\",MID(Table3[[#This Row],[شماره تماس]],Table3[[#This Row],[چندم]]+1,30))","v":""}]
[null,901,null,null,null,{"$f":"IFERROR(FIND(\"_\",Table3[[#This Row],[شماره تماس]]),0)","v":0},{"$f":"IF(Table3[[#This Row],[چندم]]=0,Table3[[#This Row],[شماره تماس]],MID(Table3[[#This Row],[شماره تماس]],1,Table3[[#This Row],[چندم]]-1))","v":0},{"$f":"IF(Table3[[#This Row],[چندم]]=0,\"\",MID(Table3[[#This Row],[شماره تماس]],Table3[[#This Row],[چندم]]+1,30))","v":""}]
[null,902,null,null,null,{"$f":"IFERROR(FIND(\"_\",Table3[[#This Row],[شماره تماس]]),0)","v":0},{"$f":"IF(Table3[[#This Row],[چندم]]=0,Table3[[#This Row],[شماره تماس]],MID(Table3[[#This Row],[شماره تماس]],1,Table3[[#This Row],[چندم]]-1))","v":0},{"$f":"IF(Table3[[#This Row],[چندم]]=0,\"\",MID(Table3[[#This Row],[شماره تماس]],Table3[[#This Row],[چندم]]+1,30))","v":""}]
[null,903,null,null,null,{"$f":"IFERROR(FIND(\"_\",Table3[[#This Row],[شماره تماس]]),0)","v":0},{"$f":"IF(Table3[[#This Row],[چندم]]=0,Table3[[#This Row],[شماره تماس]],MID(Table3[[#This Row],[شماره تماس]],1,Table3[[#This Row],[چندم]]-1))","v":0},{"$f":"IF(Table3[[#This Row],[چندم]]=0,\"\",MID(Table3[[#This Row],[شماره تماس]],Table3[[#This Row],[چندم]]+1,30))","v":""}]
[null,904,null,null,null,{"$f":"IFERROR(FIND(\"_\",Table3[[#This Row],[شماره تماس]]),0)","v":0},{"$f":"IF(Table3[[#This Row],[چندم]]=0,Table3[[#This Row],[شماره تماس]],MID(Table3[[#This Row],[شماره تماس]],1,Table3[[#This Row],[چندم]]-1))","v":0},{"$f":"IF(Table3[[#This Row],[چندم]]=0,\"\",MID(Table3[[#This Row],[شماره تماس]],Table3[[#This Row],[چندم]]+1,30))","v":""}]
[null,905,null,null,null,{"$f":"IFERROR(FIND(\"_\",Table3[[#This Row],[شماره تماس]]),0)","v":0},{"$f":"IF(Table3[[#This Row],[چندم]]=0,Table3[[#This Row],[شماره تماس]],MID(Table3[[#This Row],[شماره تماس]],1,Table3[[#This Row],[چندم]]-1))","v":0},{"$f":"IF(Table3[[#This Row],[چندم]]=0,\"\",MID(Table3[[#This Row],[شماره تماس]],Table3[[#This Row],[چندم]]+1,30))","v":""}]
[null,906,null,null,null,{"$f":"IFERROR(FIND(\"_\",Table3[[#This Row],[شماره تماس]]),0)","v":0},{"$f":"IF(Table3[[#This Row],[چندم]]=0,Table3[[#This Row],[شماره تماس]],MID(Table3[[#This Row],[شماره تماس]],1,Table3[[#This Row],[چندم]]-1))","v":0},{"$f":"IF(Table3[[#This Row],[چندم]]=0,\"\",MID(Table3[[#This Row],[شماره تماس]],Table3[[#This Row],[چندم]]+1,30))","v":""}]
[null,907,null,null,null,{"$f":"IFERROR(FIND(\"_\",Table3[[#This Row],[شماره تماس]]),0)","v":0},{"$f":"IF(Table3[[#This Row],[چندم]]=0,Table3[[#This Row],[شماره تماس]],MID(Table3[[#This Row],[شماره تماس]],1,Table3[[#This Row],[چندم]]-1))","v":0},{"$f":"IF(Table3[[#This Row],[چندم]]=0,\"\",MID(Table3[[#This Row],[شماره تماس]],Table3[[#This Row],[چندم]]+1,30))","v":""}]
[null,908,null,null,null,{"$f":"IFERROR(FIND(\"_\",Table3[[#This Row],[شماره تماس]]),0)","v":0},{"$f":"IF(Table3[[#This Row],[چندم]]=0,Table3[[#This Row],[شماره تماس]],MID(Table3[[#This Row],[شماره تماس]],1,Table3[[#This Row],[چندم]]-1))","v":0},{"$f":"IF(Table3[[#This Row],[چندم]]=0,\"\",MID(Table3[[#This Row],[شماره تماس]],Table3[[#This Row],[چندم]]+1,30))","v":""}]
[null,909,null,null,null,{"$f":"IFERROR(FIND(\"_\",Table3[[#This Row],[شماره تماس]]),0)","v":0},{"$f":"IF(Table3[[#This Row],[چندم]]=0,Table3[[#This Row],[شماره تماس]],MID(Table3[[#This Row],[شماره تماس]],1,Table3[[#This Row],[چندم]]-1))","v":0},{"$f":"IF(Table3[[#This Row],[چندم]]=0,\"\",MID(Table3[[#This Row],[شماره تماس]],Table3[[#This Row],[چندم]]+1,30))","v":""}]
[null,910,null,null,null,{"$f":"IFERROR(FIND(\"_\",Table3[[#This Row],[شماره تماس]]),0)","v":0},{"$f":"IF(Table3[[#This Row],[چندم]]=0,Table3[[#This Row],[شماره تماس]],MID(Table3[[#This Row],[شماره تماس]],1,Table3[[#This Row],[چندم]]-1))","v":0},{"$f":"IF(Table3[[#This Row],[چندم]]=0,\"\",MID(Table3[[#This Row],[شماره تماس]],Table3[[#This Row],[چندم]]+1,30))","v":""}]
[null,911,null,null,null,{"$f":"IFERROR(FIND(\"_\",Table3[[#This Row],[شماره تماس]]),0)","v":0},{"$f":"IF(Table3[[#This Row],[چندم]]=0,Table3[[#This Row],[شماره تماس]],MID(Table3[[#This Row],[شماره تماس]],1,Table3[[#This Row],[چندم]]-1))","v":0},{"$f":"IF(Table3[[#This Row],[چندم]]=0,\"\",MID(Table3[[#This Row],[شماره تماس]],Table3[[#This Row],[چندم]]+1,30))","v":""}]
[null,912,null,null,null,{"$f":"IFERROR(FIND(\"_\",Table3[[#This Row],[شماره تماس]]),0)","v":0},{"$f":"IF(Table3[[#This Row],[چندم]]=0,Table3[[#This Row],[شماره تماس]],MID(Table3[[#This Row],[شماره تماس]],1,Table3[[#This Row],[چندم]]-1))","v":0},{"$f":"IF(Table3[[#This Row],[چندم]]=0,\"\",MID(Table3[[#This Row],[شماره تماس]],Table3[[#This Row],[چندم]]+1,30))","v":""}]
[null,913,null,null,null,{"$f":"IFERROR(FIND(\"_\",Table3[[#This Row],[شماره تماس]]),0)","v":0},{"$f":"IF(Table3[[#This Row],[چندم]]=0,Table3[[#This Row],[شماره تماس]],MID(Table3[[#This Row],[شماره تماس]],1,Table3[[#This Row],[چندم]]-1))","v":0},{"$f":"IF(Table3[[#This Row],[چندم]]=0,\"\",MID(Table3[[#This Row],[شماره تماس]],Table3[[#This Row],[چندم]]+1,30))","v":""}]
[null,914,null,null,null,{"$f":"IFERROR(FIND(\"_\",Table3[[#This Row],[شماره تماس]]),0)","v":0},{"$f":"IF(Table3[[#This Row],[چندم]]=0,Table3[[#This Row],[شماره تماس]],MID(Table3[[#This Row],[شماره تماس]],1,Table3[[#This Row],[چندم]]-1))","v":0},{"$f":"IF(Table3[[#This Row],[چندم]]=0,\"\",MID(Table3[[#This Row],[شماره تماس]],Table3[[#This Row],[چندم]]+1,30))","v":""}]
[null,915,null,null,null,{"$f":"IFERROR(FIND(\"_\",Table3[[#This Row],[شماره تماس]]),0)","v":0},{"$f":"IF(Table3[[#This Row],[چندم]]=0,Table3[[#This Row],[شماره تماس]],MID(Table3[[#This Row],[شماره تماس]],1,Table3[[#This Row],[چندم]]-1))","v":0},{"$f":"IF(Table3[[#This Row],[چندم]]=0,\"\",MID(Table3[[#This Row],[شماره تماس]],Table3[[#This Row],[چندم]]+1,30))","v":""}]
[null,916,null,null,null,{"$f":"IFERROR(FIND(\"_\",Table3[[#This Row],[شماره تماس]]),0)","v":0},{"$f":"IF(Table3[[#This Row],[چندم]]=0,Table3[[#This Row],[شماره تماس]],MID(Table3[[#This Row],[شماره تماس]],1,Table3[[#This Row],[چندم]]-1))","v":0},{"$f":"IF(Table3[[#This Row],[چندم]]=0,\"\",MID(Table3[[#This Row],[شماره تماس]],Table3[[#This Row],[چندم]]+1,30))","v":""}]
[null,917,null,null,null,{"$f":"IFERROR(FIND(\"_\",Table3[[#This Row],[شماره تماس]]),0)","v":0},{"$f":"IF(Table3[[#This Row],[چندم]]=0,Table3[[#This Row],[شماره تماس]],MID(Table3[[#This Row],[شماره تماس]],1,Table3[[#This Row],[چندم]]-1))","v":0},{"$f":"IF(Table3[[#This Row],[چندم]]=0,\"\",MID(Table3[[#This Row],[شماره تماس]],Table3[[#This Row],[چندم]]+1,30))","v":""}]
[null,918,null,null,null,{"$f":"IFERROR(FIND(\"_\",Table3[[#This Row],[شماره تماس]]),0)","v":0},{"$f":"IF(Table3[[#This Row],[چندم]]=0,Table3[[#This Row],[شماره تماس]],MID(Table3[[#This Row],[شماره تماس]],1,Table3[[#This Row],[چندم]]-1))","v":0},{"$f":"IF(Table3[[#This Row],[چندم]]=0,\"\",MID(Table3[[#This Row],[شماره تماس]],Table3[[#This Row],[چندم]]+1,30))","v":""}]
[null,919,null,null,null,{"$f":"IFERROR(FIND(\"_\",Table3[[#This Row],[شماره تماس]]),0)","v":0},{"$f":"IF(Table3[[#This Row],[چندم]]=0,Table3[[#This Row],[شماره تماس]],MID(Table3[[#This Row],[شماره تماس]],1,Table3[[#This Row],[چندم]]-1))","v":0},{"$f":"IF(Table3[[#This Row],[چندم]]=0,\"\",MID(Table3[[#This Row],[شماره تماس]],Table3[[#This Row],[چندم]]+1,30))","v":""}]
[null,920,null,null,null,{"$f":"IFERROR(FIND(\"_\",Table3[[#This Row],[شماره تماس]]),0)","v":0},{"$f":"IF(Table3[[#This Row],[چندم]]=0,Table3[[#This Row],[شماره تماس]],MID(Table3[[#This Row],[شماره تماس]],1,Table3[[#This Row],[چندم]]-1))","v":0},{"$f":"IF(Table3[[#This Row],[چندم]]=0,\"\",MID(Table3[[#This Row],[شماره تماس]],Table3[[#This Row],[چندم]]+1,30))","v":""}]
[null,921,null,null,null,{"$f":"IFERROR(FIND(\"_\",Table3[[#This Row],[شماره تماس]]),0)","v":0},{"$f":"IF(Table3[[#This Row],[چندم]]=0,Table3[[#This Row],[شماره تماس]],MID(Table3[[#This Row],[شماره تماس]],1,Table3[[#This Row],[چندم]]-1))","v":0},{"$f":"IF(Table3[[#This Row],[چندم]]=0,\"\",MID(Table3[[#This Row],[شماره تماس]],Table3[[#This Row],[چندم]]+1,30))","v":""}]
[null,922,null,null,null,{"$f":"IFERROR(FIND(\"_\",Table3[[#This Row],[شماره تماس]]),0)","v":0},{"$f":"IF(Table3[[#This Row],[چندم]]=0,Table3[[#This Row],[شماره تماس]],MID(Table3[[#This Row],[شماره تماس]],1,Table3[[#This Row],[چندم]]-1))","v":0},{"$f":"IF(Table3[[#This Row],[چندم]]=0,\"\",MID(Table3[[#This Row],[شماره تماس]],Table3[[#This Row],[چندم]]+1,30))","v":""}]
[null,923,null,null,null,{"$f":"IFERROR(FIND(\"_\",Table3[[#This Row],[شماره تماس]]),0)","v":0},{"$f":"IF(Table3[[#This Row],[چندم]]=0,Table3[[#This Row],[شماره تماس]],MID(Table3[[#This Row],[شماره تماس]],1,Table3[[#This Row],[چندم]]-1))","v":0},{"$f":"IF(Table3[[#This Row],[چندم]]=0,\"\",MID(Table3[[#This Row],[شماره تماس]],Table3[[#This Row],[چندم]]+1,30))","v":""}]
[null,924,null,null,null,{"$f":"IFERROR(FIND(\"_\",Table3[[#This Row],[شماره تماس]]),0)","v":0},{"$f":"IF(Table3[[#This Row],[چندم]]=0,Table3[[#This Row],[شماره تماس]],MID(Table3[[#This Row],[شماره تماس]],1,Table3[[#This Row],[چندم]]-1))","v":0},{"$f":"IF(Table3[[#This Row],[چندم]]=0,\"\",MID(Table3[[#This Row],[شماره تماس]],Table3[[#This Row],[چندم]]+1,30))","v":""}]
[null,925,null,null,null,{"$f":"IFERROR(FIND(\"_\",Table3[[#This Row],[شماره تماس]]),0)","v":0},{"$f":"IF(Table3[[#This Row],[چندم]]=0,Table3[[#This Row],[شماره تماس]],MID(Table3[[#This Row],[شماره تماس]],1,Table3[[#This Row],[چندم]]-1))","v":0},{"$f":"IF(Table3[[#This Row],[چندم]]=0,\"\",MID(Table3[[#This Row],[شماره تماس]],Table3[[#This Row],[چندم]]+1,30))","v":""}]
[null,926,null,null,null,{"$f":"IFERROR(FIND(\"_\",Table3[[#This Row],[شماره تماس]]),0)","v":0},{"$f":"IF(Table3[[#This Row],[چندم]]=0,Table3[[#This Row],[شماره تماس]],MID(Table3[[#This Row],[شماره تماس]],1,Table3[[#This Row],[چندم]]-1))","v":0},{"$f":"IF(Table3[[#This Row],[چندم]]=0,\"\",MID(Table3[[#This Row],[شماره تماس]],Table3[[#This Row],[چندم]]+1,30))","v":""}]
[null,927,null,null,null,{"$f":"IFERROR(FIND(\"_\",Table3[[#This Row],[شماره تماس]]),0)","v":0},{"$f":"IF(Table3[[#This Row],[چندم]]=0,Table3[[#This Row],[شماره تماس]],MID(Table3[[#This Row],[شماره تماس]],1,Table3[[#This Row],[چندم]]-1))","v":0},{"$f":"IF(Table3[[#This Row],[چندم]]=0,\"\",MID(Table3[[#This Row],[شماره تماس]],Table3[[#This Row],[چندم]]+1,30))","v":""}]
[null,928,null,null,null,{"$f":"IFERROR(FIND(\"_\",Table3[[#This Row],[شماره تماس]]),0)","v":0},{"$f":"IF(Table3[[#This Row],[چندم]]=0,Table3[[#This Row],[شماره تماس]],MID(Table3[[#This Row],[شماره تماس]],1,Table3[[#This Row],[چندم]]-1))","v":0},{"$f":"IF(Table3[[#This Row],[چندم]]=0,\"\",MID(Table3[[#This Row],[شماره تماس]],Table3[[#This Row],[چندم]]+1,30))","v":""}]
[null,929,null,null,null,{"$f":"IFERROR(FIND(\"_\",Table3[[#This Row],[شماره تماس]]),0)","v":0},{"$f":"IF(Table3[[#This Row],[چندم]]=0,Table3[[#This Row],[شماره تماس]],MID(Table3[[#This Row],[شماره تماس]],1,Table3[[#This Row],[چندم]]-1))","v":0},{"$f":"IF(Table3[[#This Row],[چندم]]=0,\"\",MID(Table3[[#This Row],[شماره تماس]],Table3[[#This Row],[چندم]]+1,30))","v":""}]
[null,930,null,null,null,{"$f":"IFERROR(FIND(\"_\",Table3[[#This Row],[شماره تماس]]),0)","v":0},{"$f":"IF(Table3[[#This Row],[چندم]]=0,Table3[[#This Row],[شماره تماس]],MID(Table3[[#This Row],[شماره تماس]],1,Table3[[#This Row],[چندم]]-1))","v":0},{"$f":"IF(Table3[[#This Row],[چندم]]=0,\"\",MID(Table3[[#This Row],[شماره تماس]],Table3[[#This Row],[چندم]]+1,30))","v":""}]
[null,931,null,null,null,{"$f":"IFERROR(FIND(\"_\",Table3[[#This Row],[شماره تماس]]),0)","v":0},{"$f":"IF(Table3[[#This Row],[چندم]]=0,Table3[[#This Row],[شماره تماس]],MID(Table3[[#This Row],[شماره تماس]],1,Table3[[#This Row],[چندم]]-1))","v":0},{"$f":"IF(Table3[[#This Row],[چندم]]=0,\"\",MID(Table3[[#This Row],[شماره تماس]],Table3[[#This Row],[چندم]]+1,30))","v":""}]
[null,932,null,null,null,{"$f":"IFERROR(FIND(\"_\",Table3[[#This Row],[شماره تماس]]),0)","v":0},{"$f":"IF(Table3[[#This Row],[چندم]]=0,Table3[[#This Row],[شماره تماس]],MID(Table3[[#This Row],[شماره تماس]],1,Table3[[#This Row],[چندم]]-1))","v":0},{"$f":"IF(Table3[[#This Row],[چندم]]=0,\"\",MID(Table3[[#This Row],[شماره تماس]],Table3[[#This Row],[چندم]]+1,30))","v":""}]
[null,933,null,null,null,{"$f":"IFERROR(FIND(\"_\",Table3[[#This Row],[شماره تماس]]),0)","v":0},{"$f":"IF(Table3[[#This Row],[چندم]]=0,Table3[[#This Row],[شماره تماس]],MID(Table3[[#This Row],[شماره تماس]],1,Table3[[#This Row],[چندم]]-1))","v":0},{"$f":"IF(Table3[[#This Row],[چندم]]=0,\"\",MID(Table3[[#This Row],[شماره تماس]],Table3[[#This Row],[چندم]]+1,30))","v":""}]
[null,934,null,null,null,{"$f":"IFERROR(FIND(\"_\",Table3[[#This Row],[شماره تماس]]),0)","v":0},{"$f":"IF(Table3[[#This Row],[چندم]]=0,Table3[[#This Row],[شماره تماس]],MID(Table3[[#This Row],[شماره تماس]],1,Table3[[#This Row],[چندم]]-1))","v":0},{"$f":"IF(Table3[[#This Row],[چندم]]=0,\"\",MID(Table3[[#This Row],[شماره تماس]],Table3[[#This Row],[چندم]]+1,30))","v":""}]
[null,{"$f":"ROW()-3","v":935},null,null,null,{"$f":"IFERROR(FIND(\"_\",Table3[[#This Row],[شماره تماس]]),0)","v":0},{"$f":"IF(Table3[[#This Row],[چندم]]=0,Table3[[#This Row],[شماره تماس]],MID(Table3[[#This Row],[شماره تماس]],1,Table3[[#This Row],[چندم]]-1))","v":0},{"$f":"IF(Table3[[#This Row],[چندم]]=0,\"\",MID(Table3[[#This Row],[شماره تماس]],Table3[[#This Row],[چندم]]+1,30))","v":""}]
[null,936,null,null,null,{"$f":"IFERROR(FIND(\"_\",Table3[[#This Row],[شماره تماس]]),0)","v":0},{"$f":"IF(Table3[[#This Row],[چندم]]=0,Table3[[#This Row],[شماره تماس]],MID(Table3[[#This Row],[شماره تماس]],1,Table3[[#This Row],[چندم]]-1))","v":0},{"$f":"IF(Table3[[#This Row],[چندم]]=0,\"\",MID(Table3[[#This Row],[شماره تماس]],Table3[[#This Row],[چندم]]+1,30))","v":""}]
[null,937,null,null,null,{"$f":"IFERROR(FIND(\"_\",Table3[[#This Row],[شماره تماس]]),0)","v":0},{"$f":"IF(Table3[[#This Row],[چندم]]=0,Table3[[#This Row],[شماره تماس]],MID(Table3[[#This Row],[شماره تماس]],1,Table3[[#This Row],[چندم]]-1))","v":0},{"$f":"IF(Table3[[#This Row],[چندم]]=0,\"\",MID(Table3[[#This Row],[شماره تماس]],Table3[[#This Row],[چندم]]+1,30))","v":""}]
[null,938,null,null,null,{"$f":"IFERROR(FIND(\"_\",Table3[[#This Row],[شماره تماس]]),0)","v":0},{"$f":"IF(Table3[[#This Row],[چندم]]=0,Table3[[#This Row],[شماره تماس]],MID(Table3[[#This Row],[شماره تماس]],1,Table3[[#This Row],[چندم]]-1))","v":0},{"$f":"IF(Table3[[#This Row],[چندم]]=0,\"\",MID(Table3[[#This Row],[شماره تماس]],Table3[[#This Row],[چندم]]+1,30))","v":""}]
[null,939,null,null,null,{"$f":"IFERROR(FIND(\"_\",Table3[[#This Row],[شماره تماس]]),0)","v":0},{"$f":"IF(Table3[[#This Row],[چندم]]=0,Table3[[#This Row],[شماره تماس]],MID(Table3[[#This Row],[شماره تماس]],1,Table3[[#This Row],[چندم]]-1))","v":0},{"$f":"IF(Table3[[#This Row],[چندم]]=0,\"\",MID(Table3[[#This Row],[شماره تماس]],Table3[[#This Row],[چندم]]+1,30))","v":""}]
[null,940,null,null,null,{"$f":"IFERROR(FIND(\"_\",Table3[[#This Row],[شماره تماس]]),0)","v":0},{"$f":"IF(Table3[[#This Row],[چندم]]=0,Table3[[#This Row],[شماره تماس]],MID(Table3[[#This Row],[شماره تماس]],1,Table3[[#This Row],[چندم]]-1))","v":0},{"$f":"IF(Table3[[#This Row],[چندم]]=0,\"\",MID(Table3[[#This Row],[شماره تماس]],Table3[[#This Row],[چندم]]+1,30))","v":""}]
[null,941,null,null,null,{"$f":"IFERROR(FIND(\"_\",Table3[[#This Row],[شماره تماس]]),0)","v":0},{"$f":"IF(Table3[[#This Row],[چندم]]=0,Table3[[#This Row],[شماره تماس]],MID(Table3[[#This Row],[شماره تماس]],1,Table3[[#This Row],[چندم]]-1))","v":0},{"$f":"IF(Table3[[#This Row],[چندم]]=0,\"\",MID(Table3[[#This Row],[شماره تماس]],Table3[[#This Row],[چندم]]+1,30))","v":""}]
[null,942,null,null,null,{"$f":"IFERROR(FIND(\"_\",Table3[[#This Row],[شماره تماس]]),0)","v":0},{"$f":"IF(Table3[[#This Row],[چندم]]=0,Table3[[#This Row],[شماره تماس]],MID(Table3[[#This Row],[شماره تماس]],1,Table3[[#This Row],[چندم]]-1))","v":0},{"$f":"IF(Table3[[#This Row],[چندم]]=0,\"\",MID(Table3[[#This Row],[شماره تماس]],Table3[[#This Row],[چندم]]+1,30))","v":""}]
[null,943,null,null,null,{"$f":"IFERROR(FIND(\"_\",Table3[[#This Row],[شماره تماس]]),0)","v":0},{"$f":"IF(Table3[[#This Row],[چندم]]=0,Table3[[#This Row],[شماره تماس]],MID(Table3[[#This Row],[شماره تماس]],1,Table3[[#This Row],[چندم]]-1))","v":0},{"$f":"IF(Table3[[#This Row],[چندم]]=0,\"\",MID(Table3[[#This Row],[شماره تماس]],Table3[[#This Row],[چندم]]+1,30))","v":""}]
[null,944,null,null,null,{"$f":"IFERROR(FIND(\"_\",Table3[[#This Row],[شماره تماس]]),0)","v":0},{"$f":"IF(Table3[[#This Row],[چندم]]=0,Table3[[#This Row],[شماره تماس]],MID(Table3[[#This Row],[شماره تماس]],1,Table3[[#This Row],[چندم]]-1))","v":0},{"$f":"IF(Table3[[#This Row],[چندم]]=0,\"\",MID(Table3[[#This Row],[شماره تماس]],Table3[[#This Row],[چندم]]+1,30))","v":""}]
[null,945,null,null,null,{"$f":"IFERROR(FIND(\"_\",Table3[[#This Row],[شماره تماس]]),0)","v":0},{"$f":"IF(Table3[[#This Row],[چندم]]=0,Table3[[#This Row],[شماره تماس]],MID(Table3[[#This Row],[شماره تماس]],1,Table3[[#This Row],[چندم]]-1))","v":0},{"$f":"IF(Table3[[#This Row],[چندم]]=0,\"\",MID(Table3[[#This Row],[شماره تماس]],Table3[[#This Row],[چندم]]+1,30))","v":""}]
[null,946,null,null,null,{"$f":"IFERROR(FIND(\"_\",Table3[[#This Row],[شماره تماس]]),0)","v":0},{"$f":"IF(Table3[[#This Row],[چندم]]=0,Table3[[#This Row],[شماره تماس]],MID(Table3[[#This Row],[شماره تماس]],1,Table3[[#This Row],[چندم]]-1))","v":0},{"$f":"IF(Table3[[#This Row],[چندم]]=0,\"\",MID(Table3[[#This Row],[شماره تماس]],Table3[[#This Row],[چندم]]+1,30))","v":""}]
[null,947,null,null,null,{"$f":"IFERROR(FIND(\"_\",Table3[[#This Row],[شماره تماس]]),0)","v":0},{"$f":"IF(Table3[[#This Row],[چندم]]=0,Table3[[#This Row],[شماره تماس]],MID(Table3[[#This Row],[شماره تماس]],1,Table3[[#This Row],[چندم]]-1))","v":0},{"$f":"IF(Table3[[#This Row],[چندم]]=0,\"\",MID(Table3[[#This Row],[شماره تماس]],Table3[[#This Row],[چندم]]+1,30))","v":""}]
[null,948,null,null,null,{"$f":"IFERROR(FIND(\"_\",Table3[[#This Row],[شماره تماس]]),0)","v":0},{"$f":"IF(Table3[[#This Row],[چندم]]=0,Table3[[#This Row],[شماره تماس]],MID(Table3[[#This Row],[شماره تماس]],1,Table3[[#This Row],[چندم]]-1))","v":0},{"$f":"IF(Table3[[#This Row],[چندم]]=0,\"\",MID(Table3[[#This Row],[شماره تماس]],Table3[[#This Row],[چندم]]+1,30))","v":""}]
[null,949,null,null,null,{"$f":"IFERROR(FIND(\"_\",Table3[[#This Row],[شماره تماس]]),0)","v":0},{"$f":"IF(Table3[[#This Row],[چندم]]=0,Table3[[#This Row],[شماره تماس]],MID(Table3[[#This Row],[شماره تماس]],1,Table3[[#This Row],[چندم]]-1))","v":0},{"$f":"IF(Table3[[#This Row],[چندم]]=0,\"\",MID(Table3[[#This Row],[شماره تماس]],Table3[[#This Row],[چندم]]+1,30))","v":""}]
[null,950,null,null,null,{"$f":"IFERROR(FIND(\"_\",Table3[[#This Row],[شماره تماس]]),0)","v":0},{"$f":"IF(Table3[[#This Row],[چندم]]=0,Table3[[#This Row],[شماره تماس]],MID(Table3[[#This Row],[شماره تماس]],1,Table3[[#This Row],[چندم]]-1))","v":0},{"$f":"IF(Table3[[#This Row],[چندم]]=0,\"\",MID(Table3[[#This Row],[شماره تماس]],Table3[[#This Row],[چندم]]+1,30))","v":""}]
[null,951,null,null,null,{"$f":"IFERROR(FIND(\"_\",Table3[[#This Row],[شماره تماس]]),0)","v":0},{"$f":"IF(Table3[[#This Row],[چندم]]=0,Table3[[#This Row],[شماره تماس]],MID(Table3[[#This Row],[شماره تماس]],1,Table3[[#This Row],[چندم]]-1))","v":0},{"$f":"IF(Table3[[#This Row],[چندم]]=0,\"\",MID(Table3[[#This Row],[شماره تماس]],Table3[[#This Row],[چندم]]+1,30))","v":""}]
[null,952,null,null,null,{"$f":"IFERROR(FIND(\"_\",Table3[[#This Row],[شماره تماس]]),0)","v":0},{"$f":"IF(Table3[[#This Row],[چندم]]=0,Table3[[#This Row],[شماره تماس]],MID(Table3[[#This Row],[شماره تماس]],1,Table3[[#This Row],[چندم]]-1))","v":0},{"$f":"IF(Table3[[#This Row],[چندم]]=0,\"\",MID(Table3[[#This Row],[شماره تماس]],Table3[[#This Row],[چندم]]+1,30))","v":""}]
[null,953,null,null,null,{"$f":"IFERROR(FIND(\"_\",Table3[[#This Row],[شماره تماس]]),0)","v":0},{"$f":"IF(Table3[[#This Row],[چندم]]=0,Table3[[#This Row],[شماره تماس]],MID(Table3[[#This Row],[شماره تماس]],1,Table3[[#This Row],[چندم]]-1))","v":0},{"$f":"IF(Table3[[#This Row],[چندم]]=0,\"\",MID(Table3[[#This Row],[شماره تماس]],Table3[[#This Row],[چندم]]+1,30))","v":""}]
[null,954,null,null,null,{"$f":"IFERROR(FIND(\"_\",Table3[[#This Row],[شماره تماس]]),0)","v":0},{"$f":"IF(Table3[[#This Row],[چندم]]=0,Table3[[#This Row],[شماره تماس]],MID(Table3[[#This Row],[شماره تماس]],1,Table3[[#This Row],[چندم]]-1))","v":0},{"$f":"IF(Table3[[#This Row],[چندم]]=0,\"\",MID(Table3[[#This Row],[شماره تماس]],Table3[[#This Row],[چندم]]+1,30))","v":""}]
[null,955,null,null,null,{"$f":"IFERROR(FIND(\"_\",Table3[[#This Row],[شماره تماس]]),0)","v":0},{"$f":"IF(Table3[[#This Row],[چندم]]=0,Table3[[#This Row],[شماره تماس]],MID(Table3[[#This Row],[شماره تماس]],1,Table3[[#This Row],[چندم]]-1))","v":0},{"$f":"IF(Table3[[#This Row],[چندم]]=0,\"\",MID(Table3[[#This Row],[شماره تماس]],Table3[[#This Row],[چندم]]+1,30))","v":""}]
[null,956,null,null,null,{"$f":"IFERROR(FIND(\"_\",Table3[[#This Row],[شماره تماس]]),0)","v":0},{"$f":"IF(Table3[[#This Row],[چندم]]=0,Table3[[#This Row],[شماره تماس]],MID(Table3[[#This Row],[شماره تماس]],1,Table3[[#This Row],[چندم]]-1))","v":0},{"$f":"IF(Table3[[#This Row],[چندم]]=0,\"\",MID(Table3[[#This Row],[شماره تماس]],Table3[[#This Row],[چندم]]+1,30))","v":""}]
[null,957,null,null,null,{"$f":"IFERROR(FIND(\"_\",Table3[[#This Row],[شماره تماس]]),0)","v":0},{"$f":"IF(Table3[[#This Row],[چندم]]=0,Table3[[#This Row],[شماره تماس]],MID(Table3[[#This Row],[شماره تماس]],1,Table3[[#This Row],[چندم]]-1))","v":0},{"$f":"IF(Table3[[#This Row],[چندم]]=0,\"\",MID(Table3[[#This Row],[شماره تماس]],Table3[[#This Row],[چندم]]+1,30))","v":""}]
[null,958,null,null,null,{"$f":"IFERROR(FIND(\"_\",Table3[[#This Row],[شماره تماس]]),0)","v":0},{"$f":"IF(Table3[[#This Row],[چندم]]=0,Table3[[#This Row],[شماره تماس]],MID(Table3[[#This Row],[شماره تماس]],1,Table3[[#This Row],[چندم]]-1))","v":0},{"$f":"IF(Table3[[#This Row],[چندم]]=0,\"\",MID(Table3[[#This Row],[شماره تماس]],Table3[[#This Row],[چندم]]+1,30))","v":""}]
[null,959,null,null,null,{"$f":"IFERROR(FIND(\"_\",Table3[[#This Row],[شماره تماس]]),0)","v":0},{"$f":"IF(Table3[[#This Row],[چندم]]=0,Table3[[#This Row],[شماره تماس]],MID(Table3[[#This Row],[شماره تماس]],1,Table3[[#This Row],[چندم]]-1))","v":0},{"$f":"IF(Table3[[#This Row],[چندم]]=0,\"\",MID(Table3[[#This Row],[شماره تماس]],Table3[[#This Row],[چندم]]+1,30))","v":""}]
[null,960,null,null,null,{"$f":"IFERROR(FIND(\"_\",Table3[[#This Row],[شماره تماس]]),0)","v":0},{"$f":"IF(Table3[[#This Row],[چندم]]=0,Table3[[#This Row],[شماره تماس]],MID(Table3[[#This Row],[شماره تماس]],1,Table3[[#This Row],[چندم]]-1))","v":0},{"$f":"IF(Table3[[#This Row],[چندم]]=0,\"\",MID(Table3[[#This Row],[شماره تماس]],Table3[[#This Row],[چندم]]+1,30))","v":""}]
[null,961,null,null,null,{"$f":"IFERROR(FIND(\"_\",Table3[[#This Row],[شماره تماس]]),0)","v":0},{"$f":"IF(Table3[[#This Row],[چندم]]=0,Table3[[#This Row],[شماره تماس]],MID(Table3[[#This Row],[شماره تماس]],1,Table3[[#This Row],[چندم]]-1))","v":0},{"$f":"IF(Table3[[#This Row],[چندم]]=0,\"\",MID(Table3[[#This Row],[شماره تماس]],Table3[[#This Row],[چندم]]+1,30))","v":""}]
[null,962,null,null,null,{"$f":"IFERROR(FIND(\"_\",Table3[[#This Row],[شماره تماس]]),0)","v":0},{"$f":"IF(Table3[[#This Row],[چندم]]=0,Table3[[#This Row],[شماره تماس]],MID(Table3[[#This Row],[شماره تماس]],1,Table3[[#This Row],[چندم]]-1))","v":0},{"$f":"IF(Table3[[#This Row],[چندم]]=0,\"\",MID(Table3[[#This Row],[شماره تماس]],Table3[[#This Row],[چندم]]+1,30))","v":""}]
[null,963,null,null,null,{"$f":"IFERROR(FIND(\"_\",Table3[[#This Row],[شماره تماس]]),0)","v":0},{"$f":"IF(Table3[[#This Row],[چندم]]=0,Table3[[#This Row],[شماره تماس]],MID(Table3[[#This Row],[شماره تماس]],1,Table3[[#This Row],[چندم]]-1))","v":0},{"$f":"IF(Table3[[#This Row],[چندم]]=0,\"\",MID(Table3[[#This Row],[شماره تماس]],Table3[[#This Row],[چندم]]+1,30))","v":""}]
[null,964,null,null,null,{"$f":"IFERROR(FIND(\"_\",Table3[[#This Row],[شماره تماس]]),0)","v":0},{"$f":"IF(Table3[[#This Row],[چندم]]=0,Table3[[#This Row],[شماره تماس]],MID(Table3[[#This Row],[شماره تماس]],1,Table3[[#This Row],[چندم]]-1))","v":0},{"$f":"IF(Table3[[#This Row],[چندم]]=0,\"\",MID(Table3[[#This Row],[شماره تماس]],Table3[[#This Row],[چندم]]+1,30))","v":""}]
[null,965,null,null,null,{"$f":"IFERROR(FIND(\"_\",Table3[[#This Row],[شماره تماس]]),0)","v":0},{"$f":"IF(Table3[[#This Row],[چندم]]=0,Table3[[#This Row],[شماره تماس]],MID(Table3[[#This Row],[شماره تماس]],1,Table3[[#This Row],[چندم]]-1))","v":0},{"$f":"IF(Table3[[#This Row],[چندم]]=0,\"\",MID(Table3[[#This Row],[شماره تماس]],Table3[[#This Row],[چندم]]+1,30))","v":""}]
[null,966,null,null,null,{"$f":"IFERROR(FIND(\"_\",Table3[[#This Row],[شماره تماس]]),0)","v":0},{"$f":"IF(Table3[[#This Row],[چندم]]=0,Table3[[#This Row],[شماره تماس]],MID(Table3[[#This Row],[شماره تماس]],1,Table3[[#This Row],[چندم]]-1))","v":0},{"$f":"IF(Table3[[#This Row],[چندم]]=0,\"\",MID(Table3[[#This Row],[شماره تماس]],Table3[[#This Row],[چندم]]+1,30))","v":""}]
[null,967,null,null,null,{"$f":"IFERROR(FIND(\"_\",Table3[[#This Row],[شماره تماس]]),0)","v":0},{"$f":"IF(Table3[[#This Row],[چندم]]=0,Table3[[#This Row],[شماره تماس]],MID(Table3[[#This Row],[شماره تماس]],1,Table3[[#This Row],[چندم]]-1))","v":0},{"$f":"IF(Table3[[#This Row],[چندم]]=0,\"\",MID(Table3[[#This Row],[شماره تماس]],Table3[[#This Row],[چندم]]+1,30))","v":""}]
[null,968,null,null,null,{"$f":"IFERROR(FIND(\"_\",Table3[[#This Row],[شماره تماس]]),0)","v":0},{"$f":"IF(Table3[[#This Row],[چندم]]=0,Table3[[#This Row],[شماره تماس]],MID(Table3[[#This Row],[شماره تماس]],1,Table3[[#This Row],[چندم]]-1))","v":0},{"$f":"IF(Table3[[#This Row],[چندم]]=0,\"\",MID(Table3[[#This Row],[شماره تماس]],Table3[[#This Row],[چندم]]+1,30))","v":""}]
[null,969,null,null,null,{"$f":"IFERROR(FIND(\"_\",Table3[[#This Row],[شماره تماس]]),0)","v":0},{"$f":"IF(Table3[[#This Row],[چندم]]=0,Table3[[#This Row],[شماره تماس]],MID(Table3[[#This Row],[شماره تماس]],1,Table3[[#This Row],[چندم]]-1))","v":0},{"$f":"IF(Table3[[#This Row],[چندم]]=0,\"\",MID(Table3[[#This Row],[شماره تماس]],Table3[[#This Row],[چندم]]+1,30))","v":""}]
[null,970,null,null,null,{"$f":"IFERROR(FIND(\"_\",Table3[[#This Row],[شماره تماس]]),0)","v":0},{"$f":"IF(Table3[[#This Row],[چندم]]=0,Table3[[#This Row],[شماره تماس]],MID(Table3[[#This Row],[شماره تماس]],1,Table3[[#This Row],[چندم]]-1))","v":0},{"$f":"IF(Table3[[#This Row],[چندم]]=0,\"\",MID(Table3[[#This Row],[شماره تماس]],Table3[[#This Row],[چندم]]+1,30))","v":""}]
[null,971,null,null,null,{"$f":"IFERROR(FIND(\"_\",Table3[[#This Row],[شماره تماس]]),0)","v":0},{"$f":"IF(Table3[[#This Row],[چندم]]=0,Table3[[#This Row],[شماره تماس]],MID(Table3[[#This Row],[شماره تماس]],1,Table3[[#This Row],[چندم]]-1))","v":0},{"$f":"IF(Table3[[#This Row],[چندم]]=0,\"\",MID(Table3[[#This Row],[شماره تماس]],Table3[[#This Row],[چندم]]+1,30))","v":""}]
[null,972,null,null,null,{"$f":"IFERROR(FIND(\"_\",Table3[[#This Row],[شماره تماس]]),0)","v":0},{"$f":"IF(Table3[[#This Row],[چندم]]=0,Table3[[#This Row],[شماره تماس]],MID(Table3[[#This Row],[شماره تماس]],1,Table3[[#This Row],[چندم]]-1))","v":0},{"$f":"IF(Table3[[#This Row],[چندم]]=0,\"\",MID(Table3[[#This Row],[شماره تماس]],Table3[[#This Row],[چندم]]+1,30))","v":""}]
[null,973,null,null,null,{"$f":"IFERROR(FIND(\"_\",Table3[[#This Row],[شماره تماس]]),0)","v":0},{"$f":"IF(Table3[[#This Row],[چندم]]=0,Table3[[#This Row],[شماره تماس]],MID(Table3[[#This Row],[شماره تماس]],1,Table3[[#This Row],[چندم]]-1))","v":0},{"$f":"IF(Table3[[#This Row],[چندم]]=0,\"\",MID(Table3[[#This Row],[شماره تماس]],Table3[[#This Row],[چندم]]+1,30))","v":""}]
[null,974,null,null,null,{"$f":"IFERROR(FIND(\"_\",Table3[[#This Row],[شماره تماس]]),0)","v":0},{"$f":"IF(Table3[[#This Row],[چندم]]=0,Table3[[#This Row],[شماره تماس]],MID(Table3[[#This Row],[شماره تماس]],1,Table3[[#This Row],[چندم]]-1))","v":0},{"$f":"IF(Table3[[#This Row],[چندم]]=0,\"\",MID(Table3[[#This Row],[شماره تماس]],Table3[[#This Row],[چندم]]+1,30))","v":""}]
[null,975,null,null,null,{"$f":"IFERROR(FIND(\"_\",Table3[[#This Row],[شماره تماس]]),0)","v":0},{"$f":"IF(Table3[[#This Row],[چندم]]=0,Table3[[#This Row],[شماره تماس]],MID(Table3[[#This Row],[شماره تماس]],1,Table3[[#This Row],[چندم]]-1))","v":0},{"$f":"IF(Table3[[#This Row],[چندم]]=0,\"\",MID(Table3[[#This Row],[شماره تماس]],Table3[[#This Row],[چندم]]+1,30))","v":""}]
[null,976,null,null,null,{"$f":"IFERROR(FIND(\"_\",Table3[[#This Row],[شماره تماس]]),0)","v":0},{"$f":"IF(Table3[[#This Row],[چندم]]=0,Table3[[#This Row],[شماره تماس]],MID(Table3[[#This Row],[شماره تماس]],1,Table3[[#This Row],[چندم]]-1))","v":0},{"$f":"IF(Table3[[#This Row],[چندم]]=0,\"\",MID(Table3[[#This Row],[شماره تماس]],Table3[[#This Row],[چندم]]+1,30))","v":""}]
[null,977,null,null,null,{"$f":"IFERROR(FIND(\"_\",Table3[[#This Row],[شماره تماس]]),0)","v":0},{"$f":"IF(Table3[[#This Row],[چندم]]=0,Table3[[#This Row],[شماره تماس]],MID(Table3[[#This Row],[شماره تماس]],1,Table3[[#This Row],[چندم]]-1))","v":0},{"$f":"IF(Table3[[#This Row],[چندم]]=0,\"\",MID(Table3[[#This Row],[شماره تماس]],Table3[[#This Row],[چندم]]+1,30))","v":""}]
[null,978,null,null,null,{"$f":"IFERROR(FIND(\"_\",Table3[[#This Row],[شماره تماس]]),0)","v":0},{"$f":"IF(Table3[[#This Row],[چندم]]=0,Table3[[#This Row],[شماره تماس]],MID(Table3[[#This Row],[شماره تماس]],1,Table3[[#This Row],[چندم]]-1))","v":0},{"$f":"IF(Table3[[#This Row],[چندم]]=0,\"\",MID(Table3[[#This Row],[شماره تماس]],Table3[[#This Row],[چندم]]+1,30))","v":""}]
[null,979,null,null,null,{"$f":"IFERROR(FIND(\"_\",Table3[[#This Row],[شماره تماس]]),0)","v":0},{"$f":"IF(Table3[[#This Row],[چندم]]=0,Table3[[#This Row],[شماره تماس]],MID(Table3[[#This Row],[شماره تماس]],1,Table3[[#This Row],[چندم]]-1))","v":0},{"$f":"IF(Table3[[#This Row],[چندم]]=0,\"\",MID(Table3[[#This Row],[شماره تماس]],Table3[[#This Row],[چندم]]+1,30))","v":""}]
[null,980,null,null,null,{"$f":"IFERROR(FIND(\"_\",Table3[[#This Row],[شماره تماس]]),0)","v":0},{"$f":"IF(Table3[[#This Row],[چندم]]=0,Table3[[#This Row],[شماره تماس]],MID(Table3[[#This Row],[شماره تماس]],1,Table3[[#This Row],[چندم]]-1))","v":0},{"$f":"IF(Table3[[#This Row],[چندم]]=0,\"\",MID(Table3[[#This Row],[شماره تماس]],Table3[[#This Row],[چندم]]+1,30))","v":""}]
[null,981,null,null,null,{"$f":"IFERROR(FIND(\"_\",Table3[[#This Row],[شماره تماس]]),0)","v":0},{"$f":"IF(Table3[[#This Row],[چندم]]=0,Table3[[#This Row],[شماره تماس]],MID(Table3[[#This Row],[شماره تماس]],1,Table3[[#This Row],[چندم]]-1))","v":0},{"$f":"IF(Table3[[#This Row],[چندم]]=0,\"\",MID(Table3[[#This Row],[شماره تماس]],Table3[[#This Row],[چندم]]+1,30))","v":""}]
[null,982,null,null,null,{"$f":"IFERROR(FIND(\"_\",Table3[[#This Row],[شماره تماس]]),0)","v":0},{"$f":"IF(Table3[[#This Row],[چندم]]=0,Table3[[#This Row],[شماره تماس]],MID(Table3[[#This Row],[شماره تماس]],1,Table3[[#This Row],[چندم]]-1))","v":0},{"$f":"IF(Table3[[#This Row],[چندم]]=0,\"\",MID(Table3[[#This Row],[شماره تماس]],Table3[[#This Row],[چندم]]+1,30))","v":""}]
[null,983,null,null,null,{"$f":"IFERROR(FIND(\"_\",Table3[[#This Row],[شماره تماس]]),0)","v":0},{"$f":"IF(Table3[[#This Row],[چندم]]=0,Table3[[#This Row],[شماره تماس]],MID(Table3[[#This Row],[شماره تماس]],1,Table3[[#This Row],[چندم]]-1))","v":0},{"$f":"IF(Table3[[#This Row],[چندم]]=0,\"\",MID(Table3[[#This Row],[شماره تماس]],Table3[[#This Row],[چندم]]+1,30))","v":""}]
[null,984,null,null,null,{"$f":"IFERROR(FIND(\"_\",Table3[[#This Row],[شماره تماس]]),0)","v":0},{"$f":"IF(Table3[[#This Row],[چندم]]=0,Table3[[#This Row],[شماره تماس]],MID(Table3[[#This Row],[شماره تماس]],1,Table3[[#This Row],[چندم]]-1))","v":0},{"$f":"IF(Table3[[#This Row],[چندم]]=0,\"\",MID(Table3[[#This Row],[شماره تماس]],Table3[[#This Row],[چندم]]+1,30))","v":""}]
[null,985,null,null,null,{"$f":"IFERROR(FIND(\"_\",Table3[[#This Row],[شماره تماس]]),0)","v":0},{"$f":"IF(Table3[[#This Row],[چندم]]=0,Table3[[#This Row],[شماره تماس]],MID(Table3[[#This Row],[شماره تماس]],1,Table3[[#This Row],[چندم]]-1))","v":0},{"$f":"IF(Table3[[#This Row],[چندم]]=0,\"\",MID(Table3[[#This Row],[شماره تماس]],Table3[[#This Row],[چندم]]+1,30))","v":""}]
[null,986,null,null,null,{"$f":"IFERROR(FIND(\"_\",Table3[[#This Row],[شماره تماس]]),0)","v":0},{"$f":"IF(Table3[[#This Row],[چندم]]=0,Table3[[#This Row],[شماره تماس]],MID(Table3[[#This Row],[شماره تماس]],1,Table3[[#This Row],[چندم]]-1))","v":0},{"$f":"IF(Table3[[#This Row],[چندم]]=0,\"\",MID(Table3[[#This Row],[شماره تماس]],Table3[[#This Row],[چندم]]+1,30))","v":""}]
[null,987,null,null,null,{"$f":"IFERROR(FIND(\"_\",Table3[[#This Row],[شماره تماس]]),0)","v":0},{"$f":"IF(Table3[[#This Row],[چندم]]=0,Table3[[#This Row],[شماره تماس]],MID(Table3[[#This Row],[شماره تماس]],1,Table3[[#This Row],[چندم]]-1))","v":0},{"$f":"IF(Table3[[#This Row],[چندم]]=0,\"\",MID(Table3[[#This Row],[شماره تماس]],Table3[[#This Row],[چندم]]+1,30))","v":""}]
[null,988,null,null,null,{"$f":"IFERROR(FIND(\"_\",Table3[[#This Row],[شماره تماس]]),0)","v":0},{"$f":"IF(Table3[[#This Row],[چندم]]=0,Table3[[#This Row],[شماره تماس]],MID(Table3[[#This Row],[شماره تماس]],1,Table3[[#This Row],[چندم]]-1))","v":0},{"$f":"IF(Table3[[#This Row],[چندم]]=0,\"\",MID(Table3[[#This Row],[شماره تماس]],Table3[[#This Row],[چندم]]+1,30))","v":""}]
[null,989,null,null,null,{"$f":"IFERROR(FIND(\"_\",Table3[[#This Row],[شماره تماس]]),0)","v":0},{"$f":"IF(Table3[[#This Row],[چندم]]=0,Table3[[#This Row],[شماره تماس]],MID(Table3[[#This Row],[شماره تماس]],1,Table3[[#This Row],[چندم]]-1))","v":0},{"$f":"IF(Table3[[#This Row],[چندم]]=0,\"\",MID(Table3[[#This Row],[شماره تماس]],Table3[[#This Row],[چندم]]+1,30))","v":""}]
[null,990,null,null,null,{"$f":"IFERROR(FIND(\"_\",Table3[[#This Row],[شماره تماس]]),0)","v":0},{"$f":"IF(Table3[[#This Row],[چندم]]=0,Table3[[#This Row],[شماره تماس]],MID(Table3[[#This Row],[شماره تماس]],1,Table3[[#This Row],[چندم]]-1))","v":0},{"$f":"IF(Table3[[#This Row],[چندم]]=0,\"\",MID(Table3[[#This Row],[شماره تماس]],Table3[[#This Row],[چندم]]+1,30))","v":""}]
[null,991,null,null,null,{"$f":"IFERROR(FIND(\"_\",Table3[[#This Row],[شماره تماس]]),0)","v":0},{"$f":"IF(Table3[[#This Row],[چندم]]=0,Table3[[#This Row],[شماره تماس]],MID(Table3[[#This Row],[شماره تماس]],1,Table3[[#This Row],[چندم]]-1))","v":0},{"$f":"IF(Table3[[#This Row],[چندم]]=0,\"\",MID(Table3[[#This Row],[شماره تماس]],Table3[[#This Row],[چندم]]+1,30))","v":""}]
[null,992,null,null,null,{"$f":"IFERROR(FIND(\"_\",Table3[[#This Row],[شماره تماس]]),0)","v":0},{"$f":"IF(Table3[[#This Row],[چندم]]=0,Table3[[#This Row],[شماره تماس]],MID(Table3[[#This Row],[شماره تماس]],1,Table3[[#This Row],[چندم]]-1))","v":0},{"$f":"IF(Table3[[#This Row],[چندم]]=0,\"\",MID(Table3[[#This Row],[شماره تماس]],Table3[[#This Row],[چندم]]+1,30))","v":""}]
[null,993,null,null,null,{"$f":"IFERROR(FIND(\"_\",Table3[[#This Row],[شماره تماس]]),0)","v":0},{"$f":"IF(Table3[[#This Row],[چندم]]=0,Table3[[#This Row],[شماره تماس]],MID(Table3[[#This Row],[شماره تماس]],1,Table3[[#This Row],[چندم]]-1))","v":0},{"$f":"IF(Table3[[#This Row],[چندم]]=0,\"\",MID(Table3[[#This Row],[شماره تماس]],Table3[[#This Row],[چندم]]+1,30))","v":""}]
[null,994,null,null,null,{"$f":"IFERROR(FIND(\"_\",Table3[[#This Row],[شماره تماس]]),0)","v":0},{"$f":"IF(Table3[[#This Row],[چندم]]=0,Table3[[#This Row],[شماره تماس]],MID(Table3[[#This Row],[شماره تماس]],1,Table3[[#This Row],[چندم]]-1))","v":0},{"$f":"IF(Table3[[#This Row],[چندم]]=0,\"\",MID(Table3[[#This Row],[شماره تماس]],Table3[[#This Row],[چندم]]+1,30))","v":""}]
[null,995,null,null,null,{"$f":"IFERROR(FIND(\"_\",Table3[[#This Row],[شماره تماس]]),0)","v":0},{"$f":"IF(Table3[[#This Row],[چندم]]=0,Table3[[#This Row],[شماره تماس]],MID(Table3[[#This Row],[شماره تماس]],1,Table3[[#This Row],[چندم]]-1))","v":0},{"$f":"IF(Table3[[#This Row],[چندم]]=0,\"\",MID(Table3[[#This Row],[شماره تماس]],Table3[[#This Row],[چندم]]+1,30))","v":""}]
[null,996,null,null,null,{"$f":"IFERROR(FIND(\"_\",Table3[[#This Row],[شماره تماس]]),0)","v":0},{"$f":"IF(Table3[[#This Row],[چندم]]=0,Table3[[#This Row],[شماره تماس]],MID(Table3[[#This Row],[شماره تماس]],1,Table3[[#This Row],[چندم]]-1))","v":0},{"$f":"IF(Table3[[#This Row],[چندم]]=0,\"\",MID(Table3[[#This Row],[شماره تماس]],Table3[[#This Row],[چندم]]+1,30))","v":""}]
[null,997,null,null,null,{"$f":"IFERROR(FIND(\"_\",Table3[[#This Row],[شماره تماس]]),0)","v":0},{"$f":"IF(Table3[[#This Row],[چندم]]=0,Table3[[#This Row],[شماره تماس]],MID(Table3[[#This Row],[شماره تماس]],1,Table3[[#This Row],[چندم]]-1))","v":0},{"$f":"IF(Table3[[#This Row],[چندم]]=0,\"\",MID(Table3[[#This Row],[شماره تماس]],Table3[[#This Row],[چندم]]+1,30))","v":""}]
[null,998,null,null,null,{"$f":"IFERROR(FIND(\"_\",Table3[[#This Row],[شماره تماس]]),0)","v":0},{"$f":"IF(Table3[[#This Row],[چندم]]=0,Table3[[#This Row],[شماره تماس]],MID(Table3[[#This Row],[شماره تماس]],1,Table3[[#This Row],[چندم]]-1))","v":0},{"$f":"IF(Table3[[#This Row],[چندم]]=0,\"\",MID(Table3[[#This Row],[شماره تماس]],Table3[[#This Row],[چندم]]+1,30))","v":""}]
[null,{"$f":"ROW()-3","v":999},null,null,null,{"$f":"IFERROR(FIND(\"_\",Table3[[#This Row],[شماره تماس]]),0)","v":0},{"$f":"IF(Table3[[#This Row],[چندم]]=0,Table3[[#This Row],[شماره تماس]],MID(Table3[[#This Row],[شماره تماس]],1,Table3[[#This Row],[چندم]]-1))","v":0},{"$f":"IF(Table3[[#This Row],[چندم]]=0,\"\",MID(Table3[[#This Row],[شماره تماس]],Table3[[#This Row],[چندم]]+1,30))","v":""}]
[null,1000,null,null,null,{"$f":"IFERROR(FIND(\"_\",Table3[[#This Row],[شماره تماس]]),0)","v":0},{"$f":"IF(Table3[[#This Row],[چندم]]=0,Table3[[#This Row],[شماره تماس]],MID(Table3[[#This Row],[شماره تماس]],1,Table3[[#This Row],[چندم]]-1))","v":0},{"$f":"IF(Table3[[#This Row],[چندم]]=0,\"\",MID(Table3[[#This Row],[شماره تماس]],Table3[[#This Row],[چندم]]+1,30))","v":""}]
[null,1001,null,null,null,{"$f":"IFERROR(FIND(\"_\",Table3[[#This Row],[شماره تماس]]),0)","v":0},{"$f":"IF(Table3[[#This Row],[چندم]]=0,Table3[[#This Row],[شماره تماس]],MID(Table3[[#This Row],[شماره تماس]],1,Table3[[#This Row],[چندم]]-1))","v":0},{"$f":"IF(Table3[[#This Row],[چندم]]=0,\"\",MID(Table3[[#This Row],[شماره تماس]],Table3[[#This Row],[چندم]]+1,30))","v":""}]
[null,1002,null,null,null,{"$f":"IFERROR(FIND(\"_\",Table3[[#This Row],[شماره تماس]]),0)","v":0},{"$f":"IF(Table3[[#This Row],[چندم]]=0,Table3[[#This Row],[شماره تماس]],MID(Table3[[#This Row],[شماره تماس]],1,Table3[[#This Row],[چندم]]-1))","v":0},{"$f":"IF(Table3[[#This Row],[چندم]]=0,\"\",MID(Table3[[#This Row],[شماره تماس]],Table3[[#This Row],[چندم]]+1,30))","v":""}]
[null,1003,null,null,null,{"$f":"IFERROR(FIND(\"_\",Table3[[#This Row],[شماره تماس]]),0)","v":0},{"$f":"IF(Table3[[#This Row],[چندم]]=0,Table3[[#This Row],[شماره تماس]],MID(Table3[[#This Row],[شماره تماس]],1,Table3[[#This Row],[چندم]]-1))","v":0},{"$f":"IF(Table3[[#This Row],[چندم]]=0,\"\",MID(Table3[[#This Row],[شماره تماس]],Table3[[#This Row],[چندم]]+1,30))","v":""}]
[null,1004,null,null,null,{"$f":"IFERROR(FIND(\"_\",Table3[[#This Row],[شماره تماس]]),0)","v":0},{"$f":"IF(Table3[[#This Row],[چندم]]=0,Table3[[#This Row],[شماره تماس]],MID(Table3[[#This Row],[شماره تماس]],1,Table3[[#This Row],[چندم]]-1))","v":0},{"$f":"IF(Table3[[#This Row],[چندم]]=0,\"\",MID(Table3[[#This Row],[شماره تماس]],Table3[[#This Row],[چندم]]+1,30))","v":""}]
[null,1005,null,null,null,{"$f":"IFERROR(FIND(\"_\",Table3[[#This Row],[شماره تماس]]),0)","v":0},{"$f":"IF(Table3[[#This Row],[چندم]]=0,Table3[[#This Row],[شماره تماس]],MID(Table3[[#This Row],[شماره تماس]],1,Table3[[#This Row],[چندم]]-1))","v":0},{"$f":"IF(Table3[[#This Row],[چندم]]=0,\"\",MID(Table3[[#This Row],[شماره تماس]],Table3[[#This Row],[چندم]]+1,30))","v":""}]
[null,1006,null,null,null,{"$f":"IFERROR(FIND(\"_\",Table3[[#This Row],[شماره تماس]]),0)","v":0},{"$f":"IF(Table3[[#This Row],[چندم]]=0,Table3[[#This Row],[شماره تماس]],MID(Table3[[#This Row],[شماره تماس]],1,Table3[[#This Row],[چندم]]-1))","v":0},{"$f":"IF(Table3[[#This Row],[چندم]]=0,\"\",MID(Table3[[#This Row],[شماره تماس]],Table3[[#This Row],[چندم]]+1,30))","v":""}]
[null,1007,null,null,null,{"$f":"IFERROR(FIND(\"_\",Table3[[#This Row],[شماره تماس]]),0)","v":0},{"$f":"IF(Table3[[#This Row],[چندم]]=0,Table3[[#This Row],[شماره تماس]],MID(Table3[[#This Row],[شماره تماس]],1,Table3[[#This Row],[چندم]]-1))","v":0},{"$f":"IF(Table3[[#This Row],[چندم]]=0,\"\",MID(Table3[[#This Row],[شماره تماس]],Table3[[#This Row],[چندم]]+1,30))","v":""}]
[null,1008,null,null,null,{"$f":"IFERROR(FIND(\"_\",Table3[[#This Row],[شماره تماس]]),0)","v":0},{"$f":"IF(Table3[[#This Row],[چندم]]=0,Table3[[#This Row],[شماره تماس]],MID(Table3[[#This Row],[شماره تماس]],1,Table3[[#This Row],[چندم]]-1))","v":0},{"$f":"IF(Table3[[#This Row],[چندم]]=0,\"\",MID(Table3[[#This Row],[شماره تماس]],Table3[[#This Row],[چندم]]+1,30))","v":""}]
[null,1009,null,null,null,{"$f":"IFERROR(FIND(\"_\",Table3[[#This Row],[شماره تماس]]),0)","v":0},{"$f":"IF(Table3[[#This Row],[چندم]]=0,Table3[[#This Row],[شماره تماس]],MID(Table3[[#This Row],[شماره تماس]],1,Table3[[#This Row],[چندم]]-1))","v":0},{"$f":"IF(Table3[[#This Row],[چندم]]=0,\"\",MID(Table3[[#This Row],[شماره تماس]],Table3[[#This Row],[چندم]]+1,30))","v":""}]
[null,1010,null,null,null,{"$f":"IFERROR(FIND(\"_\",Table3[[#This Row],[شماره تماس]]),0)","v":0},{"$f":"IF(Table3[[#This Row],[چندم]]=0,Table3[[#This Row],[شماره تماس]],MID(Table3[[#This Row],[شماره تماس]],1,Table3[[#This Row],[چندم]]-1))","v":0},{"$f":"IF(Table3[[#This Row],[چندم]]=0,\"\",MID(Table3[[#This Row],[شماره تماس]],Table3[[#This Row],[چندم]]+1,30))","v":""}]
[null,1011,null,null,null,{"$f":"IFERROR(FIND(\"_\",Table3[[#This Row],[شماره تماس]]),0)","v":0},{"$f":"IF(Table3[[#This Row],[چندم]]=0,Table3[[#This Row],[شماره تماس]],MID(Table3[[#This Row],[شماره تماس]],1,Table3[[#This Row],[چندم]]-1))","v":0},{"$f":"IF(Table3[[#This Row],[چندم]]=0,\"\",MID(Table3[[#This Row],[شماره تماس]],Table3[[#This Row],[چندم]]+1,30))","v":""}]
[null,1012,null,null,null,{"$f":"IFERROR(FIND(\"_\",Table3[[#This Row],[شماره تماس]]),0)","v":0},{"$f":"IF(Table3[[#This Row],[چندم]]=0,Table3[[#This Row],[شماره تماس]],MID(Table3[[#This Row],[شماره تماس]],1,Table3[[#This Row],[چندم]]-1))","v":0},{"$f":"IF(Table3[[#This Row],[چندم]]=0,\"\",MID(Table3[[#This Row],[شماره تماس]],Table3[[#This Row],[چندم]]+1,30))","v":""}]
[null,1013,null,null,null,{"$f":"IFERROR(FIND(\"_\",Table3[[#This Row],[شماره تماس]]),0)","v":0},{"$f":"IF(Table3[[#This Row],[چندم]]=0,Table3[[#This Row],[شماره تماس]],MID(Table3[[#This Row],[شماره تماس]],1,Table3[[#This Row],[چندم]]-1))","v":0},{"$f":"IF(Table3[[#This Row],[چندم]]=0,\"\",MID(Table3[[#This Row],[شماره تماس]],Table3[[#This Row],[چندم]]+1,30))","v":""}]
[null,1014,null,null,null,{"$f":"IFERROR(FIND(\"_\",Table3[[#This Row],[شماره تماس]]),0)","v":0},{"$f":"IF(Table3[[#This Row],[چندم]]=0,Table3[[#This Row],[شماره تماس]],MID(Table3[[#This Row],[شماره تماس]],1,Table3[[#This Row],[چندم]]-1))","v":0},{"$f":"IF(Table3[[#This Row],[چندم]]=0,\"\",MID(Table3[[#This Row],[شماره تماس]],Table3[[#This Row],[چندم]]+1,30))","v":""}]
[null,1015,null,null,null,{"$f":"IFERROR(FIND(\"_\",Table3[[#This Row],[شماره تماس]]),0)","v":0},{"$f":"IF(Table3[[#This Row],[چندم]]=0,Table3[[#This Row],[شماره تماس]],MID(Table3[[#This Row],[شماره تماس]],1,Table3[[#This Row],[چندم]]-1))","v":0},{"$f":"IF(Table3[[#This Row],[چندم]]=0,\"\",MID(Table3[[#This Row],[شماره تماس]],Table3[[#This Row],[چندم]]+1,30))","v":""}]
[null,1016,null,null,null,{"$f":"IFERROR(FIND(\"_\",Table3[[#This Row],[شماره تماس]]),0)","v":0},{"$f":"IF(Table3[[#This Row],[چندم]]=0,Table3[[#This Row],[شماره تماس]],MID(Table3[[#This Row],[شماره تماس]],1,Table3[[#This Row],[چندم]]-1))","v":0},{"$f":"IF(Table3[[#This Row],[چندم]]=0,\"\",MID(Table3[[#This Row],[شماره تماس]],Table3[[#This Row],[چندم]]+1,30))","v":""}]
[null,1017,null,null,null,{"$f":"IFERROR(FIND(\"_\",Table3[[#This Row],[شماره تماس]]),0)","v":0},{"$f":"IF(Table3[[#This Row],[چندم]]=0,Table3[[#This Row],[شماره تماس]],MID(Table3[[#This Row],[شماره تماس]],1,Table3[[#This Row],[چندم]]-1))","v":0},{"$f":"IF(Table3[[#This Row],[چندم]]=0,\"\",MID(Table3[[#This Row],[شماره تماس]],Table3[[#This Row],[چندم]]+1,30))","v":""}]
[null,1018,null,null,null,{"$f":"IFERROR(FIND(\"_\",Table3[[#This Row],[شماره تماس]]),0)","v":0},{"$f":"IF(Table3[[#This Row],[چندم]]=0,Table3[[#This Row],[شماره تماس]],MID(Table3[[#This Row],[شماره تماس]],1,Table3[[#This Row],[چندم]]-1))","v":0},{"$f":"IF(Table3[[#This Row],[چندم]]=0,\"\",MID(Table3[[#This Row],[شماره تماس]],Table3[[#This Row],[چندم]]+1,30))","v":""}]
[null,1019,null,null,null,{"$f":"IFERROR(FIND(\"_\",Table3[[#This Row],[شماره تماس]]),0)","v":0},{"$f":"IF(Table3[[#This Row],[چندم]]=0,Table3[[#This Row],[شماره تماس]],MID(Table3[[#This Row],[شماره تماس]],1,Table3[[#This Row],[چندم]]-1))","v":0},{"$f":"IF(Table3[[#This Row],[چندم]]=0,\"\",MID(Table3[[#This Row],[شماره تماس]],Table3[[#This Row],[چندم]]+1,30))","v":""}]
[null,1020,null,null,null,{"$f":"IFERROR(FIND(\"_\",Table3[[#This Row],[شماره تماس]]),0)","v":0},{"$f":"IF(Table3[[#This Row],[چندم]]=0,Table3[[#This Row],[شماره تماس]],MID(Table3[[#This Row],[شماره تماس]],1,Table3[[#This Row],[چندم]]-1))","v":0},{"$f":"IF(Table3[[#This Row],[چندم]]=0,\"\",MID(Table3[[#This Row],[شماره تماس]],Table3[[#This Row],[چندم]]+1,30))","v":""}]
[null,1021,null,null,null,{"$f":"IFERROR(FIND(\"_\",Table3[[#This Row],[شماره تماس]]),0)","v":0},{"$f":"IF(Table3[[#This Row],[چندم]]=0,Table3[[#This Row],[شماره تماس]],MID(Table3[[#This Row],[شماره تماس]],1,Table3[[#This Row],[چندم]]-1))","v":0},{"$f":"IF(Table3[[#This Row],[چندم]]=0,\"\",MID(Table3[[#This Row],[شماره تماس]],Table3[[#This Row],[چندم]]+1,30))","v":""}]
[null,1022,null,null,null,{"$f":"IFERROR(FIND(\"_\",Table3[[#This Row],[شماره تماس]]),0)","v":0},{"$f":"IF(Table3[[#This Row],[چندم]]=0,Table3[[#This Row],[شماره تماس]],MID(Table3[[#This Row],[شماره تماس]],1,Table3[[#This Row],[چندم]]-1))","v":0},{"$f":"IF(Table3[[#This Row],[چندم]]=0,\"\",MID(Table3[[#This Row],[شماره تماس]],Table3[[#This Row],[چندم]]+1,30))","v":""}]
[null,1023,null,null,null,{"$f":"IFERROR(FIND(\"_\",Table3[[#This Row],[شماره تماس]]),0)","v":0},{"$f":"IF(Table3[[#This Row],[چندم]]=0,Table3[[#This Row],[شماره تماس]],MID(Table3[[#This Row],[شماره تماس]],1,Table3[[#This Row],[چندم]]-1))","v":0},{"$f":"IF(Table3[[#This Row],[چندم]]=0,\"\",MID(Table3[[#This Row],[شماره تماس]],Table3[[#This Row],[چندم]]+1,30))","v":""}]
[null,1024,null,null,null,{"$f":"IFERROR(FIND(\"_\",Table3[[#This Row],[شماره تماس]]),0)","v":0},{"$f":"IF(Table3[[#This Row],[چندم]]=0,Table3[[#This Row],[شماره تماس]],MID(Table3[[#This Row],[شماره تماس]],1,Table3[[#This Row],[چندم]]-1))","v":0},{"$f":"IF(Table3[[#This Row],[چندم]]=0,\"\",MID(Table3[[#This Row],[شماره تماس]],Table3[[#This Row],[چندم]]+1,30))","v":""}]
[null,1025,null,null,null,{"$f":"IFERROR(FIND(\"_\",Table3[[#This Row],[شماره تماس]]),0)","v":0},{"$f":"IF(Table3[[#This Row],[چندم]]=0,Table3[[#This Row],[شماره تماس]],MID(Table3[[#This Row],[شماره تماس]],1,Table3[[#This Row],[چندم]]-1))","v":0},{"$f":"IF(Table3[[#This Row],[چندم]]=0,\"\",MID(Table3[[#This Row],[شماره تماس]],Table3[[#This Row],[چندم]]+1,30))","v":""}]
[null,1026,null,null,null,{"$f":"IFERROR(FIND(\"_\",Table3[[#This Row],[شماره تماس]]),0)","v":0},{"$f":"IF(Table3[[#This Row],[چندم]]=0,Table3[[#This Row],[شماره تماس]],MID(Table3[[#This Row],[شماره تماس]],1,Table3[[#This Row],[چندم]]-1))","v":0},{"$f":"IF(Table3[[#This Row],[چندم]]=0,\"\",MID(Table3[[#This Row],[شماره تماس]],Table3[[#This Row],[چندم]]+1,30))","v":""}]
[null,1027,null,null,null,{"$f":"IFERROR(FIND(\"_\",Table3[[#This Row],[شماره تماس]]),0)","v":0},{"$f":"IF(Table3[[#This Row],[چندم]]=0,Table3[[#This Row],[شماره تماس]],MID(Table3[[#This Row],[شماره تماس]],1,Table3[[#This Row],[چندم]]-1))","v":0},{"$f":"IF(Table3[[#This Row],[چندم]]=0,\"\",MID(Table3[[#This Row],[شماره تماس]],Table3[[#This Row],[چندم]]+1,30))","v":""}]
[null,1028,null,null,null,{"$f":"IFERROR(FIND(\"_\",Table3[[#This Row],[شماره تماس]]),0)","v":0},{"$f":"IF(Table3[[#This Row],[چندم]]=0,Table3[[#This Row],[شماره تماس]],MID(Table3[[#This Row],[شماره تماس]],1,Table3[[#This Row],[چندم]]-1))","v":0},{"$f":"IF(Table3[[#This Row],[چندم]]=0,\"\",MID(Table3[[#This Row],[شماره تماس]],Table3[[#This Row],[چندم]]+1,30))","v":""}]
[null,1029,null,null,null,{"$f":"IFERROR(FIND(\"_\",Table3[[#This Row],[شماره تماس]]),0)","v":0},{"$f":"IF(Table3[[#This Row],[چندم]]=0,Table3[[#This Row],[شماره تماس]],MID(Table3[[#This Row],[شماره تماس]],1,Table3[[#This Row],[چندم]]-1))","v":0},{"$f":"IF(Table3[[#This Row],[چندم]]=0,\"\",MID(Table3[[#This Row],[شماره تماس]],Table3[[#This Row],[چندم]]+1,30))","v":""}]
[null,1030,null,null,null,{"$f":"IFERROR(FIND(\"_\",Table3[[#This Row],[شماره تماس]]),0)","v":0},{"$f":"IF(Table3[[#This Row],[چندم]]=0,Table3[[#This Row],[شماره تماس]],MID(Table3[[#This Row],[شماره تماس]],1,Table3[[#This Row],[چندم]]-1))","v":0},{"$f":"IF(Table3[[#This Row],[چندم]]=0,\"\",MID(Table3[[#This Row],[شماره تماس]],Table3[[#This Row],[چندم]]+1,30))","v":""}]
[null,1031,null,null,null,{"$f":"IFERROR(FIND(\"_\",Table3[[#This Row],[شماره تماس]]),0)","v":0},{"$f":"IF(Table3[[#This Row],[چندم]]=0,Table3[[#This Row],[شماره تماس]],MID(Table3[[#This Row],[شماره تماس]],1,Table3[[#This Row],[چندم]]-1))","v":0},{"$f":"IF(Table3[[#This Row],[چندم]]=0,\"\",MID(Table3[[#This Row],[شماره تماس]],Table3[[#This Row],[چندم]]+1,30))","v":""}]
[null,1032,null,null,null,{"$f":"IFERROR(FIND(\"_\",Table3[[#This Row],[شماره تماس]]),0)","v":0},{"$f":"IF(Table3[[#This Row],[چندم]]=0,Table3[[#This Row],[شماره تماس]],MID(Table3[[#This Row],[شماره تماس]],1,Table3[[#This Row],[چندم]]-1))","v":0},{"$f":"IF(Table3[[#This Row],[چندم]]=0,\"\",MID(Table3[[#This Row],[شماره تماس]],Table3[[#This Row],[چندم]]+1,30))","v":""}]
[null,1033,null,null,null,{"$f":"IFERROR(FIND(\"_\",Table3[[#This Row],[شماره تماس]]),0)","v":0},{"$f":"IF(Table3[[#This Row],[چندم]]=0,Table3[[#This Row],[شماره تماس]],MID(Table3[[#This Row],[شماره تماس]],1,Table3[[#This Row],[چندم]]-1))","v":0},{"$f":"IF(Table3[[#This Row],[چندم]]=0,\"\",MID(Table3[[#This Row],[شماره تماس]],Table3[[#This Row],[چندم]]+1,30))","v":""}]
[null,1034,null,null,null,{"$f":"IFERROR(FIND(\"_\",Table3[[#This Row],[شماره تماس]]),0)","v":0},{"$f":"IF(Table3[[#This Row],[چندم]]=0,Table3[[#This Row],[شماره تماس]],MID(Table3[[#This Row],[شماره تماس]],1,Table3[[#This Row],[چندم]]-1))","v":0},{"$f":"IF(Table3[[#This Row],[چندم]]=0,\"\",MID(Table3[[#This Row],[شماره تماس]],Table3[[#This Row],[چندم]]+1,30))","v":""}]
[null,1035,null,null,null,{"$f":"IFERROR(FIND(\"_\",Table3[[#This Row],[شماره تماس]]),0)","v":0},{"$f":"IF(Table3[[#This Row],[چندم]]=0,Table3[[#This Row],[شماره تماس]],MID(Table3[[#This Row],[شماره تماس]],1,Table3[[#This Row],[چندم]]-1))","v":0},{"$f":"IF(Table3[[#This Row],[چندم]]=0,\"\",MID(Table3[[#This Row],[شماره تماس]],Table3[[#This Row],[چندم]]+1,30))","v":""}]
[null,1036,null,null,null,{"$f":"IFERROR(FIND(\"_\",Table3[[#This Row],[شماره تماس]]),0)","v":0},{"$f":"IF(Table3[[#This Row],[چندم]]=0,Table3[[#This Row],[شماره تماس]],MID(Table3[[#This Row],[شماره تماس]],1,Table3[[#This Row],[چندم]]-1))","v":0},{"$f":"IF(Table3[[#This Row],[چندم]]=0,\"\",MID(Table3[[#This Row],[شماره تماس]],Table3[[#This Row],[چندم]]+1,30))","v":""}]
[null,1037,null,null,null,{"$f":"IFERROR(FIND(\"_\",Table3[[#This Row],[شماره تماس]]),0)","v":0},{"$f":"IF(Table3[[#This Row],[چندم]]=0,Table3[[#This Row],[شماره تماس]],MID(Table3[[#This Row],[شماره تماس]],1,Table3[[#This Row],[چندم]]-1))","v":0},{"$f":"IF(Table3[[#This Row],[چندم]]=0,\"\",MID(Table3[[#This Row],[شماره تماس]],Table3[[#This Row],[چندم]]+1,30))","v":""}]
[null,1038,null,null,null,{"$f":"IFERROR(FIND(\"_\",Table3[[#This Row],[شماره تماس]]),0)","v":0},{"$f":"IF(Table3[[#This Row],[چندم]]=0,Table3[[#This Row],[شماره تماس]],MID(Table3[[#This Row],[شماره تماس]],1,Table3[[#This Row],[چندم]]-1))","v":0},{"$f":"IF(Table3[[#This Row],[چندم]]=0,\"\",MID(Table3[[#This Row],[شماره تماس]],Table3[[#This Row],[چندم]]+1,30))","v":""}]
[null,1039,null,null,null,{"$f":"IFERROR(FIND(\"_\",Table3[[#This Row],[شماره تماس]]),0)","v":0},{"$f":"IF(Table3[[#This Row],[چندم]]=0,Table3[[#This Row],[شماره تماس]],MID(Table3[[#This Row],[شماره تماس]],1,Table3[[#This Row],[چندم]]-1))","v":0},{"$f":"IF(Table3[[#This Row],[چندم]]=0,\"\",MID(Table3[[#This Row],[شماره تماس]],Table3[[#This Row],[چندم]]+1,30))","v":""}]
[null,1040,null,null,null,{"$f":"IFERROR(FIND(\"_\",Table3[[#This Row],[شماره تماس]]),0)","v":0},{"$f":"IF(Table3[[#This Row],[چندم]]=0,Table3[[#This Row],[شماره تماس]],MID(Table3[[#This Row],[شماره تماس]],1,Table3[[#This Row],[چندم]]-1))","v":0},{"$f":"IF(Table3[[#This Row],[چندم]]=0,\"\",MID(Table3[[#This Row],[شماره تماس]],Table3[[#This Row],[چندم]]+1,30))","v":""}]
[null,1041,null,null,null,{"$f":"IFERROR(FIND(\"_\",Table3[[#This Row],[شماره تماس]]),0)","v":0},{"$f":"IF(Table3[[#This Row],[چندم]]=0,Table3[[#This Row],[شماره تماس]],MID(Table3[[#This Row],[شماره تماس]],1,Table3[[#This Row],[چندم]]-1))","v":0},{"$f":"IF(Table3[[#This Row],[چندم]]=0,\"\",MID(Table3[[#This Row],[شماره تماس]],Table3[[#This Row],[چندم]]+1,30))","v":""}]
[null,1042,null,null,null,{"$f":"IFERROR(FIND(\"_\",Table3[[#This Row],[شماره تماس]]),0)","v":0},{"$f":"IF(Table3[[#This Row],[چندم]]=0,Table3[[#This Row],[شماره تماس]],MID(Table3[[#This Row],[شماره تماس]],1,Table3[[#This Row],[چندم]]-1))","v":0},{"$f":"IF(Table3[[#This Row],[چندم]]=0,\"\",MID(Table3[[#This Row],[شماره تماس]],Table3[[#This Row],[چندم]]+1,30))","v":""}]
[null,1043,null,null,null,{"$f":"IFERROR(FIND(\"_\",Table3[[#This Row],[شماره تماس]]),0)","v":0},{"$f":"IF(Table3[[#This Row],[چندم]]=0,Table3[[#This Row],[شماره تماس]],MID(Table3[[#This Row],[شماره تماس]],1,Table3[[#This Row],[چندم]]-1))","v":0},{"$f":"IF(Table3[[#This Row],[چندم]]=0,\"\",MID(Table3[[#This Row],[شماره تماس]],Table3[[#This Row],[چندم]]+1,30))","v":""}]
[null,1044,null,null,null,{"$f":"IFERROR(FIND(\"_\",Table3[[#This Row],[شماره تماس]]),0)","v":0},{"$f":"IF(Table3[[#This Row],[چندم]]=0,Table3[[#This Row],[شماره تماس]],MID(Table3[[#This Row],[شماره تماس]],1,Table3[[#This Row],[چندم]]-1))","v":0},{"$f":"IF(Table3[[#This Row],[چندم]]=0,\"\",MID(Table3[[#This Row],[شماره تماس]],Table3[[#This Row],[چندم]]+1,30))","v":""}]
[null,1045,null,null,null,{"$f":"IFERROR(FIND(\"_\",Table3[[#This Row],[شماره تماس]]),0)","v":0},{"$f":"IF(Table3[[#This Row],[چندم]]=0,Table3[[#This Row],[شماره تماس]],MID(Table3[[#This Row],[شماره تماس]],1,Table3[[#This Row],[چندم]]-1))","v":0},{"$f":"IF(Table3[[#This Row],[چندم]]=0,\"\",MID(Table3[[#This Row],[شماره تماس]],Table3[[#This Row],[چندم]]+1,30))","v":""}]
[null,1046,null,null,null,{"$f":"IFERROR(FIND(\"_\",Table3[[#This Row],[شماره تماس]]),0)","v":0},{"$f":"IF(Table3[[#This Row],[چندم]]=0,Table3[[#This Row],[شماره تماس]],MID(Table3[[#This Row],[شماره تماس]],1,Table3[[#This Row],[چندم]]-1))","v":0},{"$f":"IF(Table3[[#This Row],[چندم]]=0,\"\",MID(Table3[[#This Row],[شماره تماس]],Table3[[#This Row],[چندم]]+1,30))","v":""}]
[null,1047,null,null,null,{"$f":"IFERROR(FIND(\"_\",Table3[[#This Row],[شماره تماس]]),0)","v":0},{"$f":"IF(Table3[[#This Row],[چندم]]=0,Table3[[#This Row],[شماره تماس]],MID(Table3[[#This Row],[شماره تماس]],1,Table3[[#This Row],[چندم]]-1))","v":0},{"$f":"IF(Table3[[#This Row],[چندم]]=0,\"\",MID(Table3[[#This Row],[شماره تماس]],Table3[[#This Row],[چندم]]+1,30))","v":""}]
[null,1048,null,null,null,{"$f":"IFERROR(FIND(\"_\",Table3[[#This Row],[شماره تماس]]),0)","v":0},{"$f":"IF(Table3[[#This Row],[چندم]]=0,Table3[[#This Row],[شماره تماس]],MID(Table3[[#This Row],[شماره تماس]],1,Table3[[#This Row],[چندم]]-1))","v":0},{"$f":"IF(Table3[[#This Row],[چندم]]=0,\"\",MID(Table3[[#This Row],[شماره تماس]],Table3[[#This Row],[چندم]]+1,30))","v":""}]
[null,1049,null,null,null,{"$f":"IFERROR(FIND(\"_\",Table3[[#This Row],[شماره تماس]]),0)","v":0},{"$f":"IF(Table3[[#This Row],[چندم]]=0,Table3[[#This Row],[شماره تماس]],MID(Table3[[#This Row],[شماره تماس]],1,Table3[[#This Row],[چندم]]-1))","v":0},{"$f":"IF(Table3[[#This Row],[چندم]]=0,\"\",MID(Table3[[#This Row],[شماره تماس]],Table3[[#This Row],[چندم]]+1,30))","v":""}]
[null,1050,null,null,null,{"$f":"IFERROR(FIND(\"_\",Table3[[#This Row],[شماره تماس]]),0)","v":0},{"$f":"IF(Table3[[#This Row],[چندم]]=0,Table3[[#This Row],[شماره تماس]],MID(Table3[[#This Row],[شماره تماس]],1,Table3[[#This Row],[چندم]]-1))","v":0},{"$f":"IF(Table3[[#This Row],[چندم]]=0,\"\",MID(Table3[[#This Row],[شماره تماس]],Table3[[#This Row],[چندم]]+1,30))","v":""}]
[null,1051,null,null,null,{"$f":"IFERROR(FIND(\"_\",Table3[[#This Row],[شماره تماس]]),0)","v":0},{"$f":"IF(Table3[[#This Row],[چندم]]=0,Table3[[#This Row],[شماره تماس]],MID(Table3[[#This Row],[شماره تماس]],1,Table3[[#This Row],[چندم]]-1))","v":0},{"$f":"IF(Table3[[#This Row],[چندم]]=0,\"\",MID(Table3[[#This Row],[شماره تماس]],Table3[[#This Row],[چندم]]+1,30))","v":""}]
[null,1052,null,null,null,{"$f":"IFERROR(FIND(\"_\",Table3[[#This Row],[شماره تماس]]),0)","v":0},{"$f":"IF(Table3[[#This Row],[چندم]]=0,Table3[[#This Row],[شماره تماس]],MID(Table3[[#This Row],[شماره تماس]],1,Table3[[#This Row],[چندم]]-1))","v":0},{"$f":"IF(Table3[[#This Row],[چندم]]=0,\"\",MID(Table3[[#This Row],[شماره تماس]],Table3[[#This Row],[چندم]]+1,30))","v":""}]
[null,1053,null,null,null,{"$f":"IFERROR(FIND(\"_\",Table3[[#This Row],[شماره تماس]]),0)","v":0},{"$f":"IF(Table3[[#This Row],[چندم]]=0,Table3[[#This Row],[شماره تماس]],MID(Table3[[#This Row],[شماره تماس]],1,Table3[[#This Row],[چندم]]-1))","v":0},{"$f":"IF(Table3[[#This Row],[چندم]]=0,\"\",MID(Table3[[#This Row],[شماره تماس]],Table3[[#This Row],[چندم]]+1,30))","v":""}]
[null,1054,null,null,null,{"$f":"IFERROR(FIND(\"_\",Table3[[#This Row],[شماره تماس]]),0)","v":0},{"$f":"IF(Table3[[#This Row],[چندم]]=0,Table3[[#This Row],[شماره تماس]],MID(Table3[[#This Row],[شماره تماس]],1,Table3[[#This Row],[چندم]]-1))","v":0},{"$f":"IF(Table3[[#This Row],[چندم]]=0,\"\",MID(Table3[[#This Row],[شماره تماس]],Table3[[#This Row],[چندم]]+1,30))","v":""}]
[null,1055,null,null,null,{"$f":"IFERROR(FIND(\"_\",Table3[[#This Row],[شماره تماس]]),0)","v":0},{"$f":"IF(Table3[[#This Row],[چندم]]=0,Table3[[#This Row],[شماره تماس]],MID(Table3[[#This Row],[شماره تماس]],1,Table3[[#This Row],[چندم]]-1))","v":0},{"$f":"IF(Table3[[#This Row],[چندم]]=0,\"\",MID(Table3[[#This Row],[شماره تماس]],Table3[[#This Row],[چندم]]+1,30))","v":""}]
[null,1056,null,null,null,{"$f":"IFERROR(FIND(\"_\",Table3[[#This Row],[شماره تماس]]),0)","v":0},{"$f":"IF(Table3[[#This Row],[چندم]]=0,Table3[[#This Row],[شماره تماس]],MID(Table3[[#This Row],[شماره تماس]],1,Table3[[#This Row],[چندم]]-1))","v":0},{"$f":"IF(Table3[[#This Row],[چندم]]=0,\"\",MID(Table3[[#This Row],[شماره تماس]],Table3[[#This Row],[چندم]]+1,30))","v":""}]
[null,1057,null,null,null,{"$f":"IFERROR(FIND(\"_\",Table3[[#This Row],[شماره تماس]]),0)","v":0},{"$f":"IF(Table3[[#This Row],[چندم]]=0,Table3[[#This Row],[شماره تماس]],MID(Table3[[#This Row],[شماره تماس]],1,Table3[[#This Row],[چندم]]-1))","v":0},{"$f":"IF(Table3[[#This Row],[چندم]]=0,\"\",MID(Table3[[#This Row],[شماره تماس]],Table3[[#This Row],[چندم]]+1,30))","v":""}]
[null,1058,null,null,null,{"$f":"IFERROR(FIND(\"_\",Table3[[#This Row],[شماره تماس]]),0)","v":0},{"$f":"IF(Table3[[#This Row],[چندم]]=0,Table3[[#This Row],[شماره تماس]],MID(Table3[[#This Row],[شماره تماس]],1,Table3[[#This Row],[چندم]]-1))","v":0},{"$f":"IF(Table3[[#This Row],[چندم]]=0,\"\",MID(Table3[[#This Row],[شماره تماس]],Table3[[#This Row],[چندم]]+1,30))","v":""}]
[null,1059,null,null,null,{"$f":"IFERROR(FIND(\"_\",Table3[[#This Row],[شماره تماس]]),0)","v":0},{"$f":"IF(Table3[[#This Row],[چندم]]=0,Table3[[#This Row],[شماره تماس]],MID(Table3[[#This Row],[شماره تماس]],1,Table3[[#This Row],[چندم]]-1))","v":0},{"$f":"IF(Table3[[#This Row],[چندم]]=0,\"\",MID(Table3[[#This Row],[شماره تماس]],Table3[[#This Row],[چندم]]+1,30))","v":""}]
[null,1060,null,null,null,{"$f":"IFERROR(FIND(\"_\",Table3[[#This Row],[شماره تماس]]),0)","v":0},{"$f":"IF(Table3[[#This Row],[چندم]]=0,Table3[[#This Row],[شماره تماس]],MID(Table3[[#This Row],[شماره تماس]],1,Table3[[#This Row],[چندم]]-1))","v":0},{"$f":"IF(Table3[[#This Row],[چندم]]=0,\"\",MID(Table3[[#This Row],[شماره تماس]],Table3[[#This Row],[چندم]]+1,30))","v":""}]
[null,1061,null,null,null,{"$f":"IFERROR(FIND(\"_\",Table3[[#This Row],[شماره تماس]]),0)","v":0},{"$f":"IF(Table3[[#This Row],[چندم]]=0,Table3[[#This Row],[شماره تماس]],MID(Table3[[#This Row],[شماره تماس]],1,Table3[[#This Row],[چندم]]-1))","v":0},{"$f":"IF(Table3[[#This Row],[چندم]]=0,\"\",MID(Table3[[#This Row],[شماره تماس]],Table3[[#This Row],[چندم]]+1,30))","v":""}]
[null,1062,null,null,null,{"$f":"IFERROR(FIND(\"_\",Table3[[#This Row],[شماره تماس]]),0)","v":0},{"$f":"IF(Table3[[#This Row],[چندم]]=0,Table3[[#This Row],[شماره تماس]],MID(Table3[[#This Row],[شماره تماس]],1,Table3[[#This Row],[چندم]]-1))","v":0},{"$f":"IF(Table3[[#This Row],[چندم]]=0,\"\",MID(Table3[[#This Row],[شماره تماس]],Table3[[#This Row],[چندم]]+1,30))","v":""}]
[null,{"$f":"ROW()-3","v":1063},null,null,null,{"$f":"IFERROR(FIND(\"_\",Table3[[#This Row],[شماره تماس]]),0)","v":0},{"$f":"IF(Table3[[#This Row],[چندم]]=0,Table3[[#This Row],[شماره تماس]],MID(Table3[[#This Row],[شماره تماس]],1,Table3[[#This Row],[چندم]]-1))","v":0},{"$f":"IF(Table3[[#This Row],[چندم]]=0,\"\",MID(Table3[[#This Row],[شماره تماس]],Table3[[#This Row],[چندم]]+1,30))","v":""}]
[null,1064,null,null,null,{"$f":"IFERROR(FIND(\"_\",Table3[[#This Row],[شماره تماس]]),0)","v":0},{"$f":"IF(Table3[[#This Row],[چندم]]=0,Table3[[#This Row],[شماره تماس]],MID(Table3[[#This Row],[شماره تماس]],1,Table3[[#This Row],[چندم]]-1))","v":0},{"$f":"IF(Table3[[#This Row],[چندم]]=0,\"\",MID(Table3[[#This Row],[شماره تماس]],Table3[[#This Row],[چندم]]+1,30))","v":""}]
[null,1065,null,null,null,{"$f":"IFERROR(FIND(\"_\",Table3[[#This Row],[شماره تماس]]),0)","v":0},{"$f":"IF(Table3[[#This Row],[چندم]]=0,Table3[[#This Row],[شماره تماس]],MID(Table3[[#This Row],[شماره تماس]],1,Table3[[#This Row],[چندم]]-1))","v":0},{"$f":"IF(Table3[[#This Row],[چندم]]=0,\"\",MID(Table3[[#This Row],[شماره تماس]],Table3[[#This Row],[چندم]]+1,30))","v":""}]
[null,1066,null,null,null,{"$f":"IFERROR(FIND(\"_\",Table3[[#This Row],[شماره تماس]]),0)","v":0},{"$f":"IF(Table3[[#This Row],[چندم]]=0,Table3[[#This Row],[شماره تماس]],MID(Table3[[#This Row],[شماره تماس]],1,Table3[[#This Row],[چندم]]-1))","v":0},{"$f":"IF(Table3[[#This Row],[چندم]]=0,\"\",MID(Table3[[#This Row],[شماره تماس]],Table3[[#This Row],[چندم]]+1,30))","v":""}]
[null,1067,null,null,null,{"$f":"IFERROR(FIND(\"_\",Table3[[#This Row],[شماره تماس]]),0)","v":0},{"$f":"IF(Table3[[#This Row],[چندم]]=0,Table3[[#This Row],[شماره تماس]],MID(Table3[[#This Row],[شماره تماس]],1,Table3[[#This Row],[چندم]]-1))","v":0},{"$f":"IF(Table3[[#This Row],[چندم]]=0,\"\",MID(Table3[[#This Row],[شماره تماس]],Table3[[#This Row],[چندم]]+1,30))","v":""}]
[null,1068,null,null,null,{"$f":"IFERROR(FIND(\"_\",Table3[[#This Row],[شماره تماس]]),0)","v":0},{"$f":"IF(Table3[[#This Row],[چندم]]=0,Table3[[#This Row],[شماره تماس]],MID(Table3[[#This Row],[شماره تماس]],1,Table3[[#This Row],[چندم]]-1))","v":0},{"$f":"IF(Table3[[#This Row],[چندم]]=0,\"\",MID(Table3[[#This Row],[شماره تماس]],Table3[[#This Row],[چندم]]+1,30))","v":""}]
[null,1069,null,null,null,{"$f":"IFERROR(FIND(\"_\",Table3[[#This Row],[شماره تماس]]),0)","v":0},{"$f":"IF(Table3[[#This Row],[چندم]]=0,Table3[[#This Row],[شماره تماس]],MID(Table3[[#This Row],[شماره تماس]],1,Table3[[#This Row],[چندم]]-1))","v":0},{"$f":"IF(Table3[[#This Row],[چندم]]=0,\"\",MID(Table3[[#This Row],[شماره تماس]],Table3[[#This Row],[چندم]]+1,30))","v":""}]
[null,1070,null,null,null,{"$f":"IFERROR(FIND(\"_\",Table3[[#This Row],[شماره تماس]]),0)","v":0},{"$f":"IF(Table3[[#This Row],[چندم]]=0,Table3[[#This Row],[شماره تماس]],MID(Table3[[#This Row],[شماره تماس]],1,Table3[[#This Row],[چندم]]-1))","v":0},{"$f":"IF(Table3[[#This Row],[چندم]]=0,\"\",MID(Table3[[#This Row],[شماره تماس]],Table3[[#This Row],[چندم]]+1,30))","v":""}]
[null,1071,null,null,null,{"$f":"IFERROR(FIND(\"_\",Table3[[#This Row],[شماره تماس]]),0)","v":0},{"$f":"IF(Table3[[#This Row],[چندم]]=0,Table3[[#This Row],[شماره تماس]],MID(Table3[[#This Row],[شماره تماس]],1,Table3[[#This Row],[چندم]]-1))","v":0},{"$f":"IF(Table3[[#This Row],[چندم]]=0,\"\",MID(Table3[[#This Row],[شماره تماس]],Table3[[#This Row],[چندم]]+1,30))","v":""}]
[null,1072,null,null,null,{"$f":"IFERROR(FIND(\"_\",Table3[[#This Row],[شماره تماس]]),0)","v":0},{"$f":"IF(Table3[[#This Row],[چندم]]=0,Table3[[#This Row],[شماره تماس]],MID(Table3[[#This Row],[شماره تماس]],1,Table3[[#This Row],[چندم]]-1))","v":0},{"$f":"IF(Table3[[#This Row],[چندم]]=0,\"\",MID(Table3[[#This Row],[شماره تماس]],Table3[[#This Row],[چندم]]+1,30))","v":""}]
[null,1073,null,null,null,{"$f":"IFERROR(FIND(\"_\",Table3[[#This Row],[شماره تماس]]),0)","v":0},{"$f":"IF(Table3[[#This Row],[چندم]]=0,Table3[[#This Row],[شماره تماس]],MID(Table3[[#This Row],[شماره تماس]],1,Table3[[#This Row],[چندم]]-1))","v":0},{"$f":"IF(Table3[[#This Row],[چندم]]=0,\"\",MID(Table3[[#This Row],[شماره تماس]],Table3[[#This Row],[چندم]]+1,30))","v":""}]
[null,1074,null,null,null,{"$f":"IFERROR(FIND(\"_\",Table3[[#This Row],[شماره تماس]]),0)","v":0},{"$f":"IF(Table3[[#This Row],[چندم]]=0,Table3[[#This Row],[شماره تماس]],MID(Table3[[#This Row],[شماره تماس]],1,Table3[[#This Row],[چندم]]-1))","v":0},{"$f":"IF(Table3[[#This Row],[چندم]]=0,\"\",MID(Table3[[#This Row],[شماره تماس]],Table3[[#This Row],[چندم]]+1,30))","v":""}]
[null,1075,null,null,null,{"$f":"IFERROR(FIND(\"_\",Table3[[#This Row],[شماره تماس]]),0)","v":0},{"$f":"IF(Table3[[#This Row],[چندم]]=0,Table3[[#This Row],[شماره تماس]],MID(Table3[[#This Row],[شماره تماس]],1,Table3[[#This Row],[چندم]]-1))","v":0},{"$f":"IF(Table3[[#This Row],[چندم]]=0,\"\",MID(Table3[[#This Row],[شماره تماس]],Table3[[#This Row],[چندم]]+1,30))","v":""}]
[null,1076,null,null,null,{"$f":"IFERROR(FIND(\"_\",Table3[[#This Row],[شماره تماس]]),0)","v":0},{"$f":"IF(Table3[[#This Row],[چندم]]=0,Table3[[#This Row],[شماره تماس]],MID(Table3[[#This Row],[شماره تماس]],1,Table3[[#This Row],[چندم]]-1))","v":0},{"$f":"IF(Table3[[#This Row],[چندم]]=0,\"\",MID(Table3[[#This Row],[شماره تماس]],Table3[[#This Row],[چندم]]+1,30))","v":""}]
[null,1077,null,null,null,{"$f":"IFERROR(FIND(\"_\",Table3[[#This Row],[شماره تماس]]),0)","v":0},{"$f":"IF(Table3[[#This Row],[چندم]]=0,Table3[[#This Row],[شماره تماس]],MID(Table3[[#This Row],[شماره تماس]],1,Table3[[#This Row],[چندم]]-1))","v":0},{"$f":"IF(Table3[[#This Row],[چندم]]=0,\"\",MID(Table3[[#This Row],[شماره تماس]],Table3[[#This Row],[چندم]]+1,30))","v":""}]
[null,1078,null,null,null,{"$f":"IFERROR(FIND(\"_\",Table3[[#This Row],[شماره تماس]]),0)","v":0},{"$f":"IF(Table3[[#This Row],[چندم]]=0,Table3[[#This Row],[شماره تماس]],MID(Table3[[#This Row],[شماره تماس]],1,Table3[[#This Row],[چندم]]-1))","v":0},{"$f":"IF(Table3[[#This Row],[چندم]]=0,\"\",MID(Table3[[#This Row],[شماره تماس]],Table3[[#This Row],[چندم]]+1,30))","v":""}]
[null,1079,null,null,null,{"$f":"IFERROR(FIND(\"_\",Table3[[#This Row],[شماره تماس]]),0)","v":0},{"$f":"IF(Table3[[#This Row],[چندم]]=0,Table3[[#This Row],[شماره تماس]],MID(Table3[[#This Row],[شماره تماس]],1,Table3[[#This Row],[چندم]]-1))","v":0},{"$f":"IF(Table3[[#This Row],[چندم]]=0,\"\",MID(Table3[[#This Row],[شماره تماس]],Table3[[#This Row],[چندم]]+1,30))","v":""}]
[null,1080,null,null,null,{"$f":"IFERROR(FIND(\"_\",Table3[[#This Row],[شماره تماس]]),0)","v":0},{"$f":"IF(Table3[[#This Row],[چندم]]=0,Table3[[#This Row],[شماره تماس]],MID(Table3[[#This Row],[شماره تماس]],1,Table3[[#This Row],[چندم]]-1))","v":0},{"$f":"IF(Table3[[#This Row],[چندم]]=0,\"\",MID(Table3[[#This Row],[شماره تماس]],Table3[[#This Row],[چندم]]+1,30))","v":""}]
[null,1081,null,null,null,{"$f":"IFERROR(FIND(\"_\",Table3[[#This Row],[شماره تماس]]),0)","v":0},{"$f":"IF(Table3[[#This Row],[چندم]]=0,Table3[[#This Row],[شماره تماس]],MID(Table3[[#This Row],[شماره تماس]],1,Table3[[#This Row],[چندم]]-1))","v":0},{"$f":"IF(Table3[[#This Row],[چندم]]=0,\"\",MID(Table3[[#This Row],[شماره تماس]],Table3[[#This Row],[چندم]]+1,30))","v":""}]
[null,1082,null,null,null,{"$f":"IFERROR(FIND(\"_\",Table3[[#This Row],[شماره تماس]]),0)","v":0},{"$f":"IF(Table3[[#This Row],[چندم]]=0,Table3[[#This Row],[شماره تماس]],MID(Table3[[#This Row],[شماره تماس]],1,Table3[[#This Row],[چندم]]-1))","v":0},{"$f":"IF(Table3[[#This Row],[چندم]]=0,\"\",MID(Table3[[#This Row],[شماره تماس]],Table3[[#This Row],[چندم]]+1,30))","v":""}]
[null,1083,null,null,null,{"$f":"IFERROR(FIND(\"_\",Table3[[#This Row],[شماره تماس]]),0)","v":0},{"$f":"IF(Table3[[#This Row],[چندم]]=0,Table3[[#This Row],[شماره تماس]],MID(Table3[[#This Row],[شماره تماس]],1,Table3[[#This Row],[چندم]]-1))","v":0},{"$f":"IF(Table3[[#This Row],[چندم]]=0,\"\",MID(Table3[[#This Row],[شماره تماس]],Table3[[#This Row],[چندم]]+1,30))","v":""}]
[null,1084,null,null,null,{"$f":"IFERROR(FIND(\"_\",Table3[[#This Row],[شماره تماس]]),0)","v":0},{"$f":"IF(Table3[[#This Row],[چندم]]=0,Table3[[#This Row],[شماره تماس]],MID(Table3[[#This Row],[شماره تماس]],1,Table3[[#This Row],[چندم]]-1))","v":0},{"$f":"IF(Table3[[#This Row],[چندم]]=0,\"\",MID(Table3[[#This Row],[شماره تماس]],Table3[[#This Row],[چندم]]+1,30))","v":""}]
[null,1085,null,null,null,{"$f":"IFERROR(FIND(\"_\",Table3[[#This Row],[شماره تماس]]),0)","v":0},{"$f":"IF(Table3[[#This Row],[چندم]]=0,Table3[[#This Row],[شماره تماس]],MID(Table3[[#This Row],[شماره تماس]],1,Table3[[#This Row],[چندم]]-1))","v":0},{"$f":"IF(Table3[[#This Row],[چندم]]=0,\"\",MID(Table3[[#This Row],[شماره تماس]],Table3[[#This Row],[چندم]]+1,30))","v":""}]
[null,1086,null,null,null,{"$f":"IFERROR(FIND(\"_\",Table3[[#This Row],[شماره تماس]]),0)","v":0},{"$f":"IF(Table3[[#This Row],[چندم]]=0,Table3[[#This Row],[شماره تماس]],MID(Table3[[#This Row],[شماره تماس]],1,Table3[[#This Row],[چندم]]-1))","v":0},{"$f":"IF(Table3[[#This Row],[چندم]]=0,\"\",MID(Table3[[#This Row],[شماره تماس]],Table3[[#This Row],[چندم]]+1,30))","v":""}]
[null,1087,null,null,null,{"$f":"IFERROR(FIND(\"_\",Table3[[#This Row],[شماره تماس]]),0)","v":0},{"$f":"IF(Table3[[#This Row],[چندم]]=0,Table3[[#This Row],[شماره تماس]],MID(Table3[[#This Row],[شماره تماس]],1,Table3[[#This Row],[چندم]]-1))","v":0},{"$f":"IF(Table3[[#This Row],[چندم]]=0,\"\",MID(Table3[[#This Row],[شماره تماس]],Table3[[#This Row],[چندم]]+1,30))","v":""}]
[null,1088,null,null,null,{"$f":"IFERROR(FIND(\"_\",Table3[[#This Row],[شماره تماس]]),0)","v":0},{"$f":"IF(Table3[[#This Row],[چندم]]=0,Table3[[#This Row],[شماره تماس]],MID(Table3[[#This Row],[شماره تماس]],1,Table3[[#This Row],[چندم]]-1))","v":0},{"$f":"IF(Table3[[#This Row],[چندم]]=0,\"\",MID(Table3[[#This Row],[شماره تماس]],Table3[[#This Row],[چندم]]+1,30))","v":""}]
[null,1089,null,null,null,{"$f":"IFERROR(FIND(\"_\",Table3[[#This Row],[شماره تماس]]),0)","v":0},{"$f":"IF(Table3[[#This Row],[چندم]]=0,Table3[[#This Row],[شماره تماس]],MID(Table3[[#This Row],[شماره تماس]],1,Table3[[#This Row],[چندم]]-1))","v":0},{"$f":"IF(Table3[[#This Row],[چندم]]=0,\"\",MID(Table3[[#This Row],[شماره تماس]],Table3[[#This Row],[چندم]]+1,30))","v":""}]
[null,1090,null,null,null,{"$f":"IFERROR(FIND(\"_\",Table3[[#This Row],[شماره تماس]]),0)","v":0},{"$f":"IF(Table3[[#This Row],[چندم]]=0,Table3[[#This Row],[شماره تماس]],MID(Table3[[#This Row],[شماره تماس]],1,Table3[[#This Row],[چندم]]-1))","v":0},{"$f":"IF(Table3[[#This Row],[چندم]]=0,\"\",MID(Table3[[#This Row],[شماره تماس]],Table3[[#This Row],[چندم]]+1,30))","v":""}]
[null,1091,null,null,null,{"$f":"IFERROR(FIND(\"_\",Table3[[#This Row],[شماره تماس]]),0)","v":0},{"$f":"IF(Table3[[#This Row],[چندم]]=0,Table3[[#This Row],[شماره تماس]],MID(Table3[[#This Row],[شماره تماس]],1,Table3[[#This Row],[چندم]]-1))","v":0},{"$f":"IF(Table3[[#This Row],[چندم]]=0,\"\",MID(Table3[[#This Row],[شماره تماس]],Table3[[#This Row],[چندم]]+1,30))","v":""}]
[null,1092,null,null,null,{"$f":"IFERROR(FIND(\"_\",Table3[[#This Row],[شماره تماس]]),0)","v":0},{"$f":"IF(Table3[[#This Row],[چندم]]=0,Table3[[#This Row],[شماره تماس]],MID(Table3[[#This Row],[شماره تماس]],1,Table3[[#This Row],[چندم]]-1))","v":0},{"$f":"IF(Table3[[#This Row],[چندم]]=0,\"\",MID(Table3[[#This Row],[شماره تماس]],Table3[[#This Row],[چندم]]+1,30))","v":""}]
[null,1093,null,null,null,{"$f":"IFERROR(FIND(\"_\",Table3[[#This Row],[شماره تماس]]),0)","v":0},{"$f":"IF(Table3[[#This Row],[چندم]]=0,Table3[[#This Row],[شماره تماس]],MID(Table3[[#This Row],[شماره تماس]],1,Table3[[#This Row],[چندم]]-1))","v":0},{"$f":"IF(Table3[[#This Row],[چندم]]=0,\"\",MID(Table3[[#This Row],[شماره تماس]],Table3[[#This Row],[چندم]]+1,30))","v":""}]
[null,1094,null,null,null,{"$f":"IFERROR(FIND(\"_\",Table3[[#This Row],[شماره تماس]]),0)","v":0},{"$f":"IF(Table3[[#This Row],[چندم]]=0,Table3[[#This Row],[شماره تماس]],MID(Table3[[#This Row],[شماره تماس]],1,Table3[[#This Row],[چندم]]-1))","v":0},{"$f":"IF(Table3[[#This Row],[چندم]]=0,\"\",MID(Table3[[#This Row],[شماره تماس]],Table3[[#This Row],[چندم]]+1,30))","v":""}]
[null,1095,null,null,null,{"$f":"IFERROR(FIND(\"_\",Table3[[#This Row],[شماره تماس]]),0)","v":0},{"$f":"IF(Table3[[#This Row],[چندم]]=0,Table3[[#This Row],[شماره تماس]],MID(Table3[[#This Row],[شماره تماس]],1,Table3[[#This Row],[چندم]]-1))","v":0},{"$f":"IF(Table3[[#This Row],[چندم]]=0,\"\",MID(Table3[[#This Row],[شماره تماس]],Table3[[#This Row],[چندم]]+1,30))","v":""}]
[null,1096,null,null,null,{"$f":"IFERROR(FIND(\"_\",Table3[[#This Row],[شماره تماس]]),0)","v":0},{"$f":"IF(Table3[[#This Row],[چندم]]=0,Table3[[#This Row],[شماره تماس]],MID(Table3[[#This Row],[شماره تماس]],1,Table3[[#This Row],[چندم]]-1))","v":0},{"$f":"IF(Table3[[#This Row],[چندم]]=0,\"\",MID(Table3[[#This Row],[شماره تماس]],Table3[[#This Row],[چندم]]+1,30))","v":""}]
[null,1097,null,null,null,{"$f":"IFERROR(FIND(\"_\",Table3[[#This Row],[شماره تماس]]),0)","v":0},{"$f":"IF(Table3[[#This Row],[چندم]]=0,Table3[[#This Row],[شماره تماس]],MID(Table3[[#This Row],[شماره تماس]],1,Table3[[#This Row],[چندم]]-1))","v":0},{"$f":"IF(Table3[[#This Row],[چندم]]=0,\"\",MID(Table3[[#This Row],[شماره تماس]],Table3[[#This Row],[چندم]]+1,30))","v":""}]
[null,1098,null,null,null,{"$f":"IFERROR(FIND(\"_\",Table3[[#This Row],[شماره تماس]]),0)","v":0},{"$f":"IF(Table3[[#This Row],[چندم]]=0,Table3[[#This Row],[شماره تماس]],MID(Table3[[#This Row],[شماره تماس]],1,Table3[[#This Row],[چندم]]-1))","v":0},{"$f":"IF(Table3[[#This Row],[چندم]]=0,\"\",MID(Table3[[#This Row],[شماره تماس]],Table3[[#This Row],[چندم]]+1,30))","v":""}]
[null,1099,null,null,null,{"$f":"IFERROR(FIND(\"_\",Table3[[#This Row],[شماره تماس]]),0)","v":0},{"$f":"IF(Table3[[#This Row],[چندم]]=0,Table3[[#This Row],[شماره تماس]],MID(Table3[[#This Row],[شماره تماس]],1,Table3[[#This Row],[چندم]]-1))","v":0},{"$f":"IF(Table3[[#This Row],[چندم]]=0,\"\",MID(Table3[[#This Row],[شماره تماس]],Table3[[#This Row],[چندم]]+1,30))","v":""}]
[null,1100,null,null,null,{"$f":"IFERROR(FIND(\"_\",Table3[[#This Row],[شماره تماس]]),0)","v":0},{"$f":"IF(Table3[[#This Row],[چندم]]=0,Table3[[#This Row],[شماره تماس]],MID(Table3[[#This Row],[شماره تماس]],1,Table3[[#This Row],[چندم]]-1))","v":0},{"$f":"IF(Table3[[#This Row],[چندم]]=0,\"\",MID(Table3[[#This Row],[شماره تماس]],Table3[[#This Row],[چندم]]+1,30))","v":""}]
[null,1101,null,null,null,{"$f":"IFERROR(FIND(\"_\",Table3[[#This Row],[شماره تماس]]),0)","v":0},{"$f":"IF(Table3[[#This Row],[چندم]]=0,Table3[[#This Row],[شماره تماس]],MID(Table3[[#This Row],[شماره تماس]],1,Table3[[#This Row],[چندم]]-1))","v":0},{"$f":"IF(Table3[[#This Row],[چندم]]=0,\"\",MID(Table3[[#This Row],[شماره تماس]],Table3[[#This Row],[چندم]]+1,30))","v":""}]
[null,1102,null,null,null,{"$f":"IFERROR(FIND(\"_\",Table3[[#This Row],[شماره تماس]]),0)","v":0},{"$f":"IF(Table3[[#This Row],[چندم]]=0,Table3[[#This Row],[شماره تماس]],MID(Table3[[#This Row],[شماره تماس]],1,Table3[[#This Row],[چندم]]-1))","v":0},{"$f":"IF(Table3[[#This Row],[چندم]]=0,\"\",MID(Table3[[#This Row],[شماره تماس]],Table3[[#This Row],[چندم]]+1,30))","v":""}]
[null,1103,null,null,null,{"$f":"IFERROR(FIND(\"_\",Table3[[#This Row],[شماره تماس]]),0)","v":0},{"$f":"IF(Table3[[#This Row],[چندم]]=0,Table3[[#This Row],[شماره تماس]],MID(Table3[[#This Row],[شماره تماس]],1,Table3[[#This Row],[چندم]]-1))","v":0},{"$f":"IF(Table3[[#This Row],[چندم]]=0,\"\",MID(Table3[[#This Row],[شماره تماس]],Table3[[#This Row],[چندم]]+1,30))","v":""}]
[null,1104,null,null,null,{"$f":"IFERROR(FIND(\"_\",Table3[[#This Row],[شماره تماس]]),0)","v":0},{"$f":"IF(Table3[[#This Row],[چندم]]=0,Table3[[#This Row],[شماره تماس]],MID(Table3[[#This Row],[شماره تماس]],1,Table3[[#This Row],[چندم]]-1))","v":0},{"$f":"IF(Table3[[#This Row],[چندم]]=0,\"\",MID(Table3[[#This Row],[شماره تماس]],Table3[[#This Row],[چندم]]+1,30))","v":""}]
[null,1105,null,null,null,{"$f":"IFERROR(FIND(\"_\",Table3[[#This Row],[شماره تماس]]),0)","v":0},{"$f":"IF(Table3[[#This Row],[چندم]]=0,Table3[[#This Row],[شماره تماس]],MID(Table3[[#This Row],[شماره تماس]],1,Table3[[#This Row],[چندم]]-1))","v":0},{"$f":"IF(Table3[[#This Row],[چندم]]=0,\"\",MID(Table3[[#This Row],[شماره تماس]],Table3[[#This Row],[چندم]]+1,30))","v":""}]
[null,1106,null,null,null,{"$f":"IFERROR(FIND(\"_\",Table3[[#This Row],[شماره تماس]]),0)","v":0},{"$f":"IF(Table3[[#This Row],[چندم]]=0,Table3[[#This Row],[شماره تماس]],MID(Table3[[#This Row],[شماره تماس]],1,Table3[[#This Row],[چندم]]-1))","v":0},{"$f":"IF(Table3[[#This Row],[چندم]]=0,\"\",MID(Table3[[#This Row],[شماره تماس]],Table3[[#This Row],[چندم]]+1,30))","v":""}]
[null,1107,null,null,null,{"$f":"IFERROR(FIND(\"_\",Table3[[#This Row],[شماره تماس]]),0)","v":0},{"$f":"IF(Table3[[#This Row],[چندم]]=0,Table3[[#This Row],[شماره تماس]],MID(Table3[[#This Row],[شماره تماس]],1,Table3[[#This Row],[چندم]]-1))","v":0},{"$f":"IF(Table3[[#This Row],[چندم]]=0,\"\",MID(Table3[[#This Row],[شماره تماس]],Table3[[#This Row],[چندم]]+1,30))","v":""}]
[null,1108,null,null,null,{"$f":"IFERROR(FIND(\"_\",Table3[[#This Row],[شماره تماس]]),0)","v":0},{"$f":"IF(Table3[[#This Row],[چندم]]=0,Table3[[#This Row],[شماره تماس]],MID(Table3[[#This Row],[شماره تماس]],1,Table3[[#This Row],[چندم]]-1))","v":0},{"$f":"IF(Table3[[#This Row],[چندم]]=0,\"\",MID(Table3[[#This Row],[شماره تماس]],Table3[[#This Row],[چندم]]+1,30))","v":""}]
[null,1109,null,null,null,{"$f":"IFERROR(FIND(\"_\",Table3[[#This Row],[شماره تماس]]),0)","v":0},{"$f":"IF(Table3[[#This Row],[چندم]]=0,Table3[[#This Row],[شماره تماس]],MID(Table3[[#This Row],[شماره تماس]],1,Table3[[#This Row],[چندم]]-1))","v":0},{"$f":"IF(Table3[[#This Row],[چندم]]=0,\"\",MID(Table3[[#This Row],[شماره تماس]],Table3[[#This Row],[چندم]]+1,30))","v":""}]
[null,1110,null,null,null,{"$f":"IFERROR(FIND(\"_\",Table3[[#This Row],[شماره تماس]]),0)","v":0},{"$f":"IF(Table3[[#This Row],[چندم]]=0,Table3[[#This Row],[شماره تماس]],MID(Table3[[#This Row],[شماره تماس]],1,Table3[[#This Row],[چندم]]-1))","v":0},{"$f":"IF(Table3[[#This Row],[چندم]]=0,\"\",MID(Table3[[#This Row],[شماره تماس]],Table3[[#This Row],[چندم]]+1,30))","v":""}]
[null,1111,null,null,null,{"$f":"IFERROR(FIND(\"_\",Table3[[#This Row],[شماره تماس]]),0)","v":0},{"$f":"IF(Table3[[#This Row],[چندم]]=0,Table3[[#This Row],[شماره تماس]],MID(Table3[[#This Row],[شماره تماس]],1,Table3[[#This Row],[چندم]]-1))","v":0},{"$f":"IF(Table3[[#This Row],[چندم]]=0,\"\",MID(Table3[[#This Row],[شماره تماس]],Table3[[#This Row],[چندم]]+1,30))","v":""}]
[null,1112,null,null,null,{"$f":"IFERROR(FIND(\"_\",Table3[[#This Row],[شماره تماس]]),0)","v":0},{"$f":"IF(Table3[[#This Row],[چندم]]=0,Table3[[#This Row],[شماره تماس]],MID(Table3[[#This Row],[شماره تماس]],1,Table3[[#This Row],[چندم]]-1))","v":0},{"$f":"IF(Table3[[#This Row],[چندم]]=0,\"\",MID(Table3[[#This Row],[شماره تماس]],Table3[[#This Row],[چندم]]+1,30))","v":""}]
[null,1113,null,null,null,{"$f":"IFERROR(FIND(\"_\",Table3[[#This Row],[شماره تماس]]),0)","v":0},{"$f":"IF(Table3[[#This Row],[چندم]]=0,Table3[[#This Row],[شماره تماس]],MID(Table3[[#This Row],[شماره تماس]],1,Table3[[#This Row],[چندم]]-1))","v":0},{"$f":"IF(Table3[[#This Row],[چندم]]=0,\"\",MID(Table3[[#This Row],[شماره تماس]],Table3[[#This Row],[چندم]]+1,30))","v":""}]
[null,1114,null,null,null,{"$f":"IFERROR(FIND(\"_\",Table3[[#This Row],[شماره تماس]]),0)","v":0},{"$f":"IF(Table3[[#This Row],[چندم]]=0,Table3[[#This Row],[شماره تماس]],MID(Table3[[#This Row],[شماره تماس]],1,Table3[[#This Row],[چندم]]-1))","v":0},{"$f":"IF(Table3[[#This Row],[چندم]]=0,\"\",MID(Table3[[#This Row],[شماره تماس]],Table3[[#This Row],[چندم]]+1,30))","v":""}]
[null,1115,null,null,null,{"$f":"IFERROR(FIND(\"_\",Table3[[#This Row],[شماره تماس]]),0)","v":0},{"$f":"IF(Table3[[#This Row],[چندم]]=0,Table3[[#This Row],[شماره تماس]],MID(Table3[[#This Row],[شماره تماس]],1,Table3[[#This Row],[چندم]]-1))","v":0},{"$f":"IF(Table3[[#This Row],[چندم]]=0,\"\",MID(Table3[[#This Row],[شماره تماس]],Table3[[#This Row],[چندم]]+1,30))","v":""}]
[null,1116,null,null,null,{"$f":"IFERROR(FIND(\"_\",Table3[[#This Row],[شماره تماس]]),0)","v":0},{"$f":"IF(Table3[[#This Row],[چندم]]=0,Table3[[#This Row],[شماره تماس]],MID(Table3[[#This Row],[شماره تماس]],1,Table3[[#This Row],[چندم]]-1))","v":0},{"$f":"IF(Table3[[#This Row],[چندم]]=0,\"\",MID(Table3[[#This Row],[شماره تماس]],Table3[[#This Row],[چندم]]+1,30))","v":""}]
[null,1117,null,null,null,{"$f":"IFERROR(FIND(\"_\",Table3[[#This Row],[شماره تماس]]),0)","v":0},{"$f":"IF(Table3[[#This Row],[چندم]]=0,Table3[[#This Row],[شماره تماس]],MID(Table3[[#This Row],[شماره تماس]],1,Table3[[#This Row],[چندم]]-1))","v":0},{"$f":"IF(Table3[[#This Row],[چندم]]=0,\"\",MID(Table3[[#This Row],[شماره تماس]],Table3[[#This Row],[چندم]]+1,30))","v":""}]
[null,1118,null,null,null,{"$f":"IFERROR(FIND(\"_\",Table3[[#This Row],[شماره تماس]]),0)","v":0},{"$f":"IF(Table3[[#This Row],[چندم]]=0,Table3[[#This Row],[شماره تماس]],MID(Table3[[#This Row],[شماره تماس]],1,Table3[[#This Row],[چندم]]-1))","v":0},{"$f":"IF(Table3[[#This Row],[چندم]]=0,\"\",MID(Table3[[#This Row],[شماره تماس]],Table3[[#This Row],[چندم]]+1,30))","v":""}]
[null,1119,null,null,null,{"$f":"IFERROR(FIND(\"_\",Table3[[#This Row],[شماره تماس]]),0)","v":0},{"$f":"IF(Table3[[#This Row],[چندم]]=0,Table3[[#This Row],[شماره تماس]],MID(Table3[[#This Row],[شماره تماس]],1,Table3[[#This Row],[چندم]]-1))","v":0},{"$f":"IF(Table3[[#This Row],[چندم]]=0,\"\",MID(Table3[[#This Row],[شماره تماس]],Table3[[#This Row],[چندم]]+1,30))","v":""}]
[null,1120,null,null,null,{"$f":"IFERROR(FIND(\"_\",Table3[[#This Row],[شماره تماس]]),0)","v":0},{"$f":"IF(Table3[[#This Row],[چندم]]=0,Table3[[#This Row],[شماره تماس]],MID(Table3[[#This Row],[شماره تماس]],1,Table3[[#This Row],[چندم]]-1))","v":0},{"$f":"IF(Table3[[#This Row],[چندم]]=0,\"\",MID(Table3[[#This Row],[شماره تماس]],Table3[[#This Row],[چندم]]+1,30))","v":""}]
[null,1121,null,null,null,{"$f":"IFERROR(FIND(\"_\",Table3[[#This Row],[شماره تماس]]),0)","v":0},{"$f":"IF(Table3[[#This Row],[چندم]]=0,Table3[[#This Row],[شماره تماس]],MID(Table3[[#This Row],[شماره تماس]],1,Table3[[#This Row],[چندم]]-1))","v":0},{"$f":"IF(Table3[[#This Row],[چندم]]=0,\"\",MID(Table3[[#This Row],[شماره تماس]],Table3[[#This Row],[چندم]]+1,30))","v":""}]
[null,1122,null,null,null,{"$f":"IFERROR(FIND(\"_\",Table3[[#This Row],[شماره تماس]]),0)","v":0},{"$f":"IF(Table3[[#This Row],[چندم]]=0,Table3[[#This Row],[شماره تماس]],MID(Table3[[#This Row],[شماره تماس]],1,Table3[[#This Row],[چندم]]-1))","v":0},{"$f":"IF(Table3[[#This Row],[چندم]]=0,\"\",MID(Table3[[#This Row],[شماره تماس]],Table3[[#This Row],[چندم]]+1,30))","v":""}]
[null,1123,null,null,null,{"$f":"IFERROR(FIND(\"_\",Table3[[#This Row],[شماره تماس]]),0)","v":0},{"$f":"IF(Table3[[#This Row],[چندم]]=0,Table3[[#This Row],[شماره تماس]],MID(Table3[[#This Row],[شماره تماس]],1,Table3[[#This Row],[چندم]]-1))","v":0},{"$f":"IF(Table3[[#This Row],[چندم]]=0,\"\",MID(Table3[[#This Row],[شماره تماس]],Table3[[#This Row],[چندم]]+1,30))","v":""}]
[null,1124,null,null,null,{"$f":"IFERROR(FIND(\"_\",Table3[[#This Row],[شماره تماس]]),0)","v":0},{"$f":"IF(Table3[[#This Row],[چندم]]=0,Table3[[#This Row],[شماره تماس]],MID(Table3[[#This Row],[شماره تماس]],1,Table3[[#This Row],[چندم]]-1))","v":0},{"$f":"IF(Table3[[#This Row],[چندم]]=0,\"\",MID(Table3[[#This Row],[شماره تماس]],Table3[[#This Row],[چندم]]+1,30))","v":""}]
[null,1125,null,null,null,{"$f":"IFERROR(FIND(\"_\",Table3[[#This Row],[شماره تماس]]),0)","v":0},{"$f":"IF(Table3[[#This Row],[چندم]]=0,Table3[[#This Row],[شماره تماس]],MID(Table3[[#This Row],[شماره تماس]],1,Table3[[#This Row],[چندم]]-1))","v":0},{"$f":"IF(Table3[[#This Row],[چندم]]=0,\"\",MID(Table3[[#This Row],[شماره تماس]],Table3[[#This Row],[چندم]]+1,30))","v":""}]
[null,1126,null,null,null,{"$f":"IFERROR(FIND(\"_\",Table3[[#This Row],[شماره تماس]]),0)","v":0},{"$f":"IF(Table3[[#This Row],[چندم]]=0,Table3[[#This Row],[شماره تماس]],MID(Table3[[#This Row],[شماره تماس]],1,Table3[[#This Row],[چندم]]-1))","v":0},{"$f":"IF(Table3[[#This Row],[چندم]]=0,\"\",MID(Table3[[#This Row],[شماره تماس]],Table3[[#This Row],[چندم]]+1,30))","v":""}]
[null,{"$f":"ROW()-3","v":1127},null,null,null,{"$f":"IFERROR(FIND(\"_\",Table3[[#This Row],[شماره تماس]]),0)","v":0},{"$f":"IF(Table3[[#This Row],[چندم]]=0,Table3[[#This Row],[شماره تماس]],MID(Table3[[#This Row],[شماره تماس]],1,Table3[[#This Row],[چندم]]-1))","v":0},{"$f":"IF(Table3[[#This Row],[چندم]]=0,\"\",MID(Table3[[#This Row],[شماره تماس]],Table3[[#This Row],[چندم]]+1,30))","v":""}]
[null,1128,null,null,null,{"$f":"IFERROR(FIND(\"_\",Table3[[#This Row],[شماره تماس]]),0)","v":0},{"$f":"IF(Table3[[#This Row],[چندم]]=0,Table3[[#This Row],[شماره تماس]],MID(Table3[[#This Row],[شماره تماس]],1,Table3[[#This Row],[چندم]]-1))","v":0},{"$f":"IF(Table3[[#This Row],[چندم]]=0,\"\",MID(Table3[[#This Row],[شماره تماس]],Table3[[#This Row],[چندم]]+1,30))","v":""}]
[null,1129,null,null,null,{"$f":"IFERROR(FIND(\"_\",Table3[[#This Row],[شماره تماس]]),0)","v":0},{"$f":"IF(Table3[[#This Row],[چندم]]=0,Table3[[#This Row],[شماره تماس]],MID(Table3[[#This Row],[شماره تماس]],1,Table3[[#This Row],[چندم]]-1))","v":0},{"$f":"IF(Table3[[#This Row],[چندم]]=0,\"\",MID(Table3[[#This Row],[شماره تماس]],Table3[[#This Row],[چندم]]+1,30))","v":""}]
[null,1130,null,null,null,{"$f":"IFERROR(FIND(\"_\",Table3[[#This Row],[شماره تماس]]),0)","v":0},{"$f":"IF(Table3[[#This Row],[چندم]]=0,Table3[[#This Row],[شماره تماس]],MID(Table3[[#This Row],[شماره تماس]],1,Table3[[#This Row],[چندم]]-1))","v":0},{"$f":"IF(Table3[[#This Row],[چندم]]=0,\"\",MID(Table3[[#This Row],[شماره تماس]],Table3[[#This Row],[چندم]]+1,30))","v":""}]
[null,1131,null,null,null,{"$f":"IFERROR(FIND(\"_\",Table3[[#This Row],[شماره تماس]]),0)","v":0},{"$f":"IF(Table3[[#This Row],[چندم]]=0,Table3[[#This Row],[شماره تماس]],MID(Table3[[#This Row],[شماره تماس]],1,Table3[[#This Row],[چندم]]-1))","v":0},{"$f":"IF(Table3[[#This Row],[چندم]]=0,\"\",MID(Table3[[#This Row],[شماره تماس]],Table3[[#This Row],[چندم]]+1,30))","v":""}]
[null,1132,null,null,null,{"$f":"IFERROR(FIND(\"_\",Table3[[#This Row],[شماره تماس]]),0)","v":0},{"$f":"IF(Table3[[#This Row],[چندم]]=0,Table3[[#This Row],[شماره تماس]],MID(Table3[[#This Row],[شماره تماس]],1,Table3[[#This Row],[چندم]]-1))","v":0},{"$f":"IF(Table3[[#This Row],[چندم]]=0,\"\",MID(Table3[[#This Row],[شماره تماس]],Table3[[#This Row],[چندم]]+1,30))","v":""}]
[null,1133,null,null,null,{"$f":"IFERROR(FIND(\"_\",Table3[[#This Row],[شماره تماس]]),0)","v":0},{"$f":"IF(Table3[[#This Row],[چندم]]=0,Table3[[#This Row],[شماره تماس]],MID(Table3[[#This Row],[شماره تماس]],1,Table3[[#This Row],[چندم]]-1))","v":0},{"$f":"IF(Table3[[#This Row],[چندم]]=0,\"\",MID(Table3[[#This Row],[شماره تماس]],Table3[[#This Row],[چندم]]+1,30))","v":""}]
[null,1134,null,null,null,{"$f":"IFERROR(FIND(\"_\",Table3[[#This Row],[شماره تماس]]),0)","v":0},{"$f":"IF(Table3[[#This Row],[چندم]]=0,Table3[[#This Row],[شماره تماس]],MID(Table3[[#This Row],[شماره تماس]],1,Table3[[#This Row],[چندم]]-1))","v":0},{"$f":"IF(Table3[[#This Row],[چندم]]=0,\"\",MID(Table3[[#This Row],[شماره تماس]],Table3[[#This Row],[چندم]]+1,30))","v":""}]
[null,1135,null,null,null,{"$f":"IFERROR(FIND(\"_\",Table3[[#This Row],[شماره تماس]]),0)","v":0},{"$f":"IF(Table3[[#This Row],[چندم]]=0,Table3[[#This Row],[شماره تماس]],MID(Table3[[#This Row],[شماره تماس]],1,Table3[[#This Row],[چندم]]-1))","v":0},{"$f":"IF(Table3[[#This Row],[چندم]]=0,\"\",MID(Table3[[#This Row],[شماره تماس]],Table3[[#This Row],[چندم]]+1,30))","v":""}]
[null,1136,null,null,null,{"$f":"IFERROR(FIND(\"_\",Table3[[#This Row],[شماره تماس]]),0)","v":0},{"$f":"IF(Table3[[#This Row],[چندم]]=0,Table3[[#This Row],[شماره تماس]],MID(Table3[[#This Row],[شماره تماس]],1,Table3[[#This Row],[چندم]]-1))","v":0},{"$f":"IF(Table3[[#This Row],[چندم]]=0,\"\",MID(Table3[[#This Row],[شماره تماس]],Table3[[#This Row],[چندم]]+1,30))","v":""}]
[null,1137,null,null,null,{"$f":"IFERROR(FIND(\"_\",Table3[[#This Row],[شماره تماس]]),0)","v":0},{"$f":"IF(Table3[[#This Row],[چندم]]=0,Table3[[#This Row],[شماره تماس]],MID(Table3[[#This Row],[شماره تماس]],1,Table3[[#This Row],[چندم]]-1))","v":0},{"$f":"IF(Table3[[#This Row],[چندم]]=0,\"\",MID(Table3[[#This Row],[شماره تماس]],Table3[[#This Row],[چندم]]+1,30))","v":""}]
[null,1138,null,null,null,{"$f":"IFERROR(FIND(\"_\",Table3[[#This Row],[شماره تماس]]),0)","v":0},{"$f":"IF(Table3[[#This Row],[چندم]]=0,Table3[[#This Row],[شماره تماس]],MID(Table3[[#This Row],[شماره تماس]],1,Table3[[#This Row],[چندم]]-1))","v":0},{"$f":"IF(Table3[[#This Row],[چندم]]=0,\"\",MID(Table3[[#This Row],[شماره تماس]],Table3[[#This Row],[چندم]]+1,30))","v":""}]
[null,1139,null,null,null,{"$f":"IFERROR(FIND(\"_\",Table3[[#This Row],[شماره تماس]]),0)","v":0},{"$f":"IF(Table3[[#This Row],[چندم]]=0,Table3[[#This Row],[شماره تماس]],MID(Table3[[#This Row],[شماره تماس]],1,Table3[[#This Row],[چندم]]-1))","v":0},{"$f":"IF(Table3[[#This Row],[چندم]]=0,\"\",MID(Table3[[#This Row],[شماره تماس]],Table3[[#This Row],[چندم]]+1,30))","v":""}]
[null,1140,null,null,null,{"$f":"IFERROR(FIND(\"_\",Table3[[#This Row],[شماره تماس]]),0)","v":0},{"$f":"IF(Table3[[#This Row],[چندم]]=0,Table3[[#This Row],[شماره تماس]],MID(Table3[[#This Row],[شماره تماس]],1,Table3[[#This Row],[چندم]]-1))","v":0},{"$f":"IF(Table3[[#This Row],[چندم]]=0,\"\",MID(Table3[[#This Row],[شماره تماس]],Table3[[#This Row],[چندم]]+1,30))","v":""}]
[null,1141,null,null,null,{"$f":"IFERROR(FIND(\"_\",Table3[[#This Row],[شماره تماس]]),0)","v":0},{"$f":"IF(Table3[[#This Row],[چندم]]=0,Table3[[#This Row],[شماره تماس]],MID(Table3[[#This Row],[شماره تماس]],1,Table3[[#This Row],[چندم]]-1))","v":0},{"$f":"IF(Table3[[#This Row],[چندم]]=0,\"\",MID(Table3[[#This Row],[شماره تماس]],Table3[[#This Row],[چندم]]+1,30))","v":""}]
[null,1142,null,null,null,{"$f":"IFERROR(FIND(\"_\",Table3[[#This Row],[شماره تماس]]),0)","v":0},{"$f":"IF(Table3[[#This Row],[چندم]]=0,Table3[[#This Row],[شماره تماس]],MID(Table3[[#This Row],[شماره تماس]],1,Table3[[#This Row],[چندم]]-1))","v":0},{"$f":"IF(Table3[[#This Row],[چندم]]=0,\"\",MID(Table3[[#This Row],[شماره تماس]],Table3[[#This Row],[چندم]]+1,30))","v":""}]
[null,1143,null,null,null,{"$f":"IFERROR(FIND(\"_\",Table3[[#This Row],[شماره تماس]]),0)","v":0},{"$f":"IF(Table3[[#This Row],[چندم]]=0,Table3[[#This Row],[شماره تماس]],MID(Table3[[#This Row],[شماره تماس]],1,Table3[[#This Row],[چندم]]-1))","v":0},{"$f":"IF(Table3[[#This Row],[چندم]]=0,\"\",MID(Table3[[#This Row],[شماره تماس]],Table3[[#This Row],[چندم]]+1,30))","v":""}]
[null,1144,null,null,null,{"$f":"IFERROR(FIND(\"_\",Table3[[#This Row],[شماره تماس]]),0)","v":0},{"$f":"IF(Table3[[#This Row],[چندم]]=0,Table3[[#This Row],[شماره تماس]],MID(Table3[[#This Row],[شماره تماس]],1,Table3[[#This Row],[چندم]]-1))","v":0},{"$f":"IF(Table3[[#This Row],[چندم]]=0,\"\",MID(Table3[[#This Row],[شماره تماس]],Table3[[#This Row],[چندم]]+1,30))","v":""}]
[null,1145,null,null,null,{"$f":"IFERROR(FIND(\"_\",Table3[[#This Row],[شماره تماس]]),0)","v":0},{"$f":"IF(Table3[[#This Row],[چندم]]=0,Table3[[#This Row],[شماره تماس]],MID(Table3[[#This Row],[شماره تماس]],1,Table3[[#This Row],[چندم]]-1))","v":0},{"$f":"IF(Table3[[#This Row],[چندم]]=0,\"\",MID(Table3[[#This Row],[شماره تماس]],Table3[[#This Row],[چندم]]+1,30))","v":""}]
[null,1146,null,null,null,{"$f":"IFERROR(FIND(\"_\",Table3[[#This Row],[شماره تماس]]),0)","v":0},{"$f":"IF(Table3[[#This Row],[چندم]]=0,Table3[[#This Row],[شماره تماس]],MID(Table3[[#This Row],[شماره تماس]],1,Table3[[#This Row],[چندم]]-1))","v":0},{"$f":"IF(Table3[[#This Row],[چندم]]=0,\"\",MID(Table3[[#This Row],[شماره تماس]],Table3[[#This Row],[چندم]]+1,30))","v":""}]
[null,1147,null,null,null,{"$f":"IFERROR(FIND(\"_\",Table3[[#This Row],[شماره تماس]]),0)","v":0},{"$f":"IF(Table3[[#This Row],[چندم]]=0,Table3[[#This Row],[شماره تماس]],MID(Table3[[#This Row],[شماره تماس]],1,Table3[[#This Row],[چندم]]-1))","v":0},{"$f":"IF(Table3[[#This Row],[چندم]]=0,\"\",MID(Table3[[#This Row],[شماره تماس]],Table3[[#This Row],[چندم]]+1,30))","v":""}]
[null,1148,null,null,null,{"$f":"IFERROR(FIND(\"_\",Table3[[#This Row],[شماره تماس]]),0)","v":0},{"$f":"IF(Table3[[#This Row],[چندم]]=0,Table3[[#This Row],[شماره تماس]],MID(Table3[[#This Row],[شماره تماس]],1,Table3[[#This Row],[چندم]]-1))","v":0},{"$f":"IF(Table3[[#This Row],[چندم]]=0,\"\",MID(Table3[[#This Row],[شماره تماس]],Table3[[#This Row],[چندم]]+1,30))","v":""}]
[null,1149,null,null,null,{"$f":"IFERROR(FIND(\"_\",Table3[[#This Row],[شماره تماس]]),0)","v":0},{"$f":"IF(Table3[[#This Row],[چندم]]=0,Table3[[#This Row],[شماره تماس]],MID(Table3[[#This Row],[شماره تماس]],1,Table3[[#This Row],[چندم]]-1))","v":0},{"$f":"IF(Table3[[#This Row],[چندم]]=0,\"\",MID(Table3[[#This Row],[شماره تماس]],Table3[[#This Row],[چندم]]+1,30))","v":""}]
[null,1150,null,null,null,{"$f":"IFERROR(FIND(\"_\",Table3[[#This Row],[شماره تماس]]),0)","v":0},{"$f":"IF(Table3[[#This Row],[چندم]]=0,Table3[[#This Row],[شماره تماس]],MID(Table3[[#This Row],[شماره تماس]],1,Table3[[#This Row],[چندم]]-1))","v":0},{"$f":"IF(Table3[[#This Row],[چندم]]=0,\"\",MID(Table3[[#This Row],[شماره تماس]],Table3[[#This Row],[چندم]]+1,30))","v":""}]
[null,1151,null,null,null,{"$f":"IFERROR(FIND(\"_\",Table3[[#This Row],[شماره تماس]]),0)","v":0},{"$f":"IF(Table3[[#This Row],[چندم]]=0,Table3[[#This Row],[شماره تماس]],MID(Table3[[#This Row],[شماره تماس]],1,Table3[[#This Row],[چندم]]-1))","v":0},{"$f":"IF(Table3[[#This Row],[چندم]]=0,\"\",MID(Table3[[#This Row],[شماره تماس]],Table3[[#This Row],[چندم]]+1,30))","v":""}]
[null,1152,null,null,null,{"$f":"IFERROR(FIND(\"_\",Table3[[#This Row],[شماره تماس]]),0)","v":0},{"$f":"IF(Table3[[#This Row],[چندم]]=0,Table3[[#This Row],[شماره تماس]],MID(Table3[[#This Row],[شماره تماس]],1,Table3[[#This Row],[چندم]]-1))","v":0},{"$f":"IF(Table3[[#This Row],[چندم]]=0,\"\",MID(Table3[[#This Row],[شماره تماس]],Table3[[#This Row],[چندم]]+1,30))","v":""}]
[null,1153,null,null,null,{"$f":"IFERROR(FIND(\"_\",Table3[[#This Row],[شماره تماس]]),0)","v":0},{"$f":"IF(Table3[[#This Row],[چندم]]=0,Table3[[#This Row],[شماره تماس]],MID(Table3[[#This Row],[شماره تماس]],1,Table3[[#This Row],[چندم]]-1))","v":0},{"$f":"IF(Table3[[#This Row],[چندم]]=0,\"\",MID(Table3[[#This Row],[شماره تماس]],Table3[[#This Row],[چندم]]+1,30))","v":""}]
[null,1154,null,null,null,{"$f":"IFERROR(FIND(\"_\",Table3[[#This Row],[شماره تماس]]),0)","v":0},{"$f":"IF(Table3[[#This Row],[چندم]]=0,Table3[[#This Row],[شماره تماس]],MID(Table3[[#This Row],[شماره تماس]],1,Table3[[#This Row],[چندم]]-1))","v":0},{"$f":"IF(Table3[[#This Row],[چندم]]=0,\"\",MID(Table3[[#This Row],[شماره تماس]],Table3[[#This Row],[چندم]]+1,30))","v":""}]
[null,1155,null,null,null,{"$f":"IFERROR(FIND(\"_\",Table3[[#This Row],[شماره تماس]]),0)","v":0},{"$f":"IF(Table3[[#This Row],[چندم]]=0,Table3[[#This Row],[شماره تماس]],MID(Table3[[#This Row],[شماره تماس]],1,Table3[[#This Row],[چندم]]-1))","v":0},{"$f":"IF(Table3[[#This Row],[چندم]]=0,\"\",MID(Table3[[#This Row],[شماره تماس]],Table3[[#This Row],[چندم]]+1,30))","v":""}]
[null,1156,null,null,null,{"$f":"IFERROR(FIND(\"_\",Table3[[#This Row],[شماره تماس]]),0)","v":0},{"$f":"IF(Table3[[#This Row],[چندم]]=0,Table3[[#This Row],[شماره تماس]],MID(Table3[[#This Row],[شماره تماس]],1,Table3[[#This Row],[چندم]]-1))","v":0},{"$f":"IF(Table3[[#This Row],[چندم]]=0,\"\",MID(Table3[[#This Row],[شماره تماس]],Table3[[#This Row],[چندم]]+1,30))","v":""}]
[null,1157,null,null,null,{"$f":"IFERROR(FIND(\"_\",Table3[[#This Row],[شماره تماس]]),0)","v":0},{"$f":"IF(Table3[[#This Row],[چندم]]=0,Table3[[#This Row],[شماره تماس]],MID(Table3[[#This Row],[شماره تماس]],1,Table3[[#This Row],[چندم]]-1))","v":0},{"$f":"IF(Table3[[#This Row],[چندم]]=0,\"\",MID(Table3[[#This Row],[شماره تماس]],Table3[[#This Row],[چندم]]+1,30))","v":""}]
[null,1158,null,null,null,{"$f":"IFERROR(FIND(\"_\",Table3[[#This Row],[شماره تماس]]),0)","v":0},{"$f":"IF(Table3[[#This Row],[چندم]]=0,Table3[[#This Row],[شماره تماس]],MID(Table3[[#This Row],[شماره تماس]],1,Table3[[#This Row],[چندم]]-1))","v":0},{"$f":"IF(Table3[[#This Row],[چندم]]=0,\"\",MID(Table3[[#This Row],[شماره تماس]],Table3[[#This Row],[چندم]]+1,30))","v":""}]
[null,1159,null,null,null,{"$f":"IFERROR(FIND(\"_\",Table3[[#This Row],[شماره تماس]]),0)","v":0},{"$f":"IF(Table3[[#This Row],[چندم]]=0,Table3[[#This Row],[شماره تماس]],MID(Table3[[#This Row],[شماره تماس]],1,Table3[[#This Row],[چندم]]-1))","v":0},{"$f":"IF(Table3[[#This Row],[چندم]]=0,\"\",MID(Table3[[#This Row],[شماره تماس]],Table3[[#This Row],[چندم]]+1,30))","v":""}]
[null,1160,null,null,null,{"$f":"IFERROR(FIND(\"_\",Table3[[#This Row],[شماره تماس]]),0)","v":0},{"$f":"IF(Table3[[#This Row],[چندم]]=0,Table3[[#This Row],[شماره تماس]],MID(Table3[[#This Row],[شماره تماس]],1,Table3[[#This Row],[چندم]]-1))","v":0},{"$f":"IF(Table3[[#This Row],[چندم]]=0,\"\",MID(Table3[[#This Row],[شماره تماس]],Table3[[#This Row],[چندم]]+1,30))","v":""}]
[null,1161,null,null,null,{"$f":"IFERROR(FIND(\"_\",Table3[[#This Row],[شماره تماس]]),0)","v":0},{"$f":"IF(Table3[[#This Row],[چندم]]=0,Table3[[#This Row],[شماره تماس]],MID(Table3[[#This Row],[شماره تماس]],1,Table3[[#This Row],[چندم]]-1))","v":0},{"$f":"IF(Table3[[#This Row],[چندم]]=0,\"\",MID(Table3[[#This Row],[شماره تماس]],Table3[[#This Row],[چندم]]+1,30))","v":""}]
[null,1162,null,null,null,{"$f":"IFERROR(FIND(\"_\",Table3[[#This Row],[شماره تماس]]),0)","v":0},{"$f":"IF(Table3[[#This Row],[چندم]]=0,Table3[[#This Row],[شماره تماس]],MID(Table3[[#This Row],[شماره تماس]],1,Table3[[#This Row],[چندم]]-1))","v":0},{"$f":"IF(Table3[[#This Row],[چندم]]=0,\"\",MID(Table3[[#This Row],[شماره تماس]],Table3[[#This Row],[چندم]]+1,30))","v":""}]
[null,1163,null,null,null,{"$f":"IFERROR(FIND(\"_\",Table3[[#This Row],[شماره تماس]]),0)","v":0},{"$f":"IF(Table3[[#This Row],[چندم]]=0,Table3[[#This Row],[شماره تماس]],MID(Table3[[#This Row],[شماره تماس]],1,Table3[[#This Row],[چندم]]-1))","v":0},{"$f":"IF(Table3[[#This Row],[چندم]]=0,\"\",MID(Table3[[#This Row],[شماره تماس]],Table3[[#This Row],[چندم]]+1,30))","v":""}]
[null,1164,null,null,null,{"$f":"IFERROR(FIND(\"_\",Table3[[#This Row],[شماره تماس]]),0)","v":0},{"$f":"IF(Table3[[#This Row],[چندم]]=0,Table3[[#This Row],[شماره تماس]],MID(Table3[[#This Row],[شماره تماس]],1,Table3[[#This Row],[چندم]]-1))","v":0},{"$f":"IF(Table3[[#This Row],[چندم]]=0,\"\",MID(Table3[[#This Row],[شماره تماس]],Table3[[#This Row],[چندم]]+1,30))","v":""}]
[null,1165,null,null,null,{"$f":"IFERROR(FIND(\"_\",Table3[[#This Row],[شماره تماس]]),0)","v":0},{"$f":"IF(Table3[[#This Row],[چندم]]=0,Table3[[#This Row],[شماره تماس]],MID(Table3[[#This Row],[شماره تماس]],1,Table3[[#This Row],[چندم]]-1))","v":0},{"$f":"IF(Table3[[#This Row],[چندم]]=0,\"\",MID(Table3[[#This Row],[شماره تماس]],Table3[[#This Row],[چندم]]+1,30))","v":""}]
[null,1166,null,null,null,{"$f":"IFERROR(FIND(\"_\",Table3[[#This Row],[شماره تماس]]),0)","v":0},{"$f":"IF(Table3[[#This Row],[چندم]]=0,Table3[[#This Row],[شماره تماس]],MID(Table3[[#This Row],[شماره تماس]],1,Table3[[#This Row],[چندم]]-1))","v":0},{"$f":"IF(Table3[[#This Row],[چندم]]=0,\"\",MID(Table3[[#This Row],[شماره تماس]],Table3[[#This Row],[چندم]]+1,30))","v":""}]
[null,1167,null,null,null,{"$f":"IFERROR(FIND(\"_\",Table3[[#This Row],[شماره تماس]]),0)","v":0},{"$f":"IF(Table3[[#This Row],[چندم]]=0,Table3[[#This Row],[شماره تماس]],MID(Table3[[#This Row],[شماره تماس]],1,Table3[[#This Row],[چندم]]-1))","v":0},{"$f":"IF(Table3[[#This Row],[چندم]]=0,\"\",MID(Table3[[#This Row],[شماره تماس]],Table3[[#This Row],[چندم]]+1,30))","v":""}]
[null,1168,null,null,null,{"$f":"IFERROR(FIND(\"_\",Table3[[#This Row],[شماره تماس]]),0)","v":0},{"$f":"IF(Table3[[#This Row],[چندم]]=0,Table3[[#This Row],[شماره تماس]],MID(Table3[[#This Row],[شماره تماس]],1,Table3[[#This Row],[چندم]]-1))","v":0},{"$f":"IF(Table3[[#This Row],[چندم]]=0,\"\",MID(Table3[[#This Row],[شماره تماس]],Table3[[#This Row],[چندم]]+1,30))","v":""}]
[null,1169,null,null,null,{"$f":"IFERROR(FIND(\"_\",Table3[[#This Row],[شماره تماس]]),0)","v":0},{"$f":"IF(Table3[[#This Row],[چندم]]=0,Table3[[#This Row],[شماره تماس]],MID(Table3[[#This Row],[شماره تماس]],1,Table3[[#This Row],[چندم]]-1))","v":0},{"$f":"IF(Table3[[#This Row],[چندم]]=0,\"\",MID(Table3[[#This Row],[شماره تماس]],Table3[[#This Row],[چندم]]+1,30))","v":""}]
[null,1170,null,null,null,{"$f":"IFERROR(FIND(\"_\",Table3[[#This Row],[شماره تماس]]),0)","v":0},{"$f":"IF(Table3[[#This Row],[چندم]]=0,Table3[[#This Row],[شماره تماس]],MID(Table3[[#This Row],[شماره تماس]],1,Table3[[#This Row],[چندم]]-1))","v":0},{"$f":"IF(Table3[[#This Row],[چندم]]=0,\"\",MID(Table3[[#This Row],[شماره تماس]],Table3[[#This Row],[چندم]]+1,30))","v":""}]
[null,1171,null,null,null,{"$f":"IFERROR(FIND(\"_\",Table3[[#This Row],[شماره تماس]]),0)","v":0},{"$f":"IF(Table3[[#This Row],[چندم]]=0,Table3[[#This Row],[شماره تماس]],MID(Table3[[#This Row],[شماره تماس]],1,Table3[[#This Row],[چندم]]-1))","v":0},{"$f":"IF(Table3[[#This Row],[چندم]]=0,\"\",MID(Table3[[#This Row],[شماره تماس]],Table3[[#This Row],[چندم]]+1,30))","v":""}]
[null,1172,null,null,null,{"$f":"IFERROR(FIND(\"_\",Table3[[#This Row],[شماره تماس]]),0)","v":0},{"$f":"IF(Table3[[#This Row],[چندم]]=0,Table3[[#This Row],[شماره تماس]],MID(Table3[[#This Row],[شماره تماس]],1,Table3[[#This Row],[چندم]]-1))","v":0},{"$f":"IF(Table3[[#This Row],[چندم]]=0,\"\",MID(Table3[[#This Row],[شماره تماس]],Table3[[#This Row],[چندم]]+1,30))","v":""}]
[null,1173,null,null,null,{"$f":"IFERROR(FIND(\"_\",Table3[[#This Row],[شماره تماس]]),0)","v":0},{"$f":"IF(Table3[[#This Row],[چندم]]=0,Table3[[#This Row],[شماره تماس]],MID(Table3[[#This Row],[شماره تماس]],1,Table3[[#This Row],[چندم]]-1))","v":0},{"$f":"IF(Table3[[#This Row],[چندم]]=0,\"\",MID(Table3[[#This Row],[شماره تماس]],Table3[[#This Row],[چندم]]+1,30))","v":""}]
[null,1174,null,null,null,{"$f":"IFERROR(FIND(\"_\",Table3[[#This Row],[شماره تماس]]),0)","v":0},{"$f":"IF(Table3[[#This Row],[چندم]]=0,Table3[[#This Row],[شماره تماس]],MID(Table3[[#This Row],[شماره تماس]],1,Table3[[#This Row],[چندم]]-1))","v":0},{"$f":"IF(Table3[[#This Row],[چندم]]=0,\"\",MID(Table3[[#This Row],[شماره تماس]],Table3[[#This Row],[چندم]]+1,30))","v":""}]
[null,1175,null,null,null,{"$f":"IFERROR(FIND(\"_\",Table3[[#This Row],[شماره تماس]]),0)","v":0},{"$f":"IF(Table3[[#This Row],[چندم]]=0,Table3[[#This Row],[شماره تماس]],MID(Table3[[#This Row],[شماره تماس]],1,Table3[[#This Row],[چندم]]-1))","v":0},{"$f":"IF(Table3[[#This Row],[چندم]]=0,\"\",MID(Table3[[#This Row],[شماره تماس]],Table3[[#This Row],[چندم]]+1,30))","v":""}]
[null,1176,null,null,null,{"$f":"IFERROR(FIND(\"_\",Table3[[#This Row],[شماره تماس]]),0)","v":0},{"$f":"IF(Table3[[#This Row],[چندم]]=0,Table3[[#This Row],[شماره تماس]],MID(Table3[[#This Row],[شماره تماس]],1,Table3[[#This Row],[چندم]]-1))","v":0},{"$f":"IF(Table3[[#This Row],[چندم]]=0,\"\",MID(Table3[[#This Row],[شماره تماس]],Table3[[#This Row],[چندم]]+1,30))","v":""}]
[null,1177,null,null,null,{"$f":"IFERROR(FIND(\"_\",Table3[[#This Row],[شماره تماس]]),0)","v":0},{"$f":"IF(Table3[[#This Row],[چندم]]=0,Table3[[#This Row],[شماره تماس]],MID(Table3[[#This Row],[شماره تماس]],1,Table3[[#This Row],[چندم]]-1))","v":0},{"$f":"IF(Table3[[#This Row],[چندم]]=0,\"\",MID(Table3[[#This Row],[شماره تماس]],Table3[[#This Row],[چندم]]+1,30))","v":""}]
[null,1178,null,null,null,{"$f":"IFERROR(FIND(\"_\",Table3[[#This Row],[شماره تماس]]),0)","v":0},{"$f":"IF(Table3[[#This Row],[چندم]]=0,Table3[[#This Row],[شماره تماس]],MID(Table3[[#This Row],[شماره تماس]],1,Table3[[#This Row],[چندم]]-1))","v":0},{"$f":"IF(Table3[[#This Row],[چندم]]=0,\"\",MID(Table3[[#This Row],[شماره تماس]],Table3[[#This Row],[چندم]]+1,30))","v":""}]
[null,1179,null,null,null,{"$f":"IFERROR(FIND(\"_\",Table3[[#This Row],[شماره تماس]]),0)","v":0},{"$f":"IF(Table3[[#This Row],[چندم]]=0,Table3[[#This Row],[شماره تماس]],MID(Table3[[#This Row],[شماره تماس]],1,Table3[[#This Row],[چندم]]-1))","v":0},{"$f":"IF(Table3[[#This Row],[چندم]]=0,\"\",MID(Table3[[#This Row],[شماره تماس]],Table3[[#This Row],[چندم]]+1,30))","v":""}]
[null,1180,null,null,null,{"$f":"IFERROR(FIND(\"_\",Table3[[#This Row],[شماره تماس]]),0)","v":0},{"$f":"IF(Table3[[#This Row],[چندم]]=0,Table3[[#This Row],[شماره تماس]],MID(Table3[[#This Row],[شماره تماس]],1,Table3[[#This Row],[چندم]]-1))","v":0},{"$f":"IF(Table3[[#This Row],[چندم]]=0,\"\",MID(Table3[[#This Row],[شماره تماس]],Table3[[#This Row],[چندم]]+1,30))","v":""}]
[null,1181,null,null,null,{"$f":"IFERROR(FIND(\"_\",Table3[[#This Row],[شماره تماس]]),0)","v":0},{"$f":"IF(Table3[[#This Row],[چندم]]=0,Table3[[#This Row],[شماره تماس]],MID(Table3[[#This Row],[شماره تماس]],1,Table3[[#This Row],[چندم]]-1))","v":0},{"$f":"IF(Table3[[#This Row],[چندم]]=0,\"\",MID(Table3[[#This Row],[شماره تماس]],Table3[[#This Row],[چندم]]+1,30))","v":""}]
[null,1182,null,null,null,{"$f":"IFERROR(FIND(\"_\",Table3[[#This Row],[شماره تماس]]),0)","v":0},{"$f":"IF(Table3[[#This Row],[چندم]]=0,Table3[[#This Row],[شماره تماس]],MID(Table3[[#This Row],[شماره تماس]],1,Table3[[#This Row],[چندم]]-1))","v":0},{"$f":"IF(Table3[[#This Row],[چندم]]=0,\"\",MID(Table3[[#This Row],[شماره تماس]],Table3[[#This Row],[چندم]]+1,30))","v":""}]
[null,1183,null,null,null,{"$f":"IFERROR(FIND(\"_\",Table3[[#This Row],[شماره تماس]]),0)","v":0},{"$f":"IF(Table3[[#This Row],[چندم]]=0,Table3[[#This Row],[شماره تماس]],MID(Table3[[#This Row],[شماره تماس]],1,Table3[[#This Row],[چندم]]-1))","v":0},{"$f":"IF(Table3[[#This Row],[چندم]]=0,\"\",MID(Table3[[#This Row],[شماره تماس]],Table3[[#This Row],[چندم]]+1,30))","v":""}]
[null,1184,null,null,null,{"$f":"IFERROR(FIND(\"_\",Table3[[#This Row],[شماره تماس]]),0)","v":0},{"$f":"IF(Table3[[#This Row],[چندم]]=0,Table3[[#This Row],[شماره تماس]],MID(Table3[[#This Row],[شماره تماس]],1,Table3[[#This Row],[چندم]]-1))","v":0},{"$f":"IF(Table3[[#This Row],[چندم]]=0,\"\",MID(Table3[[#This Row],[شماره تماس]],Table3[[#This Row],[چندم]]+1,30))","v":""}]
[null,1185,null,null,null,{"$f":"IFERROR(FIND(\"_\",Table3[[#This Row],[شماره تماس]]),0)","v":0},{"$f":"IF(Table3[[#This Row],[چندم]]=0,Table3[[#This Row],[شماره تماس]],MID(Table3[[#This Row],[شماره تماس]],1,Table3[[#This Row],[چندم]]-1))","v":0},{"$f":"IF(Table3[[#This Row],[چندم]]=0,\"\",MID(Table3[[#This Row],[شماره تماس]],Table3[[#This Row],[چندم]]+1,30))","v":""}]
[null,1186,null,null,null,{"$f":"IFERROR(FIND(\"_\",Table3[[#This Row],[شماره تماس]]),0)","v":0},{"$f":"IF(Table3[[#This Row],[چندم]]=0,Table3[[#This Row],[شماره تماس]],MID(Table3[[#This Row],[شماره تماس]],1,Table3[[#This Row],[چندم]]-1))","v":0},{"$f":"IF(Table3[[#This Row],[چندم]]=0,\"\",MID(Table3[[#This Row],[شماره تماس]],Table3[[#This Row],[چندم]]+1,30))","v":""}]
[null,1187,null,null,null,{"$f":"IFERROR(FIND(\"_\",Table3[[#This Row],[شماره تماس]]),0)","v":0},{"$f":"IF(Table3[[#This Row],[چندم]]=0,Table3[[#This Row],[شماره تماس]],MID(Table3[[#This Row],[شماره تماس]],1,Table3[[#This Row],[چندم]]-1))","v":0},{"$f":"IF(Table3[[#This Row],[چندم]]=0,\"\",MID(Table3[[#This Row],[شماره تماس]],Table3[[#This Row],[چندم]]+1,30))","v":""}]
[null,1188,null,null,null,{"$f":"IFERROR(FIND(\"_\",Table3[[#This Row],[شماره تماس]]),0)","v":0},{"$f":"IF(Table3[[#This Row],[چندم]]=0,Table3[[#This Row],[شماره تماس]],MID(Table3[[#This Row],[شماره تماس]],1,Table3[[#This Row],[چندم]]-1))","v":0},{"$f":"IF(Table3[[#This Row],[چندم]]=0,\"\",MID(Table3[[#This Row],[شماره تماس]],Table3[[#This Row],[چندم]]+1,30))","v":""}]
[null,1189,null,null,null,{"$f":"IFERROR(FIND(\"_\",Table3[[#This Row],[شماره تماس]]),0)","v":0},{"$f":"IF(Table3[[#This Row],[چندم]]=0,Table3[[#This Row],[شماره تماس]],MID(Table3[[#This Row],[شماره تماس]],1,Table3[[#This Row],[چندم]]-1))","v":0},{"$f":"IF(Table3[[#This Row],[چندم]]=0,\"\",MID(Table3[[#This Row],[شماره تماس]],Table3[[#This Row],[چندم]]+1,30))","v":""}]
[null,1190,null,null,null,{"$f":"IFERROR(FIND(\"_\",Table3[[#This Row],[شماره تماس]]),0)","v":0},{"$f":"IF(Table3[[#This Row],[چندم]]=0,Table3[[#This Row],[شماره تماس]],MID(Table3[[#This Row],[شماره تماس]],1,Table3[[#This Row],[چندم]]-1))","v":0},{"$f":"IF(Table3[[#This Row],[چندم]]=0,\"\",MID(Table3[[#This Row],[شماره تماس]],Table3[[#This Row],[چندم]]+1,30))","v":""}]
[null,{"$f":"ROW()-3","v":1191},null,null,null,{"$f":"IFERROR(FIND(\"_\",Table3[[#This Row],[شماره تماس]]),0)","v":0},{"$f":"IF(Table3[[#This Row],[چندم]]=0,Table3[[#This Row],[شماره تماس]],MID(Table3[[#This Row],[شماره تماس]],1,Table3[[#This Row],[چندم]]-1))","v":0},{"$f":"IF(Table3[[#This Row],[چندم]]=0,\"\",MID(Table3[[#This Row],[شماره تماس]],Table3[[#This Row],[چندم]]+1,30))","v":""}]
[null,1192,null,null,null,{"$f":"IFERROR(FIND(\"_\",Table3[[#This Row],[شماره تماس]]),0)","v":0},{"$f":"IF(Table3[[#This Row],[چندم]]=0,Table3[[#This Row],[شماره تماس]],MID(Table3[[#This Row],[شماره تماس]],1,Table3[[#This Row],[چندم]]-1))","v":0},{"$f":"IF(Table3[[#This Row],[چندم]]=0,\"\",MID(Table3[[#This Row],[شماره تماس]],Table3[[#This Row],[چندم]]+1,30))","v":""}]
[null,1193,null,null,null,{"$f":"IFERROR(FIND(\"_\",Table3[[#This Row],[شماره تماس]]),0)","v":0},{"$f":"IF(Table3[[#This Row],[چندم]]=0,Table3[[#This Row],[شماره تماس]],MID(Table3[[#This Row],[شماره تماس]],1,Table3[[#This Row],[چندم]]-1))","v":0},{"$f":"IF(Table3[[#This Row],[چندم]]=0,\"\",MID(Table3[[#This Row],[شماره تماس]],Table3[[#This Row],[چندم]]+1,30))","v":""}]
[null,1194,null,null,null,{"$f":"IFERROR(FIND(\"_\",Table3[[#This Row],[شماره تماس]]),0)","v":0},{"$f":"IF(Table3[[#This Row],[چندم]]=0,Table3[[#This Row],[شماره تماس]],MID(Table3[[#This Row],[شماره تماس]],1,Table3[[#This Row],[چندم]]-1))","v":0},{"$f":"IF(Table3[[#This Row],[چندم]]=0,\"\",MID(Table3[[#This Row],[شماره تماس]],Table3[[#This Row],[چندم]]+1,30))","v":""}]
[null,1195,null,null,null,{"$f":"IFERROR(FIND(\"_\",Table3[[#This Row],[شماره تماس]]),0)","v":0},{"$f":"IF(Table3[[#This Row],[چندم]]=0,Table3[[#This Row],[شماره تماس]],MID(Table3[[#This Row],[شماره تماس]],1,Table3[[#This Row],[چندم]]-1))","v":0},{"$f":"IF(Table3[[#This Row],[چندم]]=0,\"\",MID(Table3[[#This Row],[شماره تماس]],Table3[[#This Row],[چندم]]+1,30))","v":""}]
[null,1196,null,null,null,{"$f":"IFERROR(FIND(\"_\",Table3[[#This Row],[شماره تماس]]),0)","v":0},{"$f":"IF(Table3[[#This Row],[چندم]]=0,Table3[[#This Row],[شماره تماس]],MID(Table3[[#This Row],[شماره تماس]],1,Table3[[#This Row],[چندم]]-1))","v":0},{"$f":"IF(Table3[[#This Row],[چندم]]=0,\"\",MID(Table3[[#This Row],[شماره تماس]],Table3[[#This Row],[چندم]]+1,30))","v":""}]
[null,1197,null,null,null,{"$f":"IFERROR(FIND(\"_\",Table3[[#This Row],[شماره تماس]]),0)","v":0},{"$f":"IF(Table3[[#This Row],[چندم]]=0,Table3[[#This Row],[شماره تماس]],MID(Table3[[#This Row],[شماره تماس]],1,Table3[[#This Row],[چندم]]-1))","v":0},{"$f":"IF(Table3[[#This Row],[چندم]]=0,\"\",MID(Table3[[#This Row],[شماره تماس]],Table3[[#This Row],[چندم]]+1,30))","v":""}]
[null,1198,null,null,null,{"$f":"IFERROR(FIND(\"_\",Table3[[#This Row],[شماره تماس]]),0)","v":0},{"$f":"IF(Table3[[#This Row],[چندم]]=0,Table3[[#This Row],[شماره تماس]],MID(Table3[[#This Row],[شماره تماس]],1,Table3[[#This Row],[چندم]]-1))","v":0},{"$f":"IF(Table3[[#This Row],[چندم]]=0,\"\",MID(Table3[[#This Row],[شماره تماس]],Table3[[#This Row],[چندم]]+1,30))","v":""}]
[null,1199,null,null,null,{"$f":"IFERROR(FIND(\"_\",Table3[[#This Row],[شماره تماس]]),0)","v":0},{"$f":"IF(Table3[[#This Row],[چندم]]=0,Table3[[#This Row],[شماره تماس]],MID(Table3[[#This Row],[شماره تماس]],1,Table3[[#This Row],[چندم]]-1))","v":0},{"$f":"IF(Table3[[#This Row],[چندم]]=0,\"\",MID(Table3[[#This Row],[شماره تماس]],Table3[[#This Row],[چندم]]+1,30))","v":""}]
[null,1200,null,null,null,{"$f":"IFERROR(FIND(\"_\",Table3[[#This Row],[شماره تماس]]),0)","v":0},{"$f":"IF(Table3[[#This Row],[چندم]]=0,Table3[[#This Row],[شماره تماس]],MID(Table3[[#This Row],[شماره تماس]],1,Table3[[#This Row],[چندم]]-1))","v":0},{"$f":"IF(Table3[[#This Row],[چندم]]=0,\"\",MID(Table3[[#This Row],[شماره تماس]],Table3[[#This Row],[چندم]]+1,30))","v":""}]
[null,1201,null,null,null,{"$f":"IFERROR(FIND(\"_\",Table3[[#This Row],[شماره تماس]]),0)","v":0},{"$f":"IF(Table3[[#This Row],[چندم]]=0,Table3[[#This Row],[شماره تماس]],MID(Table3[[#This Row],[شماره تماس]],1,Table3[[#This Row],[چندم]]-1))","v":0},{"$f":"IF(Table3[[#This Row],[چندم]]=0,\"\",MID(Table3[[#This Row],[شماره تماس]],Table3[[#This Row],[چندم]]+1,30))","v":""}]
[null,1202,null,null,null,{"$f":"IFERROR(FIND(\"_\",Table3[[#This Row],[شماره تماس]]),0)","v":0},{"$f":"IF(Table3[[#This Row],[چندم]]=0,Table3[[#This Row],[شماره تماس]],MID(Table3[[#This Row],[شماره تماس]],1,Table3[[#This Row],[چندم]]-1))","v":0},{"$f":"IF(Table3[[#This Row],[چندم]]=0,\"\",MID(Table3[[#This Row],[شماره تماس]],Table3[[#This Row],[چندم]]+1,30))","v":""}]
[null,1203,null,null,null,{"$f":"IFERROR(FIND(\"_\",Table3[[#This Row],[شماره تماس]]),0)","v":0},{"$f":"IF(Table3[[#This Row],[چندم]]=0,Table3[[#This Row],[شماره تماس]],MID(Table3[[#This Row],[شماره تماس]],1,Table3[[#This Row],[چندم]]-1))","v":0},{"$f":"IF(Table3[[#This Row],[چندم]]=0,\"\",MID(Table3[[#This Row],[شماره تماس]],Table3[[#This Row],[چندم]]+1,30))","v":""}]
[null,1204,null,null,null,{"$f":"IFERROR(FIND(\"_\",Table3[[#This Row],[شماره تماس]]),0)","v":0},{"$f":"IF(Table3[[#This Row],[چندم]]=0,Table3[[#This Row],[شماره تماس]],MID(Table3[[#This Row],[شماره تماس]],1,Table3[[#This Row],[چندم]]-1))","v":0},{"$f":"IF(Table3[[#This Row],[چندم]]=0,\"\",MID(Table3[[#This Row],[شماره تماس]],Table3[[#This Row],[چندم]]+1,30))","v":""}]
[null,1205,null,null,null,{"$f":"IFERROR(FIND(\"_\",Table3[[#This Row],[شماره تماس]]),0)","v":0},{"$f":"IF(Table3[[#This Row],[چندم]]=0,Table3[[#This Row],[شماره تماس]],MID(Table3[[#This Row],[شماره تماس]],1,Table3[[#This Row],[چندم]]-1))","v":0},{"$f":"IF(Table3[[#This Row],[چندم]]=0,\"\",MID(Table3[[#This Row],[شماره تماس]],Table3[[#This Row],[چندم]]+1,30))","v":""}]
[null,1206,null,null,null,{"$f":"IFERROR(FIND(\"_\",Table3[[#This Row],[شماره تماس]]),0)","v":0},{"$f":"IF(Table3[[#This Row],[چندم]]=0,Table3[[#This Row],[شماره تماس]],MID(Table3[[#This Row],[شماره تماس]],1,Table3[[#This Row],[چندم]]-1))","v":0},{"$f":"IF(Table3[[#This Row],[چندم]]=0,\"\",MID(Table3[[#This Row],[شماره تماس]],Table3[[#This Row],[چندم]]+1,30))","v":""}]
[null,1207,null,null,null,{"$f":"IFERROR(FIND(\"_\",Table3[[#This Row],[شماره تماس]]),0)","v":0},{"$f":"IF(Table3[[#This Row],[چندم]]=0,Table3[[#This Row],[شماره تماس]],MID(Table3[[#This Row],[شماره تماس]],1,Table3[[#This Row],[چندم]]-1))","v":0},{"$f":"IF(Table3[[#This Row],[چندم]]=0,\"\",MID(Table3[[#This Row],[شماره تماس]],Table3[[#This Row],[چندم]]+1,30))","v":""}]
[null,1208,null,null,null,{"$f":"IFERROR(FIND(\"_\",Table3[[#This Row],[شماره تماس]]),0)","v":0},{"$f":"IF(Table3[[#This Row],[چندم]]=0,Table3[[#This Row],[شماره تماس]],MID(Table3[[#This Row],[شماره تماس]],1,Table3[[#This Row],[چندم]]-1))","v":0},{"$f":"IF(Table3[[#This Row],[چندم]]=0,\"\",MID(Table3[[#This Row],[شماره تماس]],Table3[[#This Row],[چندم]]+1,30))","v":""}]
[null,1209,null,null,null,{"$f":"IFERROR(FIND(\"_\",Table3[[#This Row],[شماره تماس]]),0)","v":0},{"$f":"IF(Table3[[#This Row],[چندم]]=0,Table3[[#This Row],[شماره تماس]],MID(Table3[[#This Row],[شماره تماس]],1,Table3[[#This Row],[چندم]]-1))","v":0},{"$f":"IF(Table3[[#This Row],[چندم]]=0,\"\",MID(Table3[[#This Row],[شماره تماس]],Table3[[#This Row],[چندم]]+1,30))","v":""}]
[null,1210,null,null,null,{"$f":"IFERROR(FIND(\"_\",Table3[[#This Row],[شماره تماس]]),0)","v":0},{"$f":"IF(Table3[[#This Row],[چندم]]=0,Table3[[#This Row],[شماره تماس]],MID(Table3[[#This Row],[شماره تماس]],1,Table3[[#This Row],[چندم]]-1))","v":0},{"$f":"IF(Table3[[#This Row],[چندم]]=0,\"\",MID(Table3[[#This Row],[شماره تماس]],Table3[[#This Row],[چندم]]+1,30))","v":""}]
[null,1211,null,null,null,{"$f":"IFERROR(FIND(\"_\",Table3[[#This Row],[شماره تماس]]),0)","v":0},{"$f":"IF(Table3[[#This Row],[چندم]]=0,Table3[[#This Row],[شماره تماس]],MID(Table3[[#This Row],[شماره تماس]],1,Table3[[#This Row],[چندم]]-1))","v":0},{"$f":"IF(Table3[[#This Row],[چندم]]=0,\"\",MID(Table3[[#This Row],[شماره تماس]],Table3[[#This Row],[چندم]]+1,30))","v":""}]
[null,1212,null,null,null,{"$f":"IFERROR(FIND(\"_\",Table3[[#This Row],[شماره تماس]]),0)","v":0},{"$f":"IF(Table3[[#This Row],[چندم]]=0,Table3[[#This Row],[شماره تماس]],MID(Table3[[#This Row],[شماره تماس]],1,Table3[[#This Row],[چندم]]-1))","v":0},{"$f":"IF(Table3[[#This Row],[چندم]]=0,\"\",MID(Table3[[#This Row],[شماره تماس]],Table3[[#This Row],[چندم]]+1,30))","v":""}]
[null,1213,null,null,null,{"$f":"IFERROR(FIND(\"_\",Table3[[#This Row],[شماره تماس]]),0)","v":0},{"$f":"IF(Table3[[#This Row],[چندم]]=0,Table3[[#This Row],[شماره تماس]],MID(Table3[[#This Row],[شماره تماس]],1,Table3[[#This Row],[چندم]]-1))","v":0},{"$f":"IF(Table3[[#This Row],[چندم]]=0,\"\",MID(Table3[[#This Row],[شماره تماس]],Table3[[#This Row],[چندم]]+1,30))","v":""}]
[null,1214,null,null,null,{"$f":"IFERROR(FIND(\"_\",Table3[[#This Row],[شماره تماس]]),0)","v":0},{"$f":"IF(Table3[[#This Row],[چندم]]=0,Table3[[#This Row],[شماره تماس]],MID(Table3[[#This Row],[شماره تماس]],1,Table3[[#This Row],[چندم]]-1))","v":0},{"$f":"IF(Table3[[#This Row],[چندم]]=0,\"\",MID(Table3[[#This Row],[شماره تماس]],Table3[[#This Row],[چندم]]+1,30))","v":""}]
[null,1215,null,null,null,{"$f":"IFERROR(FIND(\"_\",Table3[[#This Row],[شماره تماس]]),0)","v":0},{"$f":"IF(Table3[[#This Row],[چندم]]=0,Table3[[#This Row],[شماره تماس]],MID(Table3[[#This Row],[شماره تماس]],1,Table3[[#This Row],[چندم]]-1))","v":0},{"$f":"IF(Table3[[#This Row],[چندم]]=0,\"\",MID(Table3[[#This Row],[شماره تماس]],Table3[[#This Row],[چندم]]+1,30))","v":""}]
[null,1216,null,null,null,{"$f":"IFERROR(FIND(\"_\",Table3[[#This Row],[شماره تماس]]),0)","v":0},{"$f":"IF(Table3[[#This Row],[چندم]]=0,Table3[[#This Row],[شماره تماس]],MID(Table3[[#This Row],[شماره تماس]],1,Table3[[#This Row],[چندم]]-1))","v":0},{"$f":"IF(Table3[[#This Row],[چندم]]=0,\"\",MID(Table3[[#This Row],[شماره تماس]],Table3[[#This Row],[چندم]]+1,30))","v":""}]
[null,1217,null,null,null,{"$f":"IFERROR(FIND(\"_\",Table3[[#This Row],[شماره تماس]]),0)","v":0},{"$f":"IF(Table3[[#This Row],[چندم]]=0,Table3[[#This Row],[شماره تماس]],MID(Table3[[#This Row],[شماره تماس]],1,Table3[[#This Row],[چندم]]-1))","v":0},{"$f":"IF(Table3[[#This Row],[چندم]]=0,\"\",MID(Table3[[#This Row],[شماره تماس]],Table3[[#This Row],[چندم]]+1,30))","v":""}]
[null,1218,null,null,null,{"$f":"IFERROR(FIND(\"_\",Table3[[#This Row],[شماره تماس]]),0)","v":0},{"$f":"IF(Table3[[#This Row],[چندم]]=0,Table3[[#This Row],[شماره تماس]],MID(Table3[[#This Row],[شماره تماس]],1,Table3[[#This Row],[چندم]]-1))","v":0},{"$f":"IF(Table3[[#This Row],[چندم]]=0,\"\",MID(Table3[[#This Row],[شماره تماس]],Table3[[#This Row],[چندم]]+1,30))","v":""}]
[null,1219,null,null,null,{"$f":"IFERROR(FIND(\"_\",Table3[[#This Row],[شماره تماس]]),0)","v":0},{"$f":"IF(Table3[[#This Row],[چندم]]=0,Table3[[#This Row],[شماره تماس]],MID(Table3[[#This Row],[شماره تماس]],1,Table3[[#This Row],[چندم]]-1))","v":0},{"$f":"IF(Table3[[#This Row],[چندم]]=0,\"\",MID(Table3[[#This Row],[شماره تماس]],Table3[[#This Row],[چندم]]+1,30))","v":""}]
[null,1220,null,null,null,{"$f":"IFERROR(FIND(\"_\",Table3[[#This Row],[شماره تماس]]),0)","v":0},{"$f":"IF(Table3[[#This Row],[چندم]]=0,Table3[[#This Row],[شماره تماس]],MID(Table3[[#This Row],[شماره تماس]],1,Table3[[#This Row],[چندم]]-1))","v":0},{"$f":"IF(Table3[[#This Row],[چندم]]=0,\"\",MID(Table3[[#This Row],[شماره تماس]],Table3[[#This Row],[چندم]]+1,30))","v":""}]
[null,1221,null,null,null,{"$f":"IFERROR(FIND(\"_\",Table3[[#This Row],[شماره تماس]]),0)","v":0},{"$f":"IF(Table3[[#This Row],[چندم]]=0,Table3[[#This Row],[شماره تماس]],MID(Table3[[#This Row],[شماره تماس]],1,Table3[[#This Row],[چندم]]-1))","v":0},{"$f":"IF(Table3[[#This Row],[چندم]]=0,\"\",MID(Table3[[#This Row],[شماره تماس]],Table3[[#This Row],[چندم]]+1,30))","v":""}]
[null,1222,null,null,null,{"$f":"IFERROR(FIND(\"_\",Table3[[#This Row],[شماره تماس]]),0)","v":0},{"$f":"IF(Table3[[#This Row],[چندم]]=0,Table3[[#This Row],[شماره تماس]],MID(Table3[[#This Row],[شماره تماس]],1,Table3[[#This Row],[چندم]]-1))","v":0},{"$f":"IF(Table3[[#This Row],[چندم]]=0,\"\",MID(Table3[[#This Row],[شماره تماس]],Table3[[#This Row],[چندم]]+1,30))","v":""}]
[null,1223,null,null,null,{"$f":"IFERROR(FIND(\"_\",Table3[[#This Row],[شماره تماس]]),0)","v":0},{"$f":"IF(Table3[[#This Row],[چندم]]=0,Table3[[#This Row],[شماره تماس]],MID(Table3[[#This Row],[شماره تماس]],1,Table3[[#This Row],[چندم]]-1))","v":0},{"$f":"IF(Table3[[#This Row],[چندم]]=0,\"\",MID(Table3[[#This Row],[شماره تماس]],Table3[[#This Row],[چندم]]+1,30))","v":""}]
[null,1224,null,null,null,{"$f":"IFERROR(FIND(\"_\",Table3[[#This Row],[شماره تماس]]),0)","v":0},{"$f":"IF(Table3[[#This Row],[چندم]]=0,Table3[[#This Row],[شماره تماس]],MID(Table3[[#This Row],[شماره تماس]],1,Table3[[#This Row],[چندم]]-1))","v":0},{"$f":"IF(Table3[[#This Row],[چندم]]=0,\"\",MID(Table3[[#This Row],[شماره تماس]],Table3[[#This Row],[چندم]]+1,30))","v":""}]
[null,1225,null,null,null,{"$f":"IFERROR(FIND(\"_\",Table3[[#This Row],[شماره تماس]]),0)","v":0},{"$f":"IF(Table3[[#This Row],[چندم]]=0,Table3[[#This Row],[شماره تماس]],MID(Table3[[#This Row],[شماره تماس]],1,Table3[[#This Row],[چندم]]-1))","v":0},{"$f":"IF(Table3[[#This Row],[چندم]]=0,\"\",MID(Table3[[#This Row],[شماره تماس]],Table3[[#This Row],[چندم]]+1,30))","v":""}]
[null,1226,null,null,null,{"$f":"IFERROR(FIND(\"_\",Table3[[#This Row],[شماره تماس]]),0)","v":0},{"$f":"IF(Table3[[#This Row],[چندم]]=0,Table3[[#This Row],[شماره تماس]],MID(Table3[[#This Row],[شماره تماس]],1,Table3[[#This Row],[چندم]]-1))","v":0},{"$f":"IF(Table3[[#This Row],[چندم]]=0,\"\",MID(Table3[[#This Row],[شماره تماس]],Table3[[#This Row],[چندم]]+1,30))","v":""}]
[null,1227,null,null,null,{"$f":"IFERROR(FIND(\"_\",Table3[[#This Row],[شماره تماس]]),0)","v":0},{"$f":"IF(Table3[[#This Row],[چندم]]=0,Table3[[#This Row],[شماره تماس]],MID(Table3[[#This Row],[شماره تماس]],1,Table3[[#This Row],[چندم]]-1))","v":0},{"$f":"IF(Table3[[#This Row],[چندم]]=0,\"\",MID(Table3[[#This Row],[شماره تماس]],Table3[[#This Row],[چندم]]+1,30))","v":""}]
[null,1228,null,null,null,{"$f":"IFERROR(FIND(\"_\",Table3[[#This Row],[شماره تماس]]),0)","v":0},{"$f":"IF(Table3[[#This Row],[چندم]]=0,Table3[[#This Row],[شماره تماس]],MID(Table3[[#This Row],[شماره تماس]],1,Table3[[#This Row],[چندم]]-1))","v":0},{"$f":"IF(Table3[[#This Row],[چندم]]=0,\"\",MID(Table3[[#This Row],[شماره تماس]],Table3[[#This Row],[چندم]]+1,30))","v":""}]
[null,1229,null,null,null,{"$f":"IFERROR(FIND(\"_\",Table3[[#This Row],[شماره تماس]]),0)","v":0},{"$f":"IF(Table3[[#This Row],[چندم]]=0,Table3[[#This Row],[شماره تماس]],MID(Table3[[#This Row],[شماره تماس]],1,Table3[[#This Row],[چندم]]-1))","v":0},{"$f":"IF(Table3[[#This Row],[چندم]]=0,\"\",MID(Table3[[#This Row],[شماره تماس]],Table3[[#This Row],[چندم]]+1,30))","v":""}]
[null,1230,null,null,null,{"$f":"IFERROR(FIND(\"_\",Table3[[#This Row],[شماره تماس]]),0)","v":0},{"$f":"IF(Table3[[#This Row],[چندم]]=0,Table3[[#This Row],[شماره تماس]],MID(Table3[[#This Row],[شماره تماس]],1,Table3[[#This Row],[چندم]]-1))","v":0},{"$f":"IF(Table3[[#This Row],[چندم]]=0,\"\",MID(Table3[[#This Row],[شماره تماس]],Table3[[#This Row],[چندم]]+1,30))","v":""}]
[null,1231,null,null,null,{"$f":"IFERROR(FIND(\"_\",Table3[[#This Row],[شماره تماس]]),0)","v":0},{"$f":"IF(Table3[[#This Row],[چندم]]=0,Table3[[#This Row],[شماره تماس]],MID(Table3[[#This Row],[شماره تماس]],1,Table3[[#This Row],[چندم]]-1))","v":0},{"$f":"IF(Table3[[#This Row],[چندم]]=0,\"\",MID(Table3[[#This Row],[شماره تماس]],Table3[[#This Row],[چندم]]+1,30))","v":""}]
[null,1232,null,null,null,{"$f":"IFERROR(FIND(\"_\",Table3[[#This Row],[شماره تماس]]),0)","v":0},{"$f":"IF(Table3[[#This Row],[چندم]]=0,Table3[[#This Row],[شماره تماس]],MID(Table3[[#This Row],[شماره تماس]],1,Table3[[#This Row],[چندم]]-1))","v":0},{"$f":"IF(Table3[[#This Row],[چندم]]=0,\"\",MID(Table3[[#This Row],[شماره تماس]],Table3[[#This Row],[چندم]]+1,30))","v":""}]
[null,1233,null,null,null,{"$f":"IFERROR(FIND(\"_\",Table3[[#This Row],[شماره تماس]]),0)","v":0},{"$f":"IF(Table3[[#This Row],[چندم]]=0,Table3[[#This Row],[شماره تماس]],MID(Table3[[#This Row],[شماره تماس]],1,Table3[[#This Row],[چندم]]-1))","v":0},{"$f":"IF(Table3[[#This Row],[چندم]]=0,\"\",MID(Table3[[#This Row],[شماره تماس]],Table3[[#This Row],[چندم]]+1,30))","v":""}]
[null,1234,null,null,null,{"$f":"IFERROR(FIND(\"_\",Table3[[#This Row],[شماره تماس]]),0)","v":0},{"$f":"IF(Table3[[#This Row],[چندم]]=0,Table3[[#This Row],[شماره تماس]],MID(Table3[[#This Row],[شماره تماس]],1,Table3[[#This Row],[چندم]]-1))","v":0},{"$f":"IF(Table3[[#This Row],[چندم]]=0,\"\",MID(Table3[[#This Row],[شماره تماس]],Table3[[#This Row],[چندم]]+1,30))","v":""}]
[null,1235,null,null,null,{"$f":"IFERROR(FIND(\"_\",Table3[[#This Row],[شماره تماس]]),0)","v":0},{"$f":"IF(Table3[[#This Row],[چندم]]=0,Table3[[#This Row],[شماره تماس]],MID(Table3[[#This Row],[شماره تماس]],1,Table3[[#This Row],[چندم]]-1))","v":0},{"$f":"IF(Table3[[#This Row],[چندم]]=0,\"\",MID(Table3[[#This Row],[شماره تماس]],Table3[[#This Row],[چندم]]+1,30))","v":""}]
[null,1236,null,null,null,{"$f":"IFERROR(FIND(\"_\",Table3[[#This Row],[شماره تماس]]),0)","v":0},{"$f":"IF(Table3[[#This Row],[چندم]]=0,Table3[[#This Row],[شماره تماس]],MID(Table3[[#This Row],[شماره تماس]],1,Table3[[#This Row],[چندم]]-1))","v":0},{"$f":"IF(Table3[[#This Row],[چندم]]=0,\"\",MID(Table3[[#This Row],[شماره تماس]],Table3[[#This Row],[چندم]]+1,30))","v":""}]
[null,1237,null,null,null,{"$f":"IFERROR(FIND(\"_\",Table3[[#This Row],[شماره تماس]]),0)","v":0},{"$f":"IF(Table3[[#This Row],[چندم]]=0,Table3[[#This Row],[شماره تماس]],MID(Table3[[#This Row],[شماره تماس]],1,Table3[[#This Row],[چندم]]-1))","v":0},{"$f":"IF(Table3[[#This Row],[چندم]]=0,\"\",MID(Table3[[#This Row],[شماره تماس]],Table3[[#This Row],[چندم]]+1,30))","v":""}]
[null,1238,null,null,null,{"$f":"IFERROR(FIND(\"_\",Table3[[#This Row],[شماره تماس]]),0)","v":0},{"$f":"IF(Table3[[#This Row],[چندم]]=0,Table3[[#This Row],[شماره تماس]],MID(Table3[[#This Row],[شماره تماس]],1,Table3[[#This Row],[چندم]]-1))","v":0},{"$f":"IF(Table3[[#This Row],[چندم]]=0,\"\",MID(Table3[[#This Row],[شماره تماس]],Table3[[#This Row],[چندم]]+1,30))","v":""}]
[null,1239,null,null,null,{"$f":"IFERROR(FIND(\"_\",Table3[[#This Row],[شماره تماس]]),0)","v":0},{"$f":"IF(Table3[[#This Row],[چندم]]=0,Table3[[#This Row],[شماره تماس]],MID(Table3[[#This Row],[شماره تماس]],1,Table3[[#This Row],[چندم]]-1))","v":0},{"$f":"IF(Table3[[#This Row],[چندم]]=0,\"\",MID(Table3[[#This Row],[شماره تماس]],Table3[[#This Row],[چندم]]+1,30))","v":""}]
[null,1240,null,null,null,{"$f":"IFERROR(FIND(\"_\",Table3[[#This Row],[شماره تماس]]),0)","v":0},{"$f":"IF(Table3[[#This Row],[چندم]]=0,Table3[[#This Row],[شماره تماس]],MID(Table3[[#This Row],[شماره تماس]],1,Table3[[#This Row],[چندم]]-1))","v":0},{"$f":"IF(Table3[[#This Row],[چندم]]=0,\"\",MID(Table3[[#This Row],[شماره تماس]],Table3[[#This Row],[چندم]]+1,30))","v":""}]
[null,1241,null,null,null,{"$f":"IFERROR(FIND(\"_\",Table3[[#This Row],[شماره تماس]]),0)","v":0},{"$f":"IF(Table3[[#This Row],[چندم]]=0,Table3[[#This Row],[شماره تماس]],MID(Table3[[#This Row],[شماره تماس]],1,Table3[[#This Row],[چندم]]-1))","v":0},{"$f":"IF(Table3[[#This Row],[چندم]]=0,\"\",MID(Table3[[#This Row],[شماره تماس]],Table3[[#This Row],[چندم]]+1,30))","v":""}]
[null,1242,null,null,null,{"$f":"IFERROR(FIND(\"_\",Table3[[#This Row],[شماره تماس]]),0)","v":0},{"$f":"IF(Table3[[#This Row],[چندم]]=0,Table3[[#This Row],[شماره تماس]],MID(Table3[[#This Row],[شماره تماس]],1,Table3[[#This Row],[چندم]]-1))","v":0},{"$f":"IF(Table3[[#This Row],[چندم]]=0,\"\",MID(Table3[[#This Row],[شماره تماس]],Table3[[#This Row],[چندم]]+1,30))","v":""}]
[null,1243,null,null,null,{"$f":"IFERROR(FIND(\"_\",Table3[[#This Row],[شماره تماس]]),0)","v":0},{"$f":"IF(Table3[[#This Row],[چندم]]=0,Table3[[#This Row],[شماره تماس]],MID(Table3[[#This Row],[شماره تماس]],1,Table3[[#This Row],[چندم]]-1))","v":0},{"$f":"IF(Table3[[#This Row],[چندم]]=0,\"\",MID(Table3[[#This Row],[شماره تماس]],Table3[[#This Row],[چندم]]+1,30))","v":""}]
[null,1244,null,null,null,{"$f":"IFERROR(FIND(\"_\",Table3[[#This Row],[شماره تماس]]),0)","v":0},{"$f":"IF(Table3[[#This Row],[چندم]]=0,Table3[[#This Row],[شماره تماس]],MID(Table3[[#This Row],[شماره تماس]],1,Table3[[#This Row],[چندم]]-1))","v":0},{"$f":"IF(Table3[[#This Row],[چندم]]=0,\"\",MID(Table3[[#This Row],[شماره تماس]],Table3[[#This Row],[چندم]]+1,30))","v":""}]
[null,1245,null,null,null,{"$f":"IFERROR(FIND(\"_\",Table3[[#This Row],[شماره تماس]]),0)","v":0},{"$f":"IF(Table3[[#This Row],[چندم]]=0,Table3[[#This Row],[شماره تماس]],MID(Table3[[#This Row],[شماره تماس]],1,Table3[[#This Row],[چندم]]-1))","v":0},{"$f":"IF(Table3[[#This Row],[چندم]]=0,\"\",MID(Table3[[#This Row],[شماره تماس]],Table3[[#This Row],[چندم]]+1,30))","v":""}]
[null,1246,null,null,null,{"$f":"IFERROR(FIND(\"_\",Table3[[#This Row],[شماره تماس]]),0)","v":0},{"$f":"IF(Table3[[#This Row],[چندم]]=0,Table3[[#This Row],[شماره تماس]],MID(Table3[[#This Row],[شماره تماس]],1,Table3[[#This Row],[چندم]]-1))","v":0},{"$f":"IF(Table3[[#This Row],[چندم]]=0,\"\",MID(Table3[[#This Row],[شماره تماس]],Table3[[#This Row],[چندم]]+1,30))","v":""}]
[null,1247,null,null,null,{"$f":"IFERROR(FIND(\"_\",Table3[[#This Row],[شماره تماس]]),0)","v":0},{"$f":"IF(Table3[[#This Row],[چندم]]=0,Table3[[#This Row],[شماره تماس]],MID(Table3[[#This Row],[شماره تماس]],1,Table3[[#This Row],[چندم]]-1))","v":0},{"$f":"IF(Table3[[#This Row],[چندم]]=0,\"\",MID(Table3[[#This Row],[شماره تماس]],Table3[[#This Row],[چندم]]+1,30))","v":""}]
[null,1248,null,null,null,{"$f":"IFERROR(FIND(\"_\",Table3[[#This Row],[شماره تماس]]),0)","v":0},{"$f":"IF(Table3[[#This Row],[چندم]]=0,Table3[[#This Row],[شماره تماس]],MID(Table3[[#This Row],[شماره تماس]],1,Table3[[#This Row],[چندم]]-1))","v":0},{"$f":"IF(Table3[[#This Row],[چندم]]=0,\"\",MID(Table3[[#This Row],[شماره تماس]],Table3[[#This Row],[چندم]]+1,30))","v":""}]
[null,1249,null,null,null,{"$f":"IFERROR(FIND(\"_\",Table3[[#This Row],[شماره تماس]]),0)","v":0},{"$f":"IF(Table3[[#This Row],[چندم]]=0,Table3[[#This Row],[شماره تماس]],MID(Table3[[#This Row],[شماره تماس]],1,Table3[[#This Row],[چندم]]-1))","v":0},{"$f":"IF(Table3[[#This Row],[چندم]]=0,\"\",MID(Table3[[#This Row],[شماره تماس]],Table3[[#This Row],[چندم]]+1,30))","v":""}]
[null,1250,null,null,null,{"$f":"IFERROR(FIND(\"_\",Table3[[#This Row],[شماره تماس]]),0)","v":0},{"$f":"IF(Table3[[#This Row],[چندم]]=0,Table3[[#This Row],[شماره تماس]],MID(Table3[[#This Row],[شماره تماس]],1,Table3[[#This Row],[چندم]]-1))","v":0},{"$f":"IF(Table3[[#This Row],[چندم]]=0,\"\",MID(Table3[[#This Row],[شماره تماس]],Table3[[#This Row],[چندم]]+1,30))","v":""}]
[null,1251,null,null,null,{"$f":"IFERROR(FIND(\"_\",Table3[[#This Row],[شماره تماس]]),0)","v":0},{"$f":"IF(Table3[[#This Row],[چندم]]=0,Table3[[#This Row],[شماره تماس]],MID(Table3[[#This Row],[شماره تماس]],1,Table3[[#This Row],[چندم]]-1))","v":0},{"$f":"IF(Table3[[#This Row],[چندم]]=0,\"\",MID(Table3[[#This Row],[شماره تماس]],Table3[[#This Row],[چندم]]+1,30))","v":""}]
[null,1252,null,null,null,{"$f":"IFERROR(FIND(\"_\",Table3[[#This Row],[شماره تماس]]),0)","v":0},{"$f":"IF(Table3[[#This Row],[چندم]]=0,Table3[[#This Row],[شماره تماس]],MID(Table3[[#This Row],[شماره تماس]],1,Table3[[#This Row],[چندم]]-1))","v":0},{"$f":"IF(Table3[[#This Row],[چندم]]=0,\"\",MID(Table3[[#This Row],[شماره تماس]],Table3[[#This Row],[چندم]]+1,30))","v":""}]
[null,1253,null,null,null,{"$f":"IFERROR(FIND(\"_\",Table3[[#This Row],[شماره تماس]]),0)","v":0},{"$f":"IF(Table3[[#This Row],[چندم]]=0,Table3[[#This Row],[شماره تماس]],MID(Table3[[#This Row],[شماره تماس]],1,Table3[[#This Row],[چندم]]-1))","v":0},{"$f":"IF(Table3[[#This Row],[چندم]]=0,\"\",MID(Table3[[#This Row],[شماره تماس]],Table3[[#This Row],[چندم]]+1,30))","v":""}]
[null,1254,null,null,null,{"$f":"IFERROR(FIND(\"_\",Table3[[#This Row],[شماره تماس]]),0)","v":0},{"$f":"IF(Table3[[#This Row],[چندم]]=0,Table3[[#This Row],[شماره تماس]],MID(Table3[[#This Row],[شماره تماس]],1,Table3[[#This Row],[چندم]]-1))","v":0},{"$f":"IF(Table3[[#This Row],[چندم]]=0,\"\",MID(Table3[[#This Row],[شماره تماس]],Table3[[#This Row],[چندم]]+1,30))","v":""}]
[null,{"$f":"ROW()-3","v":1255},null,null,null,{"$f":"IFERROR(FIND(\"_\",Table3[[#This Row],[شماره تماس]]),0)","v":0},{"$f":"IF(Table3[[#This Row],[چندم]]=0,Table3[[#This Row],[شماره تماس]],MID(Table3[[#This Row],[شماره تماس]],1,Table3[[#This Row],[چندم]]-1))","v":0},{"$f":"IF(Table3[[#This Row],[چندم]]=0,\"\",MID(Table3[[#This Row],[شماره تماس]],Table3[[#This Row],[چندم]]+1,30))","v":""}]
[null,1256,null,null,null,{"$f":"IFERROR(FIND(\"_\",Table3[[#This Row],[شماره تماس]]),0)","v":0},{"$f":"IF(Table3[[#This Row],[چندم]]=0,Table3[[#This Row],[شماره تماس]],MID(Table3[[#This Row],[شماره تماس]],1,Table3[[#This Row],[چندم]]-1))","v":0},{"$f":"IF(Table3[[#This Row],[چندم]]=0,\"\",MID(Table3[[#This Row],[شماره تماس]],Table3[[#This Row],[چندم]]+1,30))","v":""}]
[null,1257,null,null,null,{"$f":"IFERROR(FIND(\"_\",Table3[[#This Row],[شماره تماس]]),0)","v":0},{"$f":"IF(Table3[[#This Row],[چندم]]=0,Table3[[#This Row],[شماره تماس]],MID(Table3[[#This Row],[شماره تماس]],1,Table3[[#This Row],[چندم]]-1))","v":0},{"$f":"IF(Table3[[#This Row],[چندم]]=0,\"\",MID(Table3[[#This Row],[شماره تماس]],Table3[[#This Row],[چندم]]+1,30))","v":""}]
[null,1258,null,null,null,{"$f":"IFERROR(FIND(\"_\",Table3[[#This Row],[شماره تماس]]),0)","v":0},{"$f":"IF(Table3[[#This Row],[چندم]]=0,Table3[[#This Row],[شماره تماس]],MID(Table3[[#This Row],[شماره تماس]],1,Table3[[#This Row],[چندم]]-1))","v":0},{"$f":"IF(Table3[[#This Row],[چندم]]=0,\"\",MID(Table3[[#This Row],[شماره تماس]],Table3[[#This Row],[چندم]]+1,30))","v":""}]
[null,1259,null,null,null,{"$f":"IFERROR(FIND(\"_\",Table3[[#This Row],[شماره تماس]]),0)","v":0},{"$f":"IF(Table3[[#This Row],[چندم]]=0,Table3[[#This Row],[شماره تماس]],MID(Table3[[#This Row],[شماره تماس]],1,Table3[[#This Row],[چندم]]-1))","v":0},{"$f":"IF(Table3[[#This Row],[چندم]]=0,\"\",MID(Table3[[#This Row],[شماره تماس]],Table3[[#This Row],[چندم]]+1,30))","v":""}]
[null,1260,null,null,null,{"$f":"IFERROR(FIND(\"_\",Table3[[#This Row],[شماره تماس]]),0)","v":0},{"$f":"IF(Table3[[#This Row],[چندم]]=0,Table3[[#This Row],[شماره تماس]],MID(Table3[[#This Row],[شماره تماس]],1,Table3[[#This Row],[چندم]]-1))","v":0},{"$f":"IF(Table3[[#This Row],[چندم]]=0,\"\",MID(Table3[[#This Row],[شماره تماس]],Table3[[#This Row],[چندم]]+1,30))","v":""}]
[null,1261,null,null,null,{"$f":"IFERROR(FIND(\"_\",Table3[[#This Row],[شماره تماس]]),0)","v":0},{"$f":"IF(Table3[[#This Row],[چندم]]=0,Table3[[#This Row],[شماره تماس]],MID(Table3[[#This Row],[شماره تماس]],1,Table3[[#This Row],[چندم]]-1))","v":0},{"$f":"IF(Table3[[#This Row],[چندم]]=0,\"\",MID(Table3[[#This Row],[شماره تماس]],Table3[[#This Row],[چندم]]+1,30))","v":""}]
[null,1262,null,null,null,{"$f":"IFERROR(FIND(\"_\",Table3[[#This Row],[شماره تماس]]),0)","v":0},{"$f":"IF(Table3[[#This Row],[چندم]]=0,Table3[[#This Row],[شماره تماس]],MID(Table3[[#This Row],[شماره تماس]],1,Table3[[#This Row],[چندم]]-1))","v":0},{"$f":"IF(Table3[[#This Row],[چندم]]=0,\"\",MID(Table3[[#This Row],[شماره تماس]],Table3[[#This Row],[چندم]]+1,30))","v":""}]
[null,1263,null,null,null,{"$f":"IFERROR(FIND(\"_\",Table3[[#This Row],[شماره تماس]]),0)","v":0},{"$f":"IF(Table3[[#This Row],[چندم]]=0,Table3[[#This Row],[شماره تماس]],MID(Table3[[#This Row],[شماره تماس]],1,Table3[[#This Row],[چندم]]-1))","v":0},{"$f":"IF(Table3[[#This Row],[چندم]]=0,\"\",MID(Table3[[#This Row],[شماره تماس]],Table3[[#This Row],[چندم]]+1,30))","v":""}]
[null,1264,null,null,null,{"$f":"IFERROR(FIND(\"_\",Table3[[#This Row],[شماره تماس]]),0)","v":0},{"$f":"IF(Table3[[#This Row],[چندم]]=0,Table3[[#This Row],[شماره تماس]],MID(Table3[[#This Row],[شماره تماس]],1,Table3[[#This Row],[چندم]]-1))","v":0},{"$f":"IF(Table3[[#This Row],[چندم]]=0,\"\",MID(Table3[[#This Row],[شماره تماس]],Table3[[#This Row],[چندم]]+1,30))","v":""}]
[null,1265,null,null,null,{"$f":"IFERROR(FIND(\"_\",Table3[[#This Row],[شماره تماس]]),0)","v":0},{"$f":"IF(Table3[[#This Row],[چندم]]=0,Table3[[#This Row],[شماره تماس]],MID(Table3[[#This Row],[شماره تماس]],1,Table3[[#This Row],[چندم]]-1))","v":0},{"$f":"IF(Table3[[#This Row],[چندم]]=0,\"\",MID(Table3[[#This Row],[شماره تماس]],Table3[[#This Row],[چندم]]+1,30))","v":""}]
[null,1266,null,null,null,{"$f":"IFERROR(FIND(\"_\",Table3[[#This Row],[شماره تماس]]),0)","v":0},{"$f":"IF(Table3[[#This Row],[چندم]]=0,Table3[[#This Row],[شماره تماس]],MID(Table3[[#This Row],[شماره تماس]],1,Table3[[#This Row],[چندم]]-1))","v":0},{"$f":"IF(Table3[[#This Row],[چندم]]=0,\"\",MID(Table3[[#This Row],[شماره تماس]],Table3[[#This Row],[چندم]]+1,30))","v":""}]
[null,1267,null,null,null,{"$f":"IFERROR(FIND(\"_\",Table3[[#This Row],[شماره تماس]]),0)","v":0},{"$f":"IF(Table3[[#This Row],[چندم]]=0,Table3[[#This Row],[شماره تماس]],MID(Table3[[#This Row],[شماره تماس]],1,Table3[[#This Row],[چندم]]-1))","v":0},{"$f":"IF(Table3[[#This Row],[چندم]]=0,\"\",MID(Table3[[#This Row],[شماره تماس]],Table3[[#This Row],[چندم]]+1,30))","v":""}]
[null,1268,null,null,null,{"$f":"IFERROR(FIND(\"_\",Table3[[#This Row],[شماره تماس]]),0)","v":0},{"$f":"IF(Table3[[#This Row],[چندم]]=0,Table3[[#This Row],[شماره تماس]],MID(Table3[[#This Row],[شماره تماس]],1,Table3[[#This Row],[چندم]]-1))","v":0},{"$f":"IF(Table3[[#This Row],[چندم]]=0,\"\",MID(Table3[[#This Row],[شماره تماس]],Table3[[#This Row],[چندم]]+1,30))","v":""}]
[null,1269,null,null,null,{"$f":"IFERROR(FIND(\"_\",Table3[[#This Row],[شماره تماس]]),0)","v":0},{"$f":"IF(Table3[[#This Row],[چندم]]=0,Table3[[#This Row],[شماره تماس]],MID(Table3[[#This Row],[شماره تماس]],1,Table3[[#This Row],[چندم]]-1))","v":0},{"$f":"IF(Table3[[#This Row],[چندم]]=0,\"\",MID(Table3[[#This Row],[شماره تماس]],Table3[[#This Row],[چندم]]+1,30))","v":""}]
[null,1270,null,null,null,{"$f":"IFERROR(FIND(\"_\",Table3[[#This Row],[شماره تماس]]),0)","v":0},{"$f":"IF(Table3[[#This Row],[چندم]]=0,Table3[[#This Row],[شماره تماس]],MID(Table3[[#This Row],[شماره تماس]],1,Table3[[#This Row],[چندم]]-1))","v":0},{"$f":"IF(Table3[[#This Row],[چندم]]=0,\"\",MID(Table3[[#This Row],[شماره تماس]],Table3[[#This Row],[چندم]]+1,30))","v":""}]
[null,1271,null,null,null,{"$f":"IFERROR(FIND(\"_\",Table3[[#This Row],[شماره تماس]]),0)","v":0},{"$f":"IF(Table3[[#This Row],[چندم]]=0,Table3[[#This Row],[شماره تماس]],MID(Table3[[#This Row],[شماره تماس]],1,Table3[[#This Row],[چندم]]-1))","v":0},{"$f":"IF(Table3[[#This Row],[چندم]]=0,\"\",MID(Table3[[#This Row],[شماره تماس]],Table3[[#This Row],[چندم]]+1,30))","v":""}]
[null,1272,null,null,null,{"$f":"IFERROR(FIND(\"_\",Table3[[#This Row],[شماره تماس]]),0)","v":0},{"$f":"IF(Table3[[#This Row],[چندم]]=0,Table3[[#This Row],[شماره تماس]],MID(Table3[[#This Row],[شماره تماس]],1,Table3[[#This Row],[چندم]]-1))","v":0},{"$f":"IF(Table3[[#This Row],[چندم]]=0,\"\",MID(Table3[[#This Row],[شماره تماس]],Table3[[#This Row],[چندم]]+1,30))","v":""}]
[null,1273,null,null,null,{"$f":"IFERROR(FIND(\"_\",Table3[[#This Row],[شماره تماس]]),0)","v":0},{"$f":"IF(Table3[[#This Row],[چندم]]=0,Table3[[#This Row],[شماره تماس]],MID(Table3[[#This Row],[شماره تماس]],1,Table3[[#This Row],[چندم]]-1))","v":0},{"$f":"IF(Table3[[#This Row],[چندم]]=0,\"\",MID(Table3[[#This Row],[شماره تماس]],Table3[[#This Row],[چندم]]+1,30))","v":""}]
[null,1274,null,null,null,{"$f":"IFERROR(FIND(\"_\",Table3[[#This Row],[شماره تماس]]),0)","v":0},{"$f":"IF(Table3[[#This Row],[چندم]]=0,Table3[[#This Row],[شماره تماس]],MID(Table3[[#This Row],[شماره تماس]],1,Table3[[#This Row],[چندم]]-1))","v":0},{"$f":"IF(Table3[[#This Row],[چندم]]=0,\"\",MID(Table3[[#This Row],[شماره تماس]],Table3[[#This Row],[چندم]]+1,30))","v":""}]
[null,1275,null,null,null,{"$f":"IFERROR(FIND(\"_\",Table3[[#This Row],[شماره تماس]]),0)","v":0},{"$f":"IF(Table3[[#This Row],[چندم]]=0,Table3[[#This Row],[شماره تماس]],MID(Table3[[#This Row],[شماره تماس]],1,Table3[[#This Row],[چندم]]-1))","v":0},{"$f":"IF(Table3[[#This Row],[چندم]]=0,\"\",MID(Table3[[#This Row],[شماره تماس]],Table3[[#This Row],[چندم]]+1,30))","v":""}]
[null,1276,null,null,null,{"$f":"IFERROR(FIND(\"_\",Table3[[#This Row],[شماره تماس]]),0)","v":0},{"$f":"IF(Table3[[#This Row],[چندم]]=0,Table3[[#This Row],[شماره تماس]],MID(Table3[[#This Row],[شماره تماس]],1,Table3[[#This Row],[چندم]]-1))","v":0},{"$f":"IF(Table3[[#This Row],[چندم]]=0,\"\",MID(Table3[[#This Row],[شماره تماس]],Table3[[#This Row],[چندم]]+1,30))","v":""}]
[null,1277,null,null,null,{"$f":"IFERROR(FIND(\"_\",Table3[[#This Row],[شماره تماس]]),0)","v":0},{"$f":"IF(Table3[[#This Row],[چندم]]=0,Table3[[#This Row],[شماره تماس]],MID(Table3[[#This Row],[شماره تماس]],1,Table3[[#This Row],[چندم]]-1))","v":0},{"$f":"IF(Table3[[#This Row],[چندم]]=0,\"\",MID(Table3[[#This Row],[شماره تماس]],Table3[[#This Row],[چندم]]+1,30))","v":""}]
[null,1278,null,null,null,{"$f":"IFERROR(FIND(\"_\",Table3[[#This Row],[شماره تماس]]),0)","v":0},{"$f":"IF(Table3[[#This Row],[چندم]]=0,Table3[[#This Row],[شماره تماس]],MID(Table3[[#This Row],[شماره تماس]],1,Table3[[#This Row],[چندم]]-1))","v":0},{"$f":"IF(Table3[[#This Row],[چندم]]=0,\"\",MID(Table3[[#This Row],[شماره تماس]],Table3[[#This Row],[چندم]]+1,30))","v":""}]
[null,1279,null,null,null,{"$f":"IFERROR(FIND(\"_\",Table3[[#This Row],[شماره تماس]]),0)","v":0},{"$f":"IF(Table3[[#This Row],[چندم]]=0,Table3[[#This Row],[شماره تماس]],MID(Table3[[#This Row],[شماره تماس]],1,Table3[[#This Row],[چندم]]-1))","v":0},{"$f":"IF(Table3[[#This Row],[چندم]]=0,\"\",MID(Table3[[#This Row],[شماره تماس]],Table3[[#This Row],[چندم]]+1,30))","v":""}]
[null,1280,null,null,null,{"$f":"IFERROR(FIND(\"_\",Table3[[#This Row],[شماره تماس]]),0)","v":0},{"$f":"IF(Table3[[#This Row],[چندم]]=0,Table3[[#This Row],[شماره تماس]],MID(Table3[[#This Row],[شماره تماس]],1,Table3[[#This Row],[چندم]]-1))","v":0},{"$f":"IF(Table3[[#This Row],[چندم]]=0,\"\",MID(Table3[[#This Row],[شماره تماس]],Table3[[#This Row],[چندم]]+1,30))","v":""}]
[null,1281,null,null,null,{"$f":"IFERROR(FIND(\"_\",Table3[[#This Row],[شماره تماس]]),0)","v":0},{"$f":"IF(Table3[[#This Row],[چندم]]=0,Table3[[#This Row],[شماره تماس]],MID(Table3[[#This Row],[شماره تماس]],1,Table3[[#This Row],[چندم]]-1))","v":0},{"$f":"IF(Table3[[#This Row],[چندم]]=0,\"\",MID(Table3[[#This Row],[شماره تماس]],Table3[[#This Row],[چندم]]+1,30))","v":""}]
[null,1282,null,null,null,{"$f":"IFERROR(FIND(\"_\",Table3[[#This Row],[شماره تماس]]),0)","v":0},{"$f":"IF(Table3[[#This Row],[چندم]]=0,Table3[[#This Row],[شماره تماس]],MID(Table3[[#This Row],[شماره تماس]],1,Table3[[#This Row],[چندم]]-1))","v":0},{"$f":"IF(Table3[[#This Row],[چندم]]=0,\"\",MID(Table3[[#This Row],[شماره تماس]],Table3[[#This Row],[چندم]]+1,30))","v":""}]
[null,1283,null,null,null,{"$f":"IFERROR(FIND(\"_\",Table3[[#This Row],[شماره تماس]]),0)","v":0},{"$f":"IF(Table3[[#This Row],[چندم]]=0,Table3[[#This Row],[شماره تماس]],MID(Table3[[#This Row],[شماره تماس]],1,Table3[[#This Row],[چندم]]-1))","v":0},{"$f":"IF(Table3[[#This Row],[چندم]]=0,\"\",MID(Table3[[#This Row],[شماره تماس]],Table3[[#This Row],[چندم]]+1,30))","v":""}]
[null,1284,null,null,null,{"$f":"IFERROR(FIND(\"_\",Table3[[#This Row],[شماره تماس]]),0)","v":0},{"$f":"IF(Table3[[#This Row],[چندم]]=0,Table3[[#This Row],[شماره تماس]],MID(Table3[[#This Row],[شماره تماس]],1,Table3[[#This Row],[چندم]]-1))","v":0},{"$f":"IF(Table3[[#This Row],[چندم]]=0,\"\",MID(Table3[[#This Row],[شماره تماس]],Table3[[#This Row],[چندم]]+1,30))","v":""}]
[null,1285,null,null,null,{"$f":"IFERROR(FIND(\"_\",Table3[[#This Row],[شماره تماس]]),0)","v":0},{"$f":"IF(Table3[[#This Row],[چندم]]=0,Table3[[#This Row],[شماره تماس]],MID(Table3[[#This Row],[شماره تماس]],1,Table3[[#This Row],[چندم]]-1))","v":0},{"$f":"IF(Table3[[#This Row],[چندم]]=0,\"\",MID(Table3[[#This Row],[شماره تماس]],Table3[[#This Row],[چندم]]+1,30))","v":""}]
[null,1286,null,null,null,{"$f":"IFERROR(FIND(\"_\",Table3[[#This Row],[شماره تماس]]),0)","v":0},{"$f":"IF(Table3[[#This Row],[چندم]]=0,Table3[[#This Row],[شماره تماس]],MID(Table3[[#This Row],[شماره تماس]],1,Table3[[#This Row],[چندم]]-1))","v":0},{"$f":"IF(Table3[[#This Row],[چندم]]=0,\"\",MID(Table3[[#This Row],[شماره تماس]],Table3[[#This Row],[چندم]]+1,30))","v":""}]
[null,1287,null,null,null,{"$f":"IFERROR(FIND(\"_\",Table3[[#This Row],[شماره تماس]]),0)","v":0},{"$f":"IF(Table3[[#This Row],[چندم]]=0,Table3[[#This Row],[شماره تماس]],MID(Table3[[#This Row],[شماره تماس]],1,Table3[[#This Row],[چندم]]-1))","v":0},{"$f":"IF(Table3[[#This Row],[چندم]]=0,\"\",MID(Table3[[#This Row],[شماره تماس]],Table3[[#This Row],[چندم]]+1,30))","v":""}]
[null,1288,null,null,null,{"$f":"IFERROR(FIND(\"_\",Table3[[#This Row],[شماره تماس]]),0)","v":0},{"$f":"IF(Table3[[#This Row],[چندم]]=0,Table3[[#This Row],[شماره تماس]],MID(Table3[[#This Row],[شماره تماس]],1,Table3[[#This Row],[چندم]]-1))","v":0},{"$f":"IF(Table3[[#This Row],[چندم]]=0,\"\",MID(Table3[[#This Row],[شماره تماس]],Table3[[#This Row],[چندم]]+1,30))","v":""}]
[null,1289,null,null,null,{"$f":"IFERROR(FIND(\"_\",Table3[[#This Row],[شماره تماس]]),0)","v":0},{"$f":"IF(Table3[[#This Row],[چندم]]=0,Table3[[#This Row],[شماره تماس]],MID(Table3[[#This Row],[شماره تماس]],1,Table3[[#This Row],[چندم]]-1))","v":0},{"$f":"IF(Table3[[#This Row],[چندم]]=0,\"\",MID(Table3[[#This Row],[شماره تماس]],Table3[[#This Row],[چندم]]+1,30))","v":""}]
[null,1290,null,null,null,{"$f":"IFERROR(FIND(\"_\",Table3[[#This Row],[شماره تماس]]),0)","v":0},{"$f":"IF(Table3[[#This Row],[چندم]]=0,Table3[[#This Row],[شماره تماس]],MID(Table3[[#This Row],[شماره تماس]],1,Table3[[#This Row],[چندم]]-1))","v":0},{"$f":"IF(Table3[[#This Row],[چندم]]=0,\"\",MID(Table3[[#This Row],[شماره تماس]],Table3[[#This Row],[چندم]]+1,30))","v":""}]
[null,1291,null,null,null,{"$f":"IFERROR(FIND(\"_\",Table3[[#This Row],[شماره تماس]]),0)","v":0},{"$f":"IF(Table3[[#This Row],[چندم]]=0,Table3[[#This Row],[شماره تماس]],MID(Table3[[#This Row],[شماره تماس]],1,Table3[[#This Row],[چندم]]-1))","v":0},{"$f":"IF(Table3[[#This Row],[چندم]]=0,\"\",MID(Table3[[#This Row],[شماره تماس]],Table3[[#This Row],[چندم]]+1,30))","v":""}]
[null,1292,null,null,null,{"$f":"IFERROR(FIND(\"_\",Table3[[#This Row],[شماره تماس]]),0)","v":0},{"$f":"IF(Table3[[#This Row],[چندم]]=0,Table3[[#This Row],[شماره تماس]],MID(Table3[[#This Row],[شماره تماس]],1,Table3[[#This Row],[چندم]]-1))","v":0},{"$f":"IF(Table3[[#This Row],[چندم]]=0,\"\",MID(Table3[[#This Row],[شماره تماس]],Table3[[#This Row],[چندم]]+1,30))","v":""}]
[null,1293,null,null,null,{"$f":"IFERROR(FIND(\"_\",Table3[[#This Row],[شماره تماس]]),0)","v":0},{"$f":"IF(Table3[[#This Row],[چندم]]=0,Table3[[#This Row],[شماره تماس]],MID(Table3[[#This Row],[شماره تماس]],1,Table3[[#This Row],[چندم]]-1))","v":0},{"$f":"IF(Table3[[#This Row],[چندم]]=0,\"\",MID(Table3[[#This Row],[شماره تماس]],Table3[[#This Row],[چندم]]+1,30))","v":""}]
[null,1294,null,null,null,{"$f":"IFERROR(FIND(\"_\",Table3[[#This Row],[شماره تماس]]),0)","v":0},{"$f":"IF(Table3[[#This Row],[چندم]]=0,Table3[[#This Row],[شماره تماس]],MID(Table3[[#This Row],[شماره تماس]],1,Table3[[#This Row],[چندم]]-1))","v":0},{"$f":"IF(Table3[[#This Row],[چندم]]=0,\"\",MID(Table3[[#This Row],[شماره تماس]],Table3[[#This Row],[چندم]]+1,30))","v":""}]
[null,1295,null,null,null,{"$f":"IFERROR(FIND(\"_\",Table3[[#This Row],[شماره تماس]]),0)","v":0},{"$f":"IF(Table3[[#This Row],[چندم]]=0,Table3[[#This Row],[شماره تماس]],MID(Table3[[#This Row],[شماره تماس]],1,Table3[[#This Row],[چندم]]-1))","v":0},{"$f":"IF(Table3[[#This Row],[چندم]]=0,\"\",MID(Table3[[#This Row],[شماره تماس]],Table3[[#This Row],[چندم]]+1,30))","v":""}]
[null,1296,null,null,null,{"$f":"IFERROR(FIND(\"_\",Table3[[#This Row],[شماره تماس]]),0)","v":0},{"$f":"IF(Table3[[#This Row],[چندم]]=0,Table3[[#This Row],[شماره تماس]],MID(Table3[[#This Row],[شماره تماس]],1,Table3[[#This Row],[چندم]]-1))","v":0},{"$f":"IF(Table3[[#This Row],[چندم]]=0,\"\",MID(Table3[[#This Row],[شماره تماس]],Table3[[#This Row],[چندم]]+1,30))","v":""}]
[null,1297,null,null,null,{"$f":"IFERROR(FIND(\"_\",Table3[[#This Row],[شماره تماس]]),0)","v":0},{"$f":"IF(Table3[[#This Row],[چندم]]=0,Table3[[#This Row],[شماره تماس]],MID(Table3[[#This Row],[شماره تماس]],1,Table3[[#This Row],[چندم]]-1))","v":0},{"$f":"IF(Table3[[#This Row],[چندم]]=0,\"\",MID(Table3[[#This Row],[شماره تماس]],Table3[[#This Row],[چندم]]+1,30))","v":""}]
[null,1298,null,null,null,{"$f":"IFERROR(FIND(\"_\",Table3[[#This Row],[شماره تماس]]),0)","v":0},{"$f":"IF(Table3[[#This Row],[چندم]]=0,Table3[[#This Row],[شماره تماس]],MID(Table3[[#This Row],[شماره تماس]],1,Table3[[#This Row],[چندم]]-1))","v":0},{"$f":"IF(Table3[[#This Row],[چندم]]=0,\"\",MID(Table3[[#This Row],[شماره تماس]],Table3[[#This Row],[چندم]]+1,30))","v":""}]
[null,1299,null,null,null,{"$f":"IFERROR(FIND(\"_\",Table3[[#This Row],[شماره تماس]]),0)","v":0},{"$f":"IF(Table3[[#This Row],[چندم]]=0,Table3[[#This Row],[شماره تماس]],MID(Table3[[#This Row],[شماره تماس]],1,Table3[[#This Row],[چندم]]-1))","v":0},{"$f":"IF(Table3[[#This Row],[چندم]]=0,\"\",MID(Table3[[#This Row],[شماره تماس]],Table3[[#This Row],[چندم]]+1,30))","v":""}]
[null,1300,null,null,null,{"$f":"IFERROR(FIND(\"_\",Table3[[#This Row],[شماره تماس]]),0)","v":0},{"$f":"IF(Table3[[#This Row],[چندم]]=0,Table3[[#This Row],[شماره تماس]],MID(Table3[[#This Row],[شماره تماس]],1,Table3[[#This Row],[چندم]]-1))","v":0},{"$f":"IF(Table3[[#This Row],[چندم]]=0,\"\",MID(Table3[[#This Row],[شماره تماس]],Table3[[#This Row],[چندم]]+1,30))","v":""}]
[null,1301,null,null,null,{"$f":"IFERROR(FIND(\"_\",Table3[[#This Row],[شماره تماس]]),0)","v":0},{"$f":"IF(Table3[[#This Row],[چندم]]=0,Table3[[#This Row],[شماره تماس]],MID(Table3[[#This Row],[شماره تماس]],1,Table3[[#This Row],[چندم]]-1))","v":0},{"$f":"IF(Table3[[#This Row],[چندم]]=0,\"\",MID(Table3[[#This Row],[شماره تماس]],Table3[[#This Row],[چندم]]+1,30))","v":""}]
[null,1302,null,null,null,{"$f":"IFERROR(FIND(\"_\",Table3[[#This Row],[شماره تماس]]),0)","v":0},{"$f":"IF(Table3[[#This Row],[چندم]]=0,Table3[[#This Row],[شماره تماس]],MID(Table3[[#This Row],[شماره تماس]],1,Table3[[#This Row],[چندم]]-1))","v":0},{"$f":"IF(Table3[[#This Row],[چندم]]=0,\"\",MID(Table3[[#This Row],[شماره تماس]],Table3[[#This Row],[چندم]]+1,30))","v":""}]
[null,1303,null,null,null,{"$f":"IFERROR(FIND(\"_\",Table3[[#This Row],[شماره تماس]]),0)","v":0},{"$f":"IF(Table3[[#This Row],[چندم]]=0,Table3[[#This Row],[شماره تماس]],MID(Table3[[#This Row],[شماره تماس]],1,Table3[[#This Row],[چندم]]-1))","v":0},{"$f":"IF(Table3[[#This Row],[چندم]]=0,\"\",MID(Table3[[#This Row],[شماره تماس]],Table3[[#This Row],[چندم]]+1,30))","v":""}]
[null,1304,null,null,null,{"$f":"IFERROR(FIND(\"_\",Table3[[#This Row],[شماره تماس]]),0)","v":0},{"$f":"IF(Table3[[#This Row],[چندم]]=0,Table3[[#This Row],[شماره تماس]],MID(Table3[[#This Row],[شماره تماس]],1,Table3[[#This Row],[چندم]]-1))","v":0},{"$f":"IF(Table3[[#This Row],[چندم]]=0,\"\",MID(Table3[[#This Row],[شماره تماس]],Table3[[#This Row],[چندم]]+1,30))","v":""}]
[null,1305,null,null,null,{"$f":"IFERROR(FIND(\"_\",Table3[[#This Row],[شماره تماس]]),0)","v":0},{"$f":"IF(Table3[[#This Row],[چندم]]=0,Table3[[#This Row],[شماره تماس]],MID(Table3[[#This Row],[شماره تماس]],1,Table3[[#This Row],[چندم]]-1))","v":0},{"$f":"IF(Table3[[#This Row],[چندم]]=0,\"\",MID(Table3[[#This Row],[شماره تماس]],Table3[[#This Row],[چندم]]+1,30))","v":""}]
[null,1306,null,null,null,{"$f":"IFERROR(FIND(\"_\",Table3[[#This Row],[شماره تماس]]),0)","v":0},{"$f":"IF(Table3[[#This Row],[چندم]]=0,Table3[[#This Row],[شماره تماس]],MID(Table3[[#This Row],[شماره تماس]],1,Table3[[#This Row],[چندم]]-1))","v":0},{"$f":"IF(Table3[[#This Row],[چندم]]=0,\"\",MID(Table3[[#This Row],[شماره تماس]],Table3[[#This Row],[چندم]]+1,30))","v":""}]
[null,1307,null,null,null,{"$f":"IFERROR(FIND(\"_\",Table3[[#This Row],[شماره تماس]]),0)","v":0},{"$f":"IF(Table3[[#This Row],[چندم]]=0,Table3[[#This Row],[شماره تماس]],MID(Table3[[#This Row],[شماره تماس]],1,Table3[[#This Row],[چندم]]-1))","v":0},{"$f":"IF(Table3[[#This Row],[چندم]]=0,\"\",MID(Table3[[#This Row],[شماره تماس]],Table3[[#This Row],[چندم]]+1,30))","v":""}]
[null,1308,null,null,null,{"$f":"IFERROR(FIND(\"_\",Table3[[#This Row],[شماره تماس]]),0)","v":0},{"$f":"IF(Table3[[#This Row],[چندم]]=0,Table3[[#This Row],[شماره تماس]],MID(Table3[[#This Row],[شماره تماس]],1,Table3[[#This Row],[چندم]]-1))","v":0},{"$f":"IF(Table3[[#This Row],[چندم]]=0,\"\",MID(Table3[[#This Row],[شماره تماس]],Table3[[#This Row],[چندم]]+1,30))","v":""}]
[null,1309,null,null,null,{"$f":"IFERROR(FIND(\"_\",Table3[[#This Row],[شماره تماس]]),0)","v":0},{"$f":"IF(Table3[[#This Row],[چندم]]=0,Table3[[#This Row],[شماره تماس]],MID(Table3[[#This Row],[شماره تماس]],1,Table3[[#This Row],[چندم]]-1))","v":0},{"$f":"IF(Table3[[#This Row],[چندم]]=0,\"\",MID(Table3[[#This Row],[شماره تماس]],Table3[[#This Row],[چندم]]+1,30))","v":""}]
[null,1310,null,null,null,{"$f":"IFERROR(FIND(\"_\",Table3[[#This Row],[شماره تماس]]),0)","v":0},{"$f":"IF(Table3[[#This Row],[چندم]]=0,Table3[[#This Row],[شماره تماس]],MID(Table3[[#This Row],[شماره تماس]],1,Table3[[#This Row],[چندم]]-1))","v":0},{"$f":"IF(Table3[[#This Row],[چندم]]=0,\"\",MID(Table3[[#This Row],[شماره تماس]],Table3[[#This Row],[چندم]]+1,30))","v":""}]
[null,1311,null,null,null,{"$f":"IFERROR(FIND(\"_\",Table3[[#This Row],[شماره تماس]]),0)","v":0},{"$f":"IF(Table3[[#This Row],[چندم]]=0,Table3[[#This Row],[شماره تماس]],MID(Table3[[#This Row],[شماره تماس]],1,Table3[[#This Row],[چندم]]-1))","v":0},{"$f":"IF(Table3[[#This Row],[چندم]]=0,\"\",MID(Table3[[#This Row],[شماره تماس]],Table3[[#This Row],[چندم]]+1,30))","v":""}]
[null,1312,null,null,null,{"$f":"IFERROR(FIND(\"_\",Table3[[#This Row],[شماره تماس]]),0)","v":0},{"$f":"IF(Table3[[#This Row],[چندم]]=0,Table3[[#This Row],[شماره تماس]],MID(Table3[[#This Row],[شماره تماس]],1,Table3[[#This Row],[چندم]]-1))","v":0},{"$f":"IF(Table3[[#This Row],[چندم]]=0,\"\",MID(Table3[[#This Row],[شماره تماس]],Table3[[#This Row],[چندم]]+1,30))","v":""}]
[null,1313,null,null,null,{"$f":"IFERROR(FIND(\"_\",Table3[[#This Row],[شماره تماس]]),0)","v":0},{"$f":"IF(Table3[[#This Row],[چندم]]=0,Table3[[#This Row],[شماره تماس]],MID(Table3[[#This Row],[شماره تماس]],1,Table3[[#This Row],[چندم]]-1))","v":0},{"$f":"IF(Table3[[#This Row],[چندم]]=0,\"\",MID(Table3[[#This Row],[شماره تماس]],Table3[[#This Row],[چندم]]+1,30))","v":""}]
[null,1314,null,null,null,{"$f":"IFERROR(FIND(\"_\",Table3[[#This Row],[شماره تماس]]),0)","v":0},{"$f":"IF(Table3[[#This Row],[چندم]]=0,Table3[[#This Row],[شماره تماس]],MID(Table3[[#This Row],[شماره تماس]],1,Table3[[#This Row],[چندم]]-1))","v":0},{"$f":"IF(Table3[[#This Row],[چندم]]=0,\"\",MID(Table3[[#This Row],[شماره تماس]],Table3[[#This Row],[چندم]]+1,30))","v":""}]
[null,1315,null,null,null,{"$f":"IFERROR(FIND(\"_\",Table3[[#This Row],[شماره تماس]]),0)","v":0},{"$f":"IF(Table3[[#This Row],[چندم]]=0,Table3[[#This Row],[شماره تماس]],MID(Table3[[#This Row],[شماره تماس]],1,Table3[[#This Row],[چندم]]-1))","v":0},{"$f":"IF(Table3[[#This Row],[چندم]]=0,\"\",MID(Table3[[#This Row],[شماره تماس]],Table3[[#This Row],[چندم]]+1,30))","v":""}]
[null,1316,null,null,null,{"$f":"IFERROR(FIND(\"_\",Table3[[#This Row],[شماره تماس]]),0)","v":0},{"$f":"IF(Table3[[#This Row],[چندم]]=0,Table3[[#This Row],[شماره تماس]],MID(Table3[[#This Row],[شماره تماس]],1,Table3[[#This Row],[چندم]]-1))","v":0},{"$f":"IF(Table3[[#This Row],[چندم]]=0,\"\",MID(Table3[[#This Row],[شماره تماس]],Table3[[#This Row],[چندم]]+1,30))","v":""}]
[null,1317,null,null,null,{"$f":"IFERROR(FIND(\"_\",Table3[[#This Row],[شماره تماس]]),0)","v":0},{"$f":"IF(Table3[[#This Row],[چندم]]=0,Table3[[#This Row],[شماره تماس]],MID(Table3[[#This Row],[شماره تماس]],1,Table3[[#This Row],[چندم]]-1))","v":0},{"$f":"IF(Table3[[#This Row],[چندم]]=0,\"\",MID(Table3[[#This Row],[شماره تماس]],Table3[[#This Row],[چندم]]+1,30))","v":""}]
[null,1318,null,null,null,{"$f":"IFERROR(FIND(\"_\",Table3[[#This Row],[شماره تماس]]),0)","v":0},{"$f":"IF(Table3[[#This Row],[چندم]]=0,Table3[[#This Row],[شماره تماس]],MID(Table3[[#This Row],[شماره تماس]],1,Table3[[#This Row],[چندم]]-1))","v":0},{"$f":"IF(Table3[[#This Row],[چندم]]=0,\"\",MID(Table3[[#This Row],[شماره تماس]],Table3[[#This Row],[چندم]]+1,30))","v":""}]
[null,{"$f":"ROW()-3","v":1319},null,null,null,{"$f":"IFERROR(FIND(\"_\",Table3[[#This Row],[شماره تماس]]),0)","v":0},{"$f":"IF(Table3[[#This Row],[چندم]]=0,Table3[[#This Row],[شماره تماس]],MID(Table3[[#This Row],[شماره تماس]],1,Table3[[#This Row],[چندم]]-1))","v":0},{"$f":"IF(Table3[[#This Row],[چندم]]=0,\"\",MID(Table3[[#This Row],[شماره تماس]],Table3[[#This Row],[چندم]]+1,30))","v":""}]
[null,1320,null,null,null,{"$f":"IFERROR(FIND(\"_\",Table3[[#This Row],[شماره تماس]]),0)","v":0},{"$f":"IF(Table3[[#This Row],[چندم]]=0,Table3[[#This Row],[شماره تماس]],MID(Table3[[#This Row],[شماره تماس]],1,Table3[[#This Row],[چندم]]-1))","v":0},{"$f":"IF(Table3[[#This Row],[چندم]]=0,\"\",MID(Table3[[#This Row],[شماره تماس]],Table3[[#This Row],[چندم]]+1,30))","v":""}]
[null,1321,null,null,null,{"$f":"IFERROR(FIND(\"_\",Table3[[#This Row],[شماره تماس]]),0)","v":0},{"$f":"IF(Table3[[#This Row],[چندم]]=0,Table3[[#This Row],[شماره تماس]],MID(Table3[[#This Row],[شماره تماس]],1,Table3[[#This Row],[چندم]]-1))","v":0},{"$f":"IF(Table3[[#This Row],[چندم]]=0,\"\",MID(Table3[[#This Row],[شماره تماس]],Table3[[#This Row],[چندم]]+1,30))","v":""}]
[null,1322,null,null,null,{"$f":"IFERROR(FIND(\"_\",Table3[[#This Row],[شماره تماس]]),0)","v":0},{"$f":"IF(Table3[[#This Row],[چندم]]=0,Table3[[#This Row],[شماره تماس]],MID(Table3[[#This Row],[شماره تماس]],1,Table3[[#This Row],[چندم]]-1))","v":0},{"$f":"IF(Table3[[#This Row],[چندم]]=0,\"\",MID(Table3[[#This Row],[شماره تماس]],Table3[[#This Row],[چندم]]+1,30))","v":""}]
[null,1323,null,null,null,{"$f":"IFERROR(FIND(\"_\",Table3[[#This Row],[شماره تماس]]),0)","v":0},{"$f":"IF(Table3[[#This Row],[چندم]]=0,Table3[[#This Row],[شماره تماس]],MID(Table3[[#This Row],[شماره تماس]],1,Table3[[#This Row],[چندم]]-1))","v":0},{"$f":"IF(Table3[[#This Row],[چندم]]=0,\"\",MID(Table3[[#This Row],[شماره تماس]],Table3[[#This Row],[چندم]]+1,30))","v":""}]
[null,1324,null,null,null,{"$f":"IFERROR(FIND(\"_\",Table3[[#This Row],[شماره تماس]]),0)","v":0},{"$f":"IF(Table3[[#This Row],[چندم]]=0,Table3[[#This Row],[شماره تماس]],MID(Table3[[#This Row],[شماره تماس]],1,Table3[[#This Row],[چندم]]-1))","v":0},{"$f":"IF(Table3[[#This Row],[چندم]]=0,\"\",MID(Table3[[#This Row],[شماره تماس]],Table3[[#This Row],[چندم]]+1,30))","v":""}]
[null,1325,null,null,null,{"$f":"IFERROR(FIND(\"_\",Table3[[#This Row],[شماره تماس]]),0)","v":0},{"$f":"IF(Table3[[#This Row],[چندم]]=0,Table3[[#This Row],[شماره تماس]],MID(Table3[[#This Row],[شماره تماس]],1,Table3[[#This Row],[چندم]]-1))","v":0},{"$f":"IF(Table3[[#This Row],[چندم]]=0,\"\",MID(Table3[[#This Row],[شماره تماس]],Table3[[#This Row],[چندم]]+1,30))","v":""}]
[null,1326,null,null,null,{"$f":"IFERROR(FIND(\"_\",Table3[[#This Row],[شماره تماس]]),0)","v":0},{"$f":"IF(Table3[[#This Row],[چندم]]=0,Table3[[#This Row],[شماره تماس]],MID(Table3[[#This Row],[شماره تماس]],1,Table3[[#This Row],[چندم]]-1))","v":0},{"$f":"IF(Table3[[#This Row],[چندم]]=0,\"\",MID(Table3[[#This Row],[شماره تماس]],Table3[[#This Row],[چندم]]+1,30))","v":""}]
[null,1327,null,null,null,{"$f":"IFERROR(FIND(\"_\",Table3[[#This Row],[شماره تماس]]),0)","v":0},{"$f":"IF(Table3[[#This Row],[چندم]]=0,Table3[[#This Row],[شماره تماس]],MID(Table3[[#This Row],[شماره تماس]],1,Table3[[#This Row],[چندم]]-1))","v":0},{"$f":"IF(Table3[[#This Row],[چندم]]=0,\"\",MID(Table3[[#This Row],[شماره تماس]],Table3[[#This Row],[چندم]]+1,30))","v":""}]
[null,1328,null,null,null,{"$f":"IFERROR(FIND(\"_\",Table3[[#This Row],[شماره تماس]]),0)","v":0},{"$f":"IF(Table3[[#This Row],[چندم]]=0,Table3[[#This Row],[شماره تماس]],MID(Table3[[#This Row],[شماره تماس]],1,Table3[[#This Row],[چندم]]-1))","v":0},{"$f":"IF(Table3[[#This Row],[چندم]]=0,\"\",MID(Table3[[#This Row],[شماره تماس]],Table3[[#This Row],[چندم]]+1,30))","v":""}]
[null,1329,null,null,null,{"$f":"IFERROR(FIND(\"_\",Table3[[#This Row],[شماره تماس]]),0)","v":0},{"$f":"IF(Table3[[#This Row],[چندم]]=0,Table3[[#This Row],[شماره تماس]],MID(Table3[[#This Row],[شماره تماس]],1,Table3[[#This Row],[چندم]]-1))","v":0},{"$f":"IF(Table3[[#This Row],[چندم]]=0,\"\",MID(Table3[[#This Row],[شماره تماس]],Table3[[#This Row],[چندم]]+1,30))","v":""}]
[null,1330,null,null,null,{"$f":"IFERROR(FIND(\"_\",Table3[[#This Row],[شماره تماس]]),0)","v":0},{"$f":"IF(Table3[[#This Row],[چندم]]=0,Table3[[#This Row],[شماره تماس]],MID(Table3[[#This Row],[شماره تماس]],1,Table3[[#This Row],[چندم]]-1))","v":0},{"$f":"IF(Table3[[#This Row],[چندم]]=0,\"\",MID(Table3[[#This Row],[شماره تماس]],Table3[[#This Row],[چندم]]+1,30))","v":""}]
[null,1331,null,null,null,{"$f":"IFERROR(FIND(\"_\",Table3[[#This Row],[شماره تماس]]),0)","v":0},{"$f":"IF(Table3[[#This Row],[چندم]]=0,Table3[[#This Row],[شماره تماس]],MID(Table3[[#This Row],[شماره تماس]],1,Table3[[#This Row],[چندم]]-1))","v":0},{"$f":"IF(Table3[[#This Row],[چندم]]=0,\"\",MID(Table3[[#This Row],[شماره تماس]],Table3[[#This Row],[چندم]]+1,30))","v":""}]
[null,1332,null,null,null,{"$f":"IFERROR(FIND(\"_\",Table3[[#This Row],[شماره تماس]]),0)","v":0},{"$f":"IF(Table3[[#This Row],[چندم]]=0,Table3[[#This Row],[شماره تماس]],MID(Table3[[#This Row],[شماره تماس]],1,Table3[[#This Row],[چندم]]-1))","v":0},{"$f":"IF(Table3[[#This Row],[چندم]]=0,\"\",MID(Table3[[#This Row],[شماره تماس]],Table3[[#This Row],[چندم]]+1,30))","v":""}]
[null,1333,null,null,null,{"$f":"IFERROR(FIND(\"_\",Table3[[#This Row],[شماره تماس]]),0)","v":0},{"$f":"IF(Table3[[#This Row],[چندم]]=0,Table3[[#This Row],[شماره تماس]],MID(Table3[[#This Row],[شماره تماس]],1,Table3[[#This Row],[چندم]]-1))","v":0},{"$f":"IF(Table3[[#This Row],[چندم]]=0,\"\",MID(Table3[[#This Row],[شماره تماس]],Table3[[#This Row],[چندم]]+1,30))","v":""}]
[null,1334,null,null,null,{"$f":"IFERROR(FIND(\"_\",Table3[[#This Row],[شماره تماس]]),0)","v":0},{"$f":"IF(Table3[[#This Row],[چندم]]=0,Table3[[#This Row],[شماره تماس]],MID(Table3[[#This Row],[شماره تماس]],1,Table3[[#This Row],[چندم]]-1))","v":0},{"$f":"IF(Table3[[#This Row],[چندم]]=0,\"\",MID(Table3[[#This Row],[شماره تماس]],Table3[[#This Row],[چندم]]+1,30))","v":""}]
[null,1335,null,null,null,{"$f":"IFERROR(FIND(\"_\",Table3[[#This Row],[شماره تماس]]),0)","v":0},{"$f":"IF(Table3[[#This Row],[چندم]]=0,Table3[[#This Row],[شماره تماس]],MID(Table3[[#This Row],[شماره تماس]],1,Table3[[#This Row],[چندم]]-1))","v":0},{"$f":"IF(Table3[[#This Row],[چندم]]=0,\"\",MID(Table3[[#This Row],[شماره تماس]],Table3[[#This Row],[چندم]]+1,30))","v":""}]
[null,1336,null,null,null,{"$f":"IFERROR(FIND(\"_\",Table3[[#This Row],[شماره تماس]]),0)","v":0},{"$f":"IF(Table3[[#This Row],[چندم]]=0,Table3[[#This Row],[شماره تماس]],MID(Table3[[#This Row],[شماره تماس]],1,Table3[[#This Row],[چندم]]-1))","v":0},{"$f":"IF(Table3[[#This Row],[چندم]]=0,\"\",MID(Table3[[#This Row],[شماره تماس]],Table3[[#This Row],[چندم]]+1,30))","v":""}]
[null,1337,null,null,null,{"$f":"IFERROR(FIND(\"_\",Table3[[#This Row],[شماره تماس]]),0)","v":0},{"$f":"IF(Table3[[#This Row],[چندم]]=0,Table3[[#This Row],[شماره تماس]],MID(Table3[[#This Row],[شماره تماس]],1,Table3[[#This Row],[چندم]]-1))","v":0},{"$f":"IF(Table3[[#This Row],[چندم]]=0,\"\",MID(Table3[[#This Row],[شماره تماس]],Table3[[#This Row],[چندم]]+1,30))","v":""}]
[null,1338,null,null,null,{"$f":"IFERROR(FIND(\"_\",Table3[[#This Row],[شماره تماس]]),0)","v":0},{"$f":"IF(Table3[[#This Row],[چندم]]=0,Table3[[#This Row],[شماره تماس]],MID(Table3[[#This Row],[شماره تماس]],1,Table3[[#This Row],[چندم]]-1))","v":0},{"$f":"IF(Table3[[#This Row],[چندم]]=0,\"\",MID(Table3[[#This Row],[شماره تماس]],Table3[[#This Row],[چندم]]+1,30))","v":""}]
[null,1339,null,null,null,{"$f":"IFERROR(FIND(\"_\",Table3[[#This Row],[شماره تماس]]),0)","v":0},{"$f":"IF(Table3[[#This Row],[چندم]]=0,Table3[[#This Row],[شماره تماس]],MID(Table3[[#This Row],[شماره تماس]],1,Table3[[#This Row],[چندم]]-1))","v":0},{"$f":"IF(Table3[[#This Row],[چندم]]=0,\"\",MID(Table3[[#This Row],[شماره تماس]],Table3[[#This Row],[چندم]]+1,30))","v":""}]
[null,1340,null,null,null,{"$f":"IFERROR(FIND(\"_\",Table3[[#This Row],[شماره تماس]]),0)","v":0},{"$f":"IF(Table3[[#This Row],[چندم]]=0,Table3[[#This Row],[شماره تماس]],MID(Table3[[#This Row],[شماره تماس]],1,Table3[[#This Row],[چندم]]-1))","v":0},{"$f":"IF(Table3[[#This Row],[چندم]]=0,\"\",MID(Table3[[#This Row],[شماره تماس]],Table3[[#This Row],[چندم]]+1,30))","v":""}]
[null,1341,null,null,null,{"$f":"IFERROR(FIND(\"_\",Table3[[#This Row],[شماره تماس]]),0)","v":0},{"$f":"IF(Table3[[#This Row],[چندم]]=0,Table3[[#This Row],[شماره تماس]],MID(Table3[[#This Row],[شماره تماس]],1,Table3[[#This Row],[چندم]]-1))","v":0},{"$f":"IF(Table3[[#This Row],[چندم]]=0,\"\",MID(Table3[[#This Row],[شماره تماس]],Table3[[#This Row],[چندم]]+1,30))","v":""}]
[null,1342,null,null,null,{"$f":"IFERROR(FIND(\"_\",Table3[[#This Row],[شماره تماس]]),0)","v":0},{"$f":"IF(Table3[[#This Row],[چندم]]=0,Table3[[#This Row],[شماره تماس]],MID(Table3[[#This Row],[شماره تماس]],1,Table3[[#This Row],[چندم]]-1))","v":0},{"$f":"IF(Table3[[#This Row],[چندم]]=0,\"\",MID(Table3[[#This Row],[شماره تماس]],Table3[[#This Row],[چندم]]+1,30))","v":""}]
[null,1343,null,null,null,{"$f":"IFERROR(FIND(\"_\",Table3[[#This Row],[شماره تماس]]),0)","v":0},{"$f":"IF(Table3[[#This Row],[چندم]]=0,Table3[[#This Row],[شماره تماس]],MID(Table3[[#This Row],[شماره تماس]],1,Table3[[#This Row],[چندم]]-1))","v":0},{"$f":"IF(Table3[[#This Row],[چندم]]=0,\"\",MID(Table3[[#This Row],[شماره تماس]],Table3[[#This Row],[چندم]]+1,30))","v":""}]
[null,1344,null,null,null,{"$f":"IFERROR(FIND(\"_\",Table3[[#This Row],[شماره تماس]]),0)","v":0},{"$f":"IF(Table3[[#This Row],[چندم]]=0,Table3[[#This Row],[شماره تماس]],MID(Table3[[#This Row],[شماره تماس]],1,Table3[[#This Row],[چندم]]-1))","v":0},{"$f":"IF(Table3[[#This Row],[چندم]]=0,\"\",MID(Table3[[#This Row],[شماره تماس]],Table3[[#This Row],[چندم]]+1,30))","v":""}]
[null,1345,null,null,null,{"$f":"IFERROR(FIND(\"_\",Table3[[#This Row],[شماره تماس]]),0)","v":0},{"$f":"IF(Table3[[#This Row],[چندم]]=0,Table3[[#This Row],[شماره تماس]],MID(Table3[[#This Row],[شماره تماس]],1,Table3[[#This Row],[چندم]]-1))","v":0},{"$f":"IF(Table3[[#This Row],[چندم]]=0,\"\",MID(Table3[[#This Row],[شماره تماس]],Table3[[#This Row],[چندم]]+1,30))","v":""}]
[null,1346,null,null,null,{"$f":"IFERROR(FIND(\"_\",Table3[[#This Row],[شماره تماس]]),0)","v":0},{"$f":"IF(Table3[[#This Row],[چندم]]=0,Table3[[#This Row],[شماره تماس]],MID(Table3[[#This Row],[شماره تماس]],1,Table3[[#This Row],[چندم]]-1))","v":0},{"$f":"IF(Table3[[#This Row],[چندم]]=0,\"\",MID(Table3[[#This Row],[شماره تماس]],Table3[[#This Row],[چندم]]+1,30))","v":""}]
[null,1347,null,null,null,{"$f":"IFERROR(FIND(\"_\",Table3[[#This Row],[شماره تماس]]),0)","v":0},{"$f":"IF(Table3[[#This Row],[چندم]]=0,Table3[[#This Row],[شماره تماس]],MID(Table3[[#This Row],[شماره تماس]],1,Table3[[#This Row],[چندم]]-1))","v":0},{"$f":"IF(Table3[[#This Row],[چندم]]=0,\"\",MID(Table3[[#This Row],[شماره تماس]],Table3[[#This Row],[چندم]]+1,30))","v":""}]
[null,1348,null,null,null,{"$f":"IFERROR(FIND(\"_\",Table3[[#This Row],[شماره تماس]]),0)","v":0},{"$f":"IF(Table3[[#This Row],[چندم]]=0,Table3[[#This Row],[شماره تماس]],MID(Table3[[#This Row],[شماره تماس]],1,Table3[[#This Row],[چندم]]-1))","v":0},{"$f":"IF(Table3[[#This Row],[چندم]]=0,\"\",MID(Table3[[#This Row],[شماره تماس]],Table3[[#This Row],[چندم]]+1,30))","v":""}]
[null,1349,null,null,null,{"$f":"IFERROR(FIND(\"_\",Table3[[#This Row],[شماره تماس]]),0)","v":0},{"$f":"IF(Table3[[#This Row],[چندم]]=0,Table3[[#This Row],[شماره تماس]],MID(Table3[[#This Row],[شماره تماس]],1,Table3[[#This Row],[چندم]]-1))","v":0},{"$f":"IF(Table3[[#This Row],[چندم]]=0,\"\",MID(Table3[[#This Row],[شماره تماس]],Table3[[#This Row],[چندم]]+1,30))","v":""}]
[null,1350,null,null,null,{"$f":"IFERROR(FIND(\"_\",Table3[[#This Row],[شماره تماس]]),0)","v":0},{"$f":"IF(Table3[[#This Row],[چندم]]=0,Table3[[#This Row],[شماره تماس]],MID(Table3[[#This Row],[شماره تماس]],1,Table3[[#This Row],[چندم]]-1))","v":0},{"$f":"IF(Table3[[#This Row],[چندم]]=0,\"\",MID(Table3[[#This Row],[شماره تماس]],Table3[[#This Row],[چندم]]+1,30))","v":""}]
[null,1351,null,null,null,{"$f":"IFERROR(FIND(\"_\",Table3[[#This Row],[شماره تماس]]),0)","v":0},{"$f":"IF(Table3[[#This Row],[چندم]]=0,Table3[[#This Row],[شماره تماس]],MID(Table3[[#This Row],[شماره تماس]],1,Table3[[#This Row],[چندم]]-1))","v":0},{"$f":"IF(Table3[[#This Row],[چندم]]=0,\"\",MID(Table3[[#This Row],[شماره تماس]],Table3[[#This Row],[چندم]]+1,30))","v":""}]
[null,1352,null,null,null,{"$f":"IFERROR(FIND(\"_\",Table3[[#This Row],[شماره تماس]]),0)","v":0},{"$f":"IF(Table3[[#This Row],[چندم]]=0,Table3[[#This Row],[شماره تماس]],MID(Table3[[#This Row],[شماره تماس]],1,Table3[[#This Row],[چندم]]-1))","v":0},{"$f":"IF(Table3[[#This Row],[چندم]]=0,\"\",MID(Table3[[#This Row],[شماره تماس]],Table3[[#This Row],[چندم]]+1,30))","v":""}]
[null,1353,null,null,null,{"$f":"IFERROR(FIND(\"_\",Table3[[#This Row],[شماره تماس]]),0)","v":0},{"$f":"IF(Table3[[#This Row],[چندم]]=0,Table3[[#This Row],[شماره تماس]],MID(Table3[[#This Row],[شماره تماس]],1,Table3[[#This Row],[چندم]]-1))","v":0},{"$f":"IF(Table3[[#This Row],[چندم]]=0,\"\",MID(Table3[[#This Row],[شماره تماس]],Table3[[#This Row],[چندم]]+1,30))","v":""}]
[null,1354,null,null,null,{"$f":"IFERROR(FIND(\"_\",Table3[[#This Row],[شماره تماس]]),0)","v":0},{"$f":"IF(Table3[[#This Row],[چندم]]=0,Table3[[#This Row],[شماره تماس]],MID(Table3[[#This Row],[شماره تماس]],1,Table3[[#This Row],[چندم]]-1))","v":0},{"$f":"IF(Table3[[#This Row],[چندم]]=0,\"\",MID(Table3[[#This Row],[شماره تماس]],Table3[[#This Row],[چندم]]+1,30))","v":""}]
[null,1355,null,null,null,{"$f":"IFERROR(FIND(\"_\",Table3[[#This Row],[شماره تماس]]),0)","v":0},{"$f":"IF(Table3[[#This Row],[چندم]]=0,Table3[[#This Row],[شماره تماس]],MID(Table3[[#This Row],[شماره تماس]],1,Table3[[#This Row],[چندم]]-1))","v":0},{"$f":"IF(Table3[[#This Row],[چندم]]=0,\"\",MID(Table3[[#This Row],[شماره تماس]],Table3[[#This Row],[چندم]]+1,30))","v":""}]
[null,1356,null,null,null,{"$f":"IFERROR(FIND(\"_\",Table3[[#This Row],[شماره تماس]]),0)","v":0},{"$f":"IF(Table3[[#This Row],[چندم]]=0,Table3[[#This Row],[شماره تماس]],MID(Table3[[#This Row],[شماره تماس]],1,Table3[[#This Row],[چندم]]-1))","v":0},{"$f":"IF(Table3[[#This Row],[چندم]]=0,\"\",MID(Table3[[#This Row],[شماره تماس]],Table3[[#This Row],[چندم]]+1,30))","v":""}]
[null,1357,null,null,null,{"$f":"IFERROR(FIND(\"_\",Table3[[#This Row],[شماره تماس]]),0)","v":0},{"$f":"IF(Table3[[#This Row],[چندم]]=0,Table3[[#This Row],[شماره تماس]],MID(Table3[[#This Row],[شماره تماس]],1,Table3[[#This Row],[چندم]]-1))","v":0},{"$f":"IF(Table3[[#This Row],[چندم]]=0,\"\",MID(Table3[[#This Row],[شماره تماس]],Table3[[#This Row],[چندم]]+1,30))","v":""}]
[null,1358,null,null,null,{"$f":"IFERROR(FIND(\"_\",Table3[[#This Row],[شماره تماس]]),0)","v":0},{"$f":"IF(Table3[[#This Row],[چندم]]=0,Table3[[#This Row],[شماره تماس]],MID(Table3[[#This Row],[شماره تماس]],1,Table3[[#This Row],[چندم]]-1))","v":0},{"$f":"IF(Table3[[#This Row],[چندم]]=0,\"\",MID(Table3[[#This Row],[شماره تماس]],Table3[[#This Row],[چندم]]+1,30))","v":""}]
[null,1359,null,null,null,{"$f":"IFERROR(FIND(\"_\",Table3[[#This Row],[شماره تماس]]),0)","v":0},{"$f":"IF(Table3[[#This Row],[چندم]]=0,Table3[[#This Row],[شماره تماس]],MID(Table3[[#This Row],[شماره تماس]],1,Table3[[#This Row],[چندم]]-1))","v":0},{"$f":"IF(Table3[[#This Row],[چندم]]=0,\"\",MID(Table3[[#This Row],[شماره تماس]],Table3[[#This Row],[چندم]]+1,30))","v":""}]
[null,1360,null,null,null,{"$f":"IFERROR(FIND(\"_\",Table3[[#This Row],[شماره تماس]]),0)","v":0},{"$f":"IF(Table3[[#This Row],[چندم]]=0,Table3[[#This Row],[شماره تماس]],MID(Table3[[#This Row],[شماره تماس]],1,Table3[[#This Row],[چندم]]-1))","v":0},{"$f":"IF(Table3[[#This Row],[چندم]]=0,\"\",MID(Table3[[#This Row],[شماره تماس]],Table3[[#This Row],[چندم]]+1,30))","v":""}]
[null,1361,null,null,null,{"$f":"IFERROR(FIND(\"_\",Table3[[#This Row],[شماره تماس]]),0)","v":0},{"$f":"IF(Table3[[#This Row],[چندم]]=0,Table3[[#This Row],[شماره تماس]],MID(Table3[[#This Row],[شماره تماس]],1,Table3[[#This Row],[چندم]]-1))","v":0},{"$f":"IF(Table3[[#This Row],[چندم]]=0,\"\",MID(Table3[[#This Row],[شماره تماس]],Table3[[#This Row],[چندم]]+1,30))","v":""}]
[null,1362,null,null,null,{"$f":"IFERROR(FIND(\"_\",Table3[[#This Row],[شماره تماس]]),0)","v":0},{"$f":"IF(Table3[[#This Row],[چندم]]=0,Table3[[#This Row],[شماره تماس]],MID(Table3[[#This Row],[شماره تماس]],1,Table3[[#This Row],[چندم]]-1))","v":0},{"$f":"IF(Table3[[#This Row],[چندم]]=0,\"\",MID(Table3[[#This Row],[شماره تماس]],Table3[[#This Row],[چندم]]+1,30))","v":""}]
[null,1363,null,null,null,{"$f":"IFERROR(FIND(\"_\",Table3[[#This Row],[شماره تماس]]),0)","v":0},{"$f":"IF(Table3[[#This Row],[چندم]]=0,Table3[[#This Row],[شماره تماس]],MID(Table3[[#This Row],[شماره تماس]],1,Table3[[#This Row],[چندم]]-1))","v":0},{"$f":"IF(Table3[[#This Row],[چندم]]=0,\"\",MID(Table3[[#This Row],[شماره تماس]],Table3[[#This Row],[چندم]]+1,30))","v":""}]
[null,1364,null,null,null,{"$f":"IFERROR(FIND(\"_\",Table3[[#This Row],[شماره تماس]]),0)","v":0},{"$f":"IF(Table3[[#This Row],[چندم]]=0,Table3[[#This Row],[شماره تماس]],MID(Table3[[#This Row],[شماره تماس]],1,Table3[[#This Row],[چندم]]-1))","v":0},{"$f":"IF(Table3[[#This Row],[چندم]]=0,\"\",MID(Table3[[#This Row],[شماره تماس]],Table3[[#This Row],[چندم]]+1,30))","v":""}]
[null,1365,null,null,null,{"$f":"IFERROR(FIND(\"_\",Table3[[#This Row],[شماره تماس]]),0)","v":0},{"$f":"IF(Table3[[#This Row],[چندم]]=0,Table3[[#This Row],[شماره تماس]],MID(Table3[[#This Row],[شماره تماس]],1,Table3[[#This Row],[چندم]]-1))","v":0},{"$f":"IF(Table3[[#This Row],[چندم]]=0,\"\",MID(Table3[[#This Row],[شماره تماس]],Table3[[#This Row],[چندم]]+1,30))","v":""}]
[null,1366,null,null,null,{"$f":"IFERROR(FIND(\"_\",Table3[[#This Row],[شماره تماس]]),0)","v":0},{"$f":"IF(Table3[[#This Row],[چندم]]=0,Table3[[#This Row],[شماره تماس]],MID(Table3[[#This Row],[شماره تماس]],1,Table3[[#This Row],[چندم]]-1))","v":0},{"$f":"IF(Table3[[#This Row],[چندم]]=0,\"\",MID(Table3[[#This Row],[شماره تماس]],Table3[[#This Row],[چندم]]+1,30))","v":""}]
[null,1367,null,null,null,{"$f":"IFERROR(FIND(\"_\",Table3[[#This Row],[شماره تماس]]),0)","v":0},{"$f":"IF(Table3[[#This Row],[چندم]]=0,Table3[[#This Row],[شماره تماس]],MID(Table3[[#This Row],[شماره تماس]],1,Table3[[#This Row],[چندم]]-1))","v":0},{"$f":"IF(Table3[[#This Row],[چندم]]=0,\"\",MID(Table3[[#This Row],[شماره تماس]],Table3[[#This Row],[چندم]]+1,30))","v":""}]
[null,1368,null,null,null,{"$f":"IFERROR(FIND(\"_\",Table3[[#This Row],[شماره تماس]]),0)","v":0},{"$f":"IF(Table3[[#This Row],[چندم]]=0,Table3[[#This Row],[شماره تماس]],MID(Table3[[#This Row],[شماره تماس]],1,Table3[[#This Row],[چندم]]-1))","v":0},{"$f":"IF(Table3[[#This Row],[چندم]]=0,\"\",MID(Table3[[#This Row],[شماره تماس]],Table3[[#This Row],[چندم]]+1,30))","v":""}]
[null,1369,null,null,null,{"$f":"IFERROR(FIND(\"_\",Table3[[#This Row],[شماره تماس]]),0)","v":0},{"$f":"IF(Table3[[#This Row],[چندم]]=0,Table3[[#This Row],[شماره تماس]],MID(Table3[[#This Row],[شماره تماس]],1,Table3[[#This Row],[چندم]]-1))","v":0},{"$f":"IF(Table3[[#This Row],[چندم]]=0,\"\",MID(Table3[[#This Row],[شماره تماس]],Table3[[#This Row],[چندم]]+1,30))","v":""}]
[null,1370,null,null,null,{"$f":"IFERROR(FIND(\"_\",Table3[[#This Row],[شماره تماس]]),0)","v":0},{"$f":"IF(Table3[[#This Row],[چندم]]=0,Table3[[#This Row],[شماره تماس]],MID(Table3[[#This Row],[شماره تماس]],1,Table3[[#This Row],[چندم]]-1))","v":0},{"$f":"IF(Table3[[#This Row],[چندم]]=0,\"\",MID(Table3[[#This Row],[شماره تماس]],Table3[[#This Row],[چندم]]+1,30))","v":""}]
[null,1371,null,null,null,{"$f":"IFERROR(FIND(\"_\",Table3[[#This Row],[شماره تماس]]),0)","v":0},{"$f":"IF(Table3[[#This Row],[چندم]]=0,Table3[[#This Row],[شماره تماس]],MID(Table3[[#This Row],[شماره تماس]],1,Table3[[#This Row],[چندم]]-1))","v":0},{"$f":"IF(Table3[[#This Row],[چندم]]=0,\"\",MID(Table3[[#This Row],[شماره تماس]],Table3[[#This Row],[چندم]]+1,30))","v":""}]
[null,1372,null,null,null,{"$f":"IFERROR(FIND(\"_\",Table3[[#This Row],[شماره تماس]]),0)","v":0},{"$f":"IF(Table3[[#This Row],[چندم]]=0,Table3[[#This Row],[شماره تماس]],MID(Table3[[#This Row],[شماره تماس]],1,Table3[[#This Row],[چندم]]-1))","v":0},{"$f":"IF(Table3[[#This Row],[چندم]]=0,\"\",MID(Table3[[#This Row],[شماره تماس]],Table3[[#This Row],[چندم]]+1,30))","v":""}]
[null,1373,null,null,null,{"$f":"IFERROR(FIND(\"_\",Table3[[#This Row],[شماره تماس]]),0)","v":0},{"$f":"IF(Table3[[#This Row],[چندم]]=0,Table3[[#This Row],[شماره تماس]],MID(Table3[[#This Row],[شماره تماس]],1,Table3[[#This Row],[چندم]]-1))","v":0},{"$f":"IF(Table3[[#This Row],[چندم]]=0,\"\",MID(Table3[[#This Row],[شماره تماس]],Table3[[#This Row],[چندم]]+1,30))","v":""}]
[null,1374,null,null,null,{"$f":"IFERROR(FIND(\"_\",Table3[[#This Row],[شماره تماس]]),0)","v":0},{"$f":"IF(Table3[[#This Row],[چندم]]=0,Table3[[#This Row],[شماره تماس]],MID(Table3[[#This Row],[شماره تماس]],1,Table3[[#This Row],[چندم]]-1))","v":0},{"$f":"IF(Table3[[#This Row],[چندم]]=0,\"\",MID(Table3[[#This Row],[شماره تماس]],Table3[[#This Row],[چندم]]+1,30))","v":""}]
[null,1375,null,null,null,{"$f":"IFERROR(FIND(\"_\",Table3[[#This Row],[شماره تماس]]),0)","v":0},{"$f":"IF(Table3[[#This Row],[چندم]]=0,Table3[[#This Row],[شماره تماس]],MID(Table3[[#This Row],[شماره تماس]],1,Table3[[#This Row],[چندم]]-1))","v":0},{"$f":"IF(Table3[[#This Row],[چندم]]=0,\"\",MID(Table3[[#This Row],[شماره تماس]],Table3[[#This Row],[چندم]]+1,30))","v":""}]
[null,1376,null,null,null,{"$f":"IFERROR(FIND(\"_\",Table3[[#This Row],[شماره تماس]]),0)","v":0},{"$f":"IF(Table3[[#This Row],[چندم]]=0,Table3[[#This Row],[شماره تماس]],MID(Table3[[#This Row],[شماره تماس]],1,Table3[[#This Row],[چندم]]-1))","v":0},{"$f":"IF(Table3[[#This Row],[چندم]]=0,\"\",MID(Table3[[#This Row],[شماره تماس]],Table3[[#This Row],[چندم]]+1,30))","v":""}]
[null,1377,null,null,null,{"$f":"IFERROR(FIND(\"_\",Table3[[#This Row],[شماره تماس]]),0)","v":0},{"$f":"IF(Table3[[#This Row],[چندم]]=0,Table3[[#This Row],[شماره تماس]],MID(Table3[[#This Row],[شماره تماس]],1,Table3[[#This Row],[چندم]]-1))","v":0},{"$f":"IF(Table3[[#This Row],[چندم]]=0,\"\",MID(Table3[[#This Row],[شماره تماس]],Table3[[#This Row],[چندم]]+1,30))","v":""}]
[null,1378,null,null,null,{"$f":"IFERROR(FIND(\"_\",Table3[[#This Row],[شماره تماس]]),0)","v":0},{"$f":"IF(Table3[[#This Row],[چندم]]=0,Table3[[#This Row],[شماره تماس]],MID(Table3[[#This Row],[شماره تماس]],1,Table3[[#This Row],[چندم]]-1))","v":0},{"$f":"IF(Table3[[#This Row],[چندم]]=0,\"\",MID(Table3[[#This Row],[شماره تماس]],Table3[[#This Row],[چندم]]+1,30))","v":""}]
[null,1379,null,null,null,{"$f":"IFERROR(FIND(\"_\",Table3[[#This Row],[شماره تماس]]),0)","v":0},{"$f":"IF(Table3[[#This Row],[چندم]]=0,Table3[[#This Row],[شماره تماس]],MID(Table3[[#This Row],[شماره تماس]],1,Table3[[#This Row],[چندم]]-1))","v":0},{"$f":"IF(Table3[[#This Row],[چندم]]=0,\"\",MID(Table3[[#This Row],[شماره تماس]],Table3[[#This Row],[چندم]]+1,30))","v":""}]
[null,1380,null,null,null,{"$f":"IFERROR(FIND(\"_\",Table3[[#This Row],[شماره تماس]]),0)","v":0},{"$f":"IF(Table3[[#This Row],[چندم]]=0,Table3[[#This Row],[شماره تماس]],MID(Table3[[#This Row],[شماره تماس]],1,Table3[[#This Row],[چندم]]-1))","v":0},{"$f":"IF(Table3[[#This Row],[چندم]]=0,\"\",MID(Table3[[#This Row],[شماره تماس]],Table3[[#This Row],[چندم]]+1,30))","v":""}]
[null,1381,null,null,null,{"$f":"IFERROR(FIND(\"_\",Table3[[#This Row],[شماره تماس]]),0)","v":0},{"$f":"IF(Table3[[#This Row],[چندم]]=0,Table3[[#This Row],[شماره تماس]],MID(Table3[[#This Row],[شماره تماس]],1,Table3[[#This Row],[چندم]]-1))","v":0},{"$f":"IF(Table3[[#This Row],[چندم]]=0,\"\",MID(Table3[[#This Row],[شماره تماس]],Table3[[#This Row],[چندم]]+1,30))","v":""}]
[null,1382,null,null,null,{"$f":"IFERROR(FIND(\"_\",Table3[[#This Row],[شماره تماس]]),0)","v":0},{"$f":"IF(Table3[[#This Row],[چندم]]=0,Table3[[#This Row],[شماره تماس]],MID(Table3[[#This Row],[شماره تماس]],1,Table3[[#This Row],[چندم]]-1))","v":0},{"$f":"IF(Table3[[#This Row],[چندم]]=0,\"\",MID(Table3[[#This Row],[شماره تماس]],Table3[[#This Row],[چندم]]+1,30))","v":""}]
[null,{"$f":"ROW()-3","v":1383},null,null,null,{"$f":"IFERROR(FIND(\"_\",Table3[[#This Row],[شماره تماس]]),0)","v":0},{"$f":"IF(Table3[[#This Row],[چندم]]=0,Table3[[#This Row],[شماره تماس]],MID(Table3[[#This Row],[شماره تماس]],1,Table3[[#This Row],[چندم]]-1))","v":0},{"$f":"IF(Table3[[#This Row],[چندم]]=0,\"\",MID(Table3[[#This Row],[شماره تماس]],Table3[[#This Row],[چندم]]+1,30))","v":""}]
[null,1384,null,null,null,{"$f":"IFERROR(FIND(\"_\",Table3[[#This Row],[شماره تماس]]),0)","v":0},{"$f":"IF(Table3[[#This Row],[چندم]]=0,Table3[[#This Row],[شماره تماس]],MID(Table3[[#This Row],[شماره تماس]],1,Table3[[#This Row],[چندم]]-1))","v":0},{"$f":"IF(Table3[[#This Row],[چندم]]=0,\"\",MID(Table3[[#This Row],[شماره تماس]],Table3[[#This Row],[چندم]]+1,30))","v":""}]
[null,1385,null,null,null,{"$f":"IFERROR(FIND(\"_\",Table3[[#This Row],[شماره تماس]]),0)","v":0},{"$f":"IF(Table3[[#This Row],[چندم]]=0,Table3[[#This Row],[شماره تماس]],MID(Table3[[#This Row],[شماره تماس]],1,Table3[[#This Row],[چندم]]-1))","v":0},{"$f":"IF(Table3[[#This Row],[چندم]]=0,\"\",MID(Table3[[#This Row],[شماره تماس]],Table3[[#This Row],[چندم]]+1,30))","v":""}]
[null,1386,null,null,null,{"$f":"IFERROR(FIND(\"_\",Table3[[#This Row],[شماره تماس]]),0)","v":0},{"$f":"IF(Table3[[#This Row],[چندم]]=0,Table3[[#This Row],[شماره تماس]],MID(Table3[[#This Row],[شماره تماس]],1,Table3[[#This Row],[چندم]]-1))","v":0},{"$f":"IF(Table3[[#This Row],[چندم]]=0,\"\",MID(Table3[[#This Row],[شماره تماس]],Table3[[#This Row],[چندم]]+1,30))","v":""}]
[null,1387,null,null,null,{"$f":"IFERROR(FIND(\"_\",Table3[[#This Row],[شماره تماس]]),0)","v":0},{"$f":"IF(Table3[[#This Row],[چندم]]=0,Table3[[#This Row],[شماره تماس]],MID(Table3[[#This Row],[شماره تماس]],1,Table3[[#This Row],[چندم]]-1))","v":0},{"$f":"IF(Table3[[#This Row],[چندم]]=0,\"\",MID(Table3[[#This Row],[شماره تماس]],Table3[[#This Row],[چندم]]+1,30))","v":""}]
[null,1388,null,null,null,{"$f":"IFERROR(FIND(\"_\",Table3[[#This Row],[شماره تماس]]),0)","v":0},{"$f":"IF(Table3[[#This Row],[چندم]]=0,Table3[[#This Row],[شماره تماس]],MID(Table3[[#This Row],[شماره تماس]],1,Table3[[#This Row],[چندم]]-1))","v":0},{"$f":"IF(Table3[[#This Row],[چندم]]=0,\"\",MID(Table3[[#This Row],[شماره تماس]],Table3[[#This Row],[چندم]]+1,30))","v":""}]
[null,1389,null,null,null,{"$f":"IFERROR(FIND(\"_\",Table3[[#This Row],[شماره تماس]]),0)","v":0},{"$f":"IF(Table3[[#This Row],[چندم]]=0,Table3[[#This Row],[شماره تماس]],MID(Table3[[#This Row],[شماره تماس]],1,Table3[[#This Row],[چندم]]-1))","v":0},{"$f":"IF(Table3[[#This Row],[چندم]]=0,\"\",MID(Table3[[#This Row],[شماره تماس]],Table3[[#This Row],[چندم]]+1,30))","v":""}]
[null,1390,null,null,null,{"$f":"IFERROR(FIND(\"_\",Table3[[#This Row],[شماره تماس]]),0)","v":0},{"$f":"IF(Table3[[#This Row],[چندم]]=0,Table3[[#This Row],[شماره تماس]],MID(Table3[[#This Row],[شماره تماس]],1,Table3[[#This Row],[چندم]]-1))","v":0},{"$f":"IF(Table3[[#This Row],[چندم]]=0,\"\",MID(Table3[[#This Row],[شماره تماس]],Table3[[#This Row],[چندم]]+1,30))","v":""}]
[null,1391,null,null,null,{"$f":"IFERROR(FIND(\"_\",Table3[[#This Row],[شماره تماس]]),0)","v":0},{"$f":"IF(Table3[[#This Row],[چندم]]=0,Table3[[#This Row],[شماره تماس]],MID(Table3[[#This Row],[شماره تماس]],1,Table3[[#This Row],[چندم]]-1))","v":0},{"$f":"IF(Table3[[#This Row],[چندم]]=0,\"\",MID(Table3[[#This Row],[شماره تماس]],Table3[[#This Row],[چندم]]+1,30))","v":""}]
[null,1392,null,null,null,{"$f":"IFERROR(FIND(\"_\",Table3[[#This Row],[شماره تماس]]),0)","v":0},{"$f":"IF(Table3[[#This Row],[چندم]]=0,Table3[[#This Row],[شماره تماس]],MID(Table3[[#This Row],[شماره تماس]],1,Table3[[#This Row],[چندم]]-1))","v":0},{"$f":"IF(Table3[[#This Row],[چندم]]=0,\"\",MID(Table3[[#This Row],[شماره تماس]],Table3[[#This Row],[چندم]]+1,30))","v":""}]
[null,1393,null,null,null,{"$f":"IFERROR(FIND(\"_\",Table3[[#This Row],[شماره تماس]]),0)","v":0},{"$f":"IF(Table3[[#This Row],[چندم]]=0,Table3[[#This Row],[شماره تماس]],MID(Table3[[#This Row],[شماره تماس]],1,Table3[[#This Row],[چندم]]-1))","v":0},{"$f":"IF(Table3[[#This Row],[چندم]]=0,\"\",MID(Table3[[#This Row],[شماره تماس]],Table3[[#This Row],[چندم]]+1,30))","v":""}]
[null,1394,null,null,null,{"$f":"IFERROR(FIND(\"_\",Table3[[#This Row],[شماره تماس]]),0)","v":0},{"$f":"IF(Table3[[#This Row],[چندم]]=0,Table3[[#This Row],[شماره تماس]],MID(Table3[[#This Row],[شماره تماس]],1,Table3[[#This Row],[چندم]]-1))","v":0},{"$f":"IF(Table3[[#This Row],[چندم]]=0,\"\",MID(Table3[[#This Row],[شماره تماس]],Table3[[#This Row],[چندم]]+1,30))","v":""}]
[null,1395,null,null,null,{"$f":"IFERROR(FIND(\"_\",Table3[[#This Row],[شماره تماس]]),0)","v":0},{"$f":"IF(Table3[[#This Row],[چندم]]=0,Table3[[#This Row],[شماره تماس]],MID(Table3[[#This Row],[شماره تماس]],1,Table3[[#This Row],[چندم]]-1))","v":0},{"$f":"IF(Table3[[#This Row],[چندم]]=0,\"\",MID(Table3[[#This Row],[شماره تماس]],Table3[[#This Row],[چندم]]+1,30))","v":""}]
[null,1396,null,null,null,{"$f":"IFERROR(FIND(\"_\",Table3[[#This Row],[شماره تماس]]),0)","v":0},{"$f":"IF(Table3[[#This Row],[چندم]]=0,Table3[[#This Row],[شماره تماس]],MID(Table3[[#This Row],[شماره تماس]],1,Table3[[#This Row],[چندم]]-1))","v":0},{"$f":"IF(Table3[[#This Row],[چندم]]=0,\"\",MID(Table3[[#This Row],[شماره تماس]],Table3[[#This Row],[چندم]]+1,30))","v":""}]
[null,1397,null,null,null,{"$f":"IFERROR(FIND(\"_\",Table3[[#This Row],[شماره تماس]]),0)","v":0},{"$f":"IF(Table3[[#This Row],[چندم]]=0,Table3[[#This Row],[شماره تماس]],MID(Table3[[#This Row],[شماره تماس]],1,Table3[[#This Row],[چندم]]-1))","v":0},{"$f":"IF(Table3[[#This Row],[چندم]]=0,\"\",MID(Table3[[#This Row],[شماره تماس]],Table3[[#This Row],[چندم]]+1,30))","v":""}]
[null,1398,null,null,null,{"$f":"IFERROR(FIND(\"_\",Table3[[#This Row],[شماره تماس]]),0)","v":0},{"$f":"IF(Table3[[#This Row],[چندم]]=0,Table3[[#This Row],[شماره تماس]],MID(Table3[[#This Row],[شماره تماس]],1,Table3[[#This Row],[چندم]]-1))","v":0},{"$f":"IF(Table3[[#This Row],[چندم]]=0,\"\",MID(Table3[[#This Row],[شماره تماس]],Table3[[#This Row],[چندم]]+1,30))","v":""}]
[null,1399,null,null,null,{"$f":"IFERROR(FIND(\"_\",Table3[[#This Row],[شماره تماس]]),0)","v":0},{"$f":"IF(Table3[[#This Row],[چندم]]=0,Table3[[#This Row],[شماره تماس]],MID(Table3[[#This Row],[شماره تماس]],1,Table3[[#This Row],[چندم]]-1))","v":0},{"$f":"IF(Table3[[#This Row],[چندم]]=0,\"\",MID(Table3[[#This Row],[شماره تماس]],Table3[[#This Row],[چندم]]+1,30))","v":""}]
[null,1400,null,null,null,{"$f":"IFERROR(FIND(\"_\",Table3[[#This Row],[شماره تماس]]),0)","v":0},{"$f":"IF(Table3[[#This Row],[چندم]]=0,Table3[[#This Row],[شماره تماس]],MID(Table3[[#This Row],[شماره تماس]],1,Table3[[#This Row],[چندم]]-1))","v":0},{"$f":"IF(Table3[[#This Row],[چندم]]=0,\"\",MID(Table3[[#This Row],[شماره تماس]],Table3[[#This Row],[چندم]]+1,30))","v":""}]
[null,1401,null,null,null,{"$f":"IFERROR(FIND(\"_\",Table3[[#This Row],[شماره تماس]]),0)","v":0},{"$f":"IF(Table3[[#This Row],[چندم]]=0,Table3[[#This Row],[شماره تماس]],MID(Table3[[#This Row],[شماره تماس]],1,Table3[[#This Row],[چندم]]-1))","v":0},{"$f":"IF(Table3[[#This Row],[چندم]]=0,\"\",MID(Table3[[#This Row],[شماره تماس]],Table3[[#This Row],[چندم]]+1,30))","v":""}]
[null,1402,null,null,null,{"$f":"IFERROR(FIND(\"_\",Table3[[#This Row],[شماره تماس]]),0)","v":0},{"$f":"IF(Table3[[#This Row],[چندم]]=0,Table3[[#This Row],[شماره تماس]],MID(Table3[[#This Row],[شماره تماس]],1,Table3[[#This Row],[چندم]]-1))","v":0},{"$f":"IF(Table3[[#This Row],[چندم]]=0,\"\",MID(Table3[[#This Row],[شماره تماس]],Table3[[#This Row],[چندم]]+1,30))","v":""}]
[null,1403,null,null,null,{"$f":"IFERROR(FIND(\"_\",Table3[[#This Row],[شماره تماس]]),0)","v":0},{"$f":"IF(Table3[[#This Row],[چندم]]=0,Table3[[#This Row],[شماره تماس]],MID(Table3[[#This Row],[شماره تماس]],1,Table3[[#This Row],[چندم]]-1))","v":0},{"$f":"IF(Table3[[#This Row],[چندم]]=0,\"\",MID(Table3[[#This Row],[شماره تماس]],Table3[[#This Row],[چندم]]+1,30))","v":""}]
[null,1404,null,null,null,{"$f":"IFERROR(FIND(\"_\",Table3[[#This Row],[شماره تماس]]),0)","v":0},{"$f":"IF(Table3[[#This Row],[چندم]]=0,Table3[[#This Row],[شماره تماس]],MID(Table3[[#This Row],[شماره تماس]],1,Table3[[#This Row],[چندم]]-1))","v":0},{"$f":"IF(Table3[[#This Row],[چندم]]=0,\"\",MID(Table3[[#This Row],[شماره تماس]],Table3[[#This Row],[چندم]]+1,30))","v":""}]
[null,1405,null,null,null,{"$f":"IFERROR(FIND(\"_\",Table3[[#This Row],[شماره تماس]]),0)","v":0},{"$f":"IF(Table3[[#This Row],[چندم]]=0,Table3[[#This Row],[شماره تماس]],MID(Table3[[#This Row],[شماره تماس]],1,Table3[[#This Row],[چندم]]-1))","v":0},{"$f":"IF(Table3[[#This Row],[چندم]]=0,\"\",MID(Table3[[#This Row],[شماره تماس]],Table3[[#This Row],[چندم]]+1,30))","v":""}]
[null,1406,null,null,null,{"$f":"IFERROR(FIND(\"_\",Table3[[#This Row],[شماره تماس]]),0)","v":0},{"$f":"IF(Table3[[#This Row],[چندم]]=0,Table3[[#This Row],[شماره تماس]],MID(Table3[[#This Row],[شماره تماس]],1,Table3[[#This Row],[چندم]]-1))","v":0},{"$f":"IF(Table3[[#This Row],[چندم]]=0,\"\",MID(Table3[[#This Row],[شماره تماس]],Table3[[#This Row],[چندم]]+1,30))","v":""}]
[null,1407,null,null,null,{"$f":"IFERROR(FIND(\"_\",Table3[[#This Row],[شماره تماس]]),0)","v":0},{"$f":"IF(Table3[[#This Row],[چندم]]=0,Table3[[#This Row],[شماره تماس]],MID(Table3[[#This Row],[شماره تماس]],1,Table3[[#This Row],[چندم]]-1))","v":0},{"$f":"IF(Table3[[#This Row],[چندم]]=0,\"\",MID(Table3[[#This Row],[شماره تماس]],Table3[[#This Row],[چندم]]+1,30))","v":""}]
[null,1408,null,null,null,{"$f":"IFERROR(FIND(\"_\",Table3[[#This Row],[شماره تماس]]),0)","v":0},{"$f":"IF(Table3[[#This Row],[چندم]]=0,Table3[[#This Row],[شماره تماس]],MID(Table3[[#This Row],[شماره تماس]],1,Table3[[#This Row],[چندم]]-1))","v":0},{"$f":"IF(Table3[[#This Row],[چندم]]=0,\"\",MID(Table3[[#This Row],[شماره تماس]],Table3[[#This Row],[چندم]]+1,30))","v":""}]
[null,1409,null,null,null,{"$f":"IFERROR(FIND(\"_\",Table3[[#This Row],[شماره تماس]]),0)","v":0},{"$f":"IF(Table3[[#This Row],[چندم]]=0,Table3[[#This Row],[شماره تماس]],MID(Table3[[#This Row],[شماره تماس]],1,Table3[[#This Row],[چندم]]-1))","v":0},{"$f":"IF(Table3[[#This Row],[چندم]]=0,\"\",MID(Table3[[#This Row],[شماره تماس]],Table3[[#This Row],[چندم]]+1,30))","v":""}]
[null,1410,null,null,null,{"$f":"IFERROR(FIND(\"_\",Table3[[#This Row],[شماره تماس]]),0)","v":0},{"$f":"IF(Table3[[#This Row],[چندم]]=0,Table3[[#This Row],[شماره تماس]],MID(Table3[[#This Row],[شماره تماس]],1,Table3[[#This Row],[چندم]]-1))","v":0},{"$f":"IF(Table3[[#This Row],[چندم]]=0,\"\",MID(Table3[[#This Row],[شماره تماس]],Table3[[#This Row],[چندم]]+1,30))","v":""}]
[null,1411,null,null,null,{"$f":"IFERROR(FIND(\"_\",Table3[[#This Row],[شماره تماس]]),0)","v":0},{"$f":"IF(Table3[[#This Row],[چندم]]=0,Table3[[#This Row],[شماره تماس]],MID(Table3[[#This Row],[شماره تماس]],1,Table3[[#This Row],[چندم]]-1))","v":0},{"$f":"IF(Table3[[#This Row],[چندم]]=0,\"\",MID(Table3[[#This Row],[شماره تماس]],Table3[[#This Row],[چندم]]+1,30))","v":""}]
[null,1412,null,null,null,{"$f":"IFERROR(FIND(\"_\",Table3[[#This Row],[شماره تماس]]),0)","v":0},{"$f":"IF(Table3[[#This Row],[چندم]]=0,Table3[[#This Row],[شماره تماس]],MID(Table3[[#This Row],[شماره تماس]],1,Table3[[#This Row],[چندم]]-1))","v":0},{"$f":"IF(Table3[[#This Row],[چندم]]=0,\"\",MID(Table3[[#This Row],[شماره تماس]],Table3[[#This Row],[چندم]]+1,30))","v":""}]
[null,1413,null,null,null,{"$f":"IFERROR(FIND(\"_\",Table3[[#This Row],[شماره تماس]]),0)","v":0},{"$f":"IF(Table3[[#This Row],[چندم]]=0,Table3[[#This Row],[شماره تماس]],MID(Table3[[#This Row],[شماره تماس]],1,Table3[[#This Row],[چندم]]-1))","v":0},{"$f":"IF(Table3[[#This Row],[چندم]]=0,\"\",MID(Table3[[#This Row],[شماره تماس]],Table3[[#This Row],[چندم]]+1,30))","v":""}]
[null,1414,null,null,null,{"$f":"IFERROR(FIND(\"_\",Table3[[#This Row],[شماره تماس]]),0)","v":0},{"$f":"IF(Table3[[#This Row],[چندم]]=0,Table3[[#This Row],[شماره تماس]],MID(Table3[[#This Row],[شماره تماس]],1,Table3[[#This Row],[چندم]]-1))","v":0},{"$f":"IF(Table3[[#This Row],[چندم]]=0,\"\",MID(Table3[[#This Row],[شماره تماس]],Table3[[#This Row],[چندم]]+1,30))","v":""}]
[null,1415,null,null,null,{"$f":"IFERROR(FIND(\"_\",Table3[[#This Row],[شماره تماس]]),0)","v":0},{"$f":"IF(Table3[[#This Row],[چندم]]=0,Table3[[#This Row],[شماره تماس]],MID(Table3[[#This Row],[شماره تماس]],1,Table3[[#This Row],[چندم]]-1))","v":0},{"$f":"IF(Table3[[#This Row],[چندم]]=0,\"\",MID(Table3[[#This Row],[شماره تماس]],Table3[[#This Row],[چندم]]+1,30))","v":""}]
[null,1416,null,null,null,{"$f":"IFERROR(FIND(\"_\",Table3[[#This Row],[شماره تماس]]),0)","v":0},{"$f":"IF(Table3[[#This Row],[چندم]]=0,Table3[[#This Row],[شماره تماس]],MID(Table3[[#This Row],[شماره تماس]],1,Table3[[#This Row],[چندم]]-1))","v":0},{"$f":"IF(Table3[[#This Row],[چندم]]=0,\"\",MID(Table3[[#This Row],[شماره تماس]],Table3[[#This Row],[چندم]]+1,30))","v":""}]
[null,1417,null,null,null,{"$f":"IFERROR(FIND(\"_\",Table3[[#This Row],[شماره تماس]]),0)","v":0},{"$f":"IF(Table3[[#This Row],[چندم]]=0,Table3[[#This Row],[شماره تماس]],MID(Table3[[#This Row],[شماره تماس]],1,Table3[[#This Row],[چندم]]-1))","v":0},{"$f":"IF(Table3[[#This Row],[چندم]]=0,\"\",MID(Table3[[#This Row],[شماره تماس]],Table3[[#This Row],[چندم]]+1,30))","v":""}]
[null,1418,null,null,null,{"$f":"IFERROR(FIND(\"_\",Table3[[#This Row],[شماره تماس]]),0)","v":0},{"$f":"IF(Table3[[#This Row],[چندم]]=0,Table3[[#This Row],[شماره تماس]],MID(Table3[[#This Row],[شماره تماس]],1,Table3[[#This Row],[چندم]]-1))","v":0},{"$f":"IF(Table3[[#This Row],[چندم]]=0,\"\",MID(Table3[[#This Row],[شماره تماس]],Table3[[#This Row],[چندم]]+1,30))","v":""}]
[null,1419,null,null,null,{"$f":"IFERROR(FIND(\"_\",Table3[[#This Row],[شماره تماس]]),0)","v":0},{"$f":"IF(Table3[[#This Row],[چندم]]=0,Table3[[#This Row],[شماره تماس]],MID(Table3[[#This Row],[شماره تماس]],1,Table3[[#This Row],[چندم]]-1))","v":0},{"$f":"IF(Table3[[#This Row],[چندم]]=0,\"\",MID(Table3[[#This Row],[شماره تماس]],Table3[[#This Row],[چندم]]+1,30))","v":""}]
[null,1420,null,null,null,{"$f":"IFERROR(FIND(\"_\",Table3[[#This Row],[شماره تماس]]),0)","v":0},{"$f":"IF(Table3[[#This Row],[چندم]]=0,Table3[[#This Row],[شماره تماس]],MID(Table3[[#This Row],[شماره تماس]],1,Table3[[#This Row],[چندم]]-1))","v":0},{"$f":"IF(Table3[[#This Row],[چندم]]=0,\"\",MID(Table3[[#This Row],[شماره تماس]],Table3[[#This Row],[چندم]]+1,30))","v":""}]
[null,1421,null,null,null,{"$f":"IFERROR(FIND(\"_\",Table3[[#This Row],[شماره تماس]]),0)","v":0},{"$f":"IF(Table3[[#This Row],[چندم]]=0,Table3[[#This Row],[شماره تماس]],MID(Table3[[#This Row],[شماره تماس]],1,Table3[[#This Row],[چندم]]-1))","v":0},{"$f":"IF(Table3[[#This Row],[چندم]]=0,\"\",MID(Table3[[#This Row],[شماره تماس]],Table3[[#This Row],[چندم]]+1,30))","v":""}]
[null,1422,null,null,null,{"$f":"IFERROR(FIND(\"_\",Table3[[#This Row],[شماره تماس]]),0)","v":0},{"$f":"IF(Table3[[#This Row],[چندم]]=0,Table3[[#This Row],[شماره تماس]],MID(Table3[[#This Row],[شماره تماس]],1,Table3[[#This Row],[چندم]]-1))","v":0},{"$f":"IF(Table3[[#This Row],[چندم]]=0,\"\",MID(Table3[[#This Row],[شماره تماس]],Table3[[#This Row],[چندم]]+1,30))","v":""}]
[null,1423,null,null,null,{"$f":"IFERROR(FIND(\"_\",Table3[[#This Row],[شماره تماس]]),0)","v":0},{"$f":"IF(Table3[[#This Row],[چندم]]=0,Table3[[#This Row],[شماره تماس]],MID(Table3[[#This Row],[شماره تماس]],1,Table3[[#This Row],[چندم]]-1))","v":0},{"$f":"IF(Table3[[#This Row],[چندم]]=0,\"\",MID(Table3[[#This Row],[شماره تماس]],Table3[[#This Row],[چندم]]+1,30))","v":""}]
[null,1424,null,null,null,{"$f":"IFERROR(FIND(\"_\",Table3[[#This Row],[شماره تماس]]),0)","v":0},{"$f":"IF(Table3[[#This Row],[چندم]]=0,Table3[[#This Row],[شماره تماس]],MID(Table3[[#This Row],[شماره تماس]],1,Table3[[#This Row],[چندم]]-1))","v":0},{"$f":"IF(Table3[[#This Row],[چندم]]=0,\"\",MID(Table3[[#This Row],[شماره تماس]],Table3[[#This Row],[چندم]]+1,30))","v":""}]
[null,1425,null,null,null,{"$f":"IFERROR(FIND(\"_\",Table3[[#This Row],[شماره تماس]]),0)","v":0},{"$f":"IF(Table3[[#This Row],[چندم]]=0,Table3[[#This Row],[شماره تماس]],MID(Table3[[#This Row],[شماره تماس]],1,Table3[[#This Row],[چندم]]-1))","v":0},{"$f":"IF(Table3[[#This Row],[چندم]]=0,\"\",MID(Table3[[#This Row],[شماره تماس]],Table3[[#This Row],[چندم]]+1,30))","v":""}]
[null,1426,null,null,null,{"$f":"IFERROR(FIND(\"_\",Table3[[#This Row],[شماره تماس]]),0)","v":0},{"$f":"IF(Table3[[#This Row],[چندم]]=0,Table3[[#This Row],[شماره تماس]],MID(Table3[[#This Row],[شماره تماس]],1,Table3[[#This Row],[چندم]]-1))","v":0},{"$f":"IF(Table3[[#This Row],[چندم]]=0,\"\",MID(Table3[[#This Row],[شماره تماس]],Table3[[#This Row],[چندم]]+1,30))","v":""}]
[null,1427,null,null,null,{"$f":"IFERROR(FIND(\"_\",Table3[[#This Row],[شماره تماس]]),0)","v":0},{"$f":"IF(Table3[[#This Row],[چندم]]=0,Table3[[#This Row],[شماره تماس]],MID(Table3[[#This Row],[شماره تماس]],1,Table3[[#This Row],[چندم]]-1))","v":0},{"$f":"IF(Table3[[#This Row],[چندم]]=0,\"\",MID(Table3[[#This Row],[شماره تماس]],Table3[[#This Row],[چندم]]+1,30))","v":""}]
[null,1428,null,null,null,{"$f":"IFERROR(FIND(\"_\",Table3[[#This Row],[شماره تماس]]),0)","v":0},{"$f":"IF(Table3[[#This Row],[چندم]]=0,Table3[[#This Row],[شماره تماس]],MID(Table3[[#This Row],[شماره تماس]],1,Table3[[#This Row],[چندم]]-1))","v":0},{"$f":"IF(Table3[[#This Row],[چندم]]=0,\"\",MID(Table3[[#This Row],[شماره تماس]],Table3[[#This Row],[چندم]]+1,30))","v":""}]
[null,1429,null,null,null,{"$f":"IFERROR(FIND(\"_\",Table3[[#This Row],[شماره تماس]]),0)","v":0},{"$f":"IF(Table3[[#This Row],[چندم]]=0,Table3[[#This Row],[شماره تماس]],MID(Table3[[#This Row],[شماره تماس]],1,Table3[[#This Row],[چندم]]-1))","v":0},{"$f":"IF(Table3[[#This Row],[چندم]]=0,\"\",MID(Table3[[#This Row],[شماره تماس]],Table3[[#This Row],[چندم]]+1,30))","v":""}]
[null,1430,null,null,null,{"$f":"IFERROR(FIND(\"_\",Table3[[#This Row],[شماره تماس]]),0)","v":0},{"$f":"IF(Table3[[#This Row],[چندم]]=0,Table3[[#This Row],[شماره تماس]],MID(Table3[[#This Row],[شماره تماس]],1,Table3[[#This Row],[چندم]]-1))","v":0},{"$f":"IF(Table3[[#This Row],[چندم]]=0,\"\",MID(Table3[[#This Row],[شماره تماس]],Table3[[#This Row],[چندم]]+1,30))","v":""}]
[null,1431,null,null,null,{"$f":"IFERROR(FIND(\"_\",Table3[[#This Row],[شماره تماس]]),0)","v":0},{"$f":"IF(Table3[[#This Row],[چندم]]=0,Table3[[#This Row],[شماره تماس]],MID(Table3[[#This Row],[شماره تماس]],1,Table3[[#This Row],[چندم]]-1))","v":0},{"$f":"IF(Table3[[#This Row],[چندم]]=0,\"\",MID(Table3[[#This Row],[شماره تماس]],Table3[[#This Row],[چندم]]+1,30))","v":""}]
[null,1432,null,null,null,{"$f":"IFERROR(FIND(\"_\",Table3[[#This Row],[شماره تماس]]),0)","v":0},{"$f":"IF(Table3[[#This Row],[چندم]]=0,Table3[[#This Row],[شماره تماس]],MID(Table3[[#This Row],[شماره تماس]],1,Table3[[#This Row],[چندم]]-1))","v":0},{"$f":"IF(Table3[[#This Row],[چندم]]=0,\"\",MID(Table3[[#This Row],[شماره تماس]],Table3[[#This Row],[چندم]]+1,30))","v":""}]
[null,1433,null,null,null,{"$f":"IFERROR(FIND(\"_\",Table3[[#This Row],[شماره تماس]]),0)","v":0},{"$f":"IF(Table3[[#This Row],[چندم]]=0,Table3[[#This Row],[شماره تماس]],MID(Table3[[#This Row],[شماره تماس]],1,Table3[[#This Row],[چندم]]-1))","v":0},{"$f":"IF(Table3[[#This Row],[چندم]]=0,\"\",MID(Table3[[#This Row],[شماره تماس]],Table3[[#This Row],[چندم]]+1,30))","v":""}]
[null,1434,null,null,null,{"$f":"IFERROR(FIND(\"_\",Table3[[#This Row],[شماره تماس]]),0)","v":0},{"$f":"IF(Table3[[#This Row],[چندم]]=0,Table3[[#This Row],[شماره تماس]],MID(Table3[[#This Row],[شماره تماس]],1,Table3[[#This Row],[چندم]]-1))","v":0},{"$f":"IF(Table3[[#This Row],[چندم]]=0,\"\",MID(Table3[[#This Row],[شماره تماس]],Table3[[#This Row],[چندم]]+1,30))","v":""}]
[null,1435,null,null,null,{"$f":"IFERROR(FIND(\"_\",Table3[[#This Row],[شماره تماس]]),0)","v":0},{"$f":"IF(Table3[[#This Row],[چندم]]=0,Table3[[#This Row],[شماره تماس]],MID(Table3[[#This Row],[شماره تماس]],1,Table3[[#This Row],[چندم]]-1))","v":0},{"$f":"IF(Table3[[#This Row],[چندم]]=0,\"\",MID(Table3[[#This Row],[شماره تماس]],Table3[[#This Row],[چندم]]+1,30))","v":""}]
[null,1436,null,null,null,{"$f":"IFERROR(FIND(\"_\",Table3[[#This Row],[شماره تماس]]),0)","v":0},{"$f":"IF(Table3[[#This Row],[چندم]]=0,Table3[[#This Row],[شماره تماس]],MID(Table3[[#This Row],[شماره تماس]],1,Table3[[#This Row],[چندم]]-1))","v":0},{"$f":"IF(Table3[[#This Row],[چندم]]=0,\"\",MID(Table3[[#This Row],[شماره تماس]],Table3[[#This Row],[چندم]]+1,30))","v":""}]
[null,1437,null,null,null,{"$f":"IFERROR(FIND(\"_\",Table3[[#This Row],[شماره تماس]]),0)","v":0},{"$f":"IF(Table3[[#This Row],[چندم]]=0,Table3[[#This Row],[شماره تماس]],MID(Table3[[#This Row],[شماره تماس]],1,Table3[[#This Row],[چندم]]-1))","v":0},{"$f":"IF(Table3[[#This Row],[چندم]]=0,\"\",MID(Table3[[#This Row],[شماره تماس]],Table3[[#This Row],[چندم]]+1,30))","v":""}]
[null,1438,null,null,null,{"$f":"IFERROR(FIND(\"_\",Table3[[#This Row],[شماره تماس]]),0)","v":0},{"$f":"IF(Table3[[#This Row],[چندم]]=0,Table3[[#This Row],[شماره تماس]],MID(Table3[[#This Row],[شماره تماس]],1,Table3[[#This Row],[چندم]]-1))","v":0},{"$f":"IF(Table3[[#This Row],[چندم]]=0,\"\",MID(Table3[[#This Row],[شماره تماس]],Table3[[#This Row],[چندم]]+1,30))","v":""}]
[null,1439,null,null,null,{"$f":"IFERROR(FIND(\"_\",Table3[[#This Row],[شماره تماس]]),0)","v":0},{"$f":"IF(Table3[[#This Row],[چندم]]=0,Table3[[#This Row],[شماره تماس]],MID(Table3[[#This Row],[شماره تماس]],1,Table3[[#This Row],[چندم]]-1))","v":0},{"$f":"IF(Table3[[#This Row],[چندم]]=0,\"\",MID(Table3[[#This Row],[شماره تماس]],Table3[[#This Row],[چندم]]+1,30))","v":""}]
[null,1440,null,null,null,{"$f":"IFERROR(FIND(\"_\",Table3[[#This Row],[شماره تماس]]),0)","v":0},{"$f":"IF(Table3[[#This Row],[چندم]]=0,Table3[[#This Row],[شماره تماس]],MID(Table3[[#This Row],[شماره تماس]],1,Table3[[#This Row],[چندم]]-1))","v":0},{"$f":"IF(Table3[[#This Row],[چندم]]=0,\"\",MID(Table3[[#This Row],[شماره تماس]],Table3[[#This Row],[چندم]]+1,30))","v":""}]
[null,1441,null,null,null,{"$f":"IFERROR(FIND(\"_\",Table3[[#This Row],[شماره تماس]]),0)","v":0},{"$f":"IF(Table3[[#This Row],[چندم]]=0,Table3[[#This Row],[شماره تماس]],MID(Table3[[#This Row],[شماره تماس]],1,Table3[[#This Row],[چندم]]-1))","v":0},{"$f":"IF(Table3[[#This Row],[چندم]]=0,\"\",MID(Table3[[#This Row],[شماره تماس]],Table3[[#This Row],[چندم]]+1,30))","v":""}]
[null,1442,null,null,null,{"$f":"IFERROR(FIND(\"_\",Table3[[#This Row],[شماره تماس]]),0)","v":0},{"$f":"IF(Table3[[#This Row],[چندم]]=0,Table3[[#This Row],[شماره تماس]],MID(Table3[[#This Row],[شماره تماس]],1,Table3[[#This Row],[چندم]]-1))","v":0},{"$f":"IF(Table3[[#This Row],[چندم]]=0,\"\",MID(Table3[[#This Row],[شماره تماس]],Table3[[#This Row],[چندم]]+1,30))","v":""}]
[null,1443,null,null,null,{"$f":"IFERROR(FIND(\"_\",Table3[[#This Row],[شماره تماس]]),0)","v":0},{"$f":"IF(Table3[[#This Row],[چندم]]=0,Table3[[#This Row],[شماره تماس]],MID(Table3[[#This Row],[شماره تماس]],1,Table3[[#This Row],[چندم]]-1))","v":0},{"$f":"IF(Table3[[#This Row],[چندم]]=0,\"\",MID(Table3[[#This Row],[شماره تماس]],Table3[[#This Row],[چندم]]+1,30))","v":""}]
[null,1444,null,null,null,{"$f":"IFERROR(FIND(\"_\",Table3[[#This Row],[شماره تماس]]),0)","v":0},{"$f":"IF(Table3[[#This Row],[چندم]]=0,Table3[[#This Row],[شماره تماس]],MID(Table3[[#This Row],[شماره تماس]],1,Table3[[#This Row],[چندم]]-1))","v":0},{"$f":"IF(Table3[[#This Row],[چندم]]=0,\"\",MID(Table3[[#This Row],[شماره تماس]],Table3[[#This Row],[چندم]]+1,30))","v":""}]
[null,1445,null,null,null,{"$f":"IFERROR(FIND(\"_\",Table3[[#This Row],[شماره تماس]]),0)","v":0},{"$f":"IF(Table3[[#This Row],[چندم]]=0,Table3[[#This Row],[شماره تماس]],MID(Table3[[#This Row],[شماره تماس]],1,Table3[[#This Row],[چندم]]-1))","v":0},{"$f":"IF(Table3[[#This Row],[چندم]]=0,\"\",MID(Table3[[#This Row],[شماره تماس]],Table3[[#This Row],[چندم]]+1,30))","v":""}]
[null,1446,null,null,null,{"$f":"IFERROR(FIND(\"_\",Table3[[#This Row],[شماره تماس]]),0)","v":0},{"$f":"IF(Table3[[#This Row],[چندم]]=0,Table3[[#This Row],[شماره تماس]],MID(Table3[[#This Row],[شماره تماس]],1,Table3[[#This Row],[چندم]]-1))","v":0},{"$f":"IF(Table3[[#This Row],[چندم]]=0,\"\",MID(Table3[[#This Row],[شماره تماس]],Table3[[#This Row],[چندم]]+1,30))","v":""}]
[null,{"$f":"ROW()-3","v":1447},null,null,null,{"$f":"IFERROR(FIND(\"_\",Table3[[#This Row],[شماره تماس]]),0)","v":0},{"$f":"IF(Table3[[#This Row],[چندم]]=0,Table3[[#This Row],[شماره تماس]],MID(Table3[[#This Row],[شماره تماس]],1,Table3[[#This Row],[چندم]]-1))","v":0},{"$f":"IF(Table3[[#This Row],[چندم]]=0,\"\",MID(Table3[[#This Row],[شماره تماس]],Table3[[#This Row],[چندم]]+1,30))","v":""}]
[null,1448,null,null,null,{"$f":"IFERROR(FIND(\"_\",Table3[[#This Row],[شماره تماس]]),0)","v":0},{"$f":"IF(Table3[[#This Row],[چندم]]=0,Table3[[#This Row],[شماره تماس]],MID(Table3[[#This Row],[شماره تماس]],1,Table3[[#This Row],[چندم]]-1))","v":0},{"$f":"IF(Table3[[#This Row],[چندم]]=0,\"\",MID(Table3[[#This Row],[شماره تماس]],Table3[[#This Row],[چندم]]+1,30))","v":""}]
[null,1449,null,null,null,{"$f":"IFERROR(FIND(\"_\",Table3[[#This Row],[شماره تماس]]),0)","v":0},{"$f":"IF(Table3[[#This Row],[چندم]]=0,Table3[[#This Row],[شماره تماس]],MID(Table3[[#This Row],[شماره تماس]],1,Table3[[#This Row],[چندم]]-1))","v":0},{"$f":"IF(Table3[[#This Row],[چندم]]=0,\"\",MID(Table3[[#This Row],[شماره تماس]],Table3[[#This Row],[چندم]]+1,30))","v":""}]
[null,1450,null,null,null,{"$f":"IFERROR(FIND(\"_\",Table3[[#This Row],[شماره تماس]]),0)","v":0},{"$f":"IF(Table3[[#This Row],[چندم]]=0,Table3[[#This Row],[شماره تماس]],MID(Table3[[#This Row],[شماره تماس]],1,Table3[[#This Row],[چندم]]-1))","v":0},{"$f":"IF(Table3[[#This Row],[چندم]]=0,\"\",MID(Table3[[#This Row],[شماره تماس]],Table3[[#This Row],[چندم]]+1,30))","v":""}]
[null,1451,null,null,null,{"$f":"IFERROR(FIND(\"_\",Table3[[#This Row],[شماره تماس]]),0)","v":0},{"$f":"IF(Table3[[#This Row],[چندم]]=0,Table3[[#This Row],[شماره تماس]],MID(Table3[[#This Row],[شماره تماس]],1,Table3[[#This Row],[چندم]]-1))","v":0},{"$f":"IF(Table3[[#This Row],[چندم]]=0,\"\",MID(Table3[[#This Row],[شماره تماس]],Table3[[#This Row],[چندم]]+1,30))","v":""}]
[null,1452,null,null,null,{"$f":"IFERROR(FIND(\"_\",Table3[[#This Row],[شماره تماس]]),0)","v":0},{"$f":"IF(Table3[[#This Row],[چندم]]=0,Table3[[#This Row],[شماره تماس]],MID(Table3[[#This Row],[شماره تماس]],1,Table3[[#This Row],[چندم]]-1))","v":0},{"$f":"IF(Table3[[#This Row],[چندم]]=0,\"\",MID(Table3[[#This Row],[شماره تماس]],Table3[[#This Row],[چندم]]+1,30))","v":""}]
[null,1453,null,null,null,{"$f":"IFERROR(FIND(\"_\",Table3[[#This Row],[شماره تماس]]),0)","v":0},{"$f":"IF(Table3[[#This Row],[چندم]]=0,Table3[[#This Row],[شماره تماس]],MID(Table3[[#This Row],[شماره تماس]],1,Table3[[#This Row],[چندم]]-1))","v":0},{"$f":"IF(Table3[[#This Row],[چندم]]=0,\"\",MID(Table3[[#This Row],[شماره تماس]],Table3[[#This Row],[چندم]]+1,30))","v":""}]
[null,1454,null,null,null,{"$f":"IFERROR(FIND(\"_\",Table3[[#This Row],[شماره تماس]]),0)","v":0},{"$f":"IF(Table3[[#This Row],[چندم]]=0,Table3[[#This Row],[شماره تماس]],MID(Table3[[#This Row],[شماره تماس]],1,Table3[[#This Row],[چندم]]-1))","v":0},{"$f":"IF(Table3[[#This Row],[چندم]]=0,\"\",MID(Table3[[#This Row],[شماره تماس]],Table3[[#This Row],[چندم]]+1,30))","v":""}]
[null,1455,null,null,null,{"$f":"IFERROR(FIND(\"_\",Table3[[#This Row],[شماره تماس]]),0)","v":0},{"$f":"IF(Table3[[#This Row],[چندم]]=0,Table3[[#This Row],[شماره تماس]],MID(Table3[[#This Row],[شماره تماس]],1,Table3[[#This Row],[چندم]]-1))","v":0},{"$f":"IF(Table3[[#This Row],[چندم]]=0,\"\",MID(Table3[[#This Row],[شماره تماس]],Table3[[#This Row],[چندم]]+1,30))","v":""}]
[null,1456,null,null,null,{"$f":"IFERROR(FIND(\"_\",Table3[[#This Row],[شماره تماس]]),0)","v":0},{"$f":"IF(Table3[[#This Row],[چندم]]=0,Table3[[#This Row],[شماره تماس]],MID(Table3[[#This Row],[شماره تماس]],1,Table3[[#This Row],[چندم]]-1))","v":0},{"$f":"IF(Table3[[#This Row],[چندم]]=0,\"\",MID(Table3[[#This Row],[شماره تماس]],Table3[[#This Row],[چندم]]+1,30))","v":""}]
[null,1457,null,null,null,{"$f":"IFERROR(FIND(\"_\",Table3[[#This Row],[شماره تماس]]),0)","v":0},{"$f":"IF(Table3[[#This Row],[چندم]]=0,Table3[[#This Row],[شماره تماس]],MID(Table3[[#This Row],[شماره تماس]],1,Table3[[#This Row],[چندم]]-1))","v":0},{"$f":"IF(Table3[[#This Row],[چندم]]=0,\"\",MID(Table3[[#This Row],[شماره تماس]],Table3[[#This Row],[چندم]]+1,30))","v":""}]
[null,1458,null,null,null,{"$f":"IFERROR(FIND(\"_\",Table3[[#This Row],[شماره تماس]]),0)","v":0},{"$f":"IF(Table3[[#This Row],[چندم]]=0,Table3[[#This Row],[شماره تماس]],MID(Table3[[#This Row],[شماره تماس]],1,Table3[[#This Row],[چندم]]-1))","v":0},{"$f":"IF(Table3[[#This Row],[چندم]]=0,\"\",MID(Table3[[#This Row],[شماره تماس]],Table3[[#This Row],[چندم]]+1,30))","v":""}]
[null,1459,null,null,null,{"$f":"IFERROR(FIND(\"_\",Table3[[#This Row],[شماره تماس]]),0)","v":0},{"$f":"IF(Table3[[#This Row],[چندم]]=0,Table3[[#This Row],[شماره تماس]],MID(Table3[[#This Row],[شماره تماس]],1,Table3[[#This Row],[چندم]]-1))","v":0},{"$f":"IF(Table3[[#This Row],[چندم]]=0,\"\",MID(Table3[[#This Row],[شماره تماس]],Table3[[#This Row],[چندم]]+1,30))","v":""}]
[null,1460,null,null,null,{"$f":"IFERROR(FIND(\"_\",Table3[[#This Row],[شماره تماس]]),0)","v":0},{"$f":"IF(Table3[[#This Row],[چندم]]=0,Table3[[#This Row],[شماره تماس]],MID(Table3[[#This Row],[شماره تماس]],1,Table3[[#This Row],[چندم]]-1))","v":0},{"$f":"IF(Table3[[#This Row],[چندم]]=0,\"\",MID(Table3[[#This Row],[شماره تماس]],Table3[[#This Row],[چندم]]+1,30))","v":""}]
[null,1461,null,null,null,{"$f":"IFERROR(FIND(\"_\",Table3[[#This Row],[شماره تماس]]),0)","v":0},{"$f":"IF(Table3[[#This Row],[چندم]]=0,Table3[[#This Row],[شماره تماس]],MID(Table3[[#This Row],[شماره تماس]],1,Table3[[#This Row],[چندم]]-1))","v":0},{"$f":"IF(Table3[[#This Row],[چندم]]=0,\"\",MID(Table3[[#This Row],[شماره تماس]],Table3[[#This Row],[چندم]]+1,30))","v":""}]
[null,1462,null,null,null,{"$f":"IFERROR(FIND(\"_\",Table3[[#This Row],[شماره تماس]]),0)","v":0},{"$f":"IF(Table3[[#This Row],[چندم]]=0,Table3[[#This Row],[شماره تماس]],MID(Table3[[#This Row],[شماره تماس]],1,Table3[[#This Row],[چندم]]-1))","v":0},{"$f":"IF(Table3[[#This Row],[چندم]]=0,\"\",MID(Table3[[#This Row],[شماره تماس]],Table3[[#This Row],[چندم]]+1,30))","v":""}]
[null,1463,null,null,null,{"$f":"IFERROR(FIND(\"_\",Table3[[#This Row],[شماره تماس]]),0)","v":0},{"$f":"IF(Table3[[#This Row],[چندم]]=0,Table3[[#This Row],[شماره تماس]],MID(Table3[[#This Row],[شماره تماس]],1,Table3[[#This Row],[چندم]]-1))","v":0},{"$f":"IF(Table3[[#This Row],[چندم]]=0,\"\",MID(Table3[[#This Row],[شماره تماس]],Table3[[#This Row],[چندم]]+1,30))","v":""}]
[null,1464,null,null,null,{"$f":"IFERROR(FIND(\"_\",Table3[[#This Row],[شماره تماس]]),0)","v":0},{"$f":"IF(Table3[[#This Row],[چندم]]=0,Table3[[#This Row],[شماره تماس]],MID(Table3[[#This Row],[شماره تماس]],1,Table3[[#This Row],[چندم]]-1))","v":0},{"$f":"IF(Table3[[#This Row],[چندم]]=0,\"\",MID(Table3[[#This Row],[شماره تماس]],Table3[[#This Row],[چندم]]+1,30))","v":""}]
[null,1465,null,null,null,{"$f":"IFERROR(FIND(\"_\",Table3[[#This Row],[شماره تماس]]),0)","v":0},{"$f":"IF(Table3[[#This Row],[چندم]]=0,Table3[[#This Row],[شماره تماس]],MID(Table3[[#This Row],[شماره تماس]],1,Table3[[#This Row],[چندم]]-1))","v":0},{"$f":"IF(Table3[[#This Row],[چندم]]=0,\"\",MID(Table3[[#This Row],[شماره تماس]],Table3[[#This Row],[چندم]]+1,30))","v":""}]
[null,1466,null,null,null,{"$f":"IFERROR(FIND(\"_\",Table3[[#This Row],[شماره تماس]]),0)","v":0},{"$f":"IF(Table3[[#This Row],[چندم]]=0,Table3[[#This Row],[شماره تماس]],MID(Table3[[#This Row],[شماره تماس]],1,Table3[[#This Row],[چندم]]-1))","v":0},{"$f":"IF(Table3[[#This Row],[چندم]]=0,\"\",MID(Table3[[#This Row],[شماره تماس]],Table3[[#This Row],[چندم]]+1,30))","v":""}]
[null,1467,null,null,null,{"$f":"IFERROR(FIND(\"_\",Table3[[#This Row],[شماره تماس]]),0)","v":0},{"$f":"IF(Table3[[#This Row],[چندم]]=0,Table3[[#This Row],[شماره تماس]],MID(Table3[[#This Row],[شماره تماس]],1,Table3[[#This Row],[چندم]]-1))","v":0},{"$f":"IF(Table3[[#This Row],[چندم]]=0,\"\",MID(Table3[[#This Row],[شماره تماس]],Table3[[#This Row],[چندم]]+1,30))","v":""}]
[null,1468,null,null,null,{"$f":"IFERROR(FIND(\"_\",Table3[[#This Row],[شماره تماس]]),0)","v":0},{"$f":"IF(Table3[[#This Row],[چندم]]=0,Table3[[#This Row],[شماره تماس]],MID(Table3[[#This Row],[شماره تماس]],1,Table3[[#This Row],[چندم]]-1))","v":0},{"$f":"IF(Table3[[#This Row],[چندم]]=0,\"\",MID(Table3[[#This Row],[شماره تماس]],Table3[[#This Row],[چندم]]+1,30))","v":""}]
[null,1469,null,null,null,{"$f":"IFERROR(FIND(\"_\",Table3[[#This Row],[شماره تماس]]),0)","v":0},{"$f":"IF(Table3[[#This Row],[چندم]]=0,Table3[[#This Row],[شماره تماس]],MID(Table3[[#This Row],[شماره تماس]],1,Table3[[#This Row],[چندم]]-1))","v":0},{"$f":"IF(Table3[[#This Row],[چندم]]=0,\"\",MID(Table3[[#This Row],[شماره تماس]],Table3[[#This Row],[چندم]]+1,30))","v":""}]
[null,1470,null,null,null,{"$f":"IFERROR(FIND(\"_\",Table3[[#This Row],[شماره تماس]]),0)","v":0},{"$f":"IF(Table3[[#This Row],[چندم]]=0,Table3[[#This Row],[شماره تماس]],MID(Table3[[#This Row],[شماره تماس]],1,Table3[[#This Row],[چندم]]-1))","v":0},{"$f":"IF(Table3[[#This Row],[چندم]]=0,\"\",MID(Table3[[#This Row],[شماره تماس]],Table3[[#This Row],[چندم]]+1,30))","v":""}]
[null,1471,null,null,null,{"$f":"IFERROR(FIND(\"_\",Table3[[#This Row],[شماره تماس]]),0)","v":0},{"$f":"IF(Table3[[#This Row],[چندم]]=0,Table3[[#This Row],[شماره تماس]],MID(Table3[[#This Row],[شماره تماس]],1,Table3[[#This Row],[چندم]]-1))","v":0},{"$f":"IF(Table3[[#This Row],[چندم]]=0,\"\",MID(Table3[[#This Row],[شماره تماس]],Table3[[#This Row],[چندم]]+1,30))","v":""}]
[null,1472,null,null,null,{"$f":"IFERROR(FIND(\"_\",Table3[[#This Row],[شماره تماس]]),0)","v":0},{"$f":"IF(Table3[[#This Row],[چندم]]=0,Table3[[#This Row],[شماره تماس]],MID(Table3[[#This Row],[شماره تماس]],1,Table3[[#This Row],[چندم]]-1))","v":0},{"$f":"IF(Table3[[#This Row],[چندم]]=0,\"\",MID(Table3[[#This Row],[شماره تماس]],Table3[[#This Row],[چندم]]+1,30))","v":""}]
[null,1473,null,null,null,{"$f":"IFERROR(FIND(\"_\",Table3[[#This Row],[شماره تماس]]),0)","v":0},{"$f":"IF(Table3[[#This Row],[چندم]]=0,Table3[[#This Row],[شماره تماس]],MID(Table3[[#This Row],[شماره تماس]],1,Table3[[#This Row],[چندم]]-1))","v":0},{"$f":"IF(Table3[[#This Row],[چندم]]=0,\"\",MID(Table3[[#This Row],[شماره تماس]],Table3[[#This Row],[چندم]]+1,30))","v":""}]
[null,1474,null,null,null,{"$f":"IFERROR(FIND(\"_\",Table3[[#This Row],[شماره تماس]]),0)","v":0},{"$f":"IF(Table3[[#This Row],[چندم]]=0,Table3[[#This Row],[شماره تماس]],MID(Table3[[#This Row],[شماره تماس]],1,Table3[[#This Row],[چندم]]-1))","v":0},{"$f":"IF(Table3[[#This Row],[چندم]]=0,\"\",MID(Table3[[#This Row],[شماره تماس]],Table3[[#This Row],[چندم]]+1,30))","v":""}]
[null,1475,null,null,null,{"$f":"IFERROR(FIND(\"_\",Table3[[#This Row],[شماره تماس]]),0)","v":0},{"$f":"IF(Table3[[#This Row],[چندم]]=0,Table3[[#This Row],[شماره تماس]],MID(Table3[[#This Row],[شماره تماس]],1,Table3[[#This Row],[چندم]]-1))","v":0},{"$f":"IF(Table3[[#This Row],[چندم]]=0,\"\",MID(Table3[[#This Row],[شماره تماس]],Table3[[#This Row],[چندم]]+1,30))","v":""}]
[null,1476,null,null,null,{"$f":"IFERROR(FIND(\"_\",Table3[[#This Row],[شماره تماس]]),0)","v":0},{"$f":"IF(Table3[[#This Row],[چندم]]=0,Table3[[#This Row],[شماره تماس]],MID(Table3[[#This Row],[شماره تماس]],1,Table3[[#This Row],[چندم]]-1))","v":0},{"$f":"IF(Table3[[#This Row],[چندم]]=0,\"\",MID(Table3[[#This Row],[شماره تماس]],Table3[[#This Row],[چندم]]+1,30))","v":""}]
[null,1477,null,null,null,{"$f":"IFERROR(FIND(\"_\",Table3[[#This Row],[شماره تماس]]),0)","v":0},{"$f":"IF(Table3[[#This Row],[چندم]]=0,Table3[[#This Row],[شماره تماس]],MID(Table3[[#This Row],[شماره تماس]],1,Table3[[#This Row],[چندم]]-1))","v":0},{"$f":"IF(Table3[[#This Row],[چندم]]=0,\"\",MID(Table3[[#This Row],[شماره تماس]],Table3[[#This Row],[چندم]]+1,30))","v":""}]
[null,1478,null,null,null,{"$f":"IFERROR(FIND(\"_\",Table3[[#This Row],[شماره تماس]]),0)","v":0},{"$f":"IF(Table3[[#This Row],[چندم]]=0,Table3[[#This Row],[شماره تماس]],MID(Table3[[#This Row],[شماره تماس]],1,Table3[[#This Row],[چندم]]-1))","v":0},{"$f":"IF(Table3[[#This Row],[چندم]]=0,\"\",MID(Table3[[#This Row],[شماره تماس]],Table3[[#This Row],[چندم]]+1,30))","v":""}]
[null,1479,null,null,null,{"$f":"IFERROR(FIND(\"_\",Table3[[#This Row],[شماره تماس]]),0)","v":0},{"$f":"IF(Table3[[#This Row],[چندم]]=0,Table3[[#This Row],[شماره تماس]],MID(Table3[[#This Row],[شماره تماس]],1,Table3[[#This Row],[چندم]]-1))","v":0},{"$f":"IF(Table3[[#This Row],[چندم]]=0,\"\",MID(Table3[[#This Row],[شماره تماس]],Table3[[#This Row],[چندم]]+1,30))","v":""}]
[null,1480,null,null,null,{"$f":"IFERROR(FIND(\"_\",Table3[[#This Row],[شماره تماس]]),0)","v":0},{"$f":"IF(Table3[[#This Row],[چندم]]=0,Table3[[#This Row],[شماره تماس]],MID(Table3[[#This Row],[شماره تماس]],1,Table3[[#This Row],[چندم]]-1))","v":0},{"$f":"IF(Table3[[#This Row],[چندم]]=0,\"\",MID(Table3[[#This Row],[شماره تماس]],Table3[[#This Row],[چندم]]+1,30))","v":""}]
[null,1481,null,null,null,{"$f":"IFERROR(FIND(\"_\",Table3[[#This Row],[شماره تماس]]),0)","v":0},{"$f":"IF(Table3[[#This Row],[چندم]]=0,Table3[[#This Row],[شماره تماس]],MID(Table3[[#This Row],[شماره تماس]],1,Table3[[#This Row],[چندم]]-1))","v":0},{"$f":"IF(Table3[[#This Row],[چندم]]=0,\"\",MID(Table3[[#This Row],[شماره تماس]],Table3[[#This Row],[چندم]]+1,30))","v":""}]
[null,1482,null,null,null,{"$f":"IFERROR(FIND(\"_\",Table3[[#This Row],[شماره تماس]]),0)","v":0},{"$f":"IF(Table3[[#This Row],[چندم]]=0,Table3[[#This Row],[شماره تماس]],MID(Table3[[#This Row],[شماره تماس]],1,Table3[[#This Row],[چندم]]-1))","v":0},{"$f":"IF(Table3[[#This Row],[چندم]]=0,\"\",MID(Table3[[#This Row],[شماره تماس]],Table3[[#This Row],[چندم]]+1,30))","v":""}]
[null,1483,null,null,null,{"$f":"IFERROR(FIND(\"_\",Table3[[#This Row],[شماره تماس]]),0)","v":0},{"$f":"IF(Table3[[#This Row],[چندم]]=0,Table3[[#This Row],[شماره تماس]],MID(Table3[[#This Row],[شماره تماس]],1,Table3[[#This Row],[چندم]]-1))","v":0},{"$f":"IF(Table3[[#This Row],[چندم]]=0,\"\",MID(Table3[[#This Row],[شماره تماس]],Table3[[#This Row],[چندم]]+1,30))","v":""}]
[null,1484,null,null,null,{"$f":"IFERROR(FIND(\"_\",Table3[[#This Row],[شماره تماس]]),0)","v":0},{"$f":"IF(Table3[[#This Row],[چندم]]=0,Table3[[#This Row],[شماره تماس]],MID(Table3[[#This Row],[شماره تماس]],1,Table3[[#This Row],[چندم]]-1))","v":0},{"$f":"IF(Table3[[#This Row],[چندم]]=0,\"\",MID(Table3[[#This Row],[شماره تماس]],Table3[[#This Row],[چندم]]+1,30))","v":""}]
[null,1485,null,null,null,{"$f":"IFERROR(FIND(\"_\",Table3[[#This Row],[شماره تماس]]),0)","v":0},{"$f":"IF(Table3[[#This Row],[چندم]]=0,Table3[[#This Row],[شماره تماس]],MID(Table3[[#This Row],[شماره تماس]],1,Table3[[#This Row],[چندم]]-1))","v":0},{"$f":"IF(Table3[[#This Row],[چندم]]=0,\"\",MID(Table3[[#This Row],[شماره تماس]],Table3[[#This Row],[چندم]]+1,30))","v":""}]
[null,1486,null,null,null,{"$f":"IFERROR(FIND(\"_\",Table3[[#This Row],[شماره تماس]]),0)","v":0},{"$f":"IF(Table3[[#This Row],[چندم]]=0,Table3[[#This Row],[شماره تماس]],MID(Table3[[#This Row],[شماره تماس]],1,Table3[[#This Row],[چندم]]-1))","v":0},{"$f":"IF(Table3[[#This Row],[چندم]]=0,\"\",MID(Table3[[#This Row],[شماره تماس]],Table3[[#This Row],[چندم]]+1,30))","v":""}]
[null,1487,null,null,null,{"$f":"IFERROR(FIND(\"_\",Table3[[#This Row],[شماره تماس]]),0)","v":0},{"$f":"IF(Table3[[#This Row],[چندم]]=0,Table3[[#This Row],[شماره تماس]],MID(Table3[[#This Row],[شماره تماس]],1,Table3[[#This Row],[چندم]]-1))","v":0},{"$f":"IF(Table3[[#This Row],[چندم]]=0,\"\",MID(Table3[[#This Row],[شماره تماس]],Table3[[#This Row],[چندم]]+1,30))","v":""}]
[null,1488,null,null,null,{"$f":"IFERROR(FIND(\"_\",Table3[[#This Row],[شماره تماس]]),0)","v":0},{"$f":"IF(Table3[[#This Row],[چندم]]=0,Table3[[#This Row],[شماره تماس]],MID(Table3[[#This Row],[شماره تماس]],1,Table3[[#This Row],[چندم]]-1))","v":0},{"$f":"IF(Table3[[#This Row],[چندم]]=0,\"\",MID(Table3[[#This Row],[شماره تماس]],Table3[[#This Row],[چندم]]+1,30))","v":""}]
[null,1489,null,null,null,{"$f":"IFERROR(FIND(\"_\",Table3[[#This Row],[شماره تماس]]),0)","v":0},{"$f":"IF(Table3[[#This Row],[چندم]]=0,Table3[[#This Row],[شماره تماس]],MID(Table3[[#This Row],[شماره تماس]],1,Table3[[#This Row],[چندم]]-1))","v":0},{"$f":"IF(Table3[[#This Row],[چندم]]=0,\"\",MID(Table3[[#This Row],[شماره تماس]],Table3[[#This Row],[چندم]]+1,30))","v":""}]
[null,1490,null,null,null,{"$f":"IFERROR(FIND(\"_\",Table3[[#This Row],[شماره تماس]]),0)","v":0},{"$f":"IF(Table3[[#This Row],[چندم]]=0,Table3[[#This Row],[شماره تماس]],MID(Table3[[#This Row],[شماره تماس]],1,Table3[[#This Row],[چندم]]-1))","v":0},{"$f":"IF(Table3[[#This Row],[چندم]]=0,\"\",MID(Table3[[#This Row],[شماره تماس]],Table3[[#This Row],[چندم]]+1,30))","v":""}]
[null,1491,null,null,null,{"$f":"IFERROR(FIND(\"_\",Table3[[#This Row],[شماره تماس]]),0)","v":0},{"$f":"IF(Table3[[#This Row],[چندم]]=0,Table3[[#This Row],[شماره تماس]],MID(Table3[[#This Row],[شماره تماس]],1,Table3[[#This Row],[چندم]]-1))","v":0},{"$f":"IF(Table3[[#This Row],[چندم]]=0,\"\",MID(Table3[[#This Row],[شماره تماس]],Table3[[#This Row],[چندم]]+1,30))","v":""}]
[null,1492,null,null,null,{"$f":"IFERROR(FIND(\"_\",Table3[[#This Row],[شماره تماس]]),0)","v":0},{"$f":"IF(Table3[[#This Row],[چندم]]=0,Table3[[#This Row],[شماره تماس]],MID(Table3[[#This Row],[شماره تماس]],1,Table3[[#This Row],[چندم]]-1))","v":0},{"$f":"IF(Table3[[#This Row],[چندم]]=0,\"\",MID(Table3[[#This Row],[شماره تماس]],Table3[[#This Row],[چندم]]+1,30))","v":""}]
[null,1493,null,null,null,{"$f":"IFERROR(FIND(\"_\",Table3[[#This Row],[شماره تماس]]),0)","v":0},{"$f":"IF(Table3[[#This Row],[چندم]]=0,Table3[[#This Row],[شماره تماس]],MID(Table3[[#This Row],[شماره تماس]],1,Table3[[#This Row],[چندم]]-1))","v":0},{"$f":"IF(Table3[[#This Row],[چندم]]=0,\"\",MID(Table3[[#This Row],[شماره تماس]],Table3[[#This Row],[چندم]]+1,30))","v":""}]
[null,1494,null,null,null,{"$f":"IFERROR(FIND(\"_\",Table3[[#This Row],[شماره تماس]]),0)","v":0},{"$f":"IF(Table3[[#This Row],[چندم]]=0,Table3[[#This Row],[شماره تماس]],MID(Table3[[#This Row],[شماره تماس]],1,Table3[[#This Row],[چندم]]-1))","v":0},{"$f":"IF(Table3[[#This Row],[چندم]]=0,\"\",MID(Table3[[#This Row],[شماره تماس]],Table3[[#This Row],[چندم]]+1,30))","v":""}]
[null,1495,null,null,null,{"$f":"IFERROR(FIND(\"_\",Table3[[#This Row],[شماره تماس]]),0)","v":0},{"$f":"IF(Table3[[#This Row],[چندم]]=0,Table3[[#This Row],[شماره تماس]],MID(Table3[[#This Row],[شماره تماس]],1,Table3[[#This Row],[چندم]]-1))","v":0},{"$f":"IF(Table3[[#This Row],[چندم]]=0,\"\",MID(Table3[[#This Row],[شماره تماس]],Table3[[#This Row],[چندم]]+1,30))","v":""}]
[null,1496,null,null,null,{"$f":"IFERROR(FIND(\"_\",Table3[[#This Row],[شماره تماس]]),0)","v":0},{"$f":"IF(Table3[[#This Row],[چندم]]=0,Table3[[#This Row],[شماره تماس]],MID(Table3[[#This Row],[شماره تماس]],1,Table3[[#This Row],[چندم]]-1))","v":0},{"$f":"IF(Table3[[#This Row],[چندم]]=0,\"\",MID(Table3[[#This Row],[شماره تماس]],Table3[[#This Row],[چندم]]+1,30))","v":""}]
[null,1497,null,null,null,{"$f":"IFERROR(FIND(\"_\",Table3[[#This Row],[شماره تماس]]),0)","v":0},{"$f":"IF(Table3[[#This Row],[چندم]]=0,Table3[[#This Row],[شماره تماس]],MID(Table3[[#This Row],[شماره تماس]],1,Table3[[#This Row],[چندم]]-1))","v":0},{"$f":"IF(Table3[[#This Row],[چندم]]=0,\"\",MID(Table3[[#This Row],[شماره تماس]],Table3[[#This Row],[چندم]]+1,30))","v":""}]
[null,1498,null,null,null,{"$f":"IFERROR(FIND(\"_\",Table3[[#This Row],[شماره تماس]]),0)","v":0},{"$f":"IF(Table3[[#This Row],[چندم]]=0,Table3[[#This Row],[شماره تماس]],MID(Table3[[#This Row],[شماره تماس]],1,Table3[[#This Row],[چندم]]-1))","v":0},{"$f":"IF(Table3[[#This Row],[چندم]]=0,\"\",MID(Table3[[#This Row],[شماره تماس]],Table3[[#This Row],[چندم]]+1,30))","v":""}]
[null,1499,null,null,null,{"$f":"IFERROR(FIND(\"_\",Table3[[#This Row],[شماره تماس]]),0)","v":0},{"$f":"IF(Table3[[#This Row],[چندم]]=0,Table3[[#This Row],[شماره تماس]],MID(Table3[[#This Row],[شماره تماس]],1,Table3[[#This Row],[چندم]]-1))","v":0},{"$f":"IF(Table3[[#This Row],[چندم]]=0,\"\",MID(Table3[[#This Row],[شماره تماس]],Table3[[#This Row],[چندم]]+1,30))","v":""}]
[null,1500,null,null,null,{"$f":"IFERROR(FIND(\"_\",Table3[[#This Row],[شماره تماس]]),0)","v":0},{"$f":"IF(Table3[[#This Row],[چندم]]=0,Table3[[#This Row],[شماره تماس]],MID(Table3[[#This Row],[شماره تماس]],1,Table3[[#This Row],[چندم]]-1))","v":0},{"$f":"IF(Table3[[#This Row],[چندم]]=0,\"\",MID(Table3[[#This Row],[شماره تماس]],Table3[[#This Row],[چندم]]+1,30))","v":""}]
[null,1501,null,null,null,{"$f":"IFERROR(FIND(\"_\",Table3[[#This Row],[شماره تماس]]),0)","v":0},{"$f":"IF(Table3[[#This Row],[چندم]]=0,Table3[[#This Row],[شماره تماس]],MID(Table3[[#This Row],[شماره تماس]],1,Table3[[#This Row],[چندم]]-1))","v":0},{"$f":"IF(Table3[[#This Row],[چندم]]=0,\"\",MID(Table3[[#This Row],[شماره تماس]],Table3[[#This Row],[چندم]]+1,30))","v":""}]
[null,1502,null,null,null,{"$f":"IFERROR(FIND(\"_\",Table3[[#This Row],[شماره تماس]]),0)","v":0},{"$f":"IF(Table3[[#This Row],[چندم]]=0,Table3[[#This Row],[شماره تماس]],MID(Table3[[#This Row],[شماره تماس]],1,Table3[[#This Row],[چندم]]-1))","v":0},{"$f":"IF(Table3[[#This Row],[چندم]]=0,\"\",MID(Table3[[#This Row],[شماره تماس]],Table3[[#This Row],[چندم]]+1,30))","v":""}]
[null,1503,null,null,null,{"$f":"IFERROR(FIND(\"_\",Table3[[#This Row],[شماره تماس]]),0)","v":0},{"$f":"IF(Table3[[#This Row],[چندم]]=0,Table3[[#This Row],[شماره تماس]],MID(Table3[[#This Row],[شماره تماس]],1,Table3[[#This Row],[چندم]]-1))","v":0},{"$f":"IF(Table3[[#This Row],[چندم]]=0,\"\",MID(Table3[[#This Row],[شماره تماس]],Table3[[#This Row],[چندم]]+1,30))","v":""}]
[null,1504,null,null,null,{"$f":"IFERROR(FIND(\"_\",Table3[[#This Row],[شماره تماس]]),0)","v":0},{"$f":"IF(Table3[[#This Row],[چندم]]=0,Table3[[#This Row],[شماره تماس]],MID(Table3[[#This Row],[شماره تماس]],1,Table3[[#This Row],[چندم]]-1))","v":0},{"$f":"IF(Table3[[#This Row],[چندم]]=0,\"\",MID(Table3[[#This Row],[شماره تماس]],Table3[[#This Row],[چندم]]+1,30))","v":""}]
[null,1505,null,null,null,{"$f":"IFERROR(FIND(\"_\",Table3[[#This Row],[شماره تماس]]),0)","v":0},{"$f":"IF(Table3[[#This Row],[چندم]]=0,Table3[[#This Row],[شماره تماس]],MID(Table3[[#This Row],[شماره تماس]],1,Table3[[#This Row],[چندم]]-1))","v":0},{"$f":"IF(Table3[[#This Row],[چندم]]=0,\"\",MID(Table3[[#This Row],[شماره تماس]],Table3[[#This Row],[چندم]]+1,30))","v":""}]
[null,1506,null,null,null,{"$f":"IFERROR(FIND(\"_\",Table3[[#This Row],[شماره تماس]]),0)","v":0},{"$f":"IF(Table3[[#This Row],[چندم]]=0,Table3[[#This Row],[شماره تماس]],MID(Table3[[#This Row],[شماره تماس]],1,Table3[[#This Row],[چندم]]-1))","v":0},{"$f":"IF(Table3[[#This Row],[چندم]]=0,\"\",MID(Table3[[#This Row],[شماره تماس]],Table3[[#This Row],[چندم]]+1,30))","v":""}]
[null,1507,null,null,null,{"$f":"IFERROR(FIND(\"_\",Table3[[#This Row],[شماره تماس]]),0)","v":0},{"$f":"IF(Table3[[#This Row],[چندم]]=0,Table3[[#This Row],[شماره تماس]],MID(Table3[[#This Row],[شماره تماس]],1,Table3[[#This Row],[چندم]]-1))","v":0},{"$f":"IF(Table3[[#This Row],[چندم]]=0,\"\",MID(Table3[[#This Row],[شماره تماس]],Table3[[#This Row],[چندم]]+1,30))","v":""}]
[null,1508,null,null,null,{"$f":"IFERROR(FIND(\"_\",Table3[[#This Row],[شماره تماس]]),0)","v":0},{"$f":"IF(Table3[[#This Row],[چندم]]=0,Table3[[#This Row],[شماره تماس]],MID(Table3[[#This Row],[شماره تماس]],1,Table3[[#This Row],[چندم]]-1))","v":0},{"$f":"IF(Table3[[#This Row],[چندم]]=0,\"\",MID(Table3[[#This Row],[شماره تماس]],Table3[[#This Row],[چندم]]+1,30))","v":""}]
[null,1509,null,null,null,{"$f":"IFERROR(FIND(\"_\",Table3[[#This Row],[شماره تماس]]),0)","v":0},{"$f":"IF(Table3[[#This Row],[چندم]]=0,Table3[[#This Row],[شماره تماس]],MID(Table3[[#This Row],[شماره تماس]],1,Table3[[#This Row],[چندم]]-1))","v":0},{"$f":"IF(Table3[[#This Row],[چندم]]=0,\"\",MID(Table3[[#This Row],[شماره تماس]],Table3[[#This Row],[چندم]]+1,30))","v":""}]
[null,1510,null,null,null,{"$f":"IFERROR(FIND(\"_\",Table3[[#This Row],[شماره تماس]]),0)","v":0},{"$f":"IF(Table3[[#This Row],[چندم]]=0,Table3[[#This Row],[شماره تماس]],MID(Table3[[#This Row],[شماره تماس]],1,Table3[[#This Row],[چندم]]-1))","v":0},{"$f":"IF(Table3[[#This Row],[چندم]]=0,\"\",MID(Table3[[#This Row],[شماره تماس]],Table3[[#This Row],[چندم]]+1,30))","v":""}]
[null,{"$f":"ROW()-3","v":1511},null,null,null,{"$f":"IFERROR(FIND(\"_\",Table3[[#This Row],[شماره تماس]]),0)","v":0},{"$f":"IF(Table3[[#This Row],[چندم]]=0,Table3[[#This Row],[شماره تماس]],MID(Table3[[#This Row],[شماره تماس]],1,Table3[[#This Row],[چندم]]-1))","v":0},{"$f":"IF(Table3[[#This Row],[چندم]]=0,\"\",MID(Table3[[#This Row],[شماره تماس]],Table3[[#This Row],[چندم]]+1,30))","v":""}]
[null,1512,null,null,null,{"$f":"IFERROR(FIND(\"_\",Table3[[#This Row],[شماره تماس]]),0)","v":0},{"$f":"IF(Table3[[#This Row],[چندم]]=0,Table3[[#This Row],[شماره تماس]],MID(Table3[[#This Row],[شماره تماس]],1,Table3[[#This Row],[چندم]]-1))","v":0},{"$f":"IF(Table3[[#This Row],[چندم]]=0,\"\",MID(Table3[[#This Row],[شماره تماس]],Table3[[#This Row],[چندم]]+1,30))","v":""}]
[null,1513,null,null,null,{"$f":"IFERROR(FIND(\"_\",Table3[[#This Row],[شماره تماس]]),0)","v":0},{"$f":"IF(Table3[[#This Row],[چندم]]=0,Table3[[#This Row],[شماره تماس]],MID(Table3[[#This Row],[شماره تماس]],1,Table3[[#This Row],[چندم]]-1))","v":0},{"$f":"IF(Table3[[#This Row],[چندم]]=0,\"\",MID(Table3[[#This Row],[شماره تماس]],Table3[[#This Row],[چندم]]+1,30))","v":""}]
[null,1514,null,null,null,{"$f":"IFERROR(FIND(\"_\",Table3[[#This Row],[شماره تماس]]),0)","v":0},{"$f":"IF(Table3[[#This Row],[چندم]]=0,Table3[[#This Row],[شماره تماس]],MID(Table3[[#This Row],[شماره تماس]],1,Table3[[#This Row],[چندم]]-1))","v":0},{"$f":"IF(Table3[[#This Row],[چندم]]=0,\"\",MID(Table3[[#This Row],[شماره تماس]],Table3[[#This Row],[چندم]]+1,30))","v":""}]
[null,1515,null,null,null,{"$f":"IFERROR(FIND(\"_\",Table3[[#This Row],[شماره تماس]]),0)","v":0},{"$f":"IF(Table3[[#This Row],[چندم]]=0,Table3[[#This Row],[شماره تماس]],MID(Table3[[#This Row],[شماره تماس]],1,Table3[[#This Row],[چندم]]-1))","v":0},{"$f":"IF(Table3[[#This Row],[چندم]]=0,\"\",MID(Table3[[#This Row],[شماره تماس]],Table3[[#This Row],[چندم]]+1,30))","v":""}]
[null,1516,null,null,null,{"$f":"IFERROR(FIND(\"_\",Table3[[#This Row],[شماره تماس]]),0)","v":0},{"$f":"IF(Table3[[#This Row],[چندم]]=0,Table3[[#This Row],[شماره تماس]],MID(Table3[[#This Row],[شماره تماس]],1,Table3[[#This Row],[چندم]]-1))","v":0},{"$f":"IF(Table3[[#This Row],[چندم]]=0,\"\",MID(Table3[[#This Row],[شماره تماس]],Table3[[#This Row],[چندم]]+1,30))","v":""}]
[null,1517,null,null,null,{"$f":"IFERROR(FIND(\"_\",Table3[[#This Row],[شماره تماس]]),0)","v":0},{"$f":"IF(Table3[[#This Row],[چندم]]=0,Table3[[#This Row],[شماره تماس]],MID(Table3[[#This Row],[شماره تماس]],1,Table3[[#This Row],[چندم]]-1))","v":0},{"$f":"IF(Table3[[#This Row],[چندم]]=0,\"\",MID(Table3[[#This Row],[شماره تماس]],Table3[[#This Row],[چندم]]+1,30))","v":""}]
[null,1518,null,null,null,{"$f":"IFERROR(FIND(\"_\",Table3[[#This Row],[شماره تماس]]),0)","v":0},{"$f":"IF(Table3[[#This Row],[چندم]]=0,Table3[[#This Row],[شماره تماس]],MID(Table3[[#This Row],[شماره تماس]],1,Table3[[#This Row],[چندم]]-1))","v":0},{"$f":"IF(Table3[[#This Row],[چندم]]=0,\"\",MID(Table3[[#This Row],[شماره تماس]],Table3[[#This Row],[چندم]]+1,30))","v":""}]
[null,1519,null,null,null,{"$f":"IFERROR(FIND(\"_\",Table3[[#This Row],[شماره تماس]]),0)","v":0},{"$f":"IF(Table3[[#This Row],[چندم]]=0,Table3[[#This Row],[شماره تماس]],MID(Table3[[#This Row],[شماره تماس]],1,Table3[[#This Row],[چندم]]-1))","v":0},{"$f":"IF(Table3[[#This Row],[چندم]]=0,\"\",MID(Table3[[#This Row],[شماره تماس]],Table3[[#This Row],[چندم]]+1,30))","v":""}]
[null,1520,null,null,null,{"$f":"IFERROR(FIND(\"_\",Table3[[#This Row],[شماره تماس]]),0)","v":0},{"$f":"IF(Table3[[#This Row],[چندم]]=0,Table3[[#This Row],[شماره تماس]],MID(Table3[[#This Row],[شماره تماس]],1,Table3[[#This Row],[چندم]]-1))","v":0},{"$f":"IF(Table3[[#This Row],[چندم]]=0,\"\",MID(Table3[[#This Row],[شماره تماس]],Table3[[#This Row],[چندم]]+1,30))","v":""}]
[null,1521,null,null,null,{"$f":"IFERROR(FIND(\"_\",Table3[[#This Row],[شماره تماس]]),0)","v":0},{"$f":"IF(Table3[[#This Row],[چندم]]=0,Table3[[#This Row],[شماره تماس]],MID(Table3[[#This Row],[شماره تماس]],1,Table3[[#This Row],[چندم]]-1))","v":0},{"$f":"IF(Table3[[#This Row],[چندم]]=0,\"\",MID(Table3[[#This Row],[شماره تماس]],Table3[[#This Row],[چندم]]+1,30))","v":""}]
[null,1522,null,null,null,{"$f":"IFERROR(FIND(\"_\",Table3[[#This Row],[شماره تماس]]),0)","v":0},{"$f":"IF(Table3[[#This Row],[چندم]]=0,Table3[[#This Row],[شماره تماس]],MID(Table3[[#This Row],[شماره تماس]],1,Table3[[#This Row],[چندم]]-1))","v":0},{"$f":"IF(Table3[[#This Row],[چندم]]=0,\"\",MID(Table3[[#This Row],[شماره تماس]],Table3[[#This Row],[چندم]]+1,30))","v":""}]
[null,1523,null,null,null,{"$f":"IFERROR(FIND(\"_\",Table3[[#This Row],[شماره تماس]]),0)","v":0},{"$f":"IF(Table3[[#This Row],[چندم]]=0,Table3[[#This Row],[شماره تماس]],MID(Table3[[#This Row],[شماره تماس]],1,Table3[[#This Row],[چندم]]-1))","v":0},{"$f":"IF(Table3[[#This Row],[چندم]]=0,\"\",MID(Table3[[#This Row],[شماره تماس]],Table3[[#This Row],[چندم]]+1,30))","v":""}]
[null,1524,null,null,null,{"$f":"IFERROR(FIND(\"_\",Table3[[#This Row],[شماره تماس]]),0)","v":0},{"$f":"IF(Table3[[#This Row],[چندم]]=0,Table3[[#This Row],[شماره تماس]],MID(Table3[[#This Row],[شماره تماس]],1,Table3[[#This Row],[چندم]]-1))","v":0},{"$f":"IF(Table3[[#This Row],[چندم]]=0,\"\",MID(Table3[[#This Row],[شماره تماس]],Table3[[#This Row],[چندم]]+1,30))","v":""}]
[null,1525,null,null,null,{"$f":"IFERROR(FIND(\"_\",Table3[[#This Row],[شماره تماس]]),0)","v":0},{"$f":"IF(Table3[[#This Row],[چندم]]=0,Table3[[#This Row],[شماره تماس]],MID(Table3[[#This Row],[شماره تماس]],1,Table3[[#This Row],[چندم]]-1))","v":0},{"$f":"IF(Table3[[#This Row],[چندم]]=0,\"\",MID(Table3[[#This Row],[شماره تماس]],Table3[[#This Row],[چندم]]+1,30))","v":""}]
[null,1526,null,null,null,{"$f":"IFERROR(FIND(\"_\",Table3[[#This Row],[شماره تماس]]),0)","v":0},{"$f":"IF(Table3[[#This Row],[چندم]]=0,Table3[[#This Row],[شماره تماس]],MID(Table3[[#This Row],[شماره تماس]],1,Table3[[#This Row],[چندم]]-1))","v":0},{"$f":"IF(Table3[[#This Row],[چندم]]=0,\"\",MID(Table3[[#This Row],[شماره تماس]],Table3[[#This Row],[چندم]]+1,30))","v":""}]
[null,1527,null,null,null,{"$f":"IFERROR(FIND(\"_\",Table3[[#This Row],[شماره تماس]]),0)","v":0},{"$f":"IF(Table3[[#This Row],[چندم]]=0,Table3[[#This Row],[شماره تماس]],MID(Table3[[#This Row],[شماره تماس]],1,Table3[[#This Row],[چندم]]-1))","v":0},{"$f":"IF(Table3[[#This Row],[چندم]]=0,\"\",MID(Table3[[#This Row],[شماره تماس]],Table3[[#This Row],[چندم]]+1,30))","v":""}]
[null,1528,null,null,null,{"$f":"IFERROR(FIND(\"_\",Table3[[#This Row],[شماره تماس]]),0)","v":0},{"$f":"IF(Table3[[#This Row],[چندم]]=0,Table3[[#This Row],[شماره تماس]],MID(Table3[[#This Row],[شماره تماس]],1,Table3[[#This Row],[چندم]]-1))","v":0},{"$f":"IF(Table3[[#This Row],[چندم]]=0,\"\",MID(Table3[[#This Row],[شماره تماس]],Table3[[#This Row],[چندم]]+1,30))","v":""}]
[null,1529,null,null,null,{"$f":"IFERROR(FIND(\"_\",Table3[[#This Row],[شماره تماس]]),0)","v":0},{"$f":"IF(Table3[[#This Row],[چندم]]=0,Table3[[#This Row],[شماره تماس]],MID(Table3[[#This Row],[شماره تماس]],1,Table3[[#This Row],[چندم]]-1))","v":0},{"$f":"IF(Table3[[#This Row],[چندم]]=0,\"\",MID(Table3[[#This Row],[شماره تماس]],Table3[[#This Row],[چندم]]+1,30))","v":""}]
[null,1530,null,null,null,{"$f":"IFERROR(FIND(\"_\",Table3[[#This Row],[شماره تماس]]),0)","v":0},{"$f":"IF(Table3[[#This Row],[چندم]]=0,Table3[[#This Row],[شماره تماس]],MID(Table3[[#This Row],[شماره تماس]],1,Table3[[#This Row],[چندم]]-1))","v":0},{"$f":"IF(Table3[[#This Row],[چندم]]=0,\"\",MID(Table3[[#This Row],[شماره تماس]],Table3[[#This Row],[چندم]]+1,30))","v":""}]
[null,1531,null,null,null,{"$f":"IFERROR(FIND(\"_\",Table3[[#This Row],[شماره تماس]]),0)","v":0},{"$f":"IF(Table3[[#This Row],[چندم]]=0,Table3[[#This Row],[شماره تماس]],MID(Table3[[#This Row],[شماره تماس]],1,Table3[[#This Row],[چندم]]-1))","v":0},{"$f":"IF(Table3[[#This Row],[چندم]]=0,\"\",MID(Table3[[#This Row],[شماره تماس]],Table3[[#This Row],[چندم]]+1,30))","v":""}]
[null,1532,null,null,null,{"$f":"IFERROR(FIND(\"_\",Table3[[#This Row],[شماره تماس]]),0)","v":0},{"$f":"IF(Table3[[#This Row],[چندم]]=0,Table3[[#This Row],[شماره تماس]],MID(Table3[[#This Row],[شماره تماس]],1,Table3[[#This Row],[چندم]]-1))","v":0},{"$f":"IF(Table3[[#This Row],[چندم]]=0,\"\",MID(Table3[[#This Row],[شماره تماس]],Table3[[#This Row],[چندم]]+1,30))","v":""}]
[null,1533,null,null,null,{"$f":"IFERROR(FIND(\"_\",Table3[[#This Row],[شماره تماس]]),0)","v":0},{"$f":"IF(Table3[[#This Row],[چندم]]=0,Table3[[#This Row],[شماره تماس]],MID(Table3[[#This Row],[شماره تماس]],1,Table3[[#This Row],[چندم]]-1))","v":0},{"$f":"IF(Table3[[#This Row],[چندم]]=0,\"\",MID(Table3[[#This Row],[شماره تماس]],Table3[[#This Row],[چندم]]+1,30))","v":""}]
[null,1534,null,null,null,{"$f":"IFERROR(FIND(\"_\",Table3[[#This Row],[شماره تماس]]),0)","v":0},{"$f":"IF(Table3[[#This Row],[چندم]]=0,Table3[[#This Row],[شماره تماس]],MID(Table3[[#This Row],[شماره تماس]],1,Table3[[#This Row],[چندم]]-1))","v":0},{"$f":"IF(Table3[[#This Row],[چندم]]=0,\"\",MID(Table3[[#This Row],[شماره تماس]],Table3[[#This Row],[چندم]]+1,30))","v":""}]
[null,1535,null,null,null,{"$f":"IFERROR(FIND(\"_\",Table3[[#This Row],[شماره تماس]]),0)","v":0},{"$f":"IF(Table3[[#This Row],[چندم]]=0,Table3[[#This Row],[شماره تماس]],MID(Table3[[#This Row],[شماره تماس]],1,Table3[[#This Row],[چندم]]-1))","v":0},{"$f":"IF(Table3[[#This Row],[چندم]]=0,\"\",MID(Table3[[#This Row],[شماره تماس]],Table3[[#This Row],[چندم]]+1,30))","v":""}]
[null,1536,null,null,null,{"$f":"IFERROR(FIND(\"_\",Table3[[#This Row],[شماره تماس]]),0)","v":0},{"$f":"IF(Table3[[#This Row],[چندم]]=0,Table3[[#This Row],[شماره تماس]],MID(Table3[[#This Row],[شماره تماس]],1,Table3[[#This Row],[چندم]]-1))","v":0},{"$f":"IF(Table3[[#This Row],[چندم]]=0,\"\",MID(Table3[[#This Row],[شماره تماس]],Table3[[#This Row],[چندم]]+1,30))","v":""}]
[null,1537,null,null,null,{"$f":"IFERROR(FIND(\"_\",Table3[[#This Row],[شماره تماس]]),0)","v":0},{"$f":"IF(Table3[[#This Row],[چندم]]=0,Table3[[#This Row],[شماره تماس]],MID(Table3[[#This Row],[شماره تماس]],1,Table3[[#This Row],[چندم]]-1))","v":0},{"$f":"IF(Table3[[#This Row],[چندم]]=0,\"\",MID(Table3[[#This Row],[شماره تماس]],Table3[[#This Row],[چندم]]+1,30))","v":""}]
[null,1538,null,null,null,{"$f":"IFERROR(FIND(\"_\",Table3[[#This Row],[شماره تماس]]),0)","v":0},{"$f":"IF(Table3[[#This Row],[چندم]]=0,Table3[[#This Row],[شماره تماس]],MID(Table3[[#This Row],[شماره تماس]],1,Table3[[#This Row],[چندم]]-1))","v":0},{"$f":"IF(Table3[[#This Row],[چندم]]=0,\"\",MID(Table3[[#This Row],[شماره تماس]],Table3[[#This Row],[چندم]]+1,30))","v":""}]
[null,1539,null,null,null,{"$f":"IFERROR(FIND(\"_\",Table3[[#This Row],[شماره تماس]]),0)","v":0},{"$f":"IF(Table3[[#This Row],[چندم]]=0,Table3[[#This Row],[شماره تماس]],MID(Table3[[#This Row],[شماره تماس]],1,Table3[[#This Row],[چندم]]-1))","v":0},{"$f":"IF(Table3[[#This Row],[چندم]]=0,\"\",MID(Table3[[#This Row],[شماره تماس]],Table3[[#This Row],[چندم]]+1,30))","v":""}]
[null,1540,null,null,null,{"$f":"IFERROR(FIND(\"_\",Table3[[#This Row],[شماره تماس]]),0)","v":0},{"$f":"IF(Table3[[#This Row],[چندم]]=0,Table3[[#This Row],[شماره تماس]],MID(Table3[[#This Row],[شماره تماس]],1,Table3[[#This Row],[چندم]]-1))","v":0},{"$f":"IF(Table3[[#This Row],[چندم]]=0,\"\",MID(Table3[[#This Row],[شماره تماس]],Table3[[#This Row],[چندم]]+1,30))","v":""}]
[null,1541,null,null,null,{"$f":"IFERROR(FIND(\"_\",Table3[[#This Row],[شماره تماس]]),0)","v":0},{"$f":"IF(Table3[[#This Row],[چندم]]=0,Table3[[#This Row],[شماره تماس]],MID(Table3[[#This Row],[شماره تماس]],1,Table3[[#This Row],[چندم]]-1))","v":0},{"$f":"IF(Table3[[#This Row],[چندم]]=0,\"\",MID(Table3[[#This Row],[شماره تماس]],Table3[[#This Row],[چندم]]+1,30))","v":""}]
[null,1542,null,null,null,{"$f":"IFERROR(FIND(\"_\",Table3[[#This Row],[شماره تماس]]),0)","v":0},{"$f":"IF(Table3[[#This Row],[چندم]]=0,Table3[[#This Row],[شماره تماس]],MID(Table3[[#This Row],[شماره تماس]],1,Table3[[#This Row],[چندم]]-1))","v":0},{"$f":"IF(Table3[[#This Row],[چندم]]=0,\"\",MID(Table3[[#This Row],[شماره تماس]],Table3[[#This Row],[چندم]]+1,30))","v":""}]
[null,1543,null,null,null,{"$f":"IFERROR(FIND(\"_\",Table3[[#This Row],[شماره تماس]]),0)","v":0},{"$f":"IF(Table3[[#This Row],[چندم]]=0,Table3[[#This Row],[شماره تماس]],MID(Table3[[#This Row],[شماره تماس]],1,Table3[[#This Row],[چندم]]-1))","v":0},{"$f":"IF(Table3[[#This Row],[چندم]]=0,\"\",MID(Table3[[#This Row],[شماره تماس]],Table3[[#This Row],[چندم]]+1,30))","v":""}]
[null,1544,null,null,null,{"$f":"IFERROR(FIND(\"_\",Table3[[#This Row],[شماره تماس]]),0)","v":0},{"$f":"IF(Table3[[#This Row],[چندم]]=0,Table3[[#This Row],[شماره تماس]],MID(Table3[[#This Row],[شماره تماس]],1,Table3[[#This Row],[چندم]]-1))","v":0},{"$f":"IF(Table3[[#This Row],[چندم]]=0,\"\",MID(Table3[[#This Row],[شماره تماس]],Table3[[#This Row],[چندم]]+1,30))","v":""}]
[null,1545,null,null,null,{"$f":"IFERROR(FIND(\"_\",Table3[[#This Row],[شماره تماس]]),0)","v":0},{"$f":"IF(Table3[[#This Row],[چندم]]=0,Table3[[#This Row],[شماره تماس]],MID(Table3[[#This Row],[شماره تماس]],1,Table3[[#This Row],[چندم]]-1))","v":0},{"$f":"IF(Table3[[#This Row],[چندم]]=0,\"\",MID(Table3[[#This Row],[شماره تماس]],Table3[[#This Row],[چندم]]+1,30))","v":""}]
[null,1546,null,null,null,{"$f":"IFERROR(FIND(\"_\",Table3[[#This Row],[شماره تماس]]),0)","v":0},{"$f":"IF(Table3[[#This Row],[چندم]]=0,Table3[[#This Row],[شماره تماس]],MID(Table3[[#This Row],[شماره تماس]],1,Table3[[#This Row],[چندم]]-1))","v":0},{"$f":"IF(Table3[[#This Row],[چندم]]=0,\"\",MID(Table3[[#This Row],[شماره تماس]],Table3[[#This Row],[چندم]]+1,30))","v":""}]
[null,1547,null,null,null,{"$f":"IFERROR(FIND(\"_\",Table3[[#This Row],[شماره تماس]]),0)","v":0},{"$f":"IF(Table3[[#This Row],[چندم]]=0,Table3[[#This Row],[شماره تماس]],MID(Table3[[#This Row],[شماره تماس]],1,Table3[[#This Row],[چندم]]-1))","v":0},{"$f":"IF(Table3[[#This Row],[چندم]]=0,\"\",MID(Table3[[#This Row],[شماره تماس]],Table3[[#This Row],[چندم]]+1,30))","v":""}]
[null,1548,null,null,null,{"$f":"IFERROR(FIND(\"_\",Table3[[#This Row],[شماره تماس]]),0)","v":0},{"$f":"IF(Table3[[#This Row],[چندم]]=0,Table3[[#This Row],[شماره تماس]],MID(Table3[[#This Row],[شماره تماس]],1,Table3[[#This Row],[چندم]]-1))","v":0},{"$f":"IF(Table3[[#This Row],[چندم]]=0,\"\",MID(Table3[[#This Row],[شماره تماس]],Table3[[#This Row],[چندم]]+1,30))","v":""}]
[null,1549,null,null,null,{"$f":"IFERROR(FIND(\"_\",Table3[[#This Row],[شماره تماس]]),0)","v":0},{"$f":"IF(Table3[[#This Row],[چندم]]=0,Table3[[#This Row],[شماره تماس]],MID(Table3[[#This Row],[شماره تماس]],1,Table3[[#This Row],[چندم]]-1))","v":0},{"$f":"IF(Table3[[#This Row],[چندم]]=0,\"\",MID(Table3[[#This Row],[شماره تماس]],Table3[[#This Row],[چندم]]+1,30))","v":""}]
[null,1550,null,null,null,{"$f":"IFERROR(FIND(\"_\",Table3[[#This Row],[شماره تماس]]),0)","v":0},{"$f":"IF(Table3[[#This Row],[چندم]]=0,Table3[[#This Row],[شماره تماس]],MID(Table3[[#This Row],[شماره تماس]],1,Table3[[#This Row],[چندم]]-1))","v":0},{"$f":"IF(Table3[[#This Row],[چندم]]=0,\"\",MID(Table3[[#This Row],[شماره تماس]],Table3[[#This Row],[چندم]]+1,30))","v":""}]
[null,1551,null,null,null,{"$f":"IFERROR(FIND(\"_\",Table3[[#This Row],[شماره تماس]]),0)","v":0},{"$f":"IF(Table3[[#This Row],[چندم]]=0,Table3[[#This Row],[شماره تماس]],MID(Table3[[#This Row],[شماره تماس]],1,Table3[[#This Row],[چندم]]-1))","v":0},{"$f":"IF(Table3[[#This Row],[چندم]]=0,\"\",MID(Table3[[#This Row],[شماره تماس]],Table3[[#This Row],[چندم]]+1,30))","v":""}]
[null,1552,null,null,null,{"$f":"IFERROR(FIND(\"_\",Table3[[#This Row],[شماره تماس]]),0)","v":0},{"$f":"IF(Table3[[#This Row],[چندم]]=0,Table3[[#This Row],[شماره تماس]],MID(Table3[[#This Row],[شماره تماس]],1,Table3[[#This Row],[چندم]]-1))","v":0},{"$f":"IF(Table3[[#This Row],[چندم]]=0,\"\",MID(Table3[[#This Row],[شماره تماس]],Table3[[#This Row],[چندم]]+1,30))","v":""}]
[null,1553,null,null,null,{"$f":"IFERROR(FIND(\"_\",Table3[[#This Row],[شماره تماس]]),0)","v":0},{"$f":"IF(Table3[[#This Row],[چندم]]=0,Table3[[#This Row],[شماره تماس]],MID(Table3[[#This Row],[شماره تماس]],1,Table3[[#This Row],[چندم]]-1))","v":0},{"$f":"IF(Table3[[#This Row],[چندم]]=0,\"\",MID(Table3[[#This Row],[شماره تماس]],Table3[[#This Row],[چندم]]+1,30))","v":""}]
[null,1554,null,null,null,{"$f":"IFERROR(FIND(\"_\",Table3[[#This Row],[شماره تماس]]),0)","v":0},{"$f":"IF(Table3[[#This Row],[چندم]]=0,Table3[[#This Row],[شماره تماس]],MID(Table3[[#This Row],[شماره تماس]],1,Table3[[#This Row],[چندم]]-1))","v":0},{"$f":"IF(Table3[[#This Row],[چندم]]=0,\"\",MID(Table3[[#This Row],[شماره تماس]],Table3[[#This Row],[چندم]]+1,30))","v":""}]
[null,1555,null,null,null,{"$f":"IFERROR(FIND(\"_\",Table3[[#This Row],[شماره تماس]]),0)","v":0},{"$f":"IF(Table3[[#This Row],[چندم]]=0,Table3[[#This Row],[شماره تماس]],MID(Table3[[#This Row],[شماره تماس]],1,Table3[[#This Row],[چندم]]-1))","v":0},{"$f":"IF(Table3[[#This Row],[چندم]]=0,\"\",MID(Table3[[#This Row],[شماره تماس]],Table3[[#This Row],[چندم]]+1,30))","v":""}]
[null,1556,null,null,null,{"$f":"IFERROR(FIND(\"_\",Table3[[#This Row],[شماره تماس]]),0)","v":0},{"$f":"IF(Table3[[#This Row],[چندم]]=0,Table3[[#This Row],[شماره تماس]],MID(Table3[[#This Row],[شماره تماس]],1,Table3[[#This Row],[چندم]]-1))","v":0},{"$f":"IF(Table3[[#This Row],[چندم]]=0,\"\",MID(Table3[[#This Row],[شماره تماس]],Table3[[#This Row],[چندم]]+1,30))","v":""}]
[null,1557,null,null,null,{"$f":"IFERROR(FIND(\"_\",Table3[[#This Row],[شماره تماس]]),0)","v":0},{"$f":"IF(Table3[[#This Row],[چندم]]=0,Table3[[#This Row],[شماره تماس]],MID(Table3[[#This Row],[شماره تماس]],1,Table3[[#This Row],[چندم]]-1))","v":0},{"$f":"IF(Table3[[#This Row],[چندم]]=0,\"\",MID(Table3[[#This Row],[شماره تماس]],Table3[[#This Row],[چندم]]+1,30))","v":""}]
[null,1558,null,null,null,{"$f":"IFERROR(FIND(\"_\",Table3[[#This Row],[شماره تماس]]),0)","v":0},{"$f":"IF(Table3[[#This Row],[چندم]]=0,Table3[[#This Row],[شماره تماس]],MID(Table3[[#This Row],[شماره تماس]],1,Table3[[#This Row],[چندم]]-1))","v":0},{"$f":"IF(Table3[[#This Row],[چندم]]=0,\"\",MID(Table3[[#This Row],[شماره تماس]],Table3[[#This Row],[چندم]]+1,30))","v":""}]
[null,1559,null,null,null,{"$f":"IFERROR(FIND(\"_\",Table3[[#This Row],[شماره تماس]]),0)","v":0},{"$f":"IF(Table3[[#This Row],[چندم]]=0,Table3[[#This Row],[شماره تماس]],MID(Table3[[#This Row],[شماره تماس]],1,Table3[[#This Row],[چندم]]-1))","v":0},{"$f":"IF(Table3[[#This Row],[چندم]]=0,\"\",MID(Table3[[#This Row],[شماره تماس]],Table3[[#This Row],[چندم]]+1,30))","v":""}]
[null,1560,null,null,null,{"$f":"IFERROR(FIND(\"_\",Table3[[#This Row],[شماره تماس]]),0)","v":0},{"$f":"IF(Table3[[#This Row],[چندم]]=0,Table3[[#This Row],[شماره تماس]],MID(Table3[[#This Row],[شماره تماس]],1,Table3[[#This Row],[چندم]]-1))","v":0},{"$f":"IF(Table3[[#This Row],[چندم]]=0,\"\",MID(Table3[[#This Row],[شماره تماس]],Table3[[#This Row],[چندم]]+1,30))","v":""}]
[null,1561,null,null,null,{"$f":"IFERROR(FIND(\"_\",Table3[[#This Row],[شماره تماس]]),0)","v":0},{"$f":"IF(Table3[[#This Row],[چندم]]=0,Table3[[#This Row],[شماره تماس]],MID(Table3[[#This Row],[شماره تماس]],1,Table3[[#This Row],[چندم]]-1))","v":0},{"$f":"IF(Table3[[#This Row],[چندم]]=0,\"\",MID(Table3[[#This Row],[شماره تماس]],Table3[[#This Row],[چندم]]+1,30))","v":""}]
[null,1562,null,null,null,{"$f":"IFERROR(FIND(\"_\",Table3[[#This Row],[شماره تماس]]),0)","v":0},{"$f":"IF(Table3[[#This Row],[چندم]]=0,Table3[[#This Row],[شماره تماس]],MID(Table3[[#This Row],[شماره تماس]],1,Table3[[#This Row],[چندم]]-1))","v":0},{"$f":"IF(Table3[[#This Row],[چندم]]=0,\"\",MID(Table3[[#This Row],[شماره تماس]],Table3[[#This Row],[چندم]]+1,30))","v":""}]
[null,1563,null,null,null,{"$f":"IFERROR(FIND(\"_\",Table3[[#This Row],[شماره تماس]]),0)","v":0},{"$f":"IF(Table3[[#This Row],[چندم]]=0,Table3[[#This Row],[شماره تماس]],MID(Table3[[#This Row],[شماره تماس]],1,Table3[[#This Row],[چندم]]-1))","v":0},{"$f":"IF(Table3[[#This Row],[چندم]]=0,\"\",MID(Table3[[#This Row],[شماره تماس]],Table3[[#This Row],[چندم]]+1,30))","v":""}]
[null,1564,null,null,null,{"$f":"IFERROR(FIND(\"_\",Table3[[#This Row],[شماره تماس]]),0)","v":0},{"$f":"IF(Table3[[#This Row],[چندم]]=0,Table3[[#This Row],[شماره تماس]],MID(Table3[[#This Row],[شماره تماس]],1,Table3[[#This Row],[چندم]]-1))","v":0},{"$f":"IF(Table3[[#This Row],[چندم]]=0,\"\",MID(Table3[[#This Row],[شماره تماس]],Table3[[#This Row],[چندم]]+1,30))","v":""}]
[null,1565,null,null,null,{"$f":"IFERROR(FIND(\"_\",Table3[[#This Row],[شماره تماس]]),0)","v":0},{"$f":"IF(Table3[[#This Row],[چندم]]=0,Table3[[#This Row],[شماره تماس]],MID(Table3[[#This Row],[شماره تماس]],1,Table3[[#This Row],[چندم]]-1))","v":0},{"$f":"IF(Table3[[#This Row],[چندم]]=0,\"\",MID(Table3[[#This Row],[شماره تماس]],Table3[[#This Row],[چندم]]+1,30))","v":""}]
[null,1566,null,null,null,{"$f":"IFERROR(FIND(\"_\",Table3[[#This Row],[شماره تماس]]),0)","v":0},{"$f":"IF(Table3[[#This Row],[چندم]]=0,Table3[[#This Row],[شماره تماس]],MID(Table3[[#This Row],[شماره تماس]],1,Table3[[#This Row],[چندم]]-1))","v":0},{"$f":"IF(Table3[[#This Row],[چندم]]=0,\"\",MID(Table3[[#This Row],[شماره تماس]],Table3[[#This Row],[چندم]]+1,30))","v":""}]
[null,1567,null,null,null,{"$f":"IFERROR(FIND(\"_\",Table3[[#This Row],[شماره تماس]]),0)","v":0},{"$f":"IF(Table3[[#This Row],[چندم]]=0,Table3[[#This Row],[شماره تماس]],MID(Table3[[#This Row],[شماره تماس]],1,Table3[[#This Row],[چندم]]-1))","v":0},{"$f":"IF(Table3[[#This Row],[چندم]]=0,\"\",MID(Table3[[#This Row],[شماره تماس]],Table3[[#This Row],[چندم]]+1,30))","v":""}]
[null,1568,null,null,null,{"$f":"IFERROR(FIND(\"_\",Table3[[#This Row],[شماره تماس]]),0)","v":0},{"$f":"IF(Table3[[#This Row],[چندم]]=0,Table3[[#This Row],[شماره تماس]],MID(Table3[[#This Row],[شماره تماس]],1,Table3[[#This Row],[چندم]]-1))","v":0},{"$f":"IF(Table3[[#This Row],[چندم]]=0,\"\",MID(Table3[[#This Row],[شماره تماس]],Table3[[#This Row],[چندم]]+1,30))","v":""}]
[null,1569,null,null,null,{"$f":"IFERROR(FIND(\"_\",Table3[[#This Row],[شماره تماس]]),0)","v":0},{"$f":"IF(Table3[[#This Row],[چندم]]=0,Table3[[#This Row],[شماره تماس]],MID(Table3[[#This Row],[شماره تماس]],1,Table3[[#This Row],[چندم]]-1))","v":0},{"$f":"IF(Table3[[#This Row],[چندم]]=0,\"\",MID(Table3[[#This Row],[شماره تماس]],Table3[[#This Row],[چندم]]+1,30))","v":""}]
[null,1570,null,null,null,{"$f":"IFERROR(FIND(\"_\",Table3[[#This Row],[شماره تماس]]),0)","v":0},{"$f":"IF(Table3[[#This Row],[چندم]]=0,Table3[[#This Row],[شماره تماس]],MID(Table3[[#This Row],[شماره تماس]],1,Table3[[#This Row],[چندم]]-1))","v":0},{"$f":"IF(Table3[[#This Row],[چندم]]=0,\"\",MID(Table3[[#This Row],[شماره تماس]],Table3[[#This Row],[چندم]]+1,30))","v":""}]
[null,1571,null,null,null,{"$f":"IFERROR(FIND(\"_\",Table3[[#This Row],[شماره تماس]]),0)","v":0},{"$f":"IF(Table3[[#This Row],[چندم]]=0,Table3[[#This Row],[شماره تماس]],MID(Table3[[#This Row],[شماره تماس]],1,Table3[[#This Row],[چندم]]-1))","v":0},{"$f":"IF(Table3[[#This Row],[چندم]]=0,\"\",MID(Table3[[#This Row],[شماره تماس]],Table3[[#This Row],[چندم]]+1,30))","v":""}]
[null,1572,null,null,null,{"$f":"IFERROR(FIND(\"_\",Table3[[#This Row],[شماره تماس]]),0)","v":0},{"$f":"IF(Table3[[#This Row],[چندم]]=0,Table3[[#This Row],[شماره تماس]],MID(Table3[[#This Row],[شماره تماس]],1,Table3[[#This Row],[چندم]]-1))","v":0},{"$f":"IF(Table3[[#This Row],[چندم]]=0,\"\",MID(Table3[[#This Row],[شماره تماس]],Table3[[#This Row],[چندم]]+1,30))","v":""}]
[null,1573,null,null,null,{"$f":"IFERROR(FIND(\"_\",Table3[[#This Row],[شماره تماس]]),0)","v":0},{"$f":"IF(Table3[[#This Row],[چندم]]=0,Table3[[#This Row],[شماره تماس]],MID(Table3[[#This Row],[شماره تماس]],1,Table3[[#This Row],[چندم]]-1))","v":0},{"$f":"IF(Table3[[#This Row],[چندم]]=0,\"\",MID(Table3[[#This Row],[شماره تماس]],Table3[[#This Row],[چندم]]+1,30))","v":""}]
[null,1574,null,null,null,{"$f":"IFERROR(FIND(\"_\",Table3[[#This Row],[شماره تماس]]),0)","v":0},{"$f":"IF(Table3[[#This Row],[چندم]]=0,Table3[[#This Row],[شماره تماس]],MID(Table3[[#This Row],[شماره تماس]],1,Table3[[#This Row],[چندم]]-1))","v":0},{"$f":"IF(Table3[[#This Row],[چندم]]=0,\"\",MID(Table3[[#This Row],[شماره تماس]],Table3[[#This Row],[چندم]]+1,30))","v":""}]
[null,{"$f":"ROW()-3","v":1575},null,null,null,{"$f":"IFERROR(FIND(\"_\",Table3[[#This Row],[شماره تماس]]),0)","v":0},{"$f":"IF(Table3[[#This Row],[چندم]]=0,Table3[[#This Row],[شماره تماس]],MID(Table3[[#This Row],[شماره تماس]],1,Table3[[#This Row],[چندم]]-1))","v":0},{"$f":"IF(Table3[[#This Row],[چندم]]=0,\"\",MID(Table3[[#This Row],[شماره تماس]],Table3[[#This Row],[چندم]]+1,30))","v":""}]
[null,1576,null,null,null,{"$f":"IFERROR(FIND(\"_\",Table3[[#This Row],[شماره تماس]]),0)","v":0},{"$f":"IF(Table3[[#This Row],[چندم]]=0,Table3[[#This Row],[شماره تماس]],MID(Table3[[#This Row],[شماره تماس]],1,Table3[[#This Row],[چندم]]-1))","v":0},{"$f":"IF(Table3[[#This Row],[چندم]]=0,\"\",MID(Table3[[#This Row],[شماره تماس]],Table3[[#This Row],[چندم]]+1,30))","v":""}]
[null,1577,null,null,null,{"$f":"IFERROR(FIND(\"_\",Table3[[#This Row],[شماره تماس]]),0)","v":0},{"$f":"IF(Table3[[#This Row],[چندم]]=0,Table3[[#This Row],[شماره تماس]],MID(Table3[[#This Row],[شماره تماس]],1,Table3[[#This Row],[چندم]]-1))","v":0},{"$f":"IF(Table3[[#This Row],[چندم]]=0,\"\",MID(Table3[[#This Row],[شماره تماس]],Table3[[#This Row],[چندم]]+1,30))","v":""}]
[null,1578,null,null,null,{"$f":"IFERROR(FIND(\"_\",Table3[[#This Row],[شماره تماس]]),0)","v":0},{"$f":"IF(Table3[[#This Row],[چندم]]=0,Table3[[#This Row],[شماره تماس]],MID(Table3[[#This Row],[شماره تماس]],1,Table3[[#This Row],[چندم]]-1))","v":0},{"$f":"IF(Table3[[#This Row],[چندم]]=0,\"\",MID(Table3[[#This Row],[شماره تماس]],Table3[[#This Row],[چندم]]+1,30))","v":""}]
[null,1579,null,null,null,{"$f":"IFERROR(FIND(\"_\",Table3[[#This Row],[شماره تماس]]),0)","v":0},{"$f":"IF(Table3[[#This Row],[چندم]]=0,Table3[[#This Row],[شماره تماس]],MID(Table3[[#This Row],[شماره تماس]],1,Table3[[#This Row],[چندم]]-1))","v":0},{"$f":"IF(Table3[[#This Row],[چندم]]=0,\"\",MID(Table3[[#This Row],[شماره تماس]],Table3[[#This Row],[چندم]]+1,30))","v":""}]
[null,1580,null,null,null,{"$f":"IFERROR(FIND(\"_\",Table3[[#This Row],[شماره تماس]]),0)","v":0},{"$f":"IF(Table3[[#This Row],[چندم]]=0,Table3[[#This Row],[شماره تماس]],MID(Table3[[#This Row],[شماره تماس]],1,Table3[[#This Row],[چندم]]-1))","v":0},{"$f":"IF(Table3[[#This Row],[چندم]]=0,\"\",MID(Table3[[#This Row],[شماره تماس]],Table3[[#This Row],[چندم]]+1,30))","v":""}]
[null,1581,null,null,null,{"$f":"IFERROR(FIND(\"_\",Table3[[#This Row],[شماره تماس]]),0)","v":0},{"$f":"IF(Table3[[#This Row],[چندم]]=0,Table3[[#This Row],[شماره تماس]],MID(Table3[[#This Row],[شماره تماس]],1,Table3[[#This Row],[چندم]]-1))","v":0},{"$f":"IF(Table3[[#This Row],[چندم]]=0,\"\",MID(Table3[[#This Row],[شماره تماس]],Table3[[#This Row],[چندم]]+1,30))","v":""}]
[null,1582,null,null,null,{"$f":"IFERROR(FIND(\"_\",Table3[[#This Row],[شماره تماس]]),0)","v":0},{"$f":"IF(Table3[[#This Row],[چندم]]=0,Table3[[#This Row],[شماره تماس]],MID(Table3[[#This Row],[شماره تماس]],1,Table3[[#This Row],[چندم]]-1))","v":0},{"$f":"IF(Table3[[#This Row],[چندم]]=0,\"\",MID(Table3[[#This Row],[شماره تماس]],Table3[[#This Row],[چندم]]+1,30))","v":""}]
[null,1583,null,null,null,{"$f":"IFERROR(FIND(\"_\",Table3[[#This Row],[شماره تماس]]),0)","v":0},{"$f":"IF(Table3[[#This Row],[چندم]]=0,Table3[[#This Row],[شماره تماس]],MID(Table3[[#This Row],[شماره تماس]],1,Table3[[#This Row],[چندم]]-1))","v":0},{"$f":"IF(Table3[[#This Row],[چندم]]=0,\"\",MID(Table3[[#This Row],[شماره تماس]],Table3[[#This Row],[چندم]]+1,30))","v":""}]
[null,1584,null,null,null,{"$f":"IFERROR(FIND(\"_\",Table3[[#This Row],[شماره تماس]]),0)","v":0},{"$f":"IF(Table3[[#This Row],[چندم]]=0,Table3[[#This Row],[شماره تماس]],MID(Table3[[#This Row],[شماره تماس]],1,Table3[[#This Row],[چندم]]-1))","v":0},{"$f":"IF(Table3[[#This Row],[چندم]]=0,\"\",MID(Table3[[#This Row],[شماره تماس]],Table3[[#This Row],[چندم]]+1,30))","v":""}]
[null,1585,null,null,null,{"$f":"IFERROR(FIND(\"_\",Table3[[#This Row],[شماره تماس]]),0)","v":0},{"$f":"IF(Table3[[#This Row],[چندم]]=0,Table3[[#This Row],[شماره تماس]],MID(Table3[[#This Row],[شماره تماس]],1,Table3[[#This Row],[چندم]]-1))","v":0},{"$f":"IF(Table3[[#This Row],[چندم]]=0,\"\",MID(Table3[[#This Row],[شماره تماس]],Table3[[#This Row],[چندم]]+1,30))","v":""}]
[null,1586,null,null,null,{"$f":"IFERROR(FIND(\"_\",Table3[[#This Row],[شماره تماس]]),0)","v":0},{"$f":"IF(Table3[[#This Row],[چندم]]=0,Table3[[#This Row],[شماره تماس]],MID(Table3[[#This Row],[شماره تماس]],1,Table3[[#This Row],[چندم]]-1))","v":0},{"$f":"IF(Table3[[#This Row],[چندم]]=0,\"\",MID(Table3[[#This Row],[شماره تماس]],Table3[[#This Row],[چندم]]+1,30))","v":""}]
[null,1587,null,null,null,{"$f":"IFERROR(FIND(\"_\",Table3[[#This Row],[شماره تماس]]),0)","v":0},{"$f":"IF(Table3[[#This Row],[چندم]]=0,Table3[[#This Row],[شماره تماس]],MID(Table3[[#This Row],[شماره تماس]],1,Table3[[#This Row],[چندم]]-1))","v":0},{"$f":"IF(Table3[[#This Row],[چندم]]=0,\"\",MID(Table3[[#This Row],[شماره تماس]],Table3[[#This Row],[چندم]]+1,30))","v":""}]
[null,1588,null,null,null,{"$f":"IFERROR(FIND(\"_\",Table3[[#This Row],[شماره تماس]]),0)","v":0},{"$f":"IF(Table3[[#This Row],[چندم]]=0,Table3[[#This Row],[شماره تماس]],MID(Table3[[#This Row],[شماره تماس]],1,Table3[[#This Row],[چندم]]-1))","v":0},{"$f":"IF(Table3[[#This Row],[چندم]]=0,\"\",MID(Table3[[#This Row],[شماره تماس]],Table3[[#This Row],[چندم]]+1,30))","v":""}]
[null,1589,null,null,null,{"$f":"IFERROR(FIND(\"_\",Table3[[#This Row],[شماره تماس]]),0)","v":0},{"$f":"IF(Table3[[#This Row],[چندم]]=0,Table3[[#This Row],[شماره تماس]],MID(Table3[[#This Row],[شماره تماس]],1,Table3[[#This Row],[چندم]]-1))","v":0},{"$f":"IF(Table3[[#This Row],[چندم]]=0,\"\",MID(Table3[[#This Row],[شماره تماس]],Table3[[#This Row],[چندم]]+1,30))","v":""}]
[null,1590,null,null,null,{"$f":"IFERROR(FIND(\"_\",Table3[[#This Row],[شماره تماس]]),0)","v":0},{"$f":"IF(Table3[[#This Row],[چندم]]=0,Table3[[#This Row],[شماره تماس]],MID(Table3[[#This Row],[شماره تماس]],1,Table3[[#This Row],[چندم]]-1))","v":0},{"$f":"IF(Table3[[#This Row],[چندم]]=0,\"\",MID(Table3[[#This Row],[شماره تماس]],Table3[[#This Row],[چندم]]+1,30))","v":""}]
[null,1591,null,null,null,{"$f":"IFERROR(FIND(\"_\",Table3[[#This Row],[شماره تماس]]),0)","v":0},{"$f":"IF(Table3[[#This Row],[چندم]]=0,Table3[[#This Row],[شماره تماس]],MID(Table3[[#This Row],[شماره تماس]],1,Table3[[#This Row],[چندم]]-1))","v":0},{"$f":"IF(Table3[[#This Row],[چندم]]=0,\"\",MID(Table3[[#This Row],[شماره تماس]],Table3[[#This Row],[چندم]]+1,30))","v":""}]
[null,1592,null,null,null,{"$f":"IFERROR(FIND(\"_\",Table3[[#This Row],[شماره تماس]]),0)","v":0},{"$f":"IF(Table3[[#This Row],[چندم]]=0,Table3[[#This Row],[شماره تماس]],MID(Table3[[#This Row],[شماره تماس]],1,Table3[[#This Row],[چندم]]-1))","v":0},{"$f":"IF(Table3[[#This Row],[چندم]]=0,\"\",MID(Table3[[#This Row],[شماره تماس]],Table3[[#This Row],[چندم]]+1,30))","v":""}]
[null,1593,null,null,null,{"$f":"IFERROR(FIND(\"_\",Table3[[#This Row],[شماره تماس]]),0)","v":0},{"$f":"IF(Table3[[#This Row],[چندم]]=0,Table3[[#This Row],[شماره تماس]],MID(Table3[[#This Row],[شماره تماس]],1,Table3[[#This Row],[چندم]]-1))","v":0},{"$f":"IF(Table3[[#This Row],[چندم]]=0,\"\",MID(Table3[[#This Row],[شماره تماس]],Table3[[#This Row],[چندم]]+1,30))","v":""}]
[null,1594,null,null,null,{"$f":"IFERROR(FIND(\"_\",Table3[[#This Row],[شماره تماس]]),0)","v":0},{"$f":"IF(Table3[[#This Row],[چندم]]=0,Table3[[#This Row],[شماره تماس]],MID(Table3[[#This Row],[شماره تماس]],1,Table3[[#This Row],[چندم]]-1))","v":0},{"$f":"IF(Table3[[#This Row],[چندم]]=0,\"\",MID(Table3[[#This Row],[شماره تماس]],Table3[[#This Row],[چندم]]+1,30))","v":""}]
[null,1595,null,null,null,{"$f":"IFERROR(FIND(\"_\",Table3[[#This Row],[شماره تماس]]),0)","v":0},{"$f":"IF(Table3[[#This Row],[چندم]]=0,Table3[[#This Row],[شماره تماس]],MID(Table3[[#This Row],[شماره تماس]],1,Table3[[#This Row],[چندم]]-1))","v":0},{"$f":"IF(Table3[[#This Row],[چندم]]=0,\"\",MID(Table3[[#This Row],[شماره تماس]],Table3[[#This Row],[چندم]]+1,30))","v":""}]
[null,1596,null,null,null,{"$f":"IFERROR(FIND(\"_\",Table3[[#This Row],[شماره تماس]]),0)","v":0},{"$f":"IF(Table3[[#This Row],[چندم]]=0,Table3[[#This Row],[شماره تماس]],MID(Table3[[#This Row],[شماره تماس]],1,Table3[[#This Row],[چندم]]-1))","v":0},{"$f":"IF(Table3[[#This Row],[چندم]]=0,\"\",MID(Table3[[#This Row],[شماره تماس]],Table3[[#This Row],[چندم]]+1,30))","v":""}]
[null,1597,null,null,null,{"$f":"IFERROR(FIND(\"_\",Table3[[#This Row],[شماره تماس]]),0)","v":0},{"$f":"IF(Table3[[#This Row],[چندم]]=0,Table3[[#This Row],[شماره تماس]],MID(Table3[[#This Row],[شماره تماس]],1,Table3[[#This Row],[چندم]]-1))","v":0},{"$f":"IF(Table3[[#This Row],[چندم]]=0,\"\",MID(Table3[[#This Row],[شماره تماس]],Table3[[#This Row],[چندم]]+1,30))","v":""}]
[null,1598,null,null,null,{"$f":"IFERROR(FIND(\"_\",Table3[[#This Row],[شماره تماس]]),0)","v":0},{"$f":"IF(Table3[[#This Row],[چندم]]=0,Table3[[#This Row],[شماره تماس]],MID(Table3[[#This Row],[شماره تماس]],1,Table3[[#This Row],[چندم]]-1))","v":0},{"$f":"IF(Table3[[#This Row],[چندم]]=0,\"\",MID(Table3[[#This Row],[شماره تماس]],Table3[[#This Row],[چندم]]+1,30))","v":""}]
[null,1599,null,null,null,{"$f":"IFERROR(FIND(\"_\",Table3[[#This Row],[شماره تماس]]),0)","v":0},{"$f":"IF(Table3[[#This Row],[چندم]]=0,Table3[[#This Row],[شماره تماس]],MID(Table3[[#This Row],[شماره تماس]],1,Table3[[#This Row],[چندم]]-1))","v":0},{"$f":"IF(Table3[[#This Row],[چندم]]=0,\"\",MID(Table3[[#This Row],[شماره تماس]],Table3[[#This Row],[چندم]]+1,30))","v":""}]
[null,1600,null,null,null,{"$f":"IFERROR(FIND(\"_\",Table3[[#This Row],[شماره تماس]]),0)","v":0},{"$f":"IF(Table3[[#This Row],[چندم]]=0,Table3[[#This Row],[شماره تماس]],MID(Table3[[#This Row],[شماره تماس]],1,Table3[[#This Row],[چندم]]-1))","v":0},{"$f":"IF(Table3[[#This Row],[چندم]]=0,\"\",MID(Table3[[#This Row],[شماره تماس]],Table3[[#This Row],[چندم]]+1,30))","v":""}]
[null,1601,null,null,null,{"$f":"IFERROR(FIND(\"_\",Table3[[#This Row],[شماره تماس]]),0)","v":0},{"$f":"IF(Table3[[#This Row],[چندم]]=0,Table3[[#This Row],[شماره تماس]],MID(Table3[[#This Row],[شماره تماس]],1,Table3[[#This Row],[چندم]]-1))","v":0},{"$f":"IF(Table3[[#This Row],[چندم]]=0,\"\",MID(Table3[[#This Row],[شماره تماس]],Table3[[#This Row],[چندم]]+1,30))","v":""}]
[null,1602,null,null,null,{"$f":"IFERROR(FIND(\"_\",Table3[[#This Row],[شماره تماس]]),0)","v":0},{"$f":"IF(Table3[[#This Row],[چندم]]=0,Table3[[#This Row],[شماره تماس]],MID(Table3[[#This Row],[شماره تماس]],1,Table3[[#This Row],[چندم]]-1))","v":0},{"$f":"IF(Table3[[#This Row],[چندم]]=0,\"\",MID(Table3[[#This Row],[شماره تماس]],Table3[[#This Row],[چندم]]+1,30))","v":""}]
[null,1603,null,null,null,{"$f":"IFERROR(FIND(\"_\",Table3[[#This Row],[شماره تماس]]),0)","v":0},{"$f":"IF(Table3[[#This Row],[چندم]]=0,Table3[[#This Row],[شماره تماس]],MID(Table3[[#This Row],[شماره تماس]],1,Table3[[#This Row],[چندم]]-1))","v":0},{"$f":"IF(Table3[[#This Row],[چندم]]=0,\"\",MID(Table3[[#This Row],[شماره تماس]],Table3[[#This Row],[چندم]]+1,30))","v":""}]
[null,1604,null,null,null,{"$f":"IFERROR(FIND(\"_\",Table3[[#This Row],[شماره تماس]]),0)","v":0},{"$f":"IF(Table3[[#This Row],[چندم]]=0,Table3[[#This Row],[شماره تماس]],MID(Table3[[#This Row],[شماره تماس]],1,Table3[[#This Row],[چندم]]-1))","v":0},{"$f":"IF(Table3[[#This Row],[چندم]]=0,\"\",MID(Table3[[#This Row],[شماره تماس]],Table3[[#This Row],[چندم]]+1,30))","v":""}]
[null,1605,null,null,null,{"$f":"IFERROR(FIND(\"_\",Table3[[#This Row],[شماره تماس]]),0)","v":0},{"$f":"IF(Table3[[#This Row],[چندم]]=0,Table3[[#This Row],[شماره تماس]],MID(Table3[[#This Row],[شماره تماس]],1,Table3[[#This Row],[چندم]]-1))","v":0},{"$f":"IF(Table3[[#This Row],[چندم]]=0,\"\",MID(Table3[[#This Row],[شماره تماس]],Table3[[#This Row],[چندم]]+1,30))","v":""}]
[null,1606,null,null,null,{"$f":"IFERROR(FIND(\"_\",Table3[[#This Row],[شماره تماس]]),0)","v":0},{"$f":"IF(Table3[[#This Row],[چندم]]=0,Table3[[#This Row],[شماره تماس]],MID(Table3[[#This Row],[شماره تماس]],1,Table3[[#This Row],[چندم]]-1))","v":0},{"$f":"IF(Table3[[#This Row],[چندم]]=0,\"\",MID(Table3[[#This Row],[شماره تماس]],Table3[[#This Row],[چندم]]+1,30))","v":""}]
[null,1607,null,null,null,{"$f":"IFERROR(FIND(\"_\",Table3[[#This Row],[شماره تماس]]),0)","v":0},{"$f":"IF(Table3[[#This Row],[چندم]]=0,Table3[[#This Row],[شماره تماس]],MID(Table3[[#This Row],[شماره تماس]],1,Table3[[#This Row],[چندم]]-1))","v":0},{"$f":"IF(Table3[[#This Row],[چندم]]=0,\"\",MID(Table3[[#This Row],[شماره تماس]],Table3[[#This Row],[چندم]]+1,30))","v":""}]
[null,1608,null,null,null,{"$f":"IFERROR(FIND(\"_\",Table3[[#This Row],[شماره تماس]]),0)","v":0},{"$f":"IF(Table3[[#This Row],[چندم]]=0,Table3[[#This Row],[شماره تماس]],MID(Table3[[#This Row],[شماره تماس]],1,Table3[[#This Row],[چندم]]-1))","v":0},{"$f":"IF(Table3[[#This Row],[چندم]]=0,\"\",MID(Table3[[#This Row],[شماره تماس]],Table3[[#This Row],[چندم]]+1,30))","v":""}]
[null,1609,null,null,null,{"$f":"IFERROR(FIND(\"_\",Table3[[#This Row],[شماره تماس]]),0)","v":0},{"$f":"IF(Table3[[#This Row],[چندم]]=0,Table3[[#This Row],[شماره تماس]],MID(Table3[[#This Row],[شماره تماس]],1,Table3[[#This Row],[چندم]]-1))","v":0},{"$f":"IF(Table3[[#This Row],[چندم]]=0,\"\",MID(Table3[[#This Row],[شماره تماس]],Table3[[#This Row],[چندم]]+1,30))","v":""}]
[null,1610,null,null,null,{"$f":"IFERROR(FIND(\"_\",Table3[[#This Row],[شماره تماس]]),0)","v":0},{"$f":"IF(Table3[[#This Row],[چندم]]=0,Table3[[#This Row],[شماره تماس]],MID(Table3[[#This Row],[شماره تماس]],1,Table3[[#This Row],[چندم]]-1))","v":0},{"$f":"IF(Table3[[#This Row],[چندم]]=0,\"\",MID(Table3[[#This Row],[شماره تماس]],Table3[[#This Row],[چندم]]+1,30))","v":""}]
[null,1611,null,null,null,{"$f":"IFERROR(FIND(\"_\",Table3[[#This Row],[شماره تماس]]),0)","v":0},{"$f":"IF(Table3[[#This Row],[چندم]]=0,Table3[[#This Row],[شماره تماس]],MID(Table3[[#This Row],[شماره تماس]],1,Table3[[#This Row],[چندم]]-1))","v":0},{"$f":"IF(Table3[[#This Row],[چندم]]=0,\"\",MID(Table3[[#This Row],[شماره تماس]],Table3[[#This Row],[چندم]]+1,30))","v":""}]
[null,1612,null,null,null,{"$f":"IFERROR(FIND(\"_\",Table3[[#This Row],[شماره تماس]]),0)","v":0},{"$f":"IF(Table3[[#This Row],[چندم]]=0,Table3[[#This Row],[شماره تماس]],MID(Table3[[#This Row],[شماره تماس]],1,Table3[[#This Row],[چندم]]-1))","v":0},{"$f":"IF(Table3[[#This Row],[چندم]]=0,\"\",MID(Table3[[#This Row],[شماره تماس]],Table3[[#This Row],[چندم]]+1,30))","v":""}]
[null,1613,null,null,null,{"$f":"IFERROR(FIND(\"_\",Table3[[#This Row],[شماره تماس]]),0)","v":0},{"$f":"IF(Table3[[#This Row],[چندم]]=0,Table3[[#This Row],[شماره تماس]],MID(Table3[[#This Row],[شماره تماس]],1,Table3[[#This Row],[چندم]]-1))","v":0},{"$f":"IF(Table3[[#This Row],[چندم]]=0,\"\",MID(Table3[[#This Row],[شماره تماس]],Table3[[#This Row],[چندم]]+1,30))","v":""}]
[null,1614,null,null,null,{"$f":"IFERROR(FIND(\"_\",Table3[[#This Row],[شماره تماس]]),0)","v":0},{"$f":"IF(Table3[[#This Row],[چندم]]=0,Table3[[#This Row],[شماره تماس]],MID(Table3[[#This Row],[شماره تماس]],1,Table3[[#This Row],[چندم]]-1))","v":0},{"$f":"IF(Table3[[#This Row],[چندم]]=0,\"\",MID(Table3[[#This Row],[شماره تماس]],Table3[[#This Row],[چندم]]+1,30))","v":""}]
[null,1615,null,null,null,{"$f":"IFERROR(FIND(\"_\",Table3[[#This Row],[شماره تماس]]),0)","v":0},{"$f":"IF(Table3[[#This Row],[چندم]]=0,Table3[[#This Row],[شماره تماس]],MID(Table3[[#This Row],[شماره تماس]],1,Table3[[#This Row],[چندم]]-1))","v":0},{"$f":"IF(Table3[[#This Row],[چندم]]=0,\"\",MID(Table3[[#This Row],[شماره تماس]],Table3[[#This Row],[چندم]]+1,30))","v":""}]
[null,1616,null,null,null,{"$f":"IFERROR(FIND(\"_\",Table3[[#This Row],[شماره تماس]]),0)","v":0},{"$f":"IF(Table3[[#This Row],[چندم]]=0,Table3[[#This Row],[شماره تماس]],MID(Table3[[#This Row],[شماره تماس]],1,Table3[[#This Row],[چندم]]-1))","v":0},{"$f":"IF(Table3[[#This Row],[چندم]]=0,\"\",MID(Table3[[#This Row],[شماره تماس]],Table3[[#This Row],[چندم]]+1,30))","v":""}]
[null,1617,null,null,null,{"$f":"IFERROR(FIND(\"_\",Table3[[#This Row],[شماره تماس]]),0)","v":0},{"$f":"IF(Table3[[#This Row],[چندم]]=0,Table3[[#This Row],[شماره تماس]],MID(Table3[[#This Row],[شماره تماس]],1,Table3[[#This Row],[چندم]]-1))","v":0},{"$f":"IF(Table3[[#This Row],[چندم]]=0,\"\",MID(Table3[[#This Row],[شماره تماس]],Table3[[#This Row],[چندم]]+1,30))","v":""}]
[null,1618,null,null,null,{"$f":"IFERROR(FIND(\"_\",Table3[[#This Row],[شماره تماس]]),0)","v":0},{"$f":"IF(Table3[[#This Row],[چندم]]=0,Table3[[#This Row],[شماره تماس]],MID(Table3[[#This Row],[شماره تماس]],1,Table3[[#This Row],[چندم]]-1))","v":0},{"$f":"IF(Table3[[#This Row],[چندم]]=0,\"\",MID(Table3[[#This Row],[شماره تماس]],Table3[[#This Row],[چندم]]+1,30))","v":""}]
[null,1619,null,null,null,{"$f":"IFERROR(FIND(\"_\",Table3[[#This Row],[شماره تماس]]),0)","v":0},{"$f":"IF(Table3[[#This Row],[چندم]]=0,Table3[[#This Row],[شماره تماس]],MID(Table3[[#This Row],[شماره تماس]],1,Table3[[#This Row],[چندم]]-1))","v":0},{"$f":"IF(Table3[[#This Row],[چندم]]=0,\"\",MID(Table3[[#This Row],[شماره تماس]],Table3[[#This Row],[چندم]]+1,30))","v":""}]
[null,1620,null,null,null,{"$f":"IFERROR(FIND(\"_\",Table3[[#This Row],[شماره تماس]]),0)","v":0},{"$f":"IF(Table3[[#This Row],[چندم]]=0,Table3[[#This Row],[شماره تماس]],MID(Table3[[#This Row],[شماره تماس]],1,Table3[[#This Row],[چندم]]-1))","v":0},{"$f":"IF(Table3[[#This Row],[چندم]]=0,\"\",MID(Table3[[#This Row],[شماره تماس]],Table3[[#This Row],[چندم]]+1,30))","v":""}]
[null,1621,null,null,null,{"$f":"IFERROR(FIND(\"_\",Table3[[#This Row],[شماره تماس]]),0)","v":0},{"$f":"IF(Table3[[#This Row],[چندم]]=0,Table3[[#This Row],[شماره تماس]],MID(Table3[[#This Row],[شماره تماس]],1,Table3[[#This Row],[چندم]]-1))","v":0},{"$f":"IF(Table3[[#This Row],[چندم]]=0,\"\",MID(Table3[[#This Row],[شماره تماس]],Table3[[#This Row],[چندم]]+1,30))","v":""}]
[null,1622,null,null,null,{"$f":"IFERROR(FIND(\"_\",Table3[[#This Row],[شماره تماس]]),0)","v":0},{"$f":"IF(Table3[[#This Row],[چندم]]=0,Table3[[#This Row],[شماره تماس]],MID(Table3[[#This Row],[شماره تماس]],1,Table3[[#This Row],[چندم]]-1))","v":0},{"$f":"IF(Table3[[#This Row],[چندم]]=0,\"\",MID(Table3[[#This Row],[شماره تماس]],Table3[[#This Row],[چندم]]+1,30))","v":""}]
[null,1623,null,null,null,{"$f":"IFERROR(FIND(\"_\",Table3[[#This Row],[شماره تماس]]),0)","v":0},{"$f":"IF(Table3[[#This Row],[چندم]]=0,Table3[[#This Row],[شماره تماس]],MID(Table3[[#This Row],[شماره تماس]],1,Table3[[#This Row],[چندم]]-1))","v":0},{"$f":"IF(Table3[[#This Row],[چندم]]=0,\"\",MID(Table3[[#This Row],[شماره تماس]],Table3[[#This Row],[چندم]]+1,30))","v":""}]
[null,1624,null,null,null,{"$f":"IFERROR(FIND(\"_\",Table3[[#This Row],[شماره تماس]]),0)","v":0},{"$f":"IF(Table3[[#This Row],[چندم]]=0,Table3[[#This Row],[شماره تماس]],MID(Table3[[#This Row],[شماره تماس]],1,Table3[[#This Row],[چندم]]-1))","v":0},{"$f":"IF(Table3[[#This Row],[چندم]]=0,\"\",MID(Table3[[#This Row],[شماره تماس]],Table3[[#This Row],[چندم]]+1,30))","v":""}]
[null,1625,null,null,null,{"$f":"IFERROR(FIND(\"_\",Table3[[#This Row],[شماره تماس]]),0)","v":0},{"$f":"IF(Table3[[#This Row],[چندم]]=0,Table3[[#This Row],[شماره تماس]],MID(Table3[[#This Row],[شماره تماس]],1,Table3[[#This Row],[چندم]]-1))","v":0},{"$f":"IF(Table3[[#This Row],[چندم]]=0,\"\",MID(Table3[[#This Row],[شماره تماس]],Table3[[#This Row],[چندم]]+1,30))","v":""}]
[null,1626,null,null,null,{"$f":"IFERROR(FIND(\"_\",Table3[[#This Row],[شماره تماس]]),0)","v":0},{"$f":"IF(Table3[[#This Row],[چندم]]=0,Table3[[#This Row],[شماره تماس]],MID(Table3[[#This Row],[شماره تماس]],1,Table3[[#This Row],[چندم]]-1))","v":0},{"$f":"IF(Table3[[#This Row],[چندم]]=0,\"\",MID(Table3[[#This Row],[شماره تماس]],Table3[[#This Row],[چندم]]+1,30))","v":""}]
[null,1627,null,null,null,{"$f":"IFERROR(FIND(\"_\",Table3[[#This Row],[شماره تماس]]),0)","v":0},{"$f":"IF(Table3[[#This Row],[چندم]]=0,Table3[[#This Row],[شماره تماس]],MID(Table3[[#This Row],[شماره تماس]],1,Table3[[#This Row],[چندم]]-1))","v":0},{"$f":"IF(Table3[[#This Row],[چندم]]=0,\"\",MID(Table3[[#This Row],[شماره تماس]],Table3[[#This Row],[چندم]]+1,30))","v":""}]
[null,1628,null,null,null,{"$f":"IFERROR(FIND(\"_\",Table3[[#This Row],[شماره تماس]]),0)","v":0},{"$f":"IF(Table3[[#This Row],[چندم]]=0,Table3[[#This Row],[شماره تماس]],MID(Table3[[#This Row],[شماره تماس]],1,Table3[[#This Row],[چندم]]-1))","v":0},{"$f":"IF(Table3[[#This Row],[چندم]]=0,\"\",MID(Table3[[#This Row],[شماره تماس]],Table3[[#This Row],[چندم]]+1,30))","v":""}]
[null,1629,null,null,null,{"$f":"IFERROR(FIND(\"_\",Table3[[#This Row],[شماره تماس]]),0)","v":0},{"$f":"IF(Table3[[#This Row],[چندم]]=0,Table3[[#This Row],[شماره تماس]],MID(Table3[[#This Row],[شماره تماس]],1,Table3[[#This Row],[چندم]]-1))","v":0},{"$f":"IF(Table3[[#This Row],[چندم]]=0,\"\",MID(Table3[[#This Row],[شماره تماس]],Table3[[#This Row],[چندم]]+1,30))","v":""}]
[null,1630,null,null,null,{"$f":"IFERROR(FIND(\"_\",Table3[[#This Row],[شماره تماس]]),0)","v":0},{"$f":"IF(Table3[[#This Row],[چندم]]=0,Table3[[#This Row],[شماره تماس]],MID(Table3[[#This Row],[شماره تماس]],1,Table3[[#This Row],[چندم]]-1))","v":0},{"$f":"IF(Table3[[#This Row],[چندم]]=0,\"\",MID(Table3[[#This Row],[شماره تماس]],Table3[[#This Row],[چندم]]+1,30))","v":""}]
[null,1631,null,null,null,{"$f":"IFERROR(FIND(\"_\",Table3[[#This Row],[شماره تماس]]),0)","v":0},{"$f":"IF(Table3[[#This Row],[چندم]]=0,Table3[[#This Row],[شماره تماس]],MID(Table3[[#This Row],[شماره تماس]],1,Table3[[#This Row],[چندم]]-1))","v":0},{"$f":"IF(Table3[[#This Row],[چندم]]=0,\"\",MID(Table3[[#This Row],[شماره تماس]],Table3[[#This Row],[چندم]]+1,30))","v":""}]
[null,1632,null,null,null,{"$f":"IFERROR(FIND(\"_\",Table3[[#This Row],[شماره تماس]]),0)","v":0},{"$f":"IF(Table3[[#This Row],[چندم]]=0,Table3[[#This Row],[شماره تماس]],MID(Table3[[#This Row],[شماره تماس]],1,Table3[[#This Row],[چندم]]-1))","v":0},{"$f":"IF(Table3[[#This Row],[چندم]]=0,\"\",MID(Table3[[#This Row],[شماره تماس]],Table3[[#This Row],[چندم]]+1,30))","v":""}]
[null,1633,null,null,null,{"$f":"IFERROR(FIND(\"_\",Table3[[#This Row],[شماره تماس]]),0)","v":0},{"$f":"IF(Table3[[#This Row],[چندم]]=0,Table3[[#This Row],[شماره تماس]],MID(Table3[[#This Row],[شماره تماس]],1,Table3[[#This Row],[چندم]]-1))","v":0},{"$f":"IF(Table3[[#This Row],[چندم]]=0,\"\",MID(Table3[[#This Row],[شماره تماس]],Table3[[#This Row],[چندم]]+1,30))","v":""}]
[null,1634,null,null,null,{"$f":"IFERROR(FIND(\"_\",Table3[[#This Row],[شماره تماس]]),0)","v":0},{"$f":"IF(Table3[[#This Row],[چندم]]=0,Table3[[#This Row],[شماره تماس]],MID(Table3[[#This Row],[شماره تماس]],1,Table3[[#This Row],[چندم]]-1))","v":0},{"$f":"IF(Table3[[#This Row],[چندم]]=0,\"\",MID(Table3[[#This Row],[شماره تماس]],Table3[[#This Row],[چندم]]+1,30))","v":""}]
[null,1635,null,null,null,{"$f":"IFERROR(FIND(\"_\",Table3[[#This Row],[شماره تماس]]),0)","v":0},{"$f":"IF(Table3[[#This Row],[چندم]]=0,Table3[[#This Row],[شماره تماس]],MID(Table3[[#This Row],[شماره تماس]],1,Table3[[#This Row],[چندم]]-1))","v":0},{"$f":"IF(Table3[[#This Row],[چندم]]=0,\"\",MID(Table3[[#This Row],[شماره تماس]],Table3[[#This Row],[چندم]]+1,30))","v":""}]
[null,1636,null,null,null,{"$f":"IFERROR(FIND(\"_\",Table3[[#This Row],[شماره تماس]]),0)","v":0},{"$f":"IF(Table3[[#This Row],[چندم]]=0,Table3[[#This Row],[شماره تماس]],MID(Table3[[#This Row],[شماره تماس]],1,Table3[[#This Row],[چندم]]-1))","v":0},{"$f":"IF(Table3[[#This Row],[چندم]]=0,\"\",MID(Table3[[#This Row],[شماره تماس]],Table3[[#This Row],[چندم]]+1,30))","v":""}]
[null,1637,null,null,null,{"$f":"IFERROR(FIND(\"_\",Table3[[#This Row],[شماره تماس]]),0)","v":0},{"$f":"IF(Table3[[#This Row],[چندم]]=0,Table3[[#This Row],[شماره تماس]],MID(Table3[[#This Row],[شماره تماس]],1,Table3[[#This Row],[چندم]]-1))","v":0},{"$f":"IF(Table3[[#This Row],[چندم]]=0,\"\",MID(Table3[[#This Row],[شماره تماس]],Table3[[#This Row],[چندم]]+1,30))","v":""}]
[null,1638,null,null,null,{"$f":"IFERROR(FIND(\"_\",Table3[[#This Row],[شماره تماس]]),0)","v":0},{"$f":"IF(Table3[[#This Row],[چندم]]=0,Table3[[#This Row],[شماره تماس]],MID(Table3[[#This Row],[شماره تماس]],1,Table3[[#This Row],[چندم]]-1))","v":0},{"$f":"IF(Table3[[#This Row],[چندم]]=0,\"\",MID(Table3[[#This Row],[شماره تماس]],Table3[[#This Row],[چندم]]+1,30))","v":""}]
[null,{"$f":"ROW()-3","v":1639},null,null,null,{"$f":"IFERROR(FIND(\"_\",Table3[[#This Row],[شماره تماس]]),0)","v":0},{"$f":"IF(Table3[[#This Row],[چندم]]=0,Table3[[#This Row],[شماره تماس]],MID(Table3[[#This Row],[شماره تماس]],1,Table3[[#This Row],[چندم]]-1))","v":0},{"$f":"IF(Table3[[#This Row],[چندم]]=0,\"\",MID(Table3[[#This Row],[شماره تماس]],Table3[[#This Row],[چندم]]+1,30))","v":""}]
[null,1640,null,null,null,{"$f":"IFERROR(FIND(\"_\",Table3[[#This Row],[شماره تماس]]),0)","v":0},{"$f":"IF(Table3[[#This Row],[چندم]]=0,Table3[[#This Row],[شماره تماس]],MID(Table3[[#This Row],[شماره تماس]],1,Table3[[#This Row],[چندم]]-1))","v":0},{"$f":"IF(Table3[[#This Row],[چندم]]=0,\"\",MID(Table3[[#This Row],[شماره تماس]],Table3[[#This Row],[چندم]]+1,30))","v":""}]
[null,1641,null,null,null,{"$f":"IFERROR(FIND(\"_\",Table3[[#This Row],[شماره تماس]]),0)","v":0},{"$f":"IF(Table3[[#This Row],[چندم]]=0,Table3[[#This Row],[شماره تماس]],MID(Table3[[#This Row],[شماره تماس]],1,Table3[[#This Row],[چندم]]-1))","v":0},{"$f":"IF(Table3[[#This Row],[چندم]]=0,\"\",MID(Table3[[#This Row],[شماره تماس]],Table3[[#This Row],[چندم]]+1,30))","v":""}]
[null,1642,null,null,null,{"$f":"IFERROR(FIND(\"_\",Table3[[#This Row],[شماره تماس]]),0)","v":0},{"$f":"IF(Table3[[#This Row],[چندم]]=0,Table3[[#This Row],[شماره تماس]],MID(Table3[[#This Row],[شماره تماس]],1,Table3[[#This Row],[چندم]]-1))","v":0},{"$f":"IF(Table3[[#This Row],[چندم]]=0,\"\",MID(Table3[[#This Row],[شماره تماس]],Table3[[#This Row],[چندم]]+1,30))","v":""}]
[null,1643,null,null,null,{"$f":"IFERROR(FIND(\"_\",Table3[[#This Row],[شماره تماس]]),0)","v":0},{"$f":"IF(Table3[[#This Row],[چندم]]=0,Table3[[#This Row],[شماره تماس]],MID(Table3[[#This Row],[شماره تماس]],1,Table3[[#This Row],[چندم]]-1))","v":0},{"$f":"IF(Table3[[#This Row],[چندم]]=0,\"\",MID(Table3[[#This Row],[شماره تماس]],Table3[[#This Row],[چندم]]+1,30))","v":""}]
[null,1644,null,null,null,{"$f":"IFERROR(FIND(\"_\",Table3[[#This Row],[شماره تماس]]),0)","v":0},{"$f":"IF(Table3[[#This Row],[چندم]]=0,Table3[[#This Row],[شماره تماس]],MID(Table3[[#This Row],[شماره تماس]],1,Table3[[#This Row],[چندم]]-1))","v":0},{"$f":"IF(Table3[[#This Row],[چندم]]=0,\"\",MID(Table3[[#This Row],[شماره تماس]],Table3[[#This Row],[چندم]]+1,30))","v":""}]
[null,1645,null,null,null,{"$f":"IFERROR(FIND(\"_\",Table3[[#This Row],[شماره تماس]]),0)","v":0},{"$f":"IF(Table3[[#This Row],[چندم]]=0,Table3[[#This Row],[شماره تماس]],MID(Table3[[#This Row],[شماره تماس]],1,Table3[[#This Row],[چندم]]-1))","v":0},{"$f":"IF(Table3[[#This Row],[چندم]]=0,\"\",MID(Table3[[#This Row],[شماره تماس]],Table3[[#This Row],[چندم]]+1,30))","v":""}]
[null,1646,null,null,null,{"$f":"IFERROR(FIND(\"_\",Table3[[#This Row],[شماره تماس]]),0)","v":0},{"$f":"IF(Table3[[#This Row],[چندم]]=0,Table3[[#This Row],[شماره تماس]],MID(Table3[[#This Row],[شماره تماس]],1,Table3[[#This Row],[چندم]]-1))","v":0},{"$f":"IF(Table3[[#This Row],[چندم]]=0,\"\",MID(Table3[[#This Row],[شماره تماس]],Table3[[#This Row],[چندم]]+1,30))","v":""}]
[null,1647,null,null,null,{"$f":"IFERROR(FIND(\"_\",Table3[[#This Row],[شماره تماس]]),0)","v":0},{"$f":"IF(Table3[[#This Row],[چندم]]=0,Table3[[#This Row],[شماره تماس]],MID(Table3[[#This Row],[شماره تماس]],1,Table3[[#This Row],[چندم]]-1))","v":0},{"$f":"IF(Table3[[#This Row],[چندم]]=0,\"\",MID(Table3[[#This Row],[شماره تماس]],Table3[[#This Row],[چندم]]+1,30))","v":""}]
[null,1648,null,null,null,{"$f":"IFERROR(FIND(\"_\",Table3[[#This Row],[شماره تماس]]),0)","v":0},{"$f":"IF(Table3[[#This Row],[چندم]]=0,Table3[[#This Row],[شماره تماس]],MID(Table3[[#This Row],[شماره تماس]],1,Table3[[#This Row],[چندم]]-1))","v":0},{"$f":"IF(Table3[[#This Row],[چندم]]=0,\"\",MID(Table3[[#This Row],[شماره تماس]],Table3[[#This Row],[چندم]]+1,30))","v":""}]
[null,1649,null,null,null,{"$f":"IFERROR(FIND(\"_\",Table3[[#This Row],[شماره تماس]]),0)","v":0},{"$f":"IF(Table3[[#This Row],[چندم]]=0,Table3[[#This Row],[شماره تماس]],MID(Table3[[#This Row],[شماره تماس]],1,Table3[[#This Row],[چندم]]-1))","v":0},{"$f":"IF(Table3[[#This Row],[چندم]]=0,\"\",MID(Table3[[#This Row],[شماره تماس]],Table3[[#This Row],[چندم]]+1,30))","v":""}]
[null,1650,null,null,null,{"$f":"IFERROR(FIND(\"_\",Table3[[#This Row],[شماره تماس]]),0)","v":0},{"$f":"IF(Table3[[#This Row],[چندم]]=0,Table3[[#This Row],[شماره تماس]],MID(Table3[[#This Row],[شماره تماس]],1,Table3[[#This Row],[چندم]]-1))","v":0},{"$f":"IF(Table3[[#This Row],[چندم]]=0,\"\",MID(Table3[[#This Row],[شماره تماس]],Table3[[#This Row],[چندم]]+1,30))","v":""}]
[null,1651,null,null,null,{"$f":"IFERROR(FIND(\"_\",Table3[[#This Row],[شماره تماس]]),0)","v":0},{"$f":"IF(Table3[[#This Row],[چندم]]=0,Table3[[#This Row],[شماره تماس]],MID(Table3[[#This Row],[شماره تماس]],1,Table3[[#This Row],[چندم]]-1))","v":0},{"$f":"IF(Table3[[#This Row],[چندم]]=0,\"\",MID(Table3[[#This Row],[شماره تماس]],Table3[[#This Row],[چندم]]+1,30))","v":""}]
[null,1652,null,null,null,{"$f":"IFERROR(FIND(\"_\",Table3[[#This Row],[شماره تماس]]),0)","v":0},{"$f":"IF(Table3[[#This Row],[چندم]]=0,Table3[[#This Row],[شماره تماس]],MID(Table3[[#This Row],[شماره تماس]],1,Table3[[#This Row],[چندم]]-1))","v":0},{"$f":"IF(Table3[[#This Row],[چندم]]=0,\"\",MID(Table3[[#This Row],[شماره تماس]],Table3[[#This Row],[چندم]]+1,30))","v":""}]
[null,1653,null,null,null,{"$f":"IFERROR(FIND(\"_\",Table3[[#This Row],[شماره تماس]]),0)","v":0},{"$f":"IF(Table3[[#This Row],[چندم]]=0,Table3[[#This Row],[شماره تماس]],MID(Table3[[#This Row],[شماره تماس]],1,Table3[[#This Row],[چندم]]-1))","v":0},{"$f":"IF(Table3[[#This Row],[چندم]]=0,\"\",MID(Table3[[#This Row],[شماره تماس]],Table3[[#This Row],[چندم]]+1,30))","v":""}]
[null,1654,null,null,null,{"$f":"IFERROR(FIND(\"_\",Table3[[#This Row],[شماره تماس]]),0)","v":0},{"$f":"IF(Table3[[#This Row],[چندم]]=0,Table3[[#This Row],[شماره تماس]],MID(Table3[[#This Row],[شماره تماس]],1,Table3[[#This Row],[چندم]]-1))","v":0},{"$f":"IF(Table3[[#This Row],[چندم]]=0,\"\",MID(Table3[[#This Row],[شماره تماس]],Table3[[#This Row],[چندم]]+1,30))","v":""}]
[null,1655,null,null,null,{"$f":"IFERROR(FIND(\"_\",Table3[[#This Row],[شماره تماس]]),0)","v":0},{"$f":"IF(Table3[[#This Row],[چندم]]=0,Table3[[#This Row],[شماره تماس]],MID(Table3[[#This Row],[شماره تماس]],1,Table3[[#This Row],[چندم]]-1))","v":0},{"$f":"IF(Table3[[#This Row],[چندم]]=0,\"\",MID(Table3[[#This Row],[شماره تماس]],Table3[[#This Row],[چندم]]+1,30))","v":""}]
[null,1656,null,null,null,{"$f":"IFERROR(FIND(\"_\",Table3[[#This Row],[شماره تماس]]),0)","v":0},{"$f":"IF(Table3[[#This Row],[چندم]]=0,Table3[[#This Row],[شماره تماس]],MID(Table3[[#This Row],[شماره تماس]],1,Table3[[#This Row],[چندم]]-1))","v":0},{"$f":"IF(Table3[[#This Row],[چندم]]=0,\"\",MID(Table3[[#This Row],[شماره تماس]],Table3[[#This Row],[چندم]]+1,30))","v":""}]
[null,1657,null,null,null,{"$f":"IFERROR(FIND(\"_\",Table3[[#This Row],[شماره تماس]]),0)","v":0},{"$f":"IF(Table3[[#This Row],[چندم]]=0,Table3[[#This Row],[شماره تماس]],MID(Table3[[#This Row],[شماره تماس]],1,Table3[[#This Row],[چندم]]-1))","v":0},{"$f":"IF(Table3[[#This Row],[چندم]]=0,\"\",MID(Table3[[#This Row],[شماره تماس]],Table3[[#This Row],[چندم]]+1,30))","v":""}]
[null,1658,null,null,null,{"$f":"IFERROR(FIND(\"_\",Table3[[#This Row],[شماره تماس]]),0)","v":0},{"$f":"IF(Table3[[#This Row],[چندم]]=0,Table3[[#This Row],[شماره تماس]],MID(Table3[[#This Row],[شماره تماس]],1,Table3[[#This Row],[چندم]]-1))","v":0},{"$f":"IF(Table3[[#This Row],[چندم]]=0,\"\",MID(Table3[[#This Row],[شماره تماس]],Table3[[#This Row],[چندم]]+1,30))","v":""}]
[null,1659,null,null,null,{"$f":"IFERROR(FIND(\"_\",Table3[[#This Row],[شماره تماس]]),0)","v":0},{"$f":"IF(Table3[[#This Row],[چندم]]=0,Table3[[#This Row],[شماره تماس]],MID(Table3[[#This Row],[شماره تماس]],1,Table3[[#This Row],[چندم]]-1))","v":0},{"$f":"IF(Table3[[#This Row],[چندم]]=0,\"\",MID(Table3[[#This Row],[شماره تماس]],Table3[[#This Row],[چندم]]+1,30))","v":""}]
[null,1660,null,null,null,{"$f":"IFERROR(FIND(\"_\",Table3[[#This Row],[شماره تماس]]),0)","v":0},{"$f":"IF(Table3[[#This Row],[چندم]]=0,Table3[[#This Row],[شماره تماس]],MID(Table3[[#This Row],[شماره تماس]],1,Table3[[#This Row],[چندم]]-1))","v":0},{"$f":"IF(Table3[[#This Row],[چندم]]=0,\"\",MID(Table3[[#This Row],[شماره تماس]],Table3[[#This Row],[چندم]]+1,30))","v":""}]
[null,1661,null,null,null,{"$f":"IFERROR(FIND(\"_\",Table3[[#This Row],[شماره تماس]]),0)","v":0},{"$f":"IF(Table3[[#This Row],[چندم]]=0,Table3[[#This Row],[شماره تماس]],MID(Table3[[#This Row],[شماره تماس]],1,Table3[[#This Row],[چندم]]-1))","v":0},{"$f":"IF(Table3[[#This Row],[چندم]]=0,\"\",MID(Table3[[#This Row],[شماره تماس]],Table3[[#This Row],[چندم]]+1,30))","v":""}]
[null,1662,null,null,null,{"$f":"IFERROR(FIND(\"_\",Table3[[#This Row],[شماره تماس]]),0)","v":0},{"$f":"IF(Table3[[#This Row],[چندم]]=0,Table3[[#This Row],[شماره تماس]],MID(Table3[[#This Row],[شماره تماس]],1,Table3[[#This Row],[چندم]]-1))","v":0},{"$f":"IF(Table3[[#This Row],[چندم]]=0,\"\",MID(Table3[[#This Row],[شماره تماس]],Table3[[#This Row],[چندم]]+1,30))","v":""}]
[null,1663,null,null,null,{"$f":"IFERROR(FIND(\"_\",Table3[[#This Row],[شماره تماس]]),0)","v":0},{"$f":"IF(Table3[[#This Row],[چندم]]=0,Table3[[#This Row],[شماره تماس]],MID(Table3[[#This Row],[شماره تماس]],1,Table3[[#This Row],[چندم]]-1))","v":0},{"$f":"IF(Table3[[#This Row],[چندم]]=0,\"\",MID(Table3[[#This Row],[شماره تماس]],Table3[[#This Row],[چندم]]+1,30))","v":""}]
[null,1664,null,null,null,{"$f":"IFERROR(FIND(\"_\",Table3[[#This Row],[شماره تماس]]),0)","v":0},{"$f":"IF(Table3[[#This Row],[چندم]]=0,Table3[[#This Row],[شماره تماس]],MID(Table3[[#This Row],[شماره تماس]],1,Table3[[#This Row],[چندم]]-1))","v":0},{"$f":"IF(Table3[[#This Row],[چندم]]=0,\"\",MID(Table3[[#This Row],[شماره تماس]],Table3[[#This Row],[چندم]]+1,30))","v":""}]
[null,1665,null,null,null,{"$f":"IFERROR(FIND(\"_\",Table3[[#This Row],[شماره تماس]]),0)","v":0},{"$f":"IF(Table3[[#This Row],[چندم]]=0,Table3[[#This Row],[شماره تماس]],MID(Table3[[#This Row],[شماره تماس]],1,Table3[[#This Row],[چندم]]-1))","v":0},{"$f":"IF(Table3[[#This Row],[چندم]]=0,\"\",MID(Table3[[#This Row],[شماره تماس]],Table3[[#This Row],[چندم]]+1,30))","v":""}]
[null,1666,null,null,null,{"$f":"IFERROR(FIND(\"_\",Table3[[#This Row],[شماره تماس]]),0)","v":0},{"$f":"IF(Table3[[#This Row],[چندم]]=0,Table3[[#This Row],[شماره تماس]],MID(Table3[[#This Row],[شماره تماس]],1,Table3[[#This Row],[چندم]]-1))","v":0},{"$f":"IF(Table3[[#This Row],[چندم]]=0,\"\",MID(Table3[[#This Row],[شماره تماس]],Table3[[#This Row],[چندم]]+1,30))","v":""}]
[null,1667,null,null,null,{"$f":"IFERROR(FIND(\"_\",Table3[[#This Row],[شماره تماس]]),0)","v":0},{"$f":"IF(Table3[[#This Row],[چندم]]=0,Table3[[#This Row],[شماره تماس]],MID(Table3[[#This Row],[شماره تماس]],1,Table3[[#This Row],[چندم]]-1))","v":0},{"$f":"IF(Table3[[#This Row],[چندم]]=0,\"\",MID(Table3[[#This Row],[شماره تماس]],Table3[[#This Row],[چندم]]+1,30))","v":""}]
[null,1668,null,null,null,{"$f":"IFERROR(FIND(\"_\",Table3[[#This Row],[شماره تماس]]),0)","v":0},{"$f":"IF(Table3[[#This Row],[چندم]]=0,Table3[[#This Row],[شماره تماس]],MID(Table3[[#This Row],[شماره تماس]],1,Table3[[#This Row],[چندم]]-1))","v":0},{"$f":"IF(Table3[[#This Row],[چندم]]=0,\"\",MID(Table3[[#This Row],[شماره تماس]],Table3[[#This Row],[چندم]]+1,30))","v":""}]
[null,1669,null,null,null,{"$f":"IFERROR(FIND(\"_\",Table3[[#This Row],[شماره تماس]]),0)","v":0},{"$f":"IF(Table3[[#This Row],[چندم]]=0,Table3[[#This Row],[شماره تماس]],MID(Table3[[#This Row],[شماره تماس]],1,Table3[[#This Row],[چندم]]-1))","v":0},{"$f":"IF(Table3[[#This Row],[چندم]]=0,\"\",MID(Table3[[#This Row],[شماره تماس]],Table3[[#This Row],[چندم]]+1,30))","v":""}]
[null,1670,null,null,null,{"$f":"IFERROR(FIND(\"_\",Table3[[#This Row],[شماره تماس]]),0)","v":0},{"$f":"IF(Table3[[#This Row],[چندم]]=0,Table3[[#This Row],[شماره تماس]],MID(Table3[[#This Row],[شماره تماس]],1,Table3[[#This Row],[چندم]]-1))","v":0},{"$f":"IF(Table3[[#This Row],[چندم]]=0,\"\",MID(Table3[[#This Row],[شماره تماس]],Table3[[#This Row],[چندم]]+1,30))","v":""}]
[null,1671,null,null,null,{"$f":"IFERROR(FIND(\"_\",Table3[[#This Row],[شماره تماس]]),0)","v":0},{"$f":"IF(Table3[[#This Row],[چندم]]=0,Table3[[#This Row],[شماره تماس]],MID(Table3[[#This Row],[شماره تماس]],1,Table3[[#This Row],[چندم]]-1))","v":0},{"$f":"IF(Table3[[#This Row],[چندم]]=0,\"\",MID(Table3[[#This Row],[شماره تماس]],Table3[[#This Row],[چندم]]+1,30))","v":""}]
[null,1672,null,null,null,{"$f":"IFERROR(FIND(\"_\",Table3[[#This Row],[شماره تماس]]),0)","v":0},{"$f":"IF(Table3[[#This Row],[چندم]]=0,Table3[[#This Row],[شماره تماس]],MID(Table3[[#This Row],[شماره تماس]],1,Table3[[#This Row],[چندم]]-1))","v":0},{"$f":"IF(Table3[[#This Row],[چندم]]=0,\"\",MID(Table3[[#This Row],[شماره تماس]],Table3[[#This Row],[چندم]]+1,30))","v":""}]
[null,1673,null,null,null,{"$f":"IFERROR(FIND(\"_\",Table3[[#This Row],[شماره تماس]]),0)","v":0},{"$f":"IF(Table3[[#This Row],[چندم]]=0,Table3[[#This Row],[شماره تماس]],MID(Table3[[#This Row],[شماره تماس]],1,Table3[[#This Row],[چندم]]-1))","v":0},{"$f":"IF(Table3[[#This Row],[چندم]]=0,\"\",MID(Table3[[#This Row],[شماره تماس]],Table3[[#This Row],[چندم]]+1,30))","v":""}]
[null,1674,null,null,null,{"$f":"IFERROR(FIND(\"_\",Table3[[#This Row],[شماره تماس]]),0)","v":0},{"$f":"IF(Table3[[#This Row],[چندم]]=0,Table3[[#This Row],[شماره تماس]],MID(Table3[[#This Row],[شماره تماس]],1,Table3[[#This Row],[چندم]]-1))","v":0},{"$f":"IF(Table3[[#This Row],[چندم]]=0,\"\",MID(Table3[[#This Row],[شماره تماس]],Table3[[#This Row],[چندم]]+1,30))","v":""}]
[null,1675,null,null,null,{"$f":"IFERROR(FIND(\"_\",Table3[[#This Row],[شماره تماس]]),0)","v":0},{"$f":"IF(Table3[[#This Row],[چندم]]=0,Table3[[#This Row],[شماره تماس]],MID(Table3[[#This Row],[شماره تماس]],1,Table3[[#This Row],[چندم]]-1))","v":0},{"$f":"IF(Table3[[#This Row],[چندم]]=0,\"\",MID(Table3[[#This Row],[شماره تماس]],Table3[[#This Row],[چندم]]+1,30))","v":""}]
[null,1676,null,null,null,{"$f":"IFERROR(FIND(\"_\",Table3[[#This Row],[شماره تماس]]),0)","v":0},{"$f":"IF(Table3[[#This Row],[چندم]]=0,Table3[[#This Row],[شماره تماس]],MID(Table3[[#This Row],[شماره تماس]],1,Table3[[#This Row],[چندم]]-1))","v":0},{"$f":"IF(Table3[[#This Row],[چندم]]=0,\"\",MID(Table3[[#This Row],[شماره تماس]],Table3[[#This Row],[چندم]]+1,30))","v":""}]
[null,1677,null,null,null,{"$f":"IFERROR(FIND(\"_\",Table3[[#This Row],[شماره تماس]]),0)","v":0},{"$f":"IF(Table3[[#This Row],[چندم]]=0,Table3[[#This Row],[شماره تماس]],MID(Table3[[#This Row],[شماره تماس]],1,Table3[[#This Row],[چندم]]-1))","v":0},{"$f":"IF(Table3[[#This Row],[چندم]]=0,\"\",MID(Table3[[#This Row],[شماره تماس]],Table3[[#This Row],[چندم]]+1,30))","v":""}]
[null,1678,null,null,null,{"$f":"IFERROR(FIND(\"_\",Table3[[#This Row],[شماره تماس]]),0)","v":0},{"$f":"IF(Table3[[#This Row],[چندم]]=0,Table3[[#This Row],[شماره تماس]],MID(Table3[[#This Row],[شماره تماس]],1,Table3[[#This Row],[چندم]]-1))","v":0},{"$f":"IF(Table3[[#This Row],[چندم]]=0,\"\",MID(Table3[[#This Row],[شماره تماس]],Table3[[#This Row],[چندم]]+1,30))","v":""}]
[null,1679,null,null,null,{"$f":"IFERROR(FIND(\"_\",Table3[[#This Row],[شماره تماس]]),0)","v":0},{"$f":"IF(Table3[[#This Row],[چندم]]=0,Table3[[#This Row],[شماره تماس]],MID(Table3[[#This Row],[شماره تماس]],1,Table3[[#This Row],[چندم]]-1))","v":0},{"$f":"IF(Table3[[#This Row],[چندم]]=0,\"\",MID(Table3[[#This Row],[شماره تماس]],Table3[[#This Row],[چندم]]+1,30))","v":""}]
[null,1680,null,null,null,{"$f":"IFERROR(FIND(\"_\",Table3[[#This Row],[شماره تماس]]),0)","v":0},{"$f":"IF(Table3[[#This Row],[چندم]]=0,Table3[[#This Row],[شماره تماس]],MID(Table3[[#This Row],[شماره تماس]],1,Table3[[#This Row],[چندم]]-1))","v":0},{"$f":"IF(Table3[[#This Row],[چندم]]=0,\"\",MID(Table3[[#This Row],[شماره تماس]],Table3[[#This Row],[چندم]]+1,30))","v":""}]
[null,1681,null,null,null,{"$f":"IFERROR(FIND(\"_\",Table3[[#This Row],[شماره تماس]]),0)","v":0},{"$f":"IF(Table3[[#This Row],[چندم]]=0,Table3[[#This Row],[شماره تماس]],MID(Table3[[#This Row],[شماره تماس]],1,Table3[[#This Row],[چندم]]-1))","v":0},{"$f":"IF(Table3[[#This Row],[چندم]]=0,\"\",MID(Table3[[#This Row],[شماره تماس]],Table3[[#This Row],[چندم]]+1,30))","v":""}]
[null,1682,null,null,null,{"$f":"IFERROR(FIND(\"_\",Table3[[#This Row],[شماره تماس]]),0)","v":0},{"$f":"IF(Table3[[#This Row],[چندم]]=0,Table3[[#This Row],[شماره تماس]],MID(Table3[[#This Row],[شماره تماس]],1,Table3[[#This Row],[چندم]]-1))","v":0},{"$f":"IF(Table3[[#This Row],[چندم]]=0,\"\",MID(Table3[[#This Row],[شماره تماس]],Table3[[#This Row],[چندم]]+1,30))","v":""}]
[null,1683,null,null,null,{"$f":"IFERROR(FIND(\"_\",Table3[[#This Row],[شماره تماس]]),0)","v":0},{"$f":"IF(Table3[[#This Row],[چندم]]=0,Table3[[#This Row],[شماره تماس]],MID(Table3[[#This Row],[شماره تماس]],1,Table3[[#This Row],[چندم]]-1))","v":0},{"$f":"IF(Table3[[#This Row],[چندم]]=0,\"\",MID(Table3[[#This Row],[شماره تماس]],Table3[[#This Row],[چندم]]+1,30))","v":""}]
[null,1684,null,null,null,{"$f":"IFERROR(FIND(\"_\",Table3[[#This Row],[شماره تماس]]),0)","v":0},{"$f":"IF(Table3[[#This Row],[چندم]]=0,Table3[[#This Row],[شماره تماس]],MID(Table3[[#This Row],[شماره تماس]],1,Table3[[#This Row],[چندم]]-1))","v":0},{"$f":"IF(Table3[[#This Row],[چندم]]=0,\"\",MID(Table3[[#This Row],[شماره تماس]],Table3[[#This Row],[چندم]]+1,30))","v":""}]
[null,1685,null,null,null,{"$f":"IFERROR(FIND(\"_\",Table3[[#This Row],[شماره تماس]]),0)","v":0},{"$f":"IF(Table3[[#This Row],[چندم]]=0,Table3[[#This Row],[شماره تماس]],MID(Table3[[#This Row],[شماره تماس]],1,Table3[[#This Row],[چندم]]-1))","v":0},{"$f":"IF(Table3[[#This Row],[چندم]]=0,\"\",MID(Table3[[#This Row],[شماره تماس]],Table3[[#This Row],[چندم]]+1,30))","v":""}]
[null,1686,null,null,null,{"$f":"IFERROR(FIND(\"_\",Table3[[#This Row],[شماره تماس]]),0)","v":0},{"$f":"IF(Table3[[#This Row],[چندم]]=0,Table3[[#This Row],[شماره تماس]],MID(Table3[[#This Row],[شماره تماس]],1,Table3[[#This Row],[چندم]]-1))","v":0},{"$f":"IF(Table3[[#This Row],[چندم]]=0,\"\",MID(Table3[[#This Row],[شماره تماس]],Table3[[#This Row],[چندم]]+1,30))","v":""}]
[null,1687,null,null,null,{"$f":"IFERROR(FIND(\"_\",Table3[[#This Row],[شماره تماس]]),0)","v":0},{"$f":"IF(Table3[[#This Row],[چندم]]=0,Table3[[#This Row],[شماره تماس]],MID(Table3[[#This Row],[شماره تماس]],1,Table3[[#This Row],[چندم]]-1))","v":0},{"$f":"IF(Table3[[#This Row],[چندم]]=0,\"\",MID(Table3[[#This Row],[شماره تماس]],Table3[[#This Row],[چندم]]+1,30))","v":""}]
[null,1688,null,null,null,{"$f":"IFERROR(FIND(\"_\",Table3[[#This Row],[شماره تماس]]),0)","v":0},{"$f":"IF(Table3[[#This Row],[چندم]]=0,Table3[[#This Row],[شماره تماس]],MID(Table3[[#This Row],[شماره تماس]],1,Table3[[#This Row],[چندم]]-1))","v":0},{"$f":"IF(Table3[[#This Row],[چندم]]=0,\"\",MID(Table3[[#This Row],[شماره تماس]],Table3[[#This Row],[چندم]]+1,30))","v":""}]
[null,1689,null,null,null,{"$f":"IFERROR(FIND(\"_\",Table3[[#This Row],[شماره تماس]]),0)","v":0},{"$f":"IF(Table3[[#This Row],[چندم]]=0,Table3[[#This Row],[شماره تماس]],MID(Table3[[#This Row],[شماره تماس]],1,Table3[[#This Row],[چندم]]-1))","v":0},{"$f":"IF(Table3[[#This Row],[چندم]]=0,\"\",MID(Table3[[#This Row],[شماره تماس]],Table3[[#This Row],[چندم]]+1,30))","v":""}]
[null,1690,null,null,null,{"$f":"IFERROR(FIND(\"_\",Table3[[#This Row],[شماره تماس]]),0)","v":0},{"$f":"IF(Table3[[#This Row],[چندم]]=0,Table3[[#This Row],[شماره تماس]],MID(Table3[[#This Row],[شماره تماس]],1,Table3[[#This Row],[چندم]]-1))","v":0},{"$f":"IF(Table3[[#This Row],[چندم]]=0,\"\",MID(Table3[[#This Row],[شماره تماس]],Table3[[#This Row],[چندم]]+1,30))","v":""}]
[null,1691,null,null,null,{"$f":"IFERROR(FIND(\"_\",Table3[[#This Row],[شماره تماس]]),0)","v":0},{"$f":"IF(Table3[[#This Row],[چندم]]=0,Table3[[#This Row],[شماره تماس]],MID(Table3[[#This Row],[شماره تماس]],1,Table3[[#This Row],[چندم]]-1))","v":0},{"$f":"IF(Table3[[#This Row],[چندم]]=0,\"\",MID(Table3[[#This Row],[شماره تماس]],Table3[[#This Row],[چندم]]+1,30))","v":""}]
[null,1692,null,null,null,{"$f":"IFERROR(FIND(\"_\",Table3[[#This Row],[شماره تماس]]),0)","v":0},{"$f":"IF(Table3[[#This Row],[چندم]]=0,Table3[[#This Row],[شماره تماس]],MID(Table3[[#This Row],[شماره تماس]],1,Table3[[#This Row],[چندم]]-1))","v":0},{"$f":"IF(Table3[[#This Row],[چندم]]=0,\"\",MID(Table3[[#This Row],[شماره تماس]],Table3[[#This Row],[چندم]]+1,30))","v":""}]
[null,1693,null,null,null,{"$f":"IFERROR(FIND(\"_\",Table3[[#This Row],[شماره تماس]]),0)","v":0},{"$f":"IF(Table3[[#This Row],[چندم]]=0,Table3[[#This Row],[شماره تماس]],MID(Table3[[#This Row],[شماره تماس]],1,Table3[[#This Row],[چندم]]-1))","v":0},{"$f":"IF(Table3[[#This Row],[چندم]]=0,\"\",MID(Table3[[#This Row],[شماره تماس]],Table3[[#This Row],[چندم]]+1,30))","v":""}]
[null,1694,null,null,null,{"$f":"IFERROR(FIND(\"_\",Table3[[#This Row],[شماره تماس]]),0)","v":0},{"$f":"IF(Table3[[#This Row],[چندم]]=0,Table3[[#This Row],[شماره تماس]],MID(Table3[[#This Row],[شماره تماس]],1,Table3[[#This Row],[چندم]]-1))","v":0},{"$f":"IF(Table3[[#This Row],[چندم]]=0,\"\",MID(Table3[[#This Row],[شماره تماس]],Table3[[#This Row],[چندم]]+1,30))","v":""}]
[null,1695,null,null,null,{"$f":"IFERROR(FIND(\"_\",Table3[[#This Row],[شماره تماس]]),0)","v":0},{"$f":"IF(Table3[[#This Row],[چندم]]=0,Table3[[#This Row],[شماره تماس]],MID(Table3[[#This Row],[شماره تماس]],1,Table3[[#This Row],[چندم]]-1))","v":0},{"$f":"IF(Table3[[#This Row],[چندم]]=0,\"\",MID(Table3[[#This Row],[شماره تماس]],Table3[[#This Row],[چندم]]+1,30))","v":""}]
[null,1696,null,null,null,{"$f":"IFERROR(FIND(\"_\",Table3[[#This Row],[شماره تماس]]),0)","v":0},{"$f":"IF(Table3[[#This Row],[چندم]]=0,Table3[[#This Row],[شماره تماس]],MID(Table3[[#This Row],[شماره تماس]],1,Table3[[#This Row],[چندم]]-1))","v":0},{"$f":"IF(Table3[[#This Row],[چندم]]=0,\"\",MID(Table3[[#This Row],[شماره تماس]],Table3[[#This Row],[چندم]]+1,30))","v":""}]
[null,1697,null,null,null,{"$f":"IFERROR(FIND(\"_\",Table3[[#This Row],[شماره تماس]]),0)","v":0},{"$f":"IF(Table3[[#This Row],[چندم]]=0,Table3[[#This Row],[شماره تماس]],MID(Table3[[#This Row],[شماره تماس]],1,Table3[[#This Row],[چندم]]-1))","v":0},{"$f":"IF(Table3[[#This Row],[چندم]]=0,\"\",MID(Table3[[#This Row],[شماره تماس]],Table3[[#This Row],[چندم]]+1,30))","v":""}]
[null,1698,null,null,null,{"$f":"IFERROR(FIND(\"_\",Table3[[#This Row],[شماره تماس]]),0)","v":0},{"$f":"IF(Table3[[#This Row],[چندم]]=0,Table3[[#This Row],[شماره تماس]],MID(Table3[[#This Row],[شماره تماس]],1,Table3[[#This Row],[چندم]]-1))","v":0},{"$f":"IF(Table3[[#This Row],[چندم]]=0,\"\",MID(Table3[[#This Row],[شماره تماس]],Table3[[#This Row],[چندم]]+1,30))","v":""}]
[null,1699,null,null,null,{"$f":"IFERROR(FIND(\"_\",Table3[[#This Row],[شماره تماس]]),0)","v":0},{"$f":"IF(Table3[[#This Row],[چندم]]=0,Table3[[#This Row],[شماره تماس]],MID(Table3[[#This Row],[شماره تماس]],1,Table3[[#This Row],[چندم]]-1))","v":0},{"$f":"IF(Table3[[#This Row],[چندم]]=0,\"\",MID(Table3[[#This Row],[شماره تماس]],Table3[[#This Row],[چندم]]+1,30))","v":""}]
[null,1700,null,null,null,{"$f":"IFERROR(FIND(\"_\",Table3[[#This Row],[شماره تماس]]),0)","v":0},{"$f":"IF(Table3[[#This Row],[چندم]]=0,Table3[[#This Row],[شماره تماس]],MID(Table3[[#This Row],[شماره تماس]],1,Table3[[#This Row],[چندم]]-1))","v":0},{"$f":"IF(Table3[[#This Row],[چندم]]=0,\"\",MID(Table3[[#This Row],[شماره تماس]],Table3[[#This Row],[چندم]]+1,30))","v":""}]
[null,1701,null,null,null,{"$f":"IFERROR(FIND(\"_\",Table3[[#This Row],[شماره تماس]]),0)","v":0},{"$f":"IF(Table3[[#This Row],[چندم]]=0,Table3[[#This Row],[شماره تماس]],MID(Table3[[#This Row],[شماره تماس]],1,Table3[[#This Row],[چندم]]-1))","v":0},{"$f":"IF(Table3[[#This Row],[چندم]]=0,\"\",MID(Table3[[#This Row],[شماره تماس]],Table3[[#This Row],[چندم]]+1,30))","v":""}]
[null,1702,null,null,null,{"$f":"IFERROR(FIND(\"_\",Table3[[#This Row],[شماره تماس]]),0)","v":0},{"$f":"IF(Table3[[#This Row],[چندم]]=0,Table3[[#This Row],[شماره تماس]],MID(Table3[[#This Row],[شماره تماس]],1,Table3[[#This Row],[چندم]]-1))","v":0},{"$f":"IF(Table3[[#This Row],[چندم]]=0,\"\",MID(Table3[[#This Row],[شماره تماس]],Table3[[#This Row],[چندم]]+1,30))","v":""}]
[null,{"$f":"ROW()-3","v":1703},null,null,null,{"$f":"IFERROR(FIND(\"_\",Table3[[#This Row],[شماره تماس]]),0)","v":0},{"$f":"IF(Table3[[#This Row],[چندم]]=0,Table3[[#This Row],[شماره تماس]],MID(Table3[[#This Row],[شماره تماس]],1,Table3[[#This Row],[چندم]]-1))","v":0},{"$f":"IF(Table3[[#This Row],[چندم]]=0,\"\",MID(Table3[[#This Row],[شماره تماس]],Table3[[#This Row],[چندم]]+1,30))","v":""}]
[null,1704,null,null,null,{"$f":"IFERROR(FIND(\"_\",Table3[[#This Row],[شماره تماس]]),0)","v":0},{"$f":"IF(Table3[[#This Row],[چندم]]=0,Table3[[#This Row],[شماره تماس]],MID(Table3[[#This Row],[شماره تماس]],1,Table3[[#This Row],[چندم]]-1))","v":0},{"$f":"IF(Table3[[#This Row],[چندم]]=0,\"\",MID(Table3[[#This Row],[شماره تماس]],Table3[[#This Row],[چندم]]+1,30))","v":""}]
[null,1705,null,null,null,{"$f":"IFERROR(FIND(\"_\",Table3[[#This Row],[شماره تماس]]),0)","v":0},{"$f":"IF(Table3[[#This Row],[چندم]]=0,Table3[[#This Row],[شماره تماس]],MID(Table3[[#This Row],[شماره تماس]],1,Table3[[#This Row],[چندم]]-1))","v":0},{"$f":"IF(Table3[[#This Row],[چندم]]=0,\"\",MID(Table3[[#This Row],[شماره تماس]],Table3[[#This Row],[چندم]]+1,30))","v":""}]
[null,1706,null,null,null,{"$f":"IFERROR(FIND(\"_\",Table3[[#This Row],[شماره تماس]]),0)","v":0},{"$f":"IF(Table3[[#This Row],[چندم]]=0,Table3[[#This Row],[شماره تماس]],MID(Table3[[#This Row],[شماره تماس]],1,Table3[[#This Row],[چندم]]-1))","v":0},{"$f":"IF(Table3[[#This Row],[چندم]]=0,\"\",MID(Table3[[#This Row],[شماره تماس]],Table3[[#This Row],[چندم]]+1,30))","v":""}]
[null,1707,null,null,null,{"$f":"IFERROR(FIND(\"_\",Table3[[#This Row],[شماره تماس]]),0)","v":0},{"$f":"IF(Table3[[#This Row],[چندم]]=0,Table3[[#This Row],[شماره تماس]],MID(Table3[[#This Row],[شماره تماس]],1,Table3[[#This Row],[چندم]]-1))","v":0},{"$f":"IF(Table3[[#This Row],[چندم]]=0,\"\",MID(Table3[[#This Row],[شماره تماس]],Table3[[#This Row],[چندم]]+1,30))","v":""}]
[null,1708,null,null,null,{"$f":"IFERROR(FIND(\"_\",Table3[[#This Row],[شماره تماس]]),0)","v":0},{"$f":"IF(Table3[[#This Row],[چندم]]=0,Table3[[#This Row],[شماره تماس]],MID(Table3[[#This Row],[شماره تماس]],1,Table3[[#This Row],[چندم]]-1))","v":0},{"$f":"IF(Table3[[#This Row],[چندم]]=0,\"\",MID(Table3[[#This Row],[شماره تماس]],Table3[[#This Row],[چندم]]+1,30))","v":""}]
[null,1709,null,null,null,{"$f":"IFERROR(FIND(\"_\",Table3[[#This Row],[شماره تماس]]),0)","v":0},{"$f":"IF(Table3[[#This Row],[چندم]]=0,Table3[[#This Row],[شماره تماس]],MID(Table3[[#This Row],[شماره تماس]],1,Table3[[#This Row],[چندم]]-1))","v":0},{"$f":"IF(Table3[[#This Row],[چندم]]=0,\"\",MID(Table3[[#This Row],[شماره تماس]],Table3[[#This Row],[چندم]]+1,30))","v":""}]
[null,1710,null,null,null,{"$f":"IFERROR(FIND(\"_\",Table3[[#This Row],[شماره تماس]]),0)","v":0},{"$f":"IF(Table3[[#This Row],[چندم]]=0,Table3[[#This Row],[شماره تماس]],MID(Table3[[#This Row],[شماره تماس]],1,Table3[[#This Row],[چندم]]-1))","v":0},{"$f":"IF(Table3[[#This Row],[چندم]]=0,\"\",MID(Table3[[#This Row],[شماره تماس]],Table3[[#This Row],[چندم]]+1,30))","v":""}]
[null,1711,null,null,null,{"$f":"IFERROR(FIND(\"_\",Table3[[#This Row],[شماره تماس]]),0)","v":0},{"$f":"IF(Table3[[#This Row],[چندم]]=0,Table3[[#This Row],[شماره تماس]],MID(Table3[[#This Row],[شماره تماس]],1,Table3[[#This Row],[چندم]]-1))","v":0},{"$f":"IF(Table3[[#This Row],[چندم]]=0,\"\",MID(Table3[[#This Row],[شماره تماس]],Table3[[#This Row],[چندم]]+1,30))","v":""}]
[null,1712,null,null,null,{"$f":"IFERROR(FIND(\"_\",Table3[[#This Row],[شماره تماس]]),0)","v":0},{"$f":"IF(Table3[[#This Row],[چندم]]=0,Table3[[#This Row],[شماره تماس]],MID(Table3[[#This Row],[شماره تماس]],1,Table3[[#This Row],[چندم]]-1))","v":0},{"$f":"IF(Table3[[#This Row],[چندم]]=0,\"\",MID(Table3[[#This Row],[شماره تماس]],Table3[[#This Row],[چندم]]+1,30))","v":""}]
[null,1713,null,null,null,{"$f":"IFERROR(FIND(\"_\",Table3[[#This Row],[شماره تماس]]),0)","v":0},{"$f":"IF(Table3[[#This Row],[چندم]]=0,Table3[[#This Row],[شماره تماس]],MID(Table3[[#This Row],[شماره تماس]],1,Table3[[#This Row],[چندم]]-1))","v":0},{"$f":"IF(Table3[[#This Row],[چندم]]=0,\"\",MID(Table3[[#This Row],[شماره تماس]],Table3[[#This Row],[چندم]]+1,30))","v":""}]
[null,1714,null,null,null,{"$f":"IFERROR(FIND(\"_\",Table3[[#This Row],[شماره تماس]]),0)","v":0},{"$f":"IF(Table3[[#This Row],[چندم]]=0,Table3[[#This Row],[شماره تماس]],MID(Table3[[#This Row],[شماره تماس]],1,Table3[[#This Row],[چندم]]-1))","v":0},{"$f":"IF(Table3[[#This Row],[چندم]]=0,\"\",MID(Table3[[#This Row],[شماره تماس]],Table3[[#This Row],[چندم]]+1,30))","v":""}]
[null,1715,null,null,null,{"$f":"IFERROR(FIND(\"_\",Table3[[#This Row],[شماره تماس]]),0)","v":0},{"$f":"IF(Table3[[#This Row],[چندم]]=0,Table3[[#This Row],[شماره تماس]],MID(Table3[[#This Row],[شماره تماس]],1,Table3[[#This Row],[چندم]]-1))","v":0},{"$f":"IF(Table3[[#This Row],[چندم]]=0,\"\",MID(Table3[[#This Row],[شماره تماس]],Table3[[#This Row],[چندم]]+1,30))","v":""}]
[null,1716,null,null,null,{"$f":"IFERROR(FIND(\"_\",Table3[[#This Row],[شماره تماس]]),0)","v":0},{"$f":"IF(Table3[[#This Row],[چندم]]=0,Table3[[#This Row],[شماره تماس]],MID(Table3[[#This Row],[شماره تماس]],1,Table3[[#This Row],[چندم]]-1))","v":0},{"$f":"IF(Table3[[#This Row],[چندم]]=0,\"\",MID(Table3[[#This Row],[شماره تماس]],Table3[[#This Row],[چندم]]+1,30))","v":""}]
[null,1717,null,null,null,{"$f":"IFERROR(FIND(\"_\",Table3[[#This Row],[شماره تماس]]),0)","v":0},{"$f":"IF(Table3[[#This Row],[چندم]]=0,Table3[[#This Row],[شماره تماس]],MID(Table3[[#This Row],[شماره تماس]],1,Table3[[#This Row],[چندم]]-1))","v":0},{"$f":"IF(Table3[[#This Row],[چندم]]=0,\"\",MID(Table3[[#This Row],[شماره تماس]],Table3[[#This Row],[چندم]]+1,30))","v":""}]
[null,1718,null,null,null,{"$f":"IFERROR(FIND(\"_\",Table3[[#This Row],[شماره تماس]]),0)","v":0},{"$f":"IF(Table3[[#This Row],[چندم]]=0,Table3[[#This Row],[شماره تماس]],MID(Table3[[#This Row],[شماره تماس]],1,Table3[[#This Row],[چندم]]-1))","v":0},{"$f":"IF(Table3[[#This Row],[چندم]]=0,\"\",MID(Table3[[#This Row],[شماره تماس]],Table3[[#This Row],[چندم]]+1,30))","v":""}]
[null,1719,null,null,null,{"$f":"IFERROR(FIND(\"_\",Table3[[#This Row],[شماره تماس]]),0)","v":0},{"$f":"IF(Table3[[#This Row],[چندم]]=0,Table3[[#This Row],[شماره تماس]],MID(Table3[[#This Row],[شماره تماس]],1,Table3[[#This Row],[چندم]]-1))","v":0},{"$f":"IF(Table3[[#This Row],[چندم]]=0,\"\",MID(Table3[[#This Row],[شماره تماس]],Table3[[#This Row],[چندم]]+1,30))","v":""}]
[null,1720,null,null,null,{"$f":"IFERROR(FIND(\"_\",Table3[[#This Row],[شماره تماس]]),0)","v":0},{"$f":"IF(Table3[[#This Row],[چندم]]=0,Table3[[#This Row],[شماره تماس]],MID(Table3[[#This Row],[شماره تماس]],1,Table3[[#This Row],[چندم]]-1))","v":0},{"$f":"IF(Table3[[#This Row],[چندم]]=0,\"\",MID(Table3[[#This Row],[شماره تماس]],Table3[[#This Row],[چندم]]+1,30))","v":""}]
[null,1721,null,null,null,{"$f":"IFERROR(FIND(\"_\",Table3[[#This Row],[شماره تماس]]),0)","v":0},{"$f":"IF(Table3[[#This Row],[چندم]]=0,Table3[[#This Row],[شماره تماس]],MID(Table3[[#This Row],[شماره تماس]],1,Table3[[#This Row],[چندم]]-1))","v":0},{"$f":"IF(Table3[[#This Row],[چندم]]=0,\"\",MID(Table3[[#This Row],[شماره تماس]],Table3[[#This Row],[چندم]]+1,30))","v":""}]
[null,1722,null,null,null,{"$f":"IFERROR(FIND(\"_\",Table3[[#This Row],[شماره تماس]]),0)","v":0},{"$f":"IF(Table3[[#This Row],[چندم]]=0,Table3[[#This Row],[شماره تماس]],MID(Table3[[#This Row],[شماره تماس]],1,Table3[[#This Row],[چندم]]-1))","v":0},{"$f":"IF(Table3[[#This Row],[چندم]]=0,\"\",MID(Table3[[#This Row],[شماره تماس]],Table3[[#This Row],[چندم]]+1,30))","v":""}]
[null,1723,null,null,null,{"$f":"IFERROR(FIND(\"_\",Table3[[#This Row],[شماره تماس]]),0)","v":0},{"$f":"IF(Table3[[#This Row],[چندم]]=0,Table3[[#This Row],[شماره تماس]],MID(Table3[[#This Row],[شماره تماس]],1,Table3[[#This Row],[چندم]]-1))","v":0},{"$f":"IF(Table3[[#This Row],[چندم]]=0,\"\",MID(Table3[[#This Row],[شماره تماس]],Table3[[#This Row],[چندم]]+1,30))","v":""}]
[null,1724,null,null,null,{"$f":"IFERROR(FIND(\"_\",Table3[[#This Row],[شماره تماس]]),0)","v":0},{"$f":"IF(Table3[[#This Row],[چندم]]=0,Table3[[#This Row],[شماره تماس]],MID(Table3[[#This Row],[شماره تماس]],1,Table3[[#This Row],[چندم]]-1))","v":0},{"$f":"IF(Table3[[#This Row],[چندم]]=0,\"\",MID(Table3[[#This Row],[شماره تماس]],Table3[[#This Row],[چندم]]+1,30))","v":""}]
[null,1725,null,null,null,{"$f":"IFERROR(FIND(\"_\",Table3[[#This Row],[شماره تماس]]),0)","v":0},{"$f":"IF(Table3[[#This Row],[چندم]]=0,Table3[[#This Row],[شماره تماس]],MID(Table3[[#This Row],[شماره تماس]],1,Table3[[#This Row],[چندم]]-1))","v":0},{"$f":"IF(Table3[[#This Row],[چندم]]=0,\"\",MID(Table3[[#This Row],[شماره تماس]],Table3[[#This Row],[چندم]]+1,30))","v":""}]
[null,1726,null,null,null,{"$f":"IFERROR(FIND(\"_\",Table3[[#This Row],[شماره تماس]]),0)","v":0},{"$f":"IF(Table3[[#This Row],[چندم]]=0,Table3[[#This Row],[شماره تماس]],MID(Table3[[#This Row],[شماره تماس]],1,Table3[[#This Row],[چندم]]-1))","v":0},{"$f":"IF(Table3[[#This Row],[چندم]]=0,\"\",MID(Table3[[#This Row],[شماره تماس]],Table3[[#This Row],[چندم]]+1,30))","v":""}]
[null,1727,null,null,null,{"$f":"IFERROR(FIND(\"_\",Table3[[#This Row],[شماره تماس]]),0)","v":0},{"$f":"IF(Table3[[#This Row],[چندم]]=0,Table3[[#This Row],[شماره تماس]],MID(Table3[[#This Row],[شماره تماس]],1,Table3[[#This Row],[چندم]]-1))","v":0},{"$f":"IF(Table3[[#This Row],[چندم]]=0,\"\",MID(Table3[[#This Row],[شماره تماس]],Table3[[#This Row],[چندم]]+1,30))","v":""}]
[null,1728,null,null,null,{"$f":"IFERROR(FIND(\"_\",Table3[[#This Row],[شماره تماس]]),0)","v":0},{"$f":"IF(Table3[[#This Row],[چندم]]=0,Table3[[#This Row],[شماره تماس]],MID(Table3[[#This Row],[شماره تماس]],1,Table3[[#This Row],[چندم]]-1))","v":0},{"$f":"IF(Table3[[#This Row],[چندم]]=0,\"\",MID(Table3[[#This Row],[شماره تماس]],Table3[[#This Row],[چندم]]+1,30))","v":""}]
[null,1729,null,null,null,{"$f":"IFERROR(FIND(\"_\",Table3[[#This Row],[شماره تماس]]),0)","v":0},{"$f":"IF(Table3[[#This Row],[چندم]]=0,Table3[[#This Row],[شماره تماس]],MID(Table3[[#This Row],[شماره تماس]],1,Table3[[#This Row],[چندم]]-1))","v":0},{"$f":"IF(Table3[[#This Row],[چندم]]=0,\"\",MID(Table3[[#This Row],[شماره تماس]],Table3[[#This Row],[چندم]]+1,30))","v":""}]
[null,1730,null,null,null,{"$f":"IFERROR(FIND(\"_\",Table3[[#This Row],[شماره تماس]]),0)","v":0},{"$f":"IF(Table3[[#This Row],[چندم]]=0,Table3[[#This Row],[شماره تماس]],MID(Table3[[#This Row],[شماره تماس]],1,Table3[[#This Row],[چندم]]-1))","v":0},{"$f":"IF(Table3[[#This Row],[چندم]]=0,\"\",MID(Table3[[#This Row],[شماره تماس]],Table3[[#This Row],[چندم]]+1,30))","v":""}]
[null,1731,null,null,null,{"$f":"IFERROR(FIND(\"_\",Table3[[#This Row],[شماره تماس]]),0)","v":0},{"$f":"IF(Table3[[#This Row],[چندم]]=0,Table3[[#This Row],[شماره تماس]],MID(Table3[[#This Row],[شماره تماس]],1,Table3[[#This Row],[چندم]]-1))","v":0},{"$f":"IF(Table3[[#This Row],[چندم]]=0,\"\",MID(Table3[[#This Row],[شماره تماس]],Table3[[#This Row],[چندم]]+1,30))","v":""}]
[null,1732,null,null,null,{"$f":"IFERROR(FIND(\"_\",Table3[[#This Row],[شماره تماس]]),0)","v":0},{"$f":"IF(Table3[[#This Row],[چندم]]=0,Table3[[#This Row],[شماره تماس]],MID(Table3[[#This Row],[شماره تماس]],1,Table3[[#This Row],[چندم]]-1))","v":0},{"$f":"IF(Table3[[#This Row],[چندم]]=0,\"\",MID(Table3[[#This Row],[شماره تماس]],Table3[[#This Row],[چندم]]+1,30))","v":""}]
[null,1733,null,null,null,{"$f":"IFERROR(FIND(\"_\",Table3[[#This Row],[شماره تماس]]),0)","v":0},{"$f":"IF(Table3[[#This Row],[چندم]]=0,Table3[[#This Row],[شماره تماس]],MID(Table3[[#This Row],[شماره تماس]],1,Table3[[#This Row],[چندم]]-1))","v":0},{"$f":"IF(Table3[[#This Row],[چندم]]=0,\"\",MID(Table3[[#This Row],[شماره تماس]],Table3[[#This Row],[چندم]]+1,30))","v":""}]
[null,1734,null,null,null,{"$f":"IFERROR(FIND(\"_\",Table3[[#This Row],[شماره تماس]]),0)","v":0},{"$f":"IF(Table3[[#This Row],[چندم]]=0,Table3[[#This Row],[شماره تماس]],MID(Table3[[#This Row],[شماره تماس]],1,Table3[[#This Row],[چندم]]-1))","v":0},{"$f":"IF(Table3[[#This Row],[چندم]]=0,\"\",MID(Table3[[#This Row],[شماره تماس]],Table3[[#This Row],[چندم]]+1,30))","v":""}]
[null,1735,null,null,null,{"$f":"IFERROR(FIND(\"_\",Table3[[#This Row],[شماره تماس]]),0)","v":0},{"$f":"IF(Table3[[#This Row],[چندم]]=0,Table3[[#This Row],[شماره تماس]],MID(Table3[[#This Row],[شماره تماس]],1,Table3[[#This Row],[چندم]]-1))","v":0},{"$f":"IF(Table3[[#This Row],[چندم]]=0,\"\",MID(Table3[[#This Row],[شماره تماس]],Table3[[#This Row],[چندم]]+1,30))","v":""}]
[null,1736,null,null,null,{"$f":"IFERROR(FIND(\"_\",Table3[[#This Row],[شماره تماس]]),0)","v":0},{"$f":"IF(Table3[[#This Row],[چندم]]=0,Table3[[#This Row],[شماره تماس]],MID(Table3[[#This Row],[شماره تماس]],1,Table3[[#This Row],[چندم]]-1))","v":0},{"$f":"IF(Table3[[#This Row],[چندم]]=0,\"\",MID(Table3[[#This Row],[شماره تماس]],Table3[[#This Row],[چندم]]+1,30))","v":""}]
[null,1737,null,null,null,{"$f":"IFERROR(FIND(\"_\",Table3[[#This Row],[شماره تماس]]),0)","v":0},{"$f":"IF(Table3[[#This Row],[چندم]]=0,Table3[[#This Row],[شماره تماس]],MID(Table3[[#This Row],[شماره تماس]],1,Table3[[#This Row],[چندم]]-1))","v":0},{"$f":"IF(Table3[[#This Row],[چندم]]=0,\"\",MID(Table3[[#This Row],[شماره تماس]],Table3[[#This Row],[چندم]]+1,30))","v":""}]
[null,1738,null,null,null,{"$f":"IFERROR(FIND(\"_\",Table3[[#This Row],[شماره تماس]]),0)","v":0},{"$f":"IF(Table3[[#This Row],[چندم]]=0,Table3[[#This Row],[شماره تماس]],MID(Table3[[#This Row],[شماره تماس]],1,Table3[[#This Row],[چندم]]-1))","v":0},{"$f":"IF(Table3[[#This Row],[چندم]]=0,\"\",MID(Table3[[#This Row],[شماره تماس]],Table3[[#This Row],[چندم]]+1,30))","v":""}]
[null,1739,null,null,null,{"$f":"IFERROR(FIND(\"_\",Table3[[#This Row],[شماره تماس]]),0)","v":0},{"$f":"IF(Table3[[#This Row],[چندم]]=0,Table3[[#This Row],[شماره تماس]],MID(Table3[[#This Row],[شماره تماس]],1,Table3[[#This Row],[چندم]]-1))","v":0},{"$f":"IF(Table3[[#This Row],[چندم]]=0,\"\",MID(Table3[[#This Row],[شماره تماس]],Table3[[#This Row],[چندم]]+1,30))","v":""}]
[null,1740,null,null,null,{"$f":"IFERROR(FIND(\"_\",Table3[[#This Row],[شماره تماس]]),0)","v":0},{"$f":"IF(Table3[[#This Row],[چندم]]=0,Table3[[#This Row],[شماره تماس]],MID(Table3[[#This Row],[شماره تماس]],1,Table3[[#This Row],[چندم]]-1))","v":0},{"$f":"IF(Table3[[#This Row],[چندم]]=0,\"\",MID(Table3[[#This Row],[شماره تماس]],Table3[[#This Row],[چندم]]+1,30))","v":""}]
[null,1741,null,null,null,{"$f":"IFERROR(FIND(\"_\",Table3[[#This Row],[شماره تماس]]),0)","v":0},{"$f":"IF(Table3[[#This Row],[چندم]]=0,Table3[[#This Row],[شماره تماس]],MID(Table3[[#This Row],[شماره تماس]],1,Table3[[#This Row],[چندم]]-1))","v":0},{"$f":"IF(Table3[[#This Row],[چندم]]=0,\"\",MID(Table3[[#This Row],[شماره تماس]],Table3[[#This Row],[چندم]]+1,30))","v":""}]
[null,1742,null,null,null,{"$f":"IFERROR(FIND(\"_\",Table3[[#This Row],[شماره تماس]]),0)","v":0},{"$f":"IF(Table3[[#This Row],[چندم]]=0,Table3[[#This Row],[شماره تماس]],MID(Table3[[#This Row],[شماره تماس]],1,Table3[[#This Row],[چندم]]-1))","v":0},{"$f":"IF(Table3[[#This Row],[چندم]]=0,\"\",MID(Table3[[#This Row],[شماره تماس]],Table3[[#This Row],[چندم]]+1,30))","v":""}]
[null,1743,null,null,null,{"$f":"IFERROR(FIND(\"_\",Table3[[#This Row],[شماره تماس]]),0)","v":0},{"$f":"IF(Table3[[#This Row],[چندم]]=0,Table3[[#This Row],[شماره تماس]],MID(Table3[[#This Row],[شماره تماس]],1,Table3[[#This Row],[چندم]]-1))","v":0},{"$f":"IF(Table3[[#This Row],[چندم]]=0,\"\",MID(Table3[[#This Row],[شماره تماس]],Table3[[#This Row],[چندم]]+1,30))","v":""}]
[null,1744,null,null,null,{"$f":"IFERROR(FIND(\"_\",Table3[[#This Row],[شماره تماس]]),0)","v":0},{"$f":"IF(Table3[[#This Row],[چندم]]=0,Table3[[#This Row],[شماره تماس]],MID(Table3[[#This Row],[شماره تماس]],1,Table3[[#This Row],[چندم]]-1))","v":0},{"$f":"IF(Table3[[#This Row],[چندم]]=0,\"\",MID(Table3[[#This Row],[شماره تماس]],Table3[[#This Row],[چندم]]+1,30))","v":""}]
[null,1745,null,null,null,{"$f":"IFERROR(FIND(\"_\",Table3[[#This Row],[شماره تماس]]),0)","v":0},{"$f":"IF(Table3[[#This Row],[چندم]]=0,Table3[[#This Row],[شماره تماس]],MID(Table3[[#This Row],[شماره تماس]],1,Table3[[#This Row],[چندم]]-1))","v":0},{"$f":"IF(Table3[[#This Row],[چندم]]=0,\"\",MID(Table3[[#This Row],[شماره تماس]],Table3[[#This Row],[چندم]]+1,30))","v":""}]
[null,1746,null,null,null,{"$f":"IFERROR(FIND(\"_\",Table3[[#This Row],[شماره تماس]]),0)","v":0},{"$f":"IF(Table3[[#This Row],[چندم]]=0,Table3[[#This Row],[شماره تماس]],MID(Table3[[#This Row],[شماره تماس]],1,Table3[[#This Row],[چندم]]-1))","v":0},{"$f":"IF(Table3[[#This Row],[چندم]]=0,\"\",MID(Table3[[#This Row],[شماره تماس]],Table3[[#This Row],[چندم]]+1,30))","v":""}]
[null,1747,null,null,null,{"$f":"IFERROR(FIND(\"_\",Table3[[#This Row],[شماره تماس]]),0)","v":0},{"$f":"IF(Table3[[#This Row],[چندم]]=0,Table3[[#This Row],[شماره تماس]],MID(Table3[[#This Row],[شماره تماس]],1,Table3[[#This Row],[چندم]]-1))","v":0},{"$f":"IF(Table3[[#This Row],[چندم]]=0,\"\",MID(Table3[[#This Row],[شماره تماس]],Table3[[#This Row],[چندم]]+1,30))","v":""}]
[null,1748,null,null,null,{"$f":"IFERROR(FIND(\"_\",Table3[[#This Row],[شماره تماس]]),0)","v":0},{"$f":"IF(Table3[[#This Row],[چندم]]=0,Table3[[#This Row],[شماره تماس]],MID(Table3[[#This Row],[شماره تماس]],1,Table3[[#This Row],[چندم]]-1))","v":0},{"$f":"IF(Table3[[#This Row],[چندم]]=0,\"\",MID(Table3[[#This Row],[شماره تماس]],Table3[[#This Row],[چندم]]+1,30))","v":""}]
[null,1749,null,null,null,{"$f":"IFERROR(FIND(\"_\",Table3[[#This Row],[شماره تماس]]),0)","v":0},{"$f":"IF(Table3[[#This Row],[چندم]]=0,Table3[[#This Row],[شماره تماس]],MID(Table3[[#This Row],[شماره تماس]],1,Table3[[#This Row],[چندم]]-1))","v":0},{"$f":"IF(Table3[[#This Row],[چندم]]=0,\"\",MID(Table3[[#This Row],[شماره تماس]],Table3[[#This Row],[چندم]]+1,30))","v":""}]
[null,1750,null,null,null,{"$f":"IFERROR(FIND(\"_\",Table3[[#This Row],[شماره تماس]]),0)","v":0},{"$f":"IF(Table3[[#This Row],[چندم]]=0,Table3[[#This Row],[شماره تماس]],MID(Table3[[#This Row],[شماره تماس]],1,Table3[[#This Row],[چندم]]-1))","v":0},{"$f":"IF(Table3[[#This Row],[چندم]]=0,\"\",MID(Table3[[#This Row],[شماره تماس]],Table3[[#This Row],[چندم]]+1,30))","v":""}]
[null,1751,null,null,null,{"$f":"IFERROR(FIND(\"_\",Table3[[#This Row],[شماره تماس]]),0)","v":0},{"$f":"IF(Table3[[#This Row],[چندم]]=0,Table3[[#This Row],[شماره تماس]],MID(Table3[[#This Row],[شماره تماس]],1,Table3[[#This Row],[چندم]]-1))","v":0},{"$f":"IF(Table3[[#This Row],[چندم]]=0,\"\",MID(Table3[[#This Row],[شماره تماس]],Table3[[#This Row],[چندم]]+1,30))","v":""}]
[null,1752,null,null,null,{"$f":"IFERROR(FIND(\"_\",Table3[[#This Row],[شماره تماس]]),0)","v":0},{"$f":"IF(Table3[[#This Row],[چندم]]=0,Table3[[#This Row],[شماره تماس]],MID(Table3[[#This Row],[شماره تماس]],1,Table3[[#This Row],[چندم]]-1))","v":0},{"$f":"IF(Table3[[#This Row],[چندم]]=0,\"\",MID(Table3[[#This Row],[شماره تماس]],Table3[[#This Row],[چندم]]+1,30))","v":""}]
[null,1753,null,null,null,{"$f":"IFERROR(FIND(\"_\",Table3[[#This Row],[شماره تماس]]),0)","v":0},{"$f":"IF(Table3[[#This Row],[چندم]]=0,Table3[[#This Row],[شماره تماس]],MID(Table3[[#This Row],[شماره تماس]],1,Table3[[#This Row],[چندم]]-1))","v":0},{"$f":"IF(Table3[[#This Row],[چندم]]=0,\"\",MID(Table3[[#This Row],[شماره تماس]],Table3[[#This Row],[چندم]]+1,30))","v":""}]
[null,1754,null,null,null,{"$f":"IFERROR(FIND(\"_\",Table3[[#This Row],[شماره تماس]]),0)","v":0},{"$f":"IF(Table3[[#This Row],[چندم]]=0,Table3[[#This Row],[شماره تماس]],MID(Table3[[#This Row],[شماره تماس]],1,Table3[[#This Row],[چندم]]-1))","v":0},{"$f":"IF(Table3[[#This Row],[چندم]]=0,\"\",MID(Table3[[#This Row],[شماره تماس]],Table3[[#This Row],[چندم]]+1,30))","v":""}]
[null,1755,null,null,null,{"$f":"IFERROR(FIND(\"_\",Table3[[#This Row],[شماره تماس]]),0)","v":0},{"$f":"IF(Table3[[#This Row],[چندم]]=0,Table3[[#This Row],[شماره تماس]],MID(Table3[[#This Row],[شماره تماس]],1,Table3[[#This Row],[چندم]]-1))","v":0},{"$f":"IF(Table3[[#This Row],[چندم]]=0,\"\",MID(Table3[[#This Row],[شماره تماس]],Table3[[#This Row],[چندم]]+1,30))","v":""}]
[null,1756,null,null,null,{"$f":"IFERROR(FIND(\"_\",Table3[[#This Row],[شماره تماس]]),0)","v":0},{"$f":"IF(Table3[[#This Row],[چندم]]=0,Table3[[#This Row],[شماره تماس]],MID(Table3[[#This Row],[شماره تماس]],1,Table3[[#This Row],[چندم]]-1))","v":0},{"$f":"IF(Table3[[#This Row],[چندم]]=0,\"\",MID(Table3[[#This Row],[شماره تماس]],Table3[[#This Row],[چندم]]+1,30))","v":""}]
[null,1757,null,null,null,{"$f":"IFERROR(FIND(\"_\",Table3[[#This Row],[شماره تماس]]),0)","v":0},{"$f":"IF(Table3[[#This Row],[چندم]]=0,Table3[[#This Row],[شماره تماس]],MID(Table3[[#This Row],[شماره تماس]],1,Table3[[#This Row],[چندم]]-1))","v":0},{"$f":"IF(Table3[[#This Row],[چندم]]=0,\"\",MID(Table3[[#This Row],[شماره تماس]],Table3[[#This Row],[چندم]]+1,30))","v":""}]
[null,1758,null,null,null,{"$f":"IFERROR(FIND(\"_\",Table3[[#This Row],[شماره تماس]]),0)","v":0},{"$f":"IF(Table3[[#This Row],[چندم]]=0,Table3[[#This Row],[شماره تماس]],MID(Table3[[#This Row],[شماره تماس]],1,Table3[[#This Row],[چندم]]-1))","v":0},{"$f":"IF(Table3[[#This Row],[چندم]]=0,\"\",MID(Table3[[#This Row],[شماره تماس]],Table3[[#This Row],[چندم]]+1,30))","v":""}]
[null,1759,null,null,null,{"$f":"IFERROR(FIND(\"_\",Table3[[#This Row],[شماره تماس]]),0)","v":0},{"$f":"IF(Table3[[#This Row],[چندم]]=0,Table3[[#This Row],[شماره تماس]],MID(Table3[[#This Row],[شماره تماس]],1,Table3[[#This Row],[چندم]]-1))","v":0},{"$f":"IF(Table3[[#This Row],[چندم]]=0,\"\",MID(Table3[[#This Row],[شماره تماس]],Table3[[#This Row],[چندم]]+1,30))","v":""}]
[null,1760,null,null,null,{"$f":"IFERROR(FIND(\"_\",Table3[[#This Row],[شماره تماس]]),0)","v":0},{"$f":"IF(Table3[[#This Row],[چندم]]=0,Table3[[#This Row],[شماره تماس]],MID(Table3[[#This Row],[شماره تماس]],1,Table3[[#This Row],[چندم]]-1))","v":0},{"$f":"IF(Table3[[#This Row],[چندم]]=0,\"\",MID(Table3[[#This Row],[شماره تماس]],Table3[[#This Row],[چندم]]+1,30))","v":""}]
[null,1761,null,null,null,{"$f":"IFERROR(FIND(\"_\",Table3[[#This Row],[شماره تماس]]),0)","v":0},{"$f":"IF(Table3[[#This Row],[چندم]]=0,Table3[[#This Row],[شماره تماس]],MID(Table3[[#This Row],[شماره تماس]],1,Table3[[#This Row],[چندم]]-1))","v":0},{"$f":"IF(Table3[[#This Row],[چندم]]=0,\"\",MID(Table3[[#This Row],[شماره تماس]],Table3[[#This Row],[چندم]]+1,30))","v":""}]
[null,1762,null,null,null,{"$f":"IFERROR(FIND(\"_\",Table3[[#This Row],[شماره تماس]]),0)","v":0},{"$f":"IF(Table3[[#This Row],[چندم]]=0,Table3[[#This Row],[شماره تماس]],MID(Table3[[#This Row],[شماره تماس]],1,Table3[[#This Row],[چندم]]-1))","v":0},{"$f":"IF(Table3[[#This Row],[چندم]]=0,\"\",MID(Table3[[#This Row],[شماره تماس]],Table3[[#This Row],[چندم]]+1,30))","v":""}]
[null,1763,null,null,null,{"$f":"IFERROR(FIND(\"_\",Table3[[#This Row],[شماره تماس]]),0)","v":0},{"$f":"IF(Table3[[#This Row],[چندم]]=0,Table3[[#This Row],[شماره تماس]],MID(Table3[[#This Row],[شماره تماس]],1,Table3[[#This Row],[چندم]]-1))","v":0},{"$f":"IF(Table3[[#This Row],[چندم]]=0,\"\",MID(Table3[[#This Row],[شماره تماس]],Table3[[#This Row],[چندم]]+1,30))","v":""}]
[null,1764,null,null,null,{"$f":"IFERROR(FIND(\"_\",Table3[[#This Row],[شماره تماس]]),0)","v":0},{"$f":"IF(Table3[[#This Row],[چندم]]=0,Table3[[#This Row],[شماره تماس]],MID(Table3[[#This Row],[شماره تماس]],1,Table3[[#This Row],[چندم]]-1))","v":0},{"$f":"IF(Table3[[#This Row],[چندم]]=0,\"\",MID(Table3[[#This Row],[شماره تماس]],Table3[[#This Row],[چندم]]+1,30))","v":""}]
[null,1765,null,null,null,{"$f":"IFERROR(FIND(\"_\",Table3[[#This Row],[شماره تماس]]),0)","v":0},{"$f":"IF(Table3[[#This Row],[چندم]]=0,Table3[[#This Row],[شماره تماس]],MID(Table3[[#This Row],[شماره تماس]],1,Table3[[#This Row],[چندم]]-1))","v":0},{"$f":"IF(Table3[[#This Row],[چندم]]=0,\"\",MID(Table3[[#This Row],[شماره تماس]],Table3[[#This Row],[چندم]]+1,30))","v":""}]
[null,1766,null,null,null,{"$f":"IFERROR(FIND(\"_\",Table3[[#This Row],[شماره تماس]]),0)","v":0},{"$f":"IF(Table3[[#This Row],[چندم]]=0,Table3[[#This Row],[شماره تماس]],MID(Table3[[#This Row],[شماره تماس]],1,Table3[[#This Row],[چندم]]-1))","v":0},{"$f":"IF(Table3[[#This Row],[چندم]]=0,\"\",MID(Table3[[#This Row],[شماره تماس]],Table3[[#This Row],[چندم]]+1,30))","v":""}]
[null,{"$f":"ROW()-3","v":1767},null,null,null,{"$f":"IFERROR(FIND(\"_\",Table3[[#This Row],[شماره تماس]]),0)","v":0},{"$f":"IF(Table3[[#This Row],[چندم]]=0,Table3[[#This Row],[شماره تماس]],MID(Table3[[#This Row],[شماره تماس]],1,Table3[[#This Row],[چندم]]-1))","v":0},{"$f":"IF(Table3[[#This Row],[چندم]]=0,\"\",MID(Table3[[#This Row],[شماره تماس]],Table3[[#This Row],[چندم]]+1,30))","v":""}]
[null,1768,null,null,null,{"$f":"IFERROR(FIND(\"_\",Table3[[#This Row],[شماره تماس]]),0)","v":0},{"$f":"IF(Table3[[#This Row],[چندم]]=0,Table3[[#This Row],[شماره تماس]],MID(Table3[[#This Row],[شماره تماس]],1,Table3[[#This Row],[چندم]]-1))","v":0},{"$f":"IF(Table3[[#This Row],[چندم]]=0,\"\",MID(Table3[[#This Row],[شماره تماس]],Table3[[#This Row],[چندم]]+1,30))","v":""}]
[null,1769,null,null,null,{"$f":"IFERROR(FIND(\"_\",Table3[[#This Row],[شماره تماس]]),0)","v":0},{"$f":"IF(Table3[[#This Row],[چندم]]=0,Table3[[#This Row],[شماره تماس]],MID(Table3[[#This Row],[شماره تماس]],1,Table3[[#This Row],[چندم]]-1))","v":0},{"$f":"IF(Table3[[#This Row],[چندم]]=0,\"\",MID(Table3[[#This Row],[شماره تماس]],Table3[[#This Row],[چندم]]+1,30))","v":""}]
[null,1770,null,null,null,{"$f":"IFERROR(FIND(\"_\",Table3[[#This Row],[شماره تماس]]),0)","v":0},{"$f":"IF(Table3[[#This Row],[چندم]]=0,Table3[[#This Row],[شماره تماس]],MID(Table3[[#This Row],[شماره تماس]],1,Table3[[#This Row],[چندم]]-1))","v":0},{"$f":"IF(Table3[[#This Row],[چندم]]=0,\"\",MID(Table3[[#This Row],[شماره تماس]],Table3[[#This Row],[چندم]]+1,30))","v":""}]
[null,1771,null,null,null,{"$f":"IFERROR(FIND(\"_\",Table3[[#This Row],[شماره تماس]]),0)","v":0},{"$f":"IF(Table3[[#This Row],[چندم]]=0,Table3[[#This Row],[شماره تماس]],MID(Table3[[#This Row],[شماره تماس]],1,Table3[[#This Row],[چندم]]-1))","v":0},{"$f":"IF(Table3[[#This Row],[چندم]]=0,\"\",MID(Table3[[#This Row],[شماره تماس]],Table3[[#This Row],[چندم]]+1,30))","v":""}]
[null,1772,null,null,null,{"$f":"IFERROR(FIND(\"_\",Table3[[#This Row],[شماره تماس]]),0)","v":0},{"$f":"IF(Table3[[#This Row],[چندم]]=0,Table3[[#This Row],[شماره تماس]],MID(Table3[[#This Row],[شماره تماس]],1,Table3[[#This Row],[چندم]]-1))","v":0},{"$f":"IF(Table3[[#This Row],[چندم]]=0,\"\",MID(Table3[[#This Row],[شماره تماس]],Table3[[#This Row],[چندم]]+1,30))","v":""}]
[null,1773,null,null,null,{"$f":"IFERROR(FIND(\"_\",Table3[[#This Row],[شماره تماس]]),0)","v":0},{"$f":"IF(Table3[[#This Row],[چندم]]=0,Table3[[#This Row],[شماره تماس]],MID(Table3[[#This Row],[شماره تماس]],1,Table3[[#This Row],[چندم]]-1))","v":0},{"$f":"IF(Table3[[#This Row],[چندم]]=0,\"\",MID(Table3[[#This Row],[شماره تماس]],Table3[[#This Row],[چندم]]+1,30))","v":""}]
[null,1774,null,null,null,{"$f":"IFERROR(FIND(\"_\",Table3[[#This Row],[شماره تماس]]),0)","v":0},{"$f":"IF(Table3[[#This Row],[چندم]]=0,Table3[[#This Row],[شماره تماس]],MID(Table3[[#This Row],[شماره تماس]],1,Table3[[#This Row],[چندم]]-1))","v":0},{"$f":"IF(Table3[[#This Row],[چندم]]=0,\"\",MID(Table3[[#This Row],[شماره تماس]],Table3[[#This Row],[چندم]]+1,30))","v":""}]
[null,1775,null,null,null,{"$f":"IFERROR(FIND(\"_\",Table3[[#This Row],[شماره تماس]]),0)","v":0},{"$f":"IF(Table3[[#This Row],[چندم]]=0,Table3[[#This Row],[شماره تماس]],MID(Table3[[#This Row],[شماره تماس]],1,Table3[[#This Row],[چندم]]-1))","v":0},{"$f":"IF(Table3[[#This Row],[چندم]]=0,\"\",MID(Table3[[#This Row],[شماره تماس]],Table3[[#This Row],[چندم]]+1,30))","v":""}]
[null,1776,null,null,null,{"$f":"IFERROR(FIND(\"_\",Table3[[#This Row],[شماره تماس]]),0)","v":0},{"$f":"IF(Table3[[#This Row],[چندم]]=0,Table3[[#This Row],[شماره تماس]],MID(Table3[[#This Row],[شماره تماس]],1,Table3[[#This Row],[چندم]]-1))","v":0},{"$f":"IF(Table3[[#This Row],[چندم]]=0,\"\",MID(Table3[[#This Row],[شماره تماس]],Table3[[#This Row],[چندم]]+1,30))","v":""}]
[null,1777,null,null,null,{"$f":"IFERROR(FIND(\"_\",Table3[[#This Row],[شماره تماس]]),0)","v":0},{"$f":"IF(Table3[[#This Row],[چندم]]=0,Table3[[#This Row],[شماره تماس]],MID(Table3[[#This Row],[شماره تماس]],1,Table3[[#This Row],[چندم]]-1))","v":0},{"$f":"IF(Table3[[#This Row],[چندم]]=0,\"\",MID(Table3[[#This Row],[شماره تماس]],Table3[[#This Row],[چندم]]+1,30))","v":""}]
[null,1778,null,null,null,{"$f":"IFERROR(FIND(\"_\",Table3[[#This Row],[شماره تماس]]),0)","v":0},{"$f":"IF(Table3[[#This Row],[چندم]]=0,Table3[[#This Row],[شماره تماس]],MID(Table3[[#This Row],[شماره تماس]],1,Table3[[#This Row],[چندم]]-1))","v":0},{"$f":"IF(Table3[[#This Row],[چندم]]=0,\"\",MID(Table3[[#This Row],[شماره تماس]],Table3[[#This Row],[چندم]]+1,30))","v":""}]
[null,1779,null,null,null,{"$f":"IFERROR(FIND(\"_\",Table3[[#This Row],[شماره تماس]]),0)","v":0},{"$f":"IF(Table3[[#This Row],[چندم]]=0,Table3[[#This Row],[شماره تماس]],MID(Table3[[#This Row],[شماره تماس]],1,Table3[[#This Row],[چندم]]-1))","v":0},{"$f":"IF(Table3[[#This Row],[چندم]]=0,\"\",MID(Table3[[#This Row],[شماره تماس]],Table3[[#This Row],[چندم]]+1,30))","v":""}]
[null,1780,null,null,null,{"$f":"IFERROR(FIND(\"_\",Table3[[#This Row],[شماره تماس]]),0)","v":0},{"$f":"IF(Table3[[#This Row],[چندم]]=0,Table3[[#This Row],[شماره تماس]],MID(Table3[[#This Row],[شماره تماس]],1,Table3[[#This Row],[چندم]]-1))","v":0},{"$f":"IF(Table3[[#This Row],[چندم]]=0,\"\",MID(Table3[[#This Row],[شماره تماس]],Table3[[#This Row],[چندم]]+1,30))","v":""}]
[null,1781,null,null,null,{"$f":"IFERROR(FIND(\"_\",Table3[[#This Row],[شماره تماس]]),0)","v":0},{"$f":"IF(Table3[[#This Row],[چندم]]=0,Table3[[#This Row],[شماره تماس]],MID(Table3[[#This Row],[شماره تماس]],1,Table3[[#This Row],[چندم]]-1))","v":0},{"$f":"IF(Table3[[#This Row],[چندم]]=0,\"\",MID(Table3[[#This Row],[شماره تماس]],Table3[[#This Row],[چندم]]+1,30))","v":""}]
[null,1782,null,null,null,{"$f":"IFERROR(FIND(\"_\",Table3[[#This Row],[شماره تماس]]),0)","v":0},{"$f":"IF(Table3[[#This Row],[چندم]]=0,Table3[[#This Row],[شماره تماس]],MID(Table3[[#This Row],[شماره تماس]],1,Table3[[#This Row],[چندم]]-1))","v":0},{"$f":"IF(Table3[[#This Row],[چندم]]=0,\"\",MID(Table3[[#This Row],[شماره تماس]],Table3[[#This Row],[چندم]]+1,30))","v":""}]
[null,1783,null,null,null,{"$f":"IFERROR(FIND(\"_\",Table3[[#This Row],[شماره تماس]]),0)","v":0},{"$f":"IF(Table3[[#This Row],[چندم]]=0,Table3[[#This Row],[شماره تماس]],MID(Table3[[#This Row],[شماره تماس]],1,Table3[[#This Row],[چندم]]-1))","v":0},{"$f":"IF(Table3[[#This Row],[چندم]]=0,\"\",MID(Table3[[#This Row],[شماره تماس]],Table3[[#This Row],[چندم]]+1,30))","v":""}]
[null,1784,null,null,null,{"$f":"IFERROR(FIND(\"_\",Table3[[#This Row],[شماره تماس]]),0)","v":0},{"$f":"IF(Table3[[#This Row],[چندم]]=0,Table3[[#This Row],[شماره تماس]],MID(Table3[[#This Row],[شماره تماس]],1,Table3[[#This Row],[چندم]]-1))","v":0},{"$f":"IF(Table3[[#This Row],[چندم]]=0,\"\",MID(Table3[[#This Row],[شماره تماس]],Table3[[#This Row],[چندم]]+1,30))","v":""}]
[null,1785,null,null,null,{"$f":"IFERROR(FIND(\"_\",Table3[[#This Row],[شماره تماس]]),0)","v":0},{"$f":"IF(Table3[[#This Row],[چندم]]=0,Table3[[#This Row],[شماره تماس]],MID(Table3[[#This Row],[شماره تماس]],1,Table3[[#This Row],[چندم]]-1))","v":0},{"$f":"IF(Table3[[#This Row],[چندم]]=0,\"\",MID(Table3[[#This Row],[شماره تماس]],Table3[[#This Row],[چندم]]+1,30))","v":""}]
[null,1786,null,null,null,{"$f":"IFERROR(FIND(\"_\",Table3[[#This Row],[شماره تماس]]),0)","v":0},{"$f":"IF(Table3[[#This Row],[چندم]]=0,Table3[[#This Row],[شماره تماس]],MID(Table3[[#This Row],[شماره تماس]],1,Table3[[#This Row],[چندم]]-1))","v":0},{"$f":"IF(Table3[[#This Row],[چندم]]=0,\"\",MID(Table3[[#This Row],[شماره تماس]],Table3[[#This Row],[چندم]]+1,30))","v":""}]
[null,1787,null,null,null,{"$f":"IFERROR(FIND(\"_\",Table3[[#This Row],[شماره تماس]]),0)","v":0},{"$f":"IF(Table3[[#This Row],[چندم]]=0,Table3[[#This Row],[شماره تماس]],MID(Table3[[#This Row],[شماره تماس]],1,Table3[[#This Row],[چندم]]-1))","v":0},{"$f":"IF(Table3[[#This Row],[چندم]]=0,\"\",MID(Table3[[#This Row],[شماره تماس]],Table3[[#This Row],[چندم]]+1,30))","v":""}]
[null,1788,null,null,null,{"$f":"IFERROR(FIND(\"_\",Table3[[#This Row],[شماره تماس]]),0)","v":0},{"$f":"IF(Table3[[#This Row],[چندم]]=0,Table3[[#This Row],[شماره تماس]],MID(Table3[[#This Row],[شماره تماس]],1,Table3[[#This Row],[چندم]]-1))","v":0},{"$f":"IF(Table3[[#This Row],[چندم]]=0,\"\",MID(Table3[[#This Row],[شماره تماس]],Table3[[#This Row],[چندم]]+1,30))","v":""}]
[null,1789,null,null,null,{"$f":"IFERROR(FIND(\"_\",Table3[[#This Row],[شماره تماس]]),0)","v":0},{"$f":"IF(Table3[[#This Row],[چندم]]=0,Table3[[#This Row],[شماره تماس]],MID(Table3[[#This Row],[شماره تماس]],1,Table3[[#This Row],[چندم]]-1))","v":0},{"$f":"IF(Table3[[#This Row],[چندم]]=0,\"\",MID(Table3[[#This Row],[شماره تماس]],Table3[[#This Row],[چندم]]+1,30))","v":""}]
[null,1790,null,null,null,{"$f":"IFERROR(FIND(\"_\",Table3[[#This Row],[شماره تماس]]),0)","v":0},{"$f":"IF(Table3[[#This Row],[چندم]]=0,Table3[[#This Row],[شماره تماس]],MID(Table3[[#This Row],[شماره تماس]],1,Table3[[#This Row],[چندم]]-1))","v":0},{"$f":"IF(Table3[[#This Row],[چندم]]=0,\"\",MID(Table3[[#This Row],[شماره تماس]],Table3[[#This Row],[چندم]]+1,30))","v":""}]
[null,1791,null,null,null,{"$f":"IFERROR(FIND(\"_\",Table3[[#This Row],[شماره تماس]]),0)","v":0},{"$f":"IF(Table3[[#This Row],[چندم]]=0,Table3[[#This Row],[شماره تماس]],MID(Table3[[#This Row],[شماره تماس]],1,Table3[[#This Row],[چندم]]-1))","v":0},{"$f":"IF(Table3[[#This Row],[چندم]]=0,\"\",MID(Table3[[#This Row],[شماره تماس]],Table3[[#This Row],[چندم]]+1,30))","v":""}]
[null,1792,null,null,null,{"$f":"IFERROR(FIND(\"_\",Table3[[#This Row],[شماره تماس]]),0)","v":0},{"$f":"IF(Table3[[#This Row],[چندم]]=0,Table3[[#This Row],[شماره تماس]],MID(Table3[[#This Row],[شماره تماس]],1,Table3[[#This Row],[چندم]]-1))","v":0},{"$f":"IF(Table3[[#This Row],[چندم]]=0,\"\",MID(Table3[[#This Row],[شماره تماس]],Table3[[#This Row],[چندم]]+1,30))","v":""}]
[null,1793,null,null,null,{"$f":"IFERROR(FIND(\"_\",Table3[[#This Row],[شماره تماس]]),0)","v":0},{"$f":"IF(Table3[[#This Row],[چندم]]=0,Table3[[#This Row],[شماره تماس]],MID(Table3[[#This Row],[شماره تماس]],1,Table3[[#This Row],[چندم]]-1))","v":0},{"$f":"IF(Table3[[#This Row],[چندم]]=0,\"\",MID(Table3[[#This Row],[شماره تماس]],Table3[[#This Row],[چندم]]+1,30))","v":""}]
[null,1794,null,null,null,{"$f":"IFERROR(FIND(\"_\",Table3[[#This Row],[شماره تماس]]),0)","v":0},{"$f":"IF(Table3[[#This Row],[چندم]]=0,Table3[[#This Row],[شماره تماس]],MID(Table3[[#This Row],[شماره تماس]],1,Table3[[#This Row],[چندم]]-1))","v":0},{"$f":"IF(Table3[[#This Row],[چندم]]=0,\"\",MID(Table3[[#This Row],[شماره تماس]],Table3[[#This Row],[چندم]]+1,30))","v":""}]
[null,1795,null,null,null,{"$f":"IFERROR(FIND(\"_\",Table3[[#This Row],[شماره تماس]]),0)","v":0},{"$f":"IF(Table3[[#This Row],[چندم]]=0,Table3[[#This Row],[شماره تماس]],MID(Table3[[#This Row],[شماره تماس]],1,Table3[[#This Row],[چندم]]-1))","v":0},{"$f":"IF(Table3[[#This Row],[چندم]]=0,\"\",MID(Table3[[#This Row],[شماره تماس]],Table3[[#This Row],[چندم]]+1,30))","v":""}]
[null,1796,null,null,null,{"$f":"IFERROR(FIND(\"_\",Table3[[#This Row],[شماره تماس]]),0)","v":0},{"$f":"IF(Table3[[#This Row],[چندم]]=0,Table3[[#This Row],[شماره تماس]],MID(Table3[[#This Row],[شماره تماس]],1,Table3[[#This Row],[چندم]]-1))","v":0},{"$f":"IF(Table3[[#This Row],[چندم]]=0,\"\",MID(Table3[[#This Row],[شماره تماس]],Table3[[#This Row],[چندم]]+1,30))","v":""}]
[null,1797,null,null,null,{"$f":"IFERROR(FIND(\"_\",Table3[[#This Row],[شماره تماس]]),0)","v":0},{"$f":"IF(Table3[[#This Row],[چندم]]=0,Table3[[#This Row],[شماره تماس]],MID(Table3[[#This Row],[شماره تماس]],1,Table3[[#This Row],[چندم]]-1))","v":0},{"$f":"IF(Table3[[#This Row],[چندم]]=0,\"\",MID(Table3[[#This Row],[شماره تماس]],Table3[[#This Row],[چندم]]+1,30))","v":""}]
[null,1798,null,null,null,{"$f":"IFERROR(FIND(\"_\",Table3[[#This Row],[شماره تماس]]),0)","v":0},{"$f":"IF(Table3[[#This Row],[چندم]]=0,Table3[[#This Row],[شماره تماس]],MID(Table3[[#This Row],[شماره تماس]],1,Table3[[#This Row],[چندم]]-1))","v":0},{"$f":"IF(Table3[[#This Row],[چندم]]=0,\"\",MID(Table3[[#This Row],[شماره تماس]],Table3[[#This Row],[چندم]]+1,30))","v":""}]
[null,1799,null,null,null,{"$f":"IFERROR(FIND(\"_\",Table3[[#This Row],[شماره تماس]]),0)","v":0},{"$f":"IF(Table3[[#This Row],[چندم]]=0,Table3[[#This Row],[شماره تماس]],MID(Table3[[#This Row],[شماره تماس]],1,Table3[[#This Row],[چندم]]-1))","v":0},{"$f":"IF(Table3[[#This Row],[چندم]]=0,\"\",MID(Table3[[#This Row],[شماره تماس]],Table3[[#This Row],[چندم]]+1,30))","v":""}]
[null,1800,null,null,null,{"$f":"IFERROR(FIND(\"_\",Table3[[#This Row],[شماره تماس]]),0)","v":0},{"$f":"IF(Table3[[#This Row],[چندم]]=0,Table3[[#This Row],[شماره تماس]],MID(Table3[[#This Row],[شماره تماس]],1,Table3[[#This Row],[چندم]]-1))","v":0},{"$f":"IF(Table3[[#This Row],[چندم]]=0,\"\",MID(Table3[[#This Row],[شماره تماس]],Table3[[#This Row],[چندم]]+1,30))","v":""}]
[null,1801,null,null,null,{"$f":"IFERROR(FIND(\"_\",Table3[[#This Row],[شماره تماس]]),0)","v":0},{"$f":"IF(Table3[[#This Row],[چندم]]=0,Table3[[#This Row],[شماره تماس]],MID(Table3[[#This Row],[شماره تماس]],1,Table3[[#This Row],[چندم]]-1))","v":0},{"$f":"IF(Table3[[#This Row],[چندم]]=0,\"\",MID(Table3[[#This Row],[شماره تماس]],Table3[[#This Row],[چندم]]+1,30))","v":""}]
[null,1802,null,null,null,{"$f":"IFERROR(FIND(\"_\",Table3[[#This Row],[شماره تماس]]),0)","v":0},{"$f":"IF(Table3[[#This Row],[چندم]]=0,Table3[[#This Row],[شماره تماس]],MID(Table3[[#This Row],[شماره تماس]],1,Table3[[#This Row],[چندم]]-1))","v":0},{"$f":"IF(Table3[[#This Row],[چندم]]=0,\"\",MID(Table3[[#This Row],[شماره تماس]],Table3[[#This Row],[چندم]]+1,30))","v":""}]
[null,1803,null,null,null,{"$f":"IFERROR(FIND(\"_\",Table3[[#This Row],[شماره تماس]]),0)","v":0},{"$f":"IF(Table3[[#This Row],[چندم]]=0,Table3[[#This Row],[شماره تماس]],MID(Table3[[#This Row],[شماره تماس]],1,Table3[[#This Row],[چندم]]-1))","v":0},{"$f":"IF(Table3[[#This Row],[چندم]]=0,\"\",MID(Table3[[#This Row],[شماره تماس]],Table3[[#This Row],[چندم]]+1,30))","v":""}]
[null,1804,null,null,null,{"$f":"IFERROR(FIND(\"_\",Table3[[#This Row],[شماره تماس]]),0)","v":0},{"$f":"IF(Table3[[#This Row],[چندم]]=0,Table3[[#This Row],[شماره تماس]],MID(Table3[[#This Row],[شماره تماس]],1,Table3[[#This Row],[چندم]]-1))","v":0},{"$f":"IF(Table3[[#This Row],[چندم]]=0,\"\",MID(Table3[[#This Row],[شماره تماس]],Table3[[#This Row],[چندم]]+1,30))","v":""}]
[null,1805,null,null,null,{"$f":"IFERROR(FIND(\"_\",Table3[[#This Row],[شماره تماس]]),0)","v":0},{"$f":"IF(Table3[[#This Row],[چندم]]=0,Table3[[#This Row],[شماره تماس]],MID(Table3[[#This Row],[شماره تماس]],1,Table3[[#This Row],[چندم]]-1))","v":0},{"$f":"IF(Table3[[#This Row],[چندم]]=0,\"\",MID(Table3[[#This Row],[شماره تماس]],Table3[[#This Row],[چندم]]+1,30))","v":""}]
[null,1806,null,null,null,{"$f":"IFERROR(FIND(\"_\",Table3[[#This Row],[شماره تماس]]),0)","v":0},{"$f":"IF(Table3[[#This Row],[چندم]]=0,Table3[[#This Row],[شماره تماس]],MID(Table3[[#This Row],[شماره تماس]],1,Table3[[#This Row],[چندم]]-1))","v":0},{"$f":"IF(Table3[[#This Row],[چندم]]=0,\"\",MID(Table3[[#This Row],[شماره تماس]],Table3[[#This Row],[چندم]]+1,30))","v":""}]
[null,1807,null,null,null,{"$f":"IFERROR(FIND(\"_\",Table3[[#This Row],[شماره تماس]]),0)","v":0},{"$f":"IF(Table3[[#This Row],[چندم]]=0,Table3[[#This Row],[شماره تماس]],MID(Table3[[#This Row],[شماره تماس]],1,Table3[[#This Row],[چندم]]-1))","v":0},{"$f":"IF(Table3[[#This Row],[چندم]]=0,\"\",MID(Table3[[#This Row],[شماره تماس]],Table3[[#This Row],[چندم]]+1,30))","v":""}]
[null,1808,null,null,null,{"$f":"IFERROR(FIND(\"_\",Table3[[#This Row],[شماره تماس]]),0)","v":0},{"$f":"IF(Table3[[#This Row],[چندم]]=0,Table3[[#This Row],[شماره تماس]],MID(Table3[[#This Row],[شماره تماس]],1,Table3[[#This Row],[چندم]]-1))","v":0},{"$f":"IF(Table3[[#This Row],[چندم]]=0,\"\",MID(Table3[[#This Row],[شماره تماس]],Table3[[#This Row],[چندم]]+1,30))","v":""}]
[null,1809,null,null,null,{"$f":"IFERROR(FIND(\"_\",Table3[[#This Row],[شماره تماس]]),0)","v":0},{"$f":"IF(Table3[[#This Row],[چندم]]=0,Table3[[#This Row],[شماره تماس]],MID(Table3[[#This Row],[شماره تماس]],1,Table3[[#This Row],[چندم]]-1))","v":0},{"$f":"IF(Table3[[#This Row],[چندم]]=0,\"\",MID(Table3[[#This Row],[شماره تماس]],Table3[[#This Row],[چندم]]+1,30))","v":""}]
[null,1810,null,null,null,{"$f":"IFERROR(FIND(\"_\",Table3[[#This Row],[شماره تماس]]),0)","v":0},{"$f":"IF(Table3[[#This Row],[چندم]]=0,Table3[[#This Row],[شماره تماس]],MID(Table3[[#This Row],[شماره تماس]],1,Table3[[#This Row],[چندم]]-1))","v":0},{"$f":"IF(Table3[[#This Row],[چندم]]=0,\"\",MID(Table3[[#This Row],[شماره تماس]],Table3[[#This Row],[چندم]]+1,30))","v":""}]
[null,1811,null,null,null,{"$f":"IFERROR(FIND(\"_\",Table3[[#This Row],[شماره تماس]]),0)","v":0},{"$f":"IF(Table3[[#This Row],[چندم]]=0,Table3[[#This Row],[شماره تماس]],MID(Table3[[#This Row],[شماره تماس]],1,Table3[[#This Row],[چندم]]-1))","v":0},{"$f":"IF(Table3[[#This Row],[چندم]]=0,\"\",MID(Table3[[#This Row],[شماره تماس]],Table3[[#This Row],[چندم]]+1,30))","v":""}]
[null,1812,null,null,null,{"$f":"IFERROR(FIND(\"_\",Table3[[#This Row],[شماره تماس]]),0)","v":0},{"$f":"IF(Table3[[#This Row],[چندم]]=0,Table3[[#This Row],[شماره تماس]],MID(Table3[[#This Row],[شماره تماس]],1,Table3[[#This Row],[چندم]]-1))","v":0},{"$f":"IF(Table3[[#This Row],[چندم]]=0,\"\",MID(Table3[[#This Row],[شماره تماس]],Table3[[#This Row],[چندم]]+1,30))","v":""}]
[null,1813,null,null,null,{"$f":"IFERROR(FIND(\"_\",Table3[[#This Row],[شماره تماس]]),0)","v":0},{"$f":"IF(Table3[[#This Row],[چندم]]=0,Table3[[#This Row],[شماره تماس]],MID(Table3[[#This Row],[شماره تماس]],1,Table3[[#This Row],[چندم]]-1))","v":0},{"$f":"IF(Table3[[#This Row],[چندم]]=0,\"\",MID(Table3[[#This Row],[شماره تماس]],Table3[[#This Row],[چندم]]+1,30))","v":""}]
[null,1814,null,null,null,{"$f":"IFERROR(FIND(\"_\",Table3[[#This Row],[شماره تماس]]),0)","v":0},{"$f":"IF(Table3[[#This Row],[چندم]]=0,Table3[[#This Row],[شماره تماس]],MID(Table3[[#This Row],[شماره تماس]],1,Table3[[#This Row],[چندم]]-1))","v":0},{"$f":"IF(Table3[[#This Row],[چندم]]=0,\"\",MID(Table3[[#This Row],[شماره تماس]],Table3[[#This Row],[چندم]]+1,30))","v":""}]
[null,1815,null,null,null,{"$f":"IFERROR(FIND(\"_\",Table3[[#This Row],[شماره تماس]]),0)","v":0},{"$f":"IF(Table3[[#This Row],[چندم]]=0,Table3[[#This Row],[شماره تماس]],MID(Table3[[#This Row],[شماره تماس]],1,Table3[[#This Row],[چندم]]-1))","v":0},{"$f":"IF(Table3[[#This Row],[چندم]]=0,\"\",MID(Table3[[#This Row],[شماره تماس]],Table3[[#This Row],[چندم]]+1,30))","v":""}]
[null,1816,null,null,null,{"$f":"IFERROR(FIND(\"_\",Table3[[#This Row],[شماره تماس]]),0)","v":0},{"$f":"IF(Table3[[#This Row],[چندم]]=0,Table3[[#This Row],[شماره تماس]],MID(Table3[[#This Row],[شماره تماس]],1,Table3[[#This Row],[چندم]]-1))","v":0},{"$f":"IF(Table3[[#This Row],[چندم]]=0,\"\",MID(Table3[[#This Row],[شماره تماس]],Table3[[#This Row],[چندم]]+1,30))","v":""}]
[null,1817,null,null,null,{"$f":"IFERROR(FIND(\"_\",Table3[[#This Row],[شماره تماس]]),0)","v":0},{"$f":"IF(Table3[[#This Row],[چندم]]=0,Table3[[#This Row],[شماره تماس]],MID(Table3[[#This Row],[شماره تماس]],1,Table3[[#This Row],[چندم]]-1))","v":0},{"$f":"IF(Table3[[#This Row],[چندم]]=0,\"\",MID(Table3[[#This Row],[شماره تماس]],Table3[[#This Row],[چندم]]+1,30))","v":""}]
[null,1818,null,null,null,{"$f":"IFERROR(FIND(\"_\",Table3[[#This Row],[شماره تماس]]),0)","v":0},{"$f":"IF(Table3[[#This Row],[چندم]]=0,Table3[[#This Row],[شماره تماس]],MID(Table3[[#This Row],[شماره تماس]],1,Table3[[#This Row],[چندم]]-1))","v":0},{"$f":"IF(Table3[[#This Row],[چندم]]=0,\"\",MID(Table3[[#This Row],[شماره تماس]],Table3[[#This Row],[چندم]]+1,30))","v":""}]
[null,1819,null,null,null,{"$f":"IFERROR(FIND(\"_\",Table3[[#This Row],[شماره تماس]]),0)","v":0},{"$f":"IF(Table3[[#This Row],[چندم]]=0,Table3[[#This Row],[شماره تماس]],MID(Table3[[#This Row],[شماره تماس]],1,Table3[[#This Row],[چندم]]-1))","v":0},{"$f":"IF(Table3[[#This Row],[چندم]]=0,\"\",MID(Table3[[#This Row],[شماره تماس]],Table3[[#This Row],[چندم]]+1,30))","v":""}]
[null,1820,null,null,null,{"$f":"IFERROR(FIND(\"_\",Table3[[#This Row],[شماره تماس]]),0)","v":0},{"$f":"IF(Table3[[#This Row],[چندم]]=0,Table3[[#This Row],[شماره تماس]],MID(Table3[[#This Row],[شماره تماس]],1,Table3[[#This Row],[چندم]]-1))","v":0},{"$f":"IF(Table3[[#This Row],[چندم]]=0,\"\",MID(Table3[[#This Row],[شماره تماس]],Table3[[#This Row],[چندم]]+1,30))","v":""}]
[null,1821,null,null,null,{"$f":"IFERROR(FIND(\"_\",Table3[[#This Row],[شماره تماس]]),0)","v":0},{"$f":"IF(Table3[[#This Row],[چندم]]=0,Table3[[#This Row],[شماره تماس]],MID(Table3[[#This Row],[شماره تماس]],1,Table3[[#This Row],[چندم]]-1))","v":0},{"$f":"IF(Table3[[#This Row],[چندم]]=0,\"\",MID(Table3[[#This Row],[شماره تماس]],Table3[[#This Row],[چندم]]+1,30))","v":""}]
[null,1822,null,null,null,{"$f":"IFERROR(FIND(\"_\",Table3[[#This Row],[شماره تماس]]),0)","v":0},{"$f":"IF(Table3[[#This Row],[چندم]]=0,Table3[[#This Row],[شماره تماس]],MID(Table3[[#This Row],[شماره تماس]],1,Table3[[#This Row],[چندم]]-1))","v":0},{"$f":"IF(Table3[[#This Row],[چندم]]=0,\"\",MID(Table3[[#This Row],[شماره تماس]],Table3[[#This Row],[چندم]]+1,30))","v":""}]
[null,1823,null,null,null,{"$f":"IFERROR(FIND(\"_\",Table3[[#This Row],[شماره تماس]]),0)","v":0},{"$f":"IF(Table3[[#This Row],[چندم]]=0,Table3[[#This Row],[شماره تماس]],MID(Table3[[#This Row],[شماره تماس]],1,Table3[[#This Row],[چندم]]-1))","v":0},{"$f":"IF(Table3[[#This Row],[چندم]]=0,\"\",MID(Table3[[#This Row],[شماره تماس]],Table3[[#This Row],[چندم]]+1,30))","v":""}]
[null,1824,null,null,null,{"$f":"IFERROR(FIND(\"_\",Table3[[#This Row],[شماره تماس]]),0)","v":0},{"$f":"IF(Table3[[#This Row],[چندم]]=0,Table3[[#This Row],[شماره تماس]],MID(Table3[[#This Row],[شماره تماس]],1,Table3[[#This Row],[چندم]]-1))","v":0},{"$f":"IF(Table3[[#This Row],[چندم]]=0,\"\",MID(Table3[[#This Row],[شماره تماس]],Table3[[#This Row],[چندم]]+1,30))","v":""}]
[null,1825,null,null,null,{"$f":"IFERROR(FIND(\"_\",Table3[[#This Row],[شماره تماس]]),0)","v":0},{"$f":"IF(Table3[[#This Row],[چندم]]=0,Table3[[#This Row],[شماره تماس]],MID(Table3[[#This Row],[شماره تماس]],1,Table3[[#This Row],[چندم]]-1))","v":0},{"$f":"IF(Table3[[#This Row],[چندم]]=0,\"\",MID(Table3[[#This Row],[شماره تماس]],Table3[[#This Row],[چندم]]+1,30))","v":""}]
[null,1826,null,null,null,{"$f":"IFERROR(FIND(\"_\",Table3[[#This Row],[شماره تماس]]),0)","v":0},{"$f":"IF(Table3[[#This Row],[چندم]]=0,Table3[[#This Row],[شماره تماس]],MID(Table3[[#This Row],[شماره تماس]],1,Table3[[#This Row],[چندم]]-1))","v":0},{"$f":"IF(Table3[[#This Row],[چندم]]=0,\"\",MID(Table3[[#This Row],[شماره تماس]],Table3[[#This Row],[چندم]]+1,30))","v":""}]
[null,1827,null,null,null,{"$f":"IFERROR(FIND(\"_\",Table3[[#This Row],[شماره تماس]]),0)","v":0},{"$f":"IF(Table3[[#This Row],[چندم]]=0,Table3[[#This Row],[شماره تماس]],MID(Table3[[#This Row],[شماره تماس]],1,Table3[[#This Row],[چندم]]-1))","v":0},{"$f":"IF(Table3[[#This Row],[چندم]]=0,\"\",MID(Table3[[#This Row],[شماره تماس]],Table3[[#This Row],[چندم]]+1,30))","v":""}]
[null,1828,null,null,null,{"$f":"IFERROR(FIND(\"_\",Table3[[#This Row],[شماره تماس]]),0)","v":0},{"$f":"IF(Table3[[#This Row],[چندم]]=0,Table3[[#This Row],[شماره تماس]],MID(Table3[[#This Row],[شماره تماس]],1,Table3[[#This Row],[چندم]]-1))","v":0},{"$f":"IF(Table3[[#This Row],[چندم]]=0,\"\",MID(Table3[[#This Row],[شماره تماس]],Table3[[#This Row],[چندم]]+1,30))","v":""}]
[null,1829,null,null,null,{"$f":"IFERROR(FIND(\"_\",Table3[[#This Row],[شماره تماس]]),0)","v":0},{"$f":"IF(Table3[[#This Row],[چندم]]=0,Table3[[#This Row],[شماره تماس]],MID(Table3[[#This Row],[شماره تماس]],1,Table3[[#This Row],[چندم]]-1))","v":0},{"$f":"IF(Table3[[#This Row],[چندم]]=0,\"\",MID(Table3[[#This Row],[شماره تماس]],Table3[[#This Row],[چندم]]+1,30))","v":""}]
[null,1830,null,null,null,{"$f":"IFERROR(FIND(\"_\",Table3[[#This Row],[شماره تماس]]),0)","v":0},{"$f":"IF(Table3[[#This Row],[چندم]]=0,Table3[[#This Row],[شماره تماس]],MID(Table3[[#This Row],[شماره تماس]],1,Table3[[#This Row],[چندم]]-1))","v":0},{"$f":"IF(Table3[[#This Row],[چندم]]=0,\"\",MID(Table3[[#This Row],[شماره تماس]],Table3[[#This Row],[چندم]]+1,30))","v":""}]
[null,{"$f":"ROW()-3","v":1831},null,null,null,{"$f":"IFERROR(FIND(\"_\",Table3[[#This Row],[شماره تماس]]),0)","v":0},{"$f":"IF(Table3[[#This Row],[چندم]]=0,Table3[[#This Row],[شماره تماس]],MID(Table3[[#This Row],[شماره تماس]],1,Table3[[#This Row],[چندم]]-1))","v":0},{"$f":"IF(Table3[[#This Row],[چندم]]=0,\"\",MID(Table3[[#This Row],[شماره تماس]],Table3[[#This Row],[چندم]]+1,30))","v":""}]
[null,1832,null,null,null,{"$f":"IFERROR(FIND(\"_\",Table3[[#This Row],[شماره تماس]]),0)","v":0},{"$f":"IF(Table3[[#This Row],[چندم]]=0,Table3[[#This Row],[شماره تماس]],MID(Table3[[#This Row],[شماره تماس]],1,Table3[[#This Row],[چندم]]-1))","v":0},{"$f":"IF(Table3[[#This Row],[چندم]]=0,\"\",MID(Table3[[#This Row],[شماره تماس]],Table3[[#This Row],[چندم]]+1,30))","v":""}]
[null,1833,null,null,null,{"$f":"IFERROR(FIND(\"_\",Table3[[#This Row],[شماره تماس]]),0)","v":0},{"$f":"IF(Table3[[#This Row],[چندم]]=0,Table3[[#This Row],[شماره تماس]],MID(Table3[[#This Row],[شماره تماس]],1,Table3[[#This Row],[چندم]]-1))","v":0},{"$f":"IF(Table3[[#This Row],[چندم]]=0,\"\",MID(Table3[[#This Row],[شماره تماس]],Table3[[#This Row],[چندم]]+1,30))","v":""}]
[null,1834,null,null,null,{"$f":"IFERROR(FIND(\"_\",Table3[[#This Row],[شماره تماس]]),0)","v":0},{"$f":"IF(Table3[[#This Row],[چندم]]=0,Table3[[#This Row],[شماره تماس]],MID(Table3[[#This Row],[شماره تماس]],1,Table3[[#This Row],[چندم]]-1))","v":0},{"$f":"IF(Table3[[#This Row],[چندم]]=0,\"\",MID(Table3[[#This Row],[شماره تماس]],Table3[[#This Row],[چندم]]+1,30))","v":""}]
[null,1835,null,null,null,{"$f":"IFERROR(FIND(\"_\",Table3[[#This Row],[شماره تماس]]),0)","v":0},{"$f":"IF(Table3[[#This Row],[چندم]]=0,Table3[[#This Row],[شماره تماس]],MID(Table3[[#This Row],[شماره تماس]],1,Table3[[#This Row],[چندم]]-1))","v":0},{"$f":"IF(Table3[[#This Row],[چندم]]=0,\"\",MID(Table3[[#This Row],[شماره تماس]],Table3[[#This Row],[چندم]]+1,30))","v":""}]
[null,1836,null,null,null,{"$f":"IFERROR(FIND(\"_\",Table3[[#This Row],[شماره تماس]]),0)","v":0},{"$f":"IF(Table3[[#This Row],[چندم]]=0,Table3[[#This Row],[شماره تماس]],MID(Table3[[#This Row],[شماره تماس]],1,Table3[[#This Row],[چندم]]-1))","v":0},{"$f":"IF(Table3[[#This Row],[چندم]]=0,\"\",MID(Table3[[#This Row],[شماره تماس]],Table3[[#This Row],[چندم]]+1,30))","v":""}]
[null,1837,null,null,null,{"$f":"IFERROR(FIND(\"_\",Table3[[#This Row],[شماره تماس]]),0)","v":0},{"$f":"IF(Table3[[#This Row],[چندم]]=0,Table3[[#This Row],[شماره تماس]],MID(Table3[[#This Row],[شماره تماس]],1,Table3[[#This Row],[چندم]]-1))","v":0},{"$f":"IF(Table3[[#This Row],[چندم]]=0,\"\",MID(Table3[[#This Row],[شماره تماس]],Table3[[#This Row],[چندم]]+1,30))","v":""}]
[null,1838,null,null,null,{"$f":"IFERROR(FIND(\"_\",Table3[[#This Row],[شماره تماس]]),0)","v":0},{"$f":"IF(Table3[[#This Row],[چندم]]=0,Table3[[#This Row],[شماره تماس]],MID(Table3[[#This Row],[شماره تماس]],1,Table3[[#This Row],[چندم]]-1))","v":0},{"$f":"IF(Table3[[#This Row],[چندم]]=0,\"\",MID(Table3[[#This Row],[شماره تماس]],Table3[[#This Row],[چندم]]+1,30))","v":""}]
[null,1839,null,null,null,{"$f":"IFERROR(FIND(\"_\",Table3[[#This Row],[شماره تماس]]),0)","v":0},{"$f":"IF(Table3[[#This Row],[چندم]]=0,Table3[[#This Row],[شماره تماس]],MID(Table3[[#This Row],[شماره تماس]],1,Table3[[#This Row],[چندم]]-1))","v":0},{"$f":"IF(Table3[[#This Row],[چندم]]=0,\"\",MID(Table3[[#This Row],[شماره تماس]],Table3[[#This Row],[چندم]]+1,30))","v":""}]
[null,1840,null,null,null,{"$f":"IFERROR(FIND(\"_\",Table3[[#This Row],[شماره تماس]]),0)","v":0},{"$f":"IF(Table3[[#This Row],[چندم]]=0,Table3[[#This Row],[شماره تماس]],MID(Table3[[#This Row],[شماره تماس]],1,Table3[[#This Row],[چندم]]-1))","v":0},{"$f":"IF(Table3[[#This Row],[چندم]]=0,\"\",MID(Table3[[#This Row],[شماره تماس]],Table3[[#This Row],[چندم]]+1,30))","v":""}]
[null,1841,null,null,null,{"$f":"IFERROR(FIND(\"_\",Table3[[#This Row],[شماره تماس]]),0)","v":0},{"$f":"IF(Table3[[#This Row],[چندم]]=0,Table3[[#This Row],[شماره تماس]],MID(Table3[[#This Row],[شماره تماس]],1,Table3[[#This Row],[چندم]]-1))","v":0},{"$f":"IF(Table3[[#This Row],[چندم]]=0,\"\",MID(Table3[[#This Row],[شماره تماس]],Table3[[#This Row],[چندم]]+1,30))","v":""}]
[null,1842,null,null,null,{"$f":"IFERROR(FIND(\"_\",Table3[[#This Row],[شماره تماس]]),0)","v":0},{"$f":"IF(Table3[[#This Row],[چندم]]=0,Table3[[#This Row],[شماره تماس]],MID(Table3[[#This Row],[شماره تماس]],1,Table3[[#This Row],[چندم]]-1))","v":0},{"$f":"IF(Table3[[#This Row],[چندم]]=0,\"\",MID(Table3[[#This Row],[شماره تماس]],Table3[[#This Row],[چندم]]+1,30))","v":""}]
[null,1843,null,null,null,{"$f":"IFERROR(FIND(\"_\",Table3[[#This Row],[شماره تماس]]),0)","v":0},{"$f":"IF(Table3[[#This Row],[چندم]]=0,Table3[[#This Row],[شماره تماس]],MID(Table3[[#This Row],[شماره تماس]],1,Table3[[#This Row],[چندم]]-1))","v":0},{"$f":"IF(Table3[[#This Row],[چندم]]=0,\"\",MID(Table3[[#This Row],[شماره تماس]],Table3[[#This Row],[چندم]]+1,30))","v":""}]
[null,1844,null,null,null,{"$f":"IFERROR(FIND(\"_\",Table3[[#This Row],[شماره تماس]]),0)","v":0},{"$f":"IF(Table3[[#This Row],[چندم]]=0,Table3[[#This Row],[شماره تماس]],MID(Table3[[#This Row],[شماره تماس]],1,Table3[[#This Row],[چندم]]-1))","v":0},{"$f":"IF(Table3[[#This Row],[چندم]]=0,\"\",MID(Table3[[#This Row],[شماره تماس]],Table3[[#This Row],[چندم]]+1,30))","v":""}]
[null,1845,null,null,null,{"$f":"IFERROR(FIND(\"_\",Table3[[#This Row],[شماره تماس]]),0)","v":0},{"$f":"IF(Table3[[#This Row],[چندم]]=0,Table3[[#This Row],[شماره تماس]],MID(Table3[[#This Row],[شماره تماس]],1,Table3[[#This Row],[چندم]]-1))","v":0},{"$f":"IF(Table3[[#This Row],[چندم]]=0,\"\",MID(Table3[[#This Row],[شماره تماس]],Table3[[#This Row],[چندم]]+1,30))","v":""}]
[null,1846,null,null,null,{"$f":"IFERROR(FIND(\"_\",Table3[[#This Row],[شماره تماس]]),0)","v":0},{"$f":"IF(Table3[[#This Row],[چندم]]=0,Table3[[#This Row],[شماره تماس]],MID(Table3[[#This Row],[شماره تماس]],1,Table3[[#This Row],[چندم]]-1))","v":0},{"$f":"IF(Table3[[#This Row],[چندم]]=0,\"\",MID(Table3[[#This Row],[شماره تماس]],Table3[[#This Row],[چندم]]+1,30))","v":""}]
[null,1847,null,null,null,{"$f":"IFERROR(FIND(\"_\",Table3[[#This Row],[شماره تماس]]),0)","v":0},{"$f":"IF(Table3[[#This Row],[چندم]]=0,Table3[[#This Row],[شماره تماس]],MID(Table3[[#This Row],[شماره تماس]],1,Table3[[#This Row],[چندم]]-1))","v":0},{"$f":"IF(Table3[[#This Row],[چندم]]=0,\"\",MID(Table3[[#This Row],[شماره تماس]],Table3[[#This Row],[چندم]]+1,30))","v":""}]
[null,1848,null,null,null,{"$f":"IFERROR(FIND(\"_\",Table3[[#This Row],[شماره تماس]]),0)","v":0},{"$f":"IF(Table3[[#This Row],[چندم]]=0,Table3[[#This Row],[شماره تماس]],MID(Table3[[#This Row],[شماره تماس]],1,Table3[[#This Row],[چندم]]-1))","v":0},{"$f":"IF(Table3[[#This Row],[چندم]]=0,\"\",MID(Table3[[#This Row],[شماره تماس]],Table3[[#This Row],[چندم]]+1,30))","v":""}]
[null,1849,null,null,null,{"$f":"IFERROR(FIND(\"_\",Table3[[#This Row],[شماره تماس]]),0)","v":0},{"$f":"IF(Table3[[#This Row],[چندم]]=0,Table3[[#This Row],[شماره تماس]],MID(Table3[[#This Row],[شماره تماس]],1,Table3[[#This Row],[چندم]]-1))","v":0},{"$f":"IF(Table3[[#This Row],[چندم]]=0,\"\",MID(Table3[[#This Row],[شماره تماس]],Table3[[#This Row],[چندم]]+1,30))","v":""}]
[null,1850,null,null,null,{"$f":"IFERROR(FIND(\"_\",Table3[[#This Row],[شماره تماس]]),0)","v":0},{"$f":"IF(Table3[[#This Row],[چندم]]=0,Table3[[#This Row],[شماره تماس]],MID(Table3[[#This Row],[شماره تماس]],1,Table3[[#This Row],[چندم]]-1))","v":0},{"$f":"IF(Table3[[#This Row],[چندم]]=0,\"\",MID(Table3[[#This Row],[شماره تماس]],Table3[[#This Row],[چندم]]+1,30))","v":""}]
[null,1851,null,null,null,{"$f":"IFERROR(FIND(\"_\",Table3[[#This Row],[شماره تماس]]),0)","v":0},{"$f":"IF(Table3[[#This Row],[چندم]]=0,Table3[[#This Row],[شماره تماس]],MID(Table3[[#This Row],[شماره تماس]],1,Table3[[#This Row],[چندم]]-1))","v":0},{"$f":"IF(Table3[[#This Row],[چندم]]=0,\"\",MID(Table3[[#This Row],[شماره تماس]],Table3[[#This Row],[چندم]]+1,30))","v":""}]
[null,1852,null,null,null,{"$f":"IFERROR(FIND(\"_\",Table3[[#This Row],[شماره تماس]]),0)","v":0},{"$f":"IF(Table3[[#This Row],[چندم]]=0,Table3[[#This Row],[شماره تماس]],MID(Table3[[#This Row],[شماره تماس]],1,Table3[[#This Row],[چندم]]-1))","v":0},{"$f":"IF(Table3[[#This Row],[چندم]]=0,\"\",MID(Table3[[#This Row],[شماره تماس]],Table3[[#This Row],[چندم]]+1,30))","v":""}]
[null,1853,null,null,null,{"$f":"IFERROR(FIND(\"_\",Table3[[#This Row],[شماره تماس]]),0)","v":0},{"$f":"IF(Table3[[#This Row],[چندم]]=0,Table3[[#This Row],[شماره تماس]],MID(Table3[[#This Row],[شماره تماس]],1,Table3[[#This Row],[چندم]]-1))","v":0},{"$f":"IF(Table3[[#This Row],[چندم]]=0,\"\",MID(Table3[[#This Row],[شماره تماس]],Table3[[#This Row],[چندم]]+1,30))","v":""}]
[null,1854,null,null,null,{"$f":"IFERROR(FIND(\"_\",Table3[[#This Row],[شماره تماس]]),0)","v":0},{"$f":"IF(Table3[[#This Row],[چندم]]=0,Table3[[#This Row],[شماره تماس]],MID(Table3[[#This Row],[شماره تماس]],1,Table3[[#This Row],[چندم]]-1))","v":0},{"$f":"IF(Table3[[#This Row],[چندم]]=0,\"\",MID(Table3[[#This Row],[شماره تماس]],Table3[[#This Row],[چندم]]+1,30))","v":""}]
[null,1855,null,null,null,{"$f":"IFERROR(FIND(\"_\",Table3[[#This Row],[شماره تماس]]),0)","v":0},{"$f":"IF(Table3[[#This Row],[چندم]]=0,Table3[[#This Row],[شماره تماس]],MID(Table3[[#This Row],[شماره تماس]],1,Table3[[#This Row],[چندم]]-1))","v":0},{"$f":"IF(Table3[[#This Row],[چندم]]=0,\"\",MID(Table3[[#This Row],[شماره تماس]],Table3[[#This Row],[چندم]]+1,30))","v":""}]
[null,1856,null,null,null,{"$f":"IFERROR(FIND(\"_\",Table3[[#This Row],[شماره تماس]]),0)","v":0},{"$f":"IF(Table3[[#This Row],[چندم]]=0,Table3[[#This Row],[شماره تماس]],MID(Table3[[#This Row],[شماره تماس]],1,Table3[[#This Row],[چندم]]-1))","v":0},{"$f":"IF(Table3[[#This Row],[چندم]]=0,\"\",MID(Table3[[#This Row],[شماره تماس]],Table3[[#This Row],[چندم]]+1,30))","v":""}]
[null,1857,null,null,null,{"$f":"IFERROR(FIND(\"_\",Table3[[#This Row],[شماره تماس]]),0)","v":0},{"$f":"IF(Table3[[#This Row],[چندم]]=0,Table3[[#This Row],[شماره تماس]],MID(Table3[[#This Row],[شماره تماس]],1,Table3[[#This Row],[چندم]]-1))","v":0},{"$f":"IF(Table3[[#This Row],[چندم]]=0,\"\",MID(Table3[[#This Row],[شماره تماس]],Table3[[#This Row],[چندم]]+1,30))","v":""}]
[null,1858,null,null,null,{"$f":"IFERROR(FIND(\"_\",Table3[[#This Row],[شماره تماس]]),0)","v":0},{"$f":"IF(Table3[[#This Row],[چندم]]=0,Table3[[#This Row],[شماره تماس]],MID(Table3[[#This Row],[شماره تماس]],1,Table3[[#This Row],[چندم]]-1))","v":0},{"$f":"IF(Table3[[#This Row],[چندم]]=0,\"\",MID(Table3[[#This Row],[شماره تماس]],Table3[[#This Row],[چندم]]+1,30))","v":""}]
[null,1859,null,null,null,{"$f":"IFERROR(FIND(\"_\",Table3[[#This Row],[شماره تماس]]),0)","v":0},{"$f":"IF(Table3[[#This Row],[چندم]]=0,Table3[[#This Row],[شماره تماس]],MID(Table3[[#This Row],[شماره تماس]],1,Table3[[#This Row],[چندم]]-1))","v":0},{"$f":"IF(Table3[[#This Row],[چندم]]=0,\"\",MID(Table3[[#This Row],[شماره تماس]],Table3[[#This Row],[چندم]]+1,30))","v":""}]
[null,1860,null,null,null,{"$f":"IFERROR(FIND(\"_\",Table3[[#This Row],[شماره تماس]]),0)","v":0},{"$f":"IF(Table3[[#This Row],[چندم]]=0,Table3[[#This Row],[شماره تماس]],MID(Table3[[#This Row],[شماره تماس]],1,Table3[[#This Row],[چندم]]-1))","v":0},{"$f":"IF(Table3[[#This Row],[چندم]]=0,\"\",MID(Table3[[#This Row],[شماره تماس]],Table3[[#This Row],[چندم]]+1,30))","v":""}]
[null,1861,null,null,null,{"$f":"IFERROR(FIND(\"_\",Table3[[#This Row],[شماره تماس]]),0)","v":0},{"$f":"IF(Table3[[#This Row],[چندم]]=0,Table3[[#This Row],[شماره تماس]],MID(Table3[[#This Row],[شماره تماس]],1,Table3[[#This Row],[چندم]]-1))","v":0},{"$f":"IF(Table3[[#This Row],[چندم]]=0,\"\",MID(Table3[[#This Row],[شماره تماس]],Table3[[#This Row],[چندم]]+1,30))","v":""}]
[null,1862,null,null,null,{"$f":"IFERROR(FIND(\"_\",Table3[[#This Row],[شماره تماس]]),0)","v":0},{"$f":"IF(Table3[[#This Row],[چندم]]=0,Table3[[#This Row],[شماره تماس]],MID(Table3[[#This Row],[شماره تماس]],1,Table3[[#This Row],[چندم]]-1))","v":0},{"$f":"IF(Table3[[#This Row],[چندم]]=0,\"\",MID(Table3[[#This Row],[شماره تماس]],Table3[[#This Row],[چندم]]+1,30))","v":""}]
[null,1863,null,null,null,{"$f":"IFERROR(FIND(\"_\",Table3[[#This Row],[شماره تماس]]),0)","v":0},{"$f":"IF(Table3[[#This Row],[چندم]]=0,Table3[[#This Row],[شماره تماس]],MID(Table3[[#This Row],[شماره تماس]],1,Table3[[#This Row],[چندم]]-1))","v":0},{"$f":"IF(Table3[[#This Row],[چندم]]=0,\"\",MID(Table3[[#This Row],[شماره تماس]],Table3[[#This Row],[چندم]]+1,30))","v":""}]
[null,1864,null,null,null,{"$f":"IFERROR(FIND(\"_\",Table3[[#This Row],[شماره تماس]]),0)","v":0},{"$f":"IF(Table3[[#This Row],[چندم]]=0,Table3[[#This Row],[شماره تماس]],MID(Table3[[#This Row],[شماره تماس]],1,Table3[[#This Row],[چندم]]-1))","v":0},{"$f":"IF(Table3[[#This Row],[چندم]]=0,\"\",MID(Table3[[#This Row],[شماره تماس]],Table3[[#This Row],[چندم]]+1,30))","v":""}]
[null,1865,null,null,null,{"$f":"IFERROR(FIND(\"_\",Table3[[#This Row],[شماره تماس]]),0)","v":0},{"$f":"IF(Table3[[#This Row],[چندم]]=0,Table3[[#This Row],[شماره تماس]],MID(Table3[[#This Row],[شماره تماس]],1,Table3[[#This Row],[چندم]]-1))","v":0},{"$f":"IF(Table3[[#This Row],[چندم]]=0,\"\",MID(Table3[[#This Row],[شماره تماس]],Table3[[#This Row],[چندم]]+1,30))","v":""}]
[null,1866,null,null,null,{"$f":"IFERROR(FIND(\"_\",Table3[[#This Row],[شماره تماس]]),0)","v":0},{"$f":"IF(Table3[[#This Row],[چندم]]=0,Table3[[#This Row],[شماره تماس]],MID(Table3[[#This Row],[شماره تماس]],1,Table3[[#This Row],[چندم]]-1))","v":0},{"$f":"IF(Table3[[#This Row],[چندم]]=0,\"\",MID(Table3[[#This Row],[شماره تماس]],Table3[[#This Row],[چندم]]+1,30))","v":""}]
[null,1867,null,null,null,{"$f":"IFERROR(FIND(\"_\",Table3[[#This Row],[شماره تماس]]),0)","v":0},{"$f":"IF(Table3[[#This Row],[چندم]]=0,Table3[[#This Row],[شماره تماس]],MID(Table3[[#This Row],[شماره تماس]],1,Table3[[#This Row],[چندم]]-1))","v":0},{"$f":"IF(Table3[[#This Row],[چندم]]=0,\"\",MID(Table3[[#This Row],[شماره تماس]],Table3[[#This Row],[چندم]]+1,30))","v":""}]
[null,1868,null,null,null,{"$f":"IFERROR(FIND(\"_\",Table3[[#This Row],[شماره تماس]]),0)","v":0},{"$f":"IF(Table3[[#This Row],[چندم]]=0,Table3[[#This Row],[شماره تماس]],MID(Table3[[#This Row],[شماره تماس]],1,Table3[[#This Row],[چندم]]-1))","v":0},{"$f":"IF(Table3[[#This Row],[چندم]]=0,\"\",MID(Table3[[#This Row],[شماره تماس]],Table3[[#This Row],[چندم]]+1,30))","v":""}]
[null,1869,null,null,null,{"$f":"IFERROR(FIND(\"_\",Table3[[#This Row],[شماره تماس]]),0)","v":0},{"$f":"IF(Table3[[#This Row],[چندم]]=0,Table3[[#This Row],[شماره تماس]],MID(Table3[[#This Row],[شماره تماس]],1,Table3[[#This Row],[چندم]]-1))","v":0},{"$f":"IF(Table3[[#This Row],[چندم]]=0,\"\",MID(Table3[[#This Row],[شماره تماس]],Table3[[#This Row],[چندم]]+1,30))","v":""}]
[null,1870,null,null,null,{"$f":"IFERROR(FIND(\"_\",Table3[[#This Row],[شماره تماس]]),0)","v":0},{"$f":"IF(Table3[[#This Row],[چندم]]=0,Table3[[#This Row],[شماره تماس]],MID(Table3[[#This Row],[شماره تماس]],1,Table3[[#This Row],[چندم]]-1))","v":0},{"$f":"IF(Table3[[#This Row],[چندم]]=0,\"\",MID(Table3[[#This Row],[شماره تماس]],Table3[[#This Row],[چندم]]+1,30))","v":""}]
[null,1871,null,null,null,{"$f":"IFERROR(FIND(\"_\",Table3[[#This Row],[شماره تماس]]),0)","v":0},{"$f":"IF(Table3[[#This Row],[چندم]]=0,Table3[[#This Row],[شماره تماس]],MID(Table3[[#This Row],[شماره تماس]],1,Table3[[#This Row],[چندم]]-1))","v":0},{"$f":"IF(Table3[[#This Row],[چندم]]=0,\"\",MID(Table3[[#This Row],[شماره تماس]],Table3[[#This Row],[چندم]]+1,30))","v":""}]
[null,1872,null,null,null,{"$f":"IFERROR(FIND(\"_\",Table3[[#This Row],[شماره تماس]]),0)","v":0},{"$f":"IF(Table3[[#This Row],[چندم]]=0,Table3[[#This Row],[شماره تماس]],MID(Table3[[#This Row],[شماره تماس]],1,Table3[[#This Row],[چندم]]-1))","v":0},{"$f":"IF(Table3[[#This Row],[چندم]]=0,\"\",MID(Table3[[#This Row],[شماره تماس]],Table3[[#This Row],[چندم]]+1,30))","v":""}]
[null,1873,null,null,null,{"$f":"IFERROR(FIND(\"_\",Table3[[#This Row],[شماره تماس]]),0)","v":0},{"$f":"IF(Table3[[#This Row],[چندم]]=0,Table3[[#This Row],[شماره تماس]],MID(Table3[[#This Row],[شماره تماس]],1,Table3[[#This Row],[چندم]]-1))","v":0},{"$f":"IF(Table3[[#This Row],[چندم]]=0,\"\",MID(Table3[[#This Row],[شماره تماس]],Table3[[#This Row],[چندم]]+1,30))","v":""}]
[null,1874,null,null,null,{"$f":"IFERROR(FIND(\"_\",Table3[[#This Row],[شماره تماس]]),0)","v":0},{"$f":"IF(Table3[[#This Row],[چندم]]=0,Table3[[#This Row],[شماره تماس]],MID(Table3[[#This Row],[شماره تماس]],1,Table3[[#This Row],[چندم]]-1))","v":0},{"$f":"IF(Table3[[#This Row],[چندم]]=0,\"\",MID(Table3[[#This Row],[شماره تماس]],Table3[[#This Row],[چندم]]+1,30))","v":""}]
[null,1875,null,null,null,{"$f":"IFERROR(FIND(\"_\",Table3[[#This Row],[شماره تماس]]),0)","v":0},{"$f":"IF(Table3[[#This Row],[چندم]]=0,Table3[[#This Row],[شماره تماس]],MID(Table3[[#This Row],[شماره تماس]],1,Table3[[#This Row],[چندم]]-1))","v":0},{"$f":"IF(Table3[[#This Row],[چندم]]=0,\"\",MID(Table3[[#This Row],[شماره تماس]],Table3[[#This Row],[چندم]]+1,30))","v":""}]
[null,1876,null,null,null,{"$f":"IFERROR(FIND(\"_\",Table3[[#This Row],[شماره تماس]]),0)","v":0},{"$f":"IF(Table3[[#This Row],[چندم]]=0,Table3[[#This Row],[شماره تماس]],MID(Table3[[#This Row],[شماره تماس]],1,Table3[[#This Row],[چندم]]-1))","v":0},{"$f":"IF(Table3[[#This Row],[چندم]]=0,\"\",MID(Table3[[#This Row],[شماره تماس]],Table3[[#This Row],[چندم]]+1,30))","v":""}]
[null,1877,null,null,null,{"$f":"IFERROR(FIND(\"_\",Table3[[#This Row],[شماره تماس]]),0)","v":0},{"$f":"IF(Table3[[#This Row],[چندم]]=0,Table3[[#This Row],[شماره تماس]],MID(Table3[[#This Row],[شماره تماس]],1,Table3[[#This Row],[چندم]]-1))","v":0},{"$f":"IF(Table3[[#This Row],[چندم]]=0,\"\",MID(Table3[[#This Row],[شماره تماس]],Table3[[#This Row],[چندم]]+1,30))","v":""}]
[null,1878,null,null,null,{"$f":"IFERROR(FIND(\"_\",Table3[[#This Row],[شماره تماس]]),0)","v":0},{"$f":"IF(Table3[[#This Row],[چندم]]=0,Table3[[#This Row],[شماره تماس]],MID(Table3[[#This Row],[شماره تماس]],1,Table3[[#This Row],[چندم]]-1))","v":0},{"$f":"IF(Table3[[#This Row],[چندم]]=0,\"\",MID(Table3[[#This Row],[شماره تماس]],Table3[[#This Row],[چندم]]+1,30))","v":""}]
[null,1879,null,null,null,{"$f":"IFERROR(FIND(\"_\",Table3[[#This Row],[شماره تماس]]),0)","v":0},{"$f":"IF(Table3[[#This Row],[چندم]]=0,Table3[[#This Row],[شماره تماس]],MID(Table3[[#This Row],[شماره تماس]],1,Table3[[#This Row],[چندم]]-1))","v":0},{"$f":"IF(Table3[[#This Row],[چندم]]=0,\"\",MID(Table3[[#This Row],[شماره تماس]],Table3[[#This Row],[چندم]]+1,30))","v":""}]
[null,1880,null,null,null,{"$f":"IFERROR(FIND(\"_\",Table3[[#This Row],[شماره تماس]]),0)","v":0},{"$f":"IF(Table3[[#This Row],[چندم]]=0,Table3[[#This Row],[شماره تماس]],MID(Table3[[#This Row],[شماره تماس]],1,Table3[[#This Row],[چندم]]-1))","v":0},{"$f":"IF(Table3[[#This Row],[چندم]]=0,\"\",MID(Table3[[#This Row],[شماره تماس]],Table3[[#This Row],[چندم]]+1,30))","v":""}]
[null,1881,null,null,null,{"$f":"IFERROR(FIND(\"_\",Table3[[#This Row],[شماره تماس]]),0)","v":0},{"$f":"IF(Table3[[#This Row],[چندم]]=0,Table3[[#This Row],[شماره تماس]],MID(Table3[[#This Row],[شماره تماس]],1,Table3[[#This Row],[چندم]]-1))","v":0},{"$f":"IF(Table3[[#This Row],[چندم]]=0,\"\",MID(Table3[[#This Row],[شماره تماس]],Table3[[#This Row],[چندم]]+1,30))","v":""}]
[null,1882,null,null,null,{"$f":"IFERROR(FIND(\"_\",Table3[[#This Row],[شماره تماس]]),0)","v":0},{"$f":"IF(Table3[[#This Row],[چندم]]=0,Table3[[#This Row],[شماره تماس]],MID(Table3[[#This Row],[شماره تماس]],1,Table3[[#This Row],[چندم]]-1))","v":0},{"$f":"IF(Table3[[#This Row],[چندم]]=0,\"\",MID(Table3[[#This Row],[شماره تماس]],Table3[[#This Row],[چندم]]+1,30))","v":""}]
[null,1883,null,null,null,{"$f":"IFERROR(FIND(\"_\",Table3[[#This Row],[شماره تماس]]),0)","v":0},{"$f":"IF(Table3[[#This Row],[چندم]]=0,Table3[[#This Row],[شماره تماس]],MID(Table3[[#This Row],[شماره تماس]],1,Table3[[#This Row],[چندم]]-1))","v":0},{"$f":"IF(Table3[[#This Row],[چندم]]=0,\"\",MID(Table3[[#This Row],[شماره تماس]],Table3[[#This Row],[چندم]]+1,30))","v":""}]
[null,1884,null,null,null,{"$f":"IFERROR(FIND(\"_\",Table3[[#This Row],[شماره تماس]]),0)","v":0},{"$f":"IF(Table3[[#This Row],[چندم]]=0,Table3[[#This Row],[شماره تماس]],MID(Table3[[#This Row],[شماره تماس]],1,Table3[[#This Row],[چندم]]-1))","v":0},{"$f":"IF(Table3[[#This Row],[چندم]]=0,\"\",MID(Table3[[#This Row],[شماره تماس]],Table3[[#This Row],[چندم]]+1,30))","v":""}]
[null,1885,null,null,null,{"$f":"IFERROR(FIND(\"_\",Table3[[#This Row],[شماره تماس]]),0)","v":0},{"$f":"IF(Table3[[#This Row],[چندم]]=0,Table3[[#This Row],[شماره تماس]],MID(Table3[[#This Row],[شماره تماس]],1,Table3[[#This Row],[چندم]]-1))","v":0},{"$f":"IF(Table3[[#This Row],[چندم]]=0,\"\",MID(Table3[[#This Row],[شماره تماس]],Table3[[#This Row],[چندم]]+1,30))","v":""}]
[null,1886,null,null,null,{"$f":"IFERROR(FIND(\"_\",Table3[[#This Row],[شماره تماس]]),0)","v":0},{"$f":"IF(Table3[[#This Row],[چندم]]=0,Table3[[#This Row],[شماره تماس]],MID(Table3[[#This Row],[شماره تماس]],1,Table3[[#This Row],[چندم]]-1))","v":0},{"$f":"IF(Table3[[#This Row],[چندم]]=0,\"\",MID(Table3[[#This Row],[شماره تماس]],Table3[[#This Row],[چندم]]+1,30))","v":""}]
[null,1887,null,null,null,{"$f":"IFERROR(FIND(\"_\",Table3[[#This Row],[شماره تماس]]),0)","v":0},{"$f":"IF(Table3[[#This Row],[چندم]]=0,Table3[[#This Row],[شماره تماس]],MID(Table3[[#This Row],[شماره تماس]],1,Table3[[#This Row],[چندم]]-1))","v":0},{"$f":"IF(Table3[[#This Row],[چندم]]=0,\"\",MID(Table3[[#This Row],[شماره تماس]],Table3[[#This Row],[چندم]]+1,30))","v":""}]
[null,1888,null,null,null,{"$f":"IFERROR(FIND(\"_\",Table3[[#This Row],[شماره تماس]]),0)","v":0},{"$f":"IF(Table3[[#This Row],[چندم]]=0,Table3[[#This Row],[شماره تماس]],MID(Table3[[#This Row],[شماره تماس]],1,Table3[[#This Row],[چندم]]-1))","v":0},{"$f":"IF(Table3[[#This Row],[چندم]]=0,\"\",MID(Table3[[#This Row],[شماره تماس]],Table3[[#This Row],[چندم]]+1,30))","v":""}]
[null,1889,null,null,null,{"$f":"IFERROR(FIND(\"_\",Table3[[#This Row],[شماره تماس]]),0)","v":0},{"$f":"IF(Table3[[#This Row],[چندم]]=0,Table3[[#This Row],[شماره تماس]],MID(Table3[[#This Row],[شماره تماس]],1,Table3[[#This Row],[چندم]]-1))","v":0},{"$f":"IF(Table3[[#This Row],[چندم]]=0,\"\",MID(Table3[[#This Row],[شماره تماس]],Table3[[#This Row],[چندم]]+1,30))","v":""}]
[null,1890,null,null,null,{"$f":"IFERROR(FIND(\"_\",Table3[[#This Row],[شماره تماس]]),0)","v":0},{"$f":"IF(Table3[[#This Row],[چندم]]=0,Table3[[#This Row],[شماره تماس]],MID(Table3[[#This Row],[شماره تماس]],1,Table3[[#This Row],[چندم]]-1))","v":0},{"$f":"IF(Table3[[#This Row],[چندم]]=0,\"\",MID(Table3[[#This Row],[شماره تماس]],Table3[[#This Row],[چندم]]+1,30))","v":""}]
[null,1891,null,null,null,{"$f":"IFERROR(FIND(\"_\",Table3[[#This Row],[شماره تماس]]),0)","v":0},{"$f":"IF(Table3[[#This Row],[چندم]]=0,Table3[[#This Row],[شماره تماس]],MID(Table3[[#This Row],[شماره تماس]],1,Table3[[#This Row],[چندم]]-1))","v":0},{"$f":"IF(Table3[[#This Row],[چندم]]=0,\"\",MID(Table3[[#This Row],[شماره تماس]],Table3[[#This Row],[چندم]]+1,30))","v":""}]
[null,1892,null,null,null,{"$f":"IFERROR(FIND(\"_\",Table3[[#This Row],[شماره تماس]]),0)","v":0},{"$f":"IF(Table3[[#This Row],[چندم]]=0,Table3[[#This Row],[شماره تماس]],MID(Table3[[#This Row],[شماره تماس]],1,Table3[[#This Row],[چندم]]-1))","v":0},{"$f":"IF(Table3[[#This Row],[چندم]]=0,\"\",MID(Table3[[#This Row],[شماره تماس]],Table3[[#This Row],[چندم]]+1,30))","v":""}]
[null,1893,null,null,null,{"$f":"IFERROR(FIND(\"_\",Table3[[#This Row],[شماره تماس]]),0)","v":0},{"$f":"IF(Table3[[#This Row],[چندم]]=0,Table3[[#This Row],[شماره تماس]],MID(Table3[[#This Row],[شماره تماس]],1,Table3[[#This Row],[چندم]]-1))","v":0},{"$f":"IF(Table3[[#This Row],[چندم]]=0,\"\",MID(Table3[[#This Row],[شماره تماس]],Table3[[#This Row],[چندم]]+1,30))","v":""}]
[null,1894,null,null,null,{"$f":"IFERROR(FIND(\"_\",Table3[[#This Row],[شماره تماس]]),0)","v":0},{"$f":"IF(Table3[[#This Row],[چندم]]=0,Table3[[#This Row],[شماره تماس]],MID(Table3[[#This Row],[شماره تماس]],1,Table3[[#This Row],[چندم]]-1))","v":0},{"$f":"IF(Table3[[#This Row],[چندم]]=0,\"\",MID(Table3[[#This Row],[شماره تماس]],Table3[[#This Row],[چندم]]+1,30))","v":""}]
[null,{"$f":"ROW()-3","v":1895},null,null,null,{"$f":"IFERROR(FIND(\"_\",Table3[[#This Row],[شماره تماس]]),0)","v":0},{"$f":"IF(Table3[[#This Row],[چندم]]=0,Table3[[#This Row],[شماره تماس]],MID(Table3[[#This Row],[شماره تماس]],1,Table3[[#This Row],[چندم]]-1))","v":0},{"$f":"IF(Table3[[#This Row],[چندم]]=0,\"\",MID(Table3[[#This Row],[شماره تماس]],Table3[[#This Row],[چندم]]+1,30))","v":""}]
[null,1896,null,null,null,{"$f":"IFERROR(FIND(\"_\",Table3[[#This Row],[شماره تماس]]),0)","v":0},{"$f":"IF(Table3[[#This Row],[چندم]]=0,Table3[[#This Row],[شماره تماس]],MID(Table3[[#This Row],[شماره تماس]],1,Table3[[#This Row],[چندم]]-1))","v":0},{"$f":"IF(Table3[[#This Row],[چندم]]=0,\"\",MID(Table3[[#This Row],[شماره تماس]],Table3[[#This Row],[چندم]]+1,30))","v":""}]
[null,1897,null,null,null,{"$f":"IFERROR(FIND(\"_\",Table3[[#This Row],[شماره تماس]]),0)","v":0},{"$f":"IF(Table3[[#This Row],[چندم]]=0,Table3[[#This Row],[شماره تماس]],MID(Table3[[#This Row],[شماره تماس]],1,Table3[[#This Row],[چندم]]-1))","v":0},{"$f":"IF(Table3[[#This Row],[چندم]]=0,\"\",MID(Table3[[#This Row],[شماره تماس]],Table3[[#This Row],[چندم]]+1,30))","v":""}]
[null,1898,null,null,null,{"$f":"IFERROR(FIND(\"_\",Table3[[#This Row],[شماره تماس]]),0)","v":0},{"$f":"IF(Table3[[#This Row],[چندم]]=0,Table3[[#This Row],[شماره تماس]],MID(Table3[[#This Row],[شماره تماس]],1,Table3[[#This Row],[چندم]]-1))","v":0},{"$f":"IF(Table3[[#This Row],[چندم]]=0,\"\",MID(Table3[[#This Row],[شماره تماس]],Table3[[#This Row],[چندم]]+1,30))","v":""}]
[null,1899,null,null,null,{"$f":"IFERROR(FIND(\"_\",Table3[[#This Row],[شماره تماس]]),0)","v":0},{"$f":"IF(Table3[[#This Row],[چندم]]=0,Table3[[#This Row],[شماره تماس]],MID(Table3[[#This Row],[شماره تماس]],1,Table3[[#This Row],[چندم]]-1))","v":0},{"$f":"IF(Table3[[#This Row],[چندم]]=0,\"\",MID(Table3[[#This Row],[شماره تماس]],Table3[[#This Row],[چندم]]+1,30))","v":""}]
[null,1900,null,null,null,{"$f":"IFERROR(FIND(\"_\",Table3[[#This Row],[شماره تماس]]),0)","v":0},{"$f":"IF(Table3[[#This Row],[چندم]]=0,Table3[[#This Row],[شماره تماس]],MID(Table3[[#This Row],[شماره تماس]],1,Table3[[#This Row],[چندم]]-1))","v":0},{"$f":"IF(Table3[[#This Row],[چندم]]=0,\"\",MID(Table3[[#This Row],[شماره تماس]],Table3[[#This Row],[چندم]]+1,30))","v":""}]
[null,1901,null,null,null,{"$f":"IFERROR(FIND(\"_\",Table3[[#This Row],[شماره تماس]]),0)","v":0},{"$f":"IF(Table3[[#This Row],[چندم]]=0,Table3[[#This Row],[شماره تماس]],MID(Table3[[#This Row],[شماره تماس]],1,Table3[[#This Row],[چندم]]-1))","v":0},{"$f":"IF(Table3[[#This Row],[چندم]]=0,\"\",MID(Table3[[#This Row],[شماره تماس]],Table3[[#This Row],[چندم]]+1,30))","v":""}]
[null,1902,null,null,null,{"$f":"IFERROR(FIND(\"_\",Table3[[#This Row],[شماره تماس]]),0)","v":0},{"$f":"IF(Table3[[#This Row],[چندم]]=0,Table3[[#This Row],[شماره تماس]],MID(Table3[[#This Row],[شماره تماس]],1,Table3[[#This Row],[چندم]]-1))","v":0},{"$f":"IF(Table3[[#This Row],[چندم]]=0,\"\",MID(Table3[[#This Row],[شماره تماس]],Table3[[#This Row],[چندم]]+1,30))","v":""}]
[null,1903,null,null,null,{"$f":"IFERROR(FIND(\"_\",Table3[[#This Row],[شماره تماس]]),0)","v":0},{"$f":"IF(Table3[[#This Row],[چندم]]=0,Table3[[#This Row],[شماره تماس]],MID(Table3[[#This Row],[شماره تماس]],1,Table3[[#This Row],[چندم]]-1))","v":0},{"$f":"IF(Table3[[#This Row],[چندم]]=0,\"\",MID(Table3[[#This Row],[شماره تماس]],Table3[[#This Row],[چندم]]+1,30))","v":""}]
[null,1904,null,null,null,{"$f":"IFERROR(FIND(\"_\",Table3[[#This Row],[شماره تماس]]),0)","v":0},{"$f":"IF(Table3[[#This Row],[چندم]]=0,Table3[[#This Row],[شماره تماس]],MID(Table3[[#This Row],[شماره تماس]],1,Table3[[#This Row],[چندم]]-1))","v":0},{"$f":"IF(Table3[[#This Row],[چندم]]=0,\"\",MID(Table3[[#This Row],[شماره تماس]],Table3[[#This Row],[چندم]]+1,30))","v":""}]
[null,1905,null,null,null,{"$f":"IFERROR(FIND(\"_\",Table3[[#This Row],[شماره تماس]]),0)","v":0},{"$f":"IF(Table3[[#This Row],[چندم]]=0,Table3[[#This Row],[شماره تماس]],MID(Table3[[#This Row],[شماره تماس]],1,Table3[[#This Row],[چندم]]-1))","v":0},{"$f":"IF(Table3[[#This Row],[چندم]]=0,\"\",MID(Table3[[#This Row],[شماره تماس]],Table3[[#This Row],[چندم]]+1,30))","v":""}]
[null,1906,null,null,null,{"$f":"IFERROR(FIND(\"_\",Table3[[#This Row],[شماره تماس]]),0)","v":0},{"$f":"IF(Table3[[#This Row],[چندم]]=0,Table3[[#This Row],[شماره تماس]],MID(Table3[[#This Row],[شماره تماس]],1,Table3[[#This Row],[چندم]]-1))","v":0},{"$f":"IF(Table3[[#This Row],[چندم]]=0,\"\",MID(Table3[[#This Row],[شماره تماس]],Table3[[#This Row],[چندم]]+1,30))","v":""}]
[null,1907,null,null,null,{"$f":"IFERROR(FIND(\"_\",Table3[[#This Row],[شماره تماس]]),0)","v":0},{"$f":"IF(Table3[[#This Row],[چندم]]=0,Table3[[#This Row],[شماره تماس]],MID(Table3[[#This Row],[شماره تماس]],1,Table3[[#This Row],[چندم]]-1))","v":0},{"$f":"IF(Table3[[#This Row],[چندم]]=0,\"\",MID(Table3[[#This Row],[شماره تماس]],Table3[[#This Row],[چندم]]+1,30))","v":""}]
[null,1908,null,null,null,{"$f":"IFERROR(FIND(\"_\",Table3[[#This Row],[شماره تماس]]),0)","v":0},{"$f":"IF(Table3[[#This Row],[چندم]]=0,Table3[[#This Row],[شماره تماس]],MID(Table3[[#This Row],[شماره تماس]],1,Table3[[#This Row],[چندم]]-1))","v":0},{"$f":"IF(Table3[[#This Row],[چندم]]=0,\"\",MID(Table3[[#This Row],[شماره تماس]],Table3[[#This Row],[چندم]]+1,30))","v":""}]
[null,1909,null,null,null,{"$f":"IFERROR(FIND(\"_\",Table3[[#This Row],[شماره تماس]]),0)","v":0},{"$f":"IF(Table3[[#This Row],[چندم]]=0,Table3[[#This Row],[شماره تماس]],MID(Table3[[#This Row],[شماره تماس]],1,Table3[[#This Row],[چندم]]-1))","v":0},{"$f":"IF(Table3[[#This Row],[چندم]]=0,\"\",MID(Table3[[#This Row],[شماره تماس]],Table3[[#This Row],[چندم]]+1,30))","v":""}]
[null,1910,null,null,null,{"$f":"IFERROR(FIND(\"_\",Table3[[#This Row],[شماره تماس]]),0)","v":0},{"$f":"IF(Table3[[#This Row],[چندم]]=0,Table3[[#This Row],[شماره تماس]],MID(Table3[[#This Row],[شماره تماس]],1,Table3[[#This Row],[چندم]]-1))","v":0},{"$f":"IF(Table3[[#This Row],[چندم]]=0,\"\",MID(Table3[[#This Row],[شماره تماس]],Table3[[#This Row],[چندم]]+1,30))","v":""}]
[null,1911,null,null,null,{"$f":"IFERROR(FIND(\"_\",Table3[[#This Row],[شماره تماس]]),0)","v":0},{"$f":"IF(Table3[[#This Row],[چندم]]=0,Table3[[#This Row],[شماره تماس]],MID(Table3[[#This Row],[شماره تماس]],1,Table3[[#This Row],[چندم]]-1))","v":0},{"$f":"IF(Table3[[#This Row],[چندم]]=0,\"\",MID(Table3[[#This Row],[شماره تماس]],Table3[[#This Row],[چندم]]+1,30))","v":""}]
[null,1912,null,null,null,{"$f":"IFERROR(FIND(\"_\",Table3[[#This Row],[شماره تماس]]),0)","v":0},{"$f":"IF(Table3[[#This Row],[چندم]]=0,Table3[[#This Row],[شماره تماس]],MID(Table3[[#This Row],[شماره تماس]],1,Table3[[#This Row],[چندم]]-1))","v":0},{"$f":"IF(Table3[[#This Row],[چندم]]=0,\"\",MID(Table3[[#This Row],[شماره تماس]],Table3[[#This Row],[چندم]]+1,30))","v":""}]
[null,1913,null,null,null,{"$f":"IFERROR(FIND(\"_\",Table3[[#This Row],[شماره تماس]]),0)","v":0},{"$f":"IF(Table3[[#This Row],[چندم]]=0,Table3[[#This Row],[شماره تماس]],MID(Table3[[#This Row],[شماره تماس]],1,Table3[[#This Row],[چندم]]-1))","v":0},{"$f":"IF(Table3[[#This Row],[چندم]]=0,\"\",MID(Table3[[#This Row],[شماره تماس]],Table3[[#This Row],[چندم]]+1,30))","v":""}]
[null,1914,null,null,null,{"$f":"IFERROR(FIND(\"_\",Table3[[#This Row],[شماره تماس]]),0)","v":0},{"$f":"IF(Table3[[#This Row],[چندم]]=0,Table3[[#This Row],[شماره تماس]],MID(Table3[[#This Row],[شماره تماس]],1,Table3[[#This Row],[چندم]]-1))","v":0},{"$f":"IF(Table3[[#This Row],[چندم]]=0,\"\",MID(Table3[[#This Row],[شماره تماس]],Table3[[#This Row],[چندم]]+1,30))","v":""}]
[null,1915,null,null,null,{"$f":"IFERROR(FIND(\"_\",Table3[[#This Row],[شماره تماس]]),0)","v":0},{"$f":"IF(Table3[[#This Row],[چندم]]=0,Table3[[#This Row],[شماره تماس]],MID(Table3[[#This Row],[شماره تماس]],1,Table3[[#This Row],[چندم]]-1))","v":0},{"$f":"IF(Table3[[#This Row],[چندم]]=0,\"\",MID(Table3[[#This Row],[شماره تماس]],Table3[[#This Row],[چندم]]+1,30))","v":""}]
[null,1916,null,null,null,{"$f":"IFERROR(FIND(\"_\",Table3[[#This Row],[شماره تماس]]),0)","v":0},{"$f":"IF(Table3[[#This Row],[چندم]]=0,Table3[[#This Row],[شماره تماس]],MID(Table3[[#This Row],[شماره تماس]],1,Table3[[#This Row],[چندم]]-1))","v":0},{"$f":"IF(Table3[[#This Row],[چندم]]=0,\"\",MID(Table3[[#This Row],[شماره تماس]],Table3[[#This Row],[چندم]]+1,30))","v":""}]
[null,1917,null,null,null,{"$f":"IFERROR(FIND(\"_\",Table3[[#This Row],[شماره تماس]]),0)","v":0},{"$f":"IF(Table3[[#This Row],[چندم]]=0,Table3[[#This Row],[شماره تماس]],MID(Table3[[#This Row],[شماره تماس]],1,Table3[[#This Row],[چندم]]-1))","v":0},{"$f":"IF(Table3[[#This Row],[چندم]]=0,\"\",MID(Table3[[#This Row],[شماره تماس]],Table3[[#This Row],[چندم]]+1,30))","v":""}]
[null,1918,null,null,null,{"$f":"IFERROR(FIND(\"_\",Table3[[#This Row],[شماره تماس]]),0)","v":0},{"$f":"IF(Table3[[#This Row],[چندم]]=0,Table3[[#This Row],[شماره تماس]],MID(Table3[[#This Row],[شماره تماس]],1,Table3[[#This Row],[چندم]]-1))","v":0},{"$f":"IF(Table3[[#This Row],[چندم]]=0,\"\",MID(Table3[[#This Row],[شماره تماس]],Table3[[#This Row],[چندم]]+1,30))","v":""}]
[null,1919,null,null,null,{"$f":"IFERROR(FIND(\"_\",Table3[[#This Row],[شماره تماس]]),0)","v":0},{"$f":"IF(Table3[[#This Row],[چندم]]=0,Table3[[#This Row],[شماره تماس]],MID(Table3[[#This Row],[شماره تماس]],1,Table3[[#This Row],[چندم]]-1))","v":0},{"$f":"IF(Table3[[#This Row],[چندم]]=0,\"\",MID(Table3[[#This Row],[شماره تماس]],Table3[[#This Row],[چندم]]+1,30))","v":""}]
[null,1920,null,null,null,{"$f":"IFERROR(FIND(\"_\",Table3[[#This Row],[شماره تماس]]),0)","v":0},{"$f":"IF(Table3[[#This Row],[چندم]]=0,Table3[[#This Row],[شماره تماس]],MID(Table3[[#This Row],[شماره تماس]],1,Table3[[#This Row],[چندم]]-1))","v":0},{"$f":"IF(Table3[[#This Row],[چندم]]=0,\"\",MID(Table3[[#This Row],[شماره تماس]],Table3[[#This Row],[چندم]]+1,30))","v":""}]
[null,1921,null,null,null,{"$f":"IFERROR(FIND(\"_\",Table3[[#This Row],[شماره تماس]]),0)","v":0},{"$f":"IF(Table3[[#This Row],[چندم]]=0,Table3[[#This Row],[شماره تماس]],MID(Table3[[#This Row],[شماره تماس]],1,Table3[[#This Row],[چندم]]-1))","v":0},{"$f":"IF(Table3[[#This Row],[چندم]]=0,\"\",MID(Table3[[#This Row],[شماره تماس]],Table3[[#This Row],[چندم]]+1,30))","v":""}]
[null,1922,null,null,null,{"$f":"IFERROR(FIND(\"_\",Table3[[#This Row],[شماره تماس]]),0)","v":0},{"$f":"IF(Table3[[#This Row],[چندم]]=0,Table3[[#This Row],[شماره تماس]],MID(Table3[[#This Row],[شماره تماس]],1,Table3[[#This Row],[چندم]]-1))","v":0},{"$f":"IF(Table3[[#This Row],[چندم]]=0,\"\",MID(Table3[[#This Row],[شماره تماس]],Table3[[#This Row],[چندم]]+1,30))","v":""}]
[null,1923,null,null,null,{"$f":"IFERROR(FIND(\"_\",Table3[[#This Row],[شماره تماس]]),0)","v":0},{"$f":"IF(Table3[[#This Row],[چندم]]=0,Table3[[#This Row],[شماره تماس]],MID(Table3[[#This Row],[شماره تماس]],1,Table3[[#This Row],[چندم]]-1))","v":0},{"$f":"IF(Table3[[#This Row],[چندم]]=0,\"\",MID(Table3[[#This Row],[شماره تماس]],Table3[[#This Row],[چندم]]+1,30))","v":""}]
[null,1924,null,null,null,{"$f":"IFERROR(FIND(\"_\",Table3[[#This Row],[شماره تماس]]),0)","v":0},{"$f":"IF(Table3[[#This Row],[چندم]]=0,Table3[[#This Row],[شماره تماس]],MID(Table3[[#This Row],[شماره تماس]],1,Table3[[#This Row],[چندم]]-1))","v":0},{"$f":"IF(Table3[[#This Row],[چندم]]=0,\"\",MID(Table3[[#This Row],[شماره تماس]],Table3[[#This Row],[چندم]]+1,30))","v":""}]
[null,1925,null,null,null,{"$f":"IFERROR(FIND(\"_\",Table3[[#This Row],[شماره تماس]]),0)","v":0},{"$f":"IF(Table3[[#This Row],[چندم]]=0,Table3[[#This Row],[شماره تماس]],MID(Table3[[#This Row],[شماره تماس]],1,Table3[[#This Row],[چندم]]-1))","v":0},{"$f":"IF(Table3[[#This Row],[چندم]]=0,\"\",MID(Table3[[#This Row],[شماره تماس]],Table3[[#This Row],[چندم]]+1,30))","v":""}]
[null,1926,null,null,null,{"$f":"IFERROR(FIND(\"_\",Table3[[#This Row],[شماره تماس]]),0)","v":0},{"$f":"IF(Table3[[#This Row],[چندم]]=0,Table3[[#This Row],[شماره تماس]],MID(Table3[[#This Row],[شماره تماس]],1,Table3[[#This Row],[چندم]]-1))","v":0},{"$f":"IF(Table3[[#This Row],[چندم]]=0,\"\",MID(Table3[[#This Row],[شماره تماس]],Table3[[#This Row],[چندم]]+1,30))","v":""}]
[null,1927,null,null,null,{"$f":"IFERROR(FIND(\"_\",Table3[[#This Row],[شماره تماس]]),0)","v":0},{"$f":"IF(Table3[[#This Row],[چندم]]=0,Table3[[#This Row],[شماره تماس]],MID(Table3[[#This Row],[شماره تماس]],1,Table3[[#This Row],[چندم]]-1))","v":0},{"$f":"IF(Table3[[#This Row],[چندم]]=0,\"\",MID(Table3[[#This Row],[شماره تماس]],Table3[[#This Row],[چندم]]+1,30))","v":""}]
[null,1928,null,null,null,{"$f":"IFERROR(FIND(\"_\",Table3[[#This Row],[شماره تماس]]),0)","v":0},{"$f":"IF(Table3[[#This Row],[چندم]]=0,Table3[[#This Row],[شماره تماس]],MID(Table3[[#This Row],[شماره تماس]],1,Table3[[#This Row],[چندم]]-1))","v":0},{"$f":"IF(Table3[[#This Row],[چندم]]=0,\"\",MID(Table3[[#This Row],[شماره تماس]],Table3[[#This Row],[چندم]]+1,30))","v":""}]
[null,1929,null,null,null,{"$f":"IFERROR(FIND(\"_\",Table3[[#This Row],[شماره تماس]]),0)","v":0},{"$f":"IF(Table3[[#This Row],[چندم]]=0,Table3[[#This Row],[شماره تماس]],MID(Table3[[#This Row],[شماره تماس]],1,Table3[[#This Row],[چندم]]-1))","v":0},{"$f":"IF(Table3[[#This Row],[چندم]]=0,\"\",MID(Table3[[#This Row],[شماره تماس]],Table3[[#This Row],[چندم]]+1,30))","v":""}]
[null,1930,null,null,null,{"$f":"IFERROR(FIND(\"_\",Table3[[#This Row],[شماره تماس]]),0)","v":0},{"$f":"IF(Table3[[#This Row],[چندم]]=0,Table3[[#This Row],[شماره تماس]],MID(Table3[[#This Row],[شماره تماس]],1,Table3[[#This Row],[چندم]]-1))","v":0},{"$f":"IF(Table3[[#This Row],[چندم]]=0,\"\",MID(Table3[[#This Row],[شماره تماس]],Table3[[#This Row],[چندم]]+1,30))","v":""}]
[null,1931,null,null,null,{"$f":"IFERROR(FIND(\"_\",Table3[[#This Row],[شماره تماس]]),0)","v":0},{"$f":"IF(Table3[[#This Row],[چندم]]=0,Table3[[#This Row],[شماره تماس]],MID(Table3[[#This Row],[شماره تماس]],1,Table3[[#This Row],[چندم]]-1))","v":0},{"$f":"IF(Table3[[#This Row],[چندم]]=0,\"\",MID(Table3[[#This Row],[شماره تماس]],Table3[[#This Row],[چندم]]+1,30))","v":""}]
[null,1932,null,null,null,{"$f":"IFERROR(FIND(\"_\",Table3[[#This Row],[شماره تماس]]),0)","v":0},{"$f":"IF(Table3[[#This Row],[چندم]]=0,Table3[[#This Row],[شماره تماس]],MID(Table3[[#This Row],[شماره تماس]],1,Table3[[#This Row],[چندم]]-1))","v":0},{"$f":"IF(Table3[[#This Row],[چندم]]=0,\"\",MID(Table3[[#This Row],[شماره تماس]],Table3[[#This Row],[چندم]]+1,30))","v":""}]
[null,1933,null,null,null,{"$f":"IFERROR(FIND(\"_\",Table3[[#This Row],[شماره تماس]]),0)","v":0},{"$f":"IF(Table3[[#This Row],[چندم]]=0,Table3[[#This Row],[شماره تماس]],MID(Table3[[#This Row],[شماره تماس]],1,Table3[[#This Row],[چندم]]-1))","v":0},{"$f":"IF(Table3[[#This Row],[چندم]]=0,\"\",MID(Table3[[#This Row],[شماره تماس]],Table3[[#This Row],[چندم]]+1,30))","v":""}]
[null,1934,null,null,null,{"$f":"IFERROR(FIND(\"_\",Table3[[#This Row],[شماره تماس]]),0)","v":0},{"$f":"IF(Table3[[#This Row],[چندم]]=0,Table3[[#This Row],[شماره تماس]],MID(Table3[[#This Row],[شماره تماس]],1,Table3[[#This Row],[چندم]]-1))","v":0},{"$f":"IF(Table3[[#This Row],[چندم]]=0,\"\",MID(Table3[[#This Row],[شماره تماس]],Table3[[#This Row],[چندم]]+1,30))","v":""}]
[null,1935,null,null,null,{"$f":"IFERROR(FIND(\"_\",Table3[[#This Row],[شماره تماس]]),0)","v":0},{"$f":"IF(Table3[[#This Row],[چندم]]=0,Table3[[#This Row],[شماره تماس]],MID(Table3[[#This Row],[شماره تماس]],1,Table3[[#This Row],[چندم]]-1))","v":0},{"$f":"IF(Table3[[#This Row],[چندم]]=0,\"\",MID(Table3[[#This Row],[شماره تماس]],Table3[[#This Row],[چندم]]+1,30))","v":""}]
[null,1936,null,null,null,{"$f":"IFERROR(FIND(\"_\",Table3[[#This Row],[شماره تماس]]),0)","v":0},{"$f":"IF(Table3[[#This Row],[چندم]]=0,Table3[[#This Row],[شماره تماس]],MID(Table3[[#This Row],[شماره تماس]],1,Table3[[#This Row],[چندم]]-1))","v":0},{"$f":"IF(Table3[[#This Row],[چندم]]=0,\"\",MID(Table3[[#This Row],[شماره تماس]],Table3[[#This Row],[چندم]]+1,30))","v":""}]
[null,1937,null,null,null,{"$f":"IFERROR(FIND(\"_\",Table3[[#This Row],[شماره تماس]]),0)","v":0},{"$f":"IF(Table3[[#This Row],[چندم]]=0,Table3[[#This Row],[شماره تماس]],MID(Table3[[#This Row],[شماره تماس]],1,Table3[[#This Row],[چندم]]-1))","v":0},{"$f":"IF(Table3[[#This Row],[چندم]]=0,\"\",MID(Table3[[#This Row],[شماره تماس]],Table3[[#This Row],[چندم]]+1,30))","v":""}]
[null,1938,null,null,null,{"$f":"IFERROR(FIND(\"_\",Table3[[#This Row],[شماره تماس]]),0)","v":0},{"$f":"IF(Table3[[#This Row],[چندم]]=0,Table3[[#This Row],[شماره تماس]],MID(Table3[[#This Row],[شماره تماس]],1,Table3[[#This Row],[چندم]]-1))","v":0},{"$f":"IF(Table3[[#This Row],[چندم]]=0,\"\",MID(Table3[[#This Row],[شماره تماس]],Table3[[#This Row],[چندم]]+1,30))","v":""}]
[null,1939,null,null,null,{"$f":"IFERROR(FIND(\"_\",Table3[[#This Row],[شماره تماس]]),0)","v":0},{"$f":"IF(Table3[[#This Row],[چندم]]=0,Table3[[#This Row],[شماره تماس]],MID(Table3[[#This Row],[شماره تماس]],1,Table3[[#This Row],[چندم]]-1))","v":0},{"$f":"IF(Table3[[#This Row],[چندم]]=0,\"\",MID(Table3[[#This Row],[شماره تماس]],Table3[[#This Row],[چندم]]+1,30))","v":""}]
[null,1940,null,null,null,{"$f":"IFERROR(FIND(\"_\",Table3[[#This Row],[شماره تماس]]),0)","v":0},{"$f":"IF(Table3[[#This Row],[چندم]]=0,Table3[[#This Row],[شماره تماس]],MID(Table3[[#This Row],[شماره تماس]],1,Table3[[#This Row],[چندم]]-1))","v":0},{"$f":"IF(Table3[[#This Row],[چندم]]=0,\"\",MID(Table3[[#This Row],[شماره تماس]],Table3[[#This Row],[چندم]]+1,30))","v":""}]
[null,1941,null,null,null,{"$f":"IFERROR(FIND(\"_\",Table3[[#This Row],[شماره تماس]]),0)","v":0},{"$f":"IF(Table3[[#This Row],[چندم]]=0,Table3[[#This Row],[شماره تماس]],MID(Table3[[#This Row],[شماره تماس]],1,Table3[[#This Row],[چندم]]-1))","v":0},{"$f":"IF(Table3[[#This Row],[چندم]]=0,\"\",MID(Table3[[#This Row],[شماره تماس]],Table3[[#This Row],[چندم]]+1,30))","v":""}]
[null,1942,null,null,null,{"$f":"IFERROR(FIND(\"_\",Table3[[#This Row],[شماره تماس]]),0)","v":0},{"$f":"IF(Table3[[#This Row],[چندم]]=0,Table3[[#This Row],[شماره تماس]],MID(Table3[[#This Row],[شماره تماس]],1,Table3[[#This Row],[چندم]]-1))","v":0},{"$f":"IF(Table3[[#This Row],[چندم]]=0,\"\",MID(Table3[[#This Row],[شماره تماس]],Table3[[#This Row],[چندم]]+1,30))","v":""}]
[null,1943,null,null,null,{"$f":"IFERROR(FIND(\"_\",Table3[[#This Row],[شماره تماس]]),0)","v":0},{"$f":"IF(Table3[[#This Row],[چندم]]=0,Table3[[#This Row],[شماره تماس]],MID(Table3[[#This Row],[شماره تماس]],1,Table3[[#This Row],[چندم]]-1))","v":0},{"$f":"IF(Table3[[#This Row],[چندم]]=0,\"\",MID(Table3[[#This Row],[شماره تماس]],Table3[[#This Row],[چندم]]+1,30))","v":""}]
[null,1944,null,null,null,{"$f":"IFERROR(FIND(\"_\",Table3[[#This Row],[شماره تماس]]),0)","v":0},{"$f":"IF(Table3[[#This Row],[چندم]]=0,Table3[[#This Row],[شماره تماس]],MID(Table3[[#This Row],[شماره تماس]],1,Table3[[#This Row],[چندم]]-1))","v":0},{"$f":"IF(Table3[[#This Row],[چندم]]=0,\"\",MID(Table3[[#This Row],[شماره تماس]],Table3[[#This Row],[چندم]]+1,30))","v":""}]
[null,1945,null,null,null,{"$f":"IFERROR(FIND(\"_\",Table3[[#This Row],[شماره تماس]]),0)","v":0},{"$f":"IF(Table3[[#This Row],[چندم]]=0,Table3[[#This Row],[شماره تماس]],MID(Table3[[#This Row],[شماره تماس]],1,Table3[[#This Row],[چندم]]-1))","v":0},{"$f":"IF(Table3[[#This Row],[چندم]]=0,\"\",MID(Table3[[#This Row],[شماره تماس]],Table3[[#This Row],[چندم]]+1,30))","v":""}]
[null,1946,null,null,null,{"$f":"IFERROR(FIND(\"_\",Table3[[#This Row],[شماره تماس]]),0)","v":0},{"$f":"IF(Table3[[#This Row],[چندم]]=0,Table3[[#This Row],[شماره تماس]],MID(Table3[[#This Row],[شماره تماس]],1,Table3[[#This Row],[چندم]]-1))","v":0},{"$f":"IF(Table3[[#This Row],[چندم]]=0,\"\",MID(Table3[[#This Row],[شماره تماس]],Table3[[#This Row],[چندم]]+1,30))","v":""}]
[null,1947,null,null,null,{"$f":"IFERROR(FIND(\"_\",Table3[[#This Row],[شماره تماس]]),0)","v":0},{"$f":"IF(Table3[[#This Row],[چندم]]=0,Table3[[#This Row],[شماره تماس]],MID(Table3[[#This Row],[شماره تماس]],1,Table3[[#This Row],[چندم]]-1))","v":0},{"$f":"IF(Table3[[#This Row],[چندم]]=0,\"\",MID(Table3[[#This Row],[شماره تماس]],Table3[[#This Row],[چندم]]+1,30))","v":""}]
[null,1948,null,null,null,{"$f":"IFERROR(FIND(\"_\",Table3[[#This Row],[شماره تماس]]),0)","v":0},{"$f":"IF(Table3[[#This Row],[چندم]]=0,Table3[[#This Row],[شماره تماس]],MID(Table3[[#This Row],[شماره تماس]],1,Table3[[#This Row],[چندم]]-1))","v":0},{"$f":"IF(Table3[[#This Row],[چندم]]=0,\"\",MID(Table3[[#This Row],[شماره تماس]],Table3[[#This Row],[چندم]]+1,30))","v":""}]
[null,1949,null,null,null,{"$f":"IFERROR(FIND(\"_\",Table3[[#This Row],[شماره تماس]]),0)","v":0},{"$f":"IF(Table3[[#This Row],[چندم]]=0,Table3[[#This Row],[شماره تماس]],MID(Table3[[#This Row],[شماره تماس]],1,Table3[[#This Row],[چندم]]-1))","v":0},{"$f":"IF(Table3[[#This Row],[چندم]]=0,\"\",MID(Table3[[#This Row],[شماره تماس]],Table3[[#This Row],[چندم]]+1,30))","v":""}]
[null,1950,null,null,null,{"$f":"IFERROR(FIND(\"_\",Table3[[#This Row],[شماره تماس]]),0)","v":0},{"$f":"IF(Table3[[#This Row],[چندم]]=0,Table3[[#This Row],[شماره تماس]],MID(Table3[[#This Row],[شماره تماس]],1,Table3[[#This Row],[چندم]]-1))","v":0},{"$f":"IF(Table3[[#This Row],[چندم]]=0,\"\",MID(Table3[[#This Row],[شماره تماس]],Table3[[#This Row],[چندم]]+1,30))","v":""}]
[null,1951,null,null,null,{"$f":"IFERROR(FIND(\"_\",Table3[[#This Row],[شماره تماس]]),0)","v":0},{"$f":"IF(Table3[[#This Row],[چندم]]=0,Table3[[#This Row],[شماره تماس]],MID(Table3[[#This Row],[شماره تماس]],1,Table3[[#This Row],[چندم]]-1))","v":0},{"$f":"IF(Table3[[#This Row],[چندم]]=0,\"\",MID(Table3[[#This Row],[شماره تماس]],Table3[[#This Row],[چندم]]+1,30))","v":""}]
[null,1952,null,null,null,{"$f":"IFERROR(FIND(\"_\",Table3[[#This Row],[شماره تماس]]),0)","v":0},{"$f":"IF(Table3[[#This Row],[چندم]]=0,Table3[[#This Row],[شماره تماس]],MID(Table3[[#This Row],[شماره تماس]],1,Table3[[#This Row],[چندم]]-1))","v":0},{"$f":"IF(Table3[[#This Row],[چندم]]=0,\"\",MID(Table3[[#This Row],[شماره تماس]],Table3[[#This Row],[چندم]]+1,30))","v":""}]
[null,1953,null,null,null,{"$f":"IFERROR(FIND(\"_\",Table3[[#This Row],[شماره تماس]]),0)","v":0},{"$f":"IF(Table3[[#This Row],[چندم]]=0,Table3[[#This Row],[شماره تماس]],MID(Table3[[#This Row],[شماره تماس]],1,Table3[[#This Row],[چندم]]-1))","v":0},{"$f":"IF(Table3[[#This Row],[چندم]]=0,\"\",MID(Table3[[#This Row],[شماره تماس]],Table3[[#This Row],[چندم]]+1,30))","v":""}]
[null,1954,null,null,null,{"$f":"IFERROR(FIND(\"_\",Table3[[#This Row],[شماره تماس]]),0)","v":0},{"$f":"IF(Table3[[#This Row],[چندم]]=0,Table3[[#This Row],[شماره تماس]],MID(Table3[[#This Row],[شماره تماس]],1,Table3[[#This Row],[چندم]]-1))","v":0},{"$f":"IF(Table3[[#This Row],[چندم]]=0,\"\",MID(Table3[[#This Row],[شماره تماس]],Table3[[#This Row],[چندم]]+1,30))","v":""}]
[null,1955,null,null,null,{"$f":"IFERROR(FIND(\"_\",Table3[[#This Row],[شماره تماس]]),0)","v":0},{"$f":"IF(Table3[[#This Row],[چندم]]=0,Table3[[#This Row],[شماره تماس]],MID(Table3[[#This Row],[شماره تماس]],1,Table3[[#This Row],[چندم]]-1))","v":0},{"$f":"IF(Table3[[#This Row],[چندم]]=0,\"\",MID(Table3[[#This Row],[شماره تماس]],Table3[[#This Row],[چندم]]+1,30))","v":""}]
[null,1956,null,null,null,{"$f":"IFERROR(FIND(\"_\",Table3[[#This Row],[شماره تماس]]),0)","v":0},{"$f":"IF(Table3[[#This Row],[چندم]]=0,Table3[[#This Row],[شماره تماس]],MID(Table3[[#This Row],[شماره تماس]],1,Table3[[#This Row],[چندم]]-1))","v":0},{"$f":"IF(Table3[[#This Row],[چندم]]=0,\"\",MID(Table3[[#This Row],[شماره تماس]],Table3[[#This Row],[چندم]]+1,30))","v":""}]
[null,1957,null,null,null,{"$f":"IFERROR(FIND(\"_\",Table3[[#This Row],[شماره تماس]]),0)","v":0},{"$f":"IF(Table3[[#This Row],[چندم]]=0,Table3[[#This Row],[شماره تماس]],MID(Table3[[#This Row],[شماره تماس]],1,Table3[[#This Row],[چندم]]-1))","v":0},{"$f":"IF(Table3[[#This Row],[چندم]]=0,\"\",MID(Table3[[#This Row],[شماره تماس]],Table3[[#This Row],[چندم]]+1,30))","v":""}]
[null,1958,null,null,null,{"$f":"IFERROR(FIND(\"_\",Table3[[#This Row],[شماره تماس]]),0)","v":0},{"$f":"IF(Table3[[#This Row],[چندم]]=0,Table3[[#This Row],[شماره تماس]],MID(Table3[[#This Row],[شماره تماس]],1,Table3[[#This Row],[چندم]]-1))","v":0},{"$f":"IF(Table3[[#This Row],[چندم]]=0,\"\",MID(Table3[[#This Row],[شماره تماس]],Table3[[#This Row],[چندم]]+1,30))","v":""}]
[null,{"$f":"ROW()-3","v":1959},null,null,null,{"$f":"IFERROR(FIND(\"_\",Table3[[#This Row],[شماره تماس]]),0)","v":0},{"$f":"IF(Table3[[#This Row],[چندم]]=0,Table3[[#This Row],[شماره تماس]],MID(Table3[[#This Row],[شماره تماس]],1,Table3[[#This Row],[چندم]]-1))","v":0},{"$f":"IF(Table3[[#This Row],[چندم]]=0,\"\",MID(Table3[[#This Row],[شماره تماس]],Table3[[#This Row],[چندم]]+1,30))","v":""}]
[null,1960,null,null,null,{"$f":"IFERROR(FIND(\"_\",Table3[[#This Row],[شماره تماس]]),0)","v":0},{"$f":"IF(Table3[[#This Row],[چندم]]=0,Table3[[#This Row],[شماره تماس]],MID(Table3[[#This Row],[شماره تماس]],1,Table3[[#This Row],[چندم]]-1))","v":0},{"$f":"IF(Table3[[#This Row],[چندم]]=0,\"\",MID(Table3[[#This Row],[شماره تماس]],Table3[[#This Row],[چندم]]+1,30))","v":""}]
[null,1961,null,null,null,{"$f":"IFERROR(FIND(\"_\",Table3[[#This Row],[شماره تماس]]),0)","v":0},{"$f":"IF(Table3[[#This Row],[چندم]]=0,Table3[[#This Row],[شماره تماس]],MID(Table3[[#This Row],[شماره تماس]],1,Table3[[#This Row],[چندم]]-1))","v":0},{"$f":"IF(Table3[[#This Row],[چندم]]=0,\"\",MID(Table3[[#This Row],[شماره تماس]],Table3[[#This Row],[چندم]]+1,30))","v":""}]
[null,1962,null,null,null,{"$f":"IFERROR(FIND(\"_\",Table3[[#This Row],[شماره تماس]]),0)","v":0},{"$f":"IF(Table3[[#This Row],[چندم]]=0,Table3[[#This Row],[شماره تماس]],MID(Table3[[#This Row],[شماره تماس]],1,Table3[[#This Row],[چندم]]-1))","v":0},{"$f":"IF(Table3[[#This Row],[چندم]]=0,\"\",MID(Table3[[#This Row],[شماره تماس]],Table3[[#This Row],[چندم]]+1,30))","v":""}]
[null,1963,null,null,null,{"$f":"IFERROR(FIND(\"_\",Table3[[#This Row],[شماره تماس]]),0)","v":0},{"$f":"IF(Table3[[#This Row],[چندم]]=0,Table3[[#This Row],[شماره تماس]],MID(Table3[[#This Row],[شماره تماس]],1,Table3[[#This Row],[چندم]]-1))","v":0},{"$f":"IF(Table3[[#This Row],[چندم]]=0,\"\",MID(Table3[[#This Row],[شماره تماس]],Table3[[#This Row],[چندم]]+1,30))","v":""}]
[null,1964,null,null,null,{"$f":"IFERROR(FIND(\"_\",Table3[[#This Row],[شماره تماس]]),0)","v":0},{"$f":"IF(Table3[[#This Row],[چندم]]=0,Table3[[#This Row],[شماره تماس]],MID(Table3[[#This Row],[شماره تماس]],1,Table3[[#This Row],[چندم]]-1))","v":0},{"$f":"IF(Table3[[#This Row],[چندم]]=0,\"\",MID(Table3[[#This Row],[شماره تماس]],Table3[[#This Row],[چندم]]+1,30))","v":""}]
[null,1965,null,null,null,{"$f":"IFERROR(FIND(\"_\",Table3[[#This Row],[شماره تماس]]),0)","v":0},{"$f":"IF(Table3[[#This Row],[چندم]]=0,Table3[[#This Row],[شماره تماس]],MID(Table3[[#This Row],[شماره تماس]],1,Table3[[#This Row],[چندم]]-1))","v":0},{"$f":"IF(Table3[[#This Row],[چندم]]=0,\"\",MID(Table3[[#This Row],[شماره تماس]],Table3[[#This Row],[چندم]]+1,30))","v":""}]
[null,1966,null,null,null,{"$f":"IFERROR(FIND(\"_\",Table3[[#This Row],[شماره تماس]]),0)","v":0},{"$f":"IF(Table3[[#This Row],[چندم]]=0,Table3[[#This Row],[شماره تماس]],MID(Table3[[#This Row],[شماره تماس]],1,Table3[[#This Row],[چندم]]-1))","v":0},{"$f":"IF(Table3[[#This Row],[چندم]]=0,\"\",MID(Table3[[#This Row],[شماره تماس]],Table3[[#This Row],[چندم]]+1,30))","v":""}]
[null,1967,null,null,null,{"$f":"IFERROR(FIND(\"_\",Table3[[#This Row],[شماره تماس]]),0)","v":0},{"$f":"IF(Table3[[#This Row],[چندم]]=0,Table3[[#This Row],[شماره تماس]],MID(Table3[[#This Row],[شماره تماس]],1,Table3[[#This Row],[چندم]]-1))","v":0},{"$f":"IF(Table3[[#This Row],[چندم]]=0,\"\",MID(Table3[[#This Row],[شماره تماس]],Table3[[#This Row],[چندم]]+1,30))","v":""}]
[null,1968,null,null,null,{"$f":"IFERROR(FIND(\"_\",Table3[[#This Row],[شماره تماس]]),0)","v":0},{"$f":"IF(Table3[[#This Row],[چندم]]=0,Table3[[#This Row],[شماره تماس]],MID(Table3[[#This Row],[شماره تماس]],1,Table3[[#This Row],[چندم]]-1))","v":0},{"$f":"IF(Table3[[#This Row],[چندم]]=0,\"\",MID(Table3[[#This Row],[شماره تماس]],Table3[[#This Row],[چندم]]+1,30))","v":""}]
[null,1969,null,null,null,{"$f":"IFERROR(FIND(\"_\",Table3[[#This Row],[شماره تماس]]),0)","v":0},{"$f":"IF(Table3[[#This Row],[چندم]]=0,Table3[[#This Row],[شماره تماس]],MID(Table3[[#This Row],[شماره تماس]],1,Table3[[#This Row],[چندم]]-1))","v":0},{"$f":"IF(Table3[[#This Row],[چندم]]=0,\"\",MID(Table3[[#This Row],[شماره تماس]],Table3[[#This Row],[چندم]]+1,30))","v":""}]
[null,1970,null,null,null,{"$f":"IFERROR(FIND(\"_\",Table3[[#This Row],[شماره تماس]]),0)","v":0},{"$f":"IF(Table3[[#This Row],[چندم]]=0,Table3[[#This Row],[شماره تماس]],MID(Table3[[#This Row],[شماره تماس]],1,Table3[[#This Row],[چندم]]-1))","v":0},{"$f":"IF(Table3[[#This Row],[چندم]]=0,\"\",MID(Table3[[#This Row],[شماره تماس]],Table3[[#This Row],[چندم]]+1,30))","v":""}]
[null,{"$f":"ROW()-3","v":1971},null,null,null,{"$f":"IFERROR(FIND(\"_\",Table3[[#This Row],[شماره تماس]]),0)","v":0},{"$f":"IF(Table3[[#This Row],[چندم]]=0,Table3[[#This Row],[شماره تماس]],MID(Table3[[#This Row],[شماره تماس]],1,Table3[[#This Row],[چندم]]-1))","v":0},{"$f":"IF(Table3[[#This Row],[چندم]]=0,\"\",MID(Table3[[#This Row],[شماره تماس]],Table3[[#This Row],[چندم]]+1,20))","v":""}]
[null,1972,null,null,null,{"$f":"IFERROR(FIND(\"_\",Table3[[#This Row],[شماره تماس]]),0)","v":0},{"$f":"IF(Table3[[#This Row],[چندم]]=0,Table3[[#This Row],[شماره تماس]],MID(Table3[[#This Row],[شماره تماس]],1,Table3[[#This Row],[چندم]]-1))","v":0},{"$f":"IF(Table3[[#This Row],[چندم]]=0,\"\",MID(Table3[[#This Row],[شماره تماس]],Table3[[#This Row],[چندم]]+1,20))","v":""}]
[null,1973,null,null,null,{"$f":"IFERROR(FIND(\"_\",Table3[[#This Row],[شماره تماس]]),0)","v":0},{"$f":"IF(Table3[[#This Row],[چندم]]=0,Table3[[#This Row],[شماره تماس]],MID(Table3[[#This Row],[شماره تماس]],1,Table3[[#This Row],[چندم]]-1))","v":0},{"$f":"IF(Table3[[#This Row],[چندم]]=0,\"\",MID(Table3[[#This Row],[شماره تماس]],Table3[[#This Row],[چندم]]+1,20))","v":""}]
[null,1974,null,null,null,{"$f":"IFERROR(FIND(\"_\",Table3[[#This Row],[شماره تماس]]),0)","v":0},{"$f":"IF(Table3[[#This Row],[چندم]]=0,Table3[[#This Row],[شماره تماس]],MID(Table3[[#This Row],[شماره تماس]],1,Table3[[#This Row],[چندم]]-1))","v":0},{"$f":"IF(Table3[[#This Row],[چندم]]=0,\"\",MID(Table3[[#This Row],[شماره تماس]],Table3[[#This Row],[چندم]]+1,20))","v":""}]
[null,1975,null,null,null,{"$f":"IFERROR(FIND(\"_\",Table3[[#This Row],[شماره تماس]]),0)","v":0},{"$f":"IF(Table3[[#This Row],[چندم]]=0,Table3[[#This Row],[شماره تماس]],MID(Table3[[#This Row],[شماره تماس]],1,Table3[[#This Row],[چندم]]-1))","v":0},{"$f":"IF(Table3[[#This Row],[چندم]]=0,\"\",MID(Table3[[#This Row],[شماره تماس]],Table3[[#This Row],[چندم]]+1,20))","v":""}]
[null,1976,null,null,null,{"$f":"IFERROR(FIND(\"_\",Table3[[#This Row],[شماره تماس]]),0)","v":0},{"$f":"IF(Table3[[#This Row],[چندم]]=0,Table3[[#This Row],[شماره تماس]],MID(Table3[[#This Row],[شماره تماس]],1,Table3[[#This Row],[چندم]]-1))","v":0},{"$f":"IF(Table3[[#This Row],[چندم]]=0,\"\",MID(Table3[[#This Row],[شماره تماس]],Table3[[#This Row],[چندم]]+1,20))","v":""}]
[null,1977,null,null,null,{"$f":"IFERROR(FIND(\"_\",Table3[[#This Row],[شماره تماس]]),0)","v":0},{"$f":"IF(Table3[[#This Row],[چندم]]=0,Table3[[#This Row],[شماره تماس]],MID(Table3[[#This Row],[شماره تماس]],1,Table3[[#This Row],[چندم]]-1))","v":0},{"$f":"IF(Table3[[#This Row],[چندم]]=0,\"\",MID(Table3[[#This Row],[شماره تماس]],Table3[[#This Row],[چندم]]+1,20))","v":""}]
[null,1978,null,null,null,{"$f":"IFERROR(FIND(\"_\",Table3[[#This Row],[شماره تماس]]),0)","v":0},{"$f":"IF(Table3[[#This Row],[چندم]]=0,Table3[[#This Row],[شماره تماس]],MID(Table3[[#This Row],[شماره تماس]],1,Table3[[#This Row],[چندم]]-1))","v":0},{"$f":"IF(Table3[[#This Row],[چندم]]=0,\"\",MID(Table3[[#This Row],[شماره تماس]],Table3[[#This Row],[چندم]]+1,20))","v":""}]
[null,1979,null,null,null,{"$f":"IFERROR(FIND(\"_\",Table3[[#This Row],[شماره تماس]]),0)","v":0},{"$f":"IF(Table3[[#This Row],[چندم]]=0,Table3[[#This Row],[شماره تماس]],MID(Table3[[#This Row],[شماره تماس]],1,Table3[[#This Row],[چندم]]-1))","v":0},{"$f":"IF(Table3[[#This Row],[چندم]]=0,\"\",MID(Table3[[#This Row],[شماره تماس]],Table3[[#This Row],[چندم]]+1,20))","v":""}]
[null,1980,null,null,null,{"$f":"IFERROR(FIND(\"_\",Table3[[#This Row],[شماره تماس]]),0)","v":0},{"$f":"IF(Table3[[#This Row],[چندم]]=0,Table3[[#This Row],[شماره تماس]],MID(Table3[[#This Row],[شماره تماس]],1,Table3[[#This Row],[چندم]]-1))","v":0},{"$f":"IF(Table3[[#This Row],[چندم]]=0,\"\",MID(Table3[[#This Row],[شماره تماس]],Table3[[#This Row],[چندم]]+1,20))","v":""}]
[null,1981,null,null,null,{"$f":"IFERROR(FIND(\"_\",Table3[[#This Row],[شماره تماس]]),0)","v":0},{"$f":"IF(Table3[[#This Row],[چندم]]=0,Table3[[#This Row],[شماره تماس]],MID(Table3[[#This Row],[شماره تماس]],1,Table3[[#This Row],[چندم]]-1))","v":0},{"$f":"IF(Table3[[#This Row],[چندم]]=0,\"\",MID(Table3[[#This Row],[شماره تماس]],Table3[[#This Row],[چندم]]+1,20))","v":""}]
[null,1982,null,null,null,{"$f":"IFERROR(FIND(\"_\",Table3[[#This Row],[شماره تماس]]),0)","v":0},{"$f":"IF(Table3[[#This Row],[چندم]]=0,Table3[[#This Row],[شماره تماس]],MID(Table3[[#This Row],[شماره تماس]],1,Table3[[#This Row],[چندم]]-1))","v":0},{"$f":"IF(Table3[[#This Row],[چندم]]=0,\"\",MID(Table3[[#This Row],[شماره تماس]],Table3[[#This Row],[چندم]]+1,20))","v":""}]
[null,1983,null,null,null,{"$f":"IFERROR(FIND(\"_\",Table3[[#This Row],[شماره تماس]]),0)","v":0},{"$f":"IF(Table3[[#This Row],[چندم]]=0,Table3[[#This Row],[شماره تماس]],MID(Table3[[#This Row],[شماره تماس]],1,Table3[[#This Row],[چندم]]-1))","v":0},{"$f":"IF(Table3[[#This Row],[چندم]]=0,\"\",MID(Table3[[#This Row],[شماره تماس]],Table3[[#This Row],[چندم]]+1,20))","v":""}]
[null,1984,null,null,null,{"$f":"IFERROR(FIND(\"_\",Table3[[#This Row],[شماره تماس]]),0)","v":0},{"$f":"IF(Table3[[#This Row],[چندم]]=0,Table3[[#This Row],[شماره تماس]],MID(Table3[[#This Row],[شماره تماس]],1,Table3[[#This Row],[چندم]]-1))","v":0},{"$f":"IF(Table3[[#This Row],[چندم]]=0,\"\",MID(Table3[[#This Row],[شماره تماس]],Table3[[#This Row],[چندم]]+1,20))","v":""}]
[null,{"$f":"ROW()-3","v":1985},null,null,null,{"$f":"IFERROR(FIND(\"_\",Table3[[#This Row],[شماره تماس]]),0)","v":0},{"$f":"IF(Table3[[#This Row],[چندم]]=0,Table3[[#This Row],[شماره تماس]],MID(Table3[[#This Row],[شماره تماس]],1,Table3[[#This Row],[چندم]]-1))","v":0},{"$f":"IF(Table3[[#This Row],[چندم]]=0,\"\",MID(Table3[[#This Row],[شماره تماس]],Table3[[#This Row],[چندم]]+1,20))","v":""}]
[null,1986,null,null,null,{"$f":"IFERROR(FIND(\"_\",Table3[[#This Row],[شماره تماس]]),0)","v":0},{"$f":"IF(Table3[[#This Row],[چندم]]=0,Table3[[#This Row],[شماره تماس]],MID(Table3[[#This Row],[شماره تماس]],1,Table3[[#This Row],[چندم]]-1))","v":0},{"$f":"IF(Table3[[#This Row],[چندم]]=0,\"\",MID(Table3[[#This Row],[شماره تماس]],Table3[[#This Row],[چندم]]+1,20))","v":""}]
[null,1987,null,null,null,{"$f":"IFERROR(FIND(\"_\",Table3[[#This Row],[شماره تماس]]),0)","v":0},{"$f":"IF(Table3[[#This Row],[چندم]]=0,Table3[[#This Row],[شماره تماس]],MID(Table3[[#This Row],[شماره تماس]],1,Table3[[#This Row],[چندم]]-1))","v":0},{"$f":"IF(Table3[[#This Row],[چندم]]=0,\"\",MID(Table3[[#This Row],[شماره تماس]],Table3[[#This Row],[چندم]]+1,20))","v":""}]
[null,1988,null,null,null,{"$f":"IFERROR(FIND(\"_\",Table3[[#This Row],[شماره تماس]]),0)","v":0},{"$f":"IF(Table3[[#This Row],[چندم]]=0,Table3[[#This Row],[شماره تماس]],MID(Table3[[#This Row],[شماره تماس]],1,Table3[[#This Row],[چندم]]-1))","v":0},{"$f":"IF(Table3[[#This Row],[چندم]]=0,\"\",MID(Table3[[#This Row],[شماره تماس]],Table3[[#This Row],[چندم]]+1,20))","v":""}]
[null,1989,null,null,null,{"$f":"IFERROR(FIND(\"_\",Table3[[#This Row],[شماره تماس]]),0)","v":0},{"$f":"IF(Table3[[#This Row],[چندم]]=0,Table3[[#This Row],[شماره تماس]],MID(Table3[[#This Row],[شماره تماس]],1,Table3[[#This Row],[چندم]]-1))","v":0},{"$f":"IF(Table3[[#This Row],[چندم]]=0,\"\",MID(Table3[[#This Row],[شماره تماس]],Table3[[#This Row],[چندم]]+1,20))","v":""}]
[null,1990,null,null,null,{"$f":"IFERROR(FIND(\"_\",Table3[[#This Row],[شماره تماس]]),0)","v":0},{"$f":"IF(Table3[[#This Row],[چندم]]=0,Table3[[#This Row],[شماره تماس]],MID(Table3[[#This Row],[شماره تماس]],1,Table3[[#This Row],[چندم]]-1))","v":0},{"$f":"IF(Table3[[#This Row],[چندم]]=0,\"\",MID(Table3[[#This Row],[شماره تماس]],Table3[[#This Row],[چندم]]+1,20))","v":""}]
[null,1991,null,null,null,{"$f":"IFERROR(FIND(\"_\",Table3[[#This Row],[شماره تماس]]),0)","v":0},{"$f":"IF(Table3[[#This Row],[چندم]]=0,Table3[[#This Row],[شماره تماس]],MID(Table3[[#This Row],[شماره تماس]],1,Table3[[#This Row],[چندم]]-1))","v":0},{"$f":"IF(Table3[[#This Row],[چندم]]=0,\"\",MID(Table3[[#This Row],[شماره تماس]],Table3[[#This Row],[چندم]]+1,20))","v":""}]
[null,{"$f":"ROW()-3","v":1992},null,null,null,{"$f":"IFERROR(FIND(\"_\",Table3[[#This Row],[شماره تماس]]),0)","v":0},{"$f":"IF(Table3[[#This Row],[چندم]]=0,Table3[[#This Row],[شماره تماس]],MID(Table3[[#This Row],[شماره تماس]],1,Table3[[#This Row],[چندم]]-1))","v":0},{"$f":"IF(Table3[[#This Row],[چندم]]=0,\"\",MID(Table3[[#This Row],[شماره تماس]],Table3[[#This Row],[چندم]]+1,20))","v":""}]
[null,1993,null,null,null,{"$f":"IFERROR(FIND(\"_\",Table3[[#This Row],[شماره تماس]]),0)","v":0},{"$f":"IF(Table3[[#This Row],[چندم]]=0,Table3[[#This Row],[شماره تماس]],MID(Table3[[#This Row],[شماره تماس]],1,Table3[[#This Row],[چندم]]-1))","v":0},{"$f":"IF(Table3[[#This Row],[چندم]]=0,\"\",MID(Table3[[#This Row],[شماره تماس]],Table3[[#This Row],[چندم]]+1,20))","v":""}]
[null,1994,null,null,null,{"$f":"IFERROR(FIND(\"_\",Table3[[#This Row],[شماره تماس]]),0)","v":0},{"$f":"IF(Table3[[#This Row],[چندم]]=0,Table3[[#This Row],[شماره تماس]],MID(Table3[[#This Row],[شماره تماس]],1,Table3[[#This Row],[چندم]]-1))","v":0},{"$f":"IF(Table3[[#This Row],[چندم]]=0,\"\",MID(Table3[[#This Row],[شماره تماس]],Table3[[#This Row],[چندم]]+1,20))","v":""}]
[null,1995,null,null,null,{"$f":"IFERROR(FIND(\"_\",Table3[[#This Row],[شماره تماس]]),0)","v":0},{"$f":"IF(Table3[[#This Row],[چندم]]=0,Table3[[#This Row],[شماره تماس]],MID(Table3[[#This Row],[شماره تماس]],1,Table3[[#This Row],[چندم]]-1))","v":0},{"$f":"IF(Table3[[#This Row],[چندم]]=0,\"\",MID(Table3[[#This Row],[شماره تماس]],Table3[[#This Row],[چندم]]+1,20))","v":""}]
[null,1996,null,null,null,{"$f":"IFERROR(FIND(\"_\",Table3[[#This Row],[شماره تماس]]),0)","v":0},{"$f":"IF(Table3[[#This Row],[چندم]]=0,Table3[[#This Row],[شماره تماس]],MID(Table3[[#This Row],[شماره تماس]],1,Table3[[#This Row],[چندم]]-1))","v":0},{"$f":"IF(Table3[[#This Row],[چندم]]=0,\"\",MID(Table3[[#This Row],[شماره تماس]],Table3[[#This Row],[چندم]]+1,20))","v":""}]
[null,1997,null,null,null,{"$f":"IFERROR(FIND(\"_\",Table3[[#This Row],[شماره تماس]]),0)","v":0},{"$f":"IF(Table3[[#This Row],[چندم]]=0,Table3[[#This Row],[شماره تماس]],MID(Table3[[#This Row],[شماره تماس]],1,Table3[[#This Row],[چندم]]-1))","v":0},{"$f":"IF(Table3[[#This Row],[چندم]]=0,\"\",MID(Table3[[#This Row],[شماره تماس]],Table3[[#This Row],[چندم]]+1,20))","v":""}]

{"sheet":"menu","index":3,"n_rows":19,"n_cols":40,"rows_kept":19,"cut":false,"hidden":false,"merged":[[9,10,12,12],[13,10,17,12],[18,10,19,12],[7,7,8,12]]}
[null,null,null,null,null,null,null,null,null,null,null,null,null,null,null,null,null,null,null,null,null,null,null,null,null,null,null,null,null,null,"خروج",null,null,null,null,"قفل",1,null,"حذف صفر/ستون",1]
[]
[]
[]
[]
[]
[]
[null,null,null,null,null,null,null,{"$f":"TODAY()","v":"2025-02-21"}]
[]
[null,null,null,null,null,null,null,null,null,null,"نرم افزار انبارداری\nساج"]
[]
[]
[]
[null,null,null,null,null,null,null,null,null,null,"برنامه نویس\nسجاد قاضی"]
[]
[]
[]
[]
[null,null,null,null,null,null,null,null,null,null,"پشتیبانی برنامه"]

{"sheet":"sabt_fac","index":4,"n_rows":13,"n_cols":33,"rows_kept":13,"cut":false,"hidden":false,"merged":[[11,2,11,3]]}
[null,null,null,null,null,null,null,null,null,null,null,null,null,null,null,null,null,null,null,null,null,null,null,null,null,null,"فاکتور شخصی",null,"تعداد سطر",{"$f":"COUNTA(B:B)-9","v":1},"تعداد کالا",{"$f":"COUNTA(Table2[نام کالا])+1","v":1},"حذف کالا"]
[]
[null,"تاریخ",{"$f":"J_TODAY(1)","v":"1403/12/03"},null,null,null,null,null,null,null,null,"شماره فاکتور"]
[null,"نام",null,null,null,null,null,null,"فاکتور فروش",null,null,2,{"$f":"$C$3","v":"1403/12/03"}]
[null,"تلفن",{"$f":"IFERROR(VLOOKUP(C4,INDIRECT(\"mosh!C:G\"),5,0),\"\")","v":""}]
[null,"آدرس",{"$f":"IFERROR(VLOOKUP(C4,INDIRECT(\"mosh!C:E\"),3,0),\"\")","v":""}]
[null,"ردیف","نام کالا","تعداد","خرید","خرید خالص","سود","سود کل","قیمت با تخفیف","موجودی","تخفیف","قیمت کل","تاریخ","نام","سود خالص"]
[null,{"$f":"ROW()-7","v":1},null,null,{"$f":"IF(Table2[[#This Row],[نام کالا]]=\"\",0,IFERROR(VLOOKUP(Table2[[#This Row],[نام کالا]],INDIRECT(\"sabt_kala!C:G\"),2,0)*1,\"کالا حذف شده\"))","v":0},{"$f":"IFERROR(VLOOKUP(Table2[[#This Row],[نام کالا]],INDIRECT(\"sabt_kala!C:F\"),4,0)*Table2[[#This Row],[خرید]]+Table2[[#This Row],[خرید]],0)","v":0},{"$f":"IF(ISNUMBER(Table2[[#This Row],[قیمت با تخفیف]]),Table2[[#This Row],[قیمت با تخفیف]]-Table2[[#This Row],[خرید خالص]],0)","v":0},{"$f":"Table2[[#This Row],[سود]]*Table2[[#This Row],[تعداد]]","v":0},{"$f":"IF(Table2[[#This Row],[نام کالا]]<>\"\",IFERROR(VLOOKUP(Table2[[#This Row],[نام کالا]],INDIRECT(\"sabt_kala!C:E\"),3,0)-Table2[[#This Row],[تخفیف]],\"کالا حذف شده\"),\"\")","v":""},{"$f":"IFERROR(VLOOKUP(Table2[[#This Row],[نام کالا]],INDIRECT(\"sabt_kala!C:I\"),7,0)*1,0)","v":0},null,{"$f":"IF(ISNUMBER(Table2[[#This Row],[قیمت با تخفیف]]),Table2[[#This Row],[قیمت با تخفیف]]*Table2[[#This Row],[تعداد]],0)","v":0},{"$f":"$C$3","v":"1403/12/03"},{"$f":"$C$4","v":0},{"$f":"IFERROR(((Table2[[#This Row],[قیمت با تخفیف]]-(Table2[[#This Row],[قیمت با تخفیف]]*($I$94/100)))-Table2[[#This Row],[خرید خالص]])*Table2[[#This Row],[تعداد]],\"\")","v":""}]
[null,null,null,null,null,null,null,null,null,null,null,null,{"$f":"$C$3","v":"1403/12/03"},{"$f":"$C$4","v":0}]
[null,"شماره کارت:",null,null,"خرید کل",{"$f":"IFERROR(SUMPRODUCT(Table2[خرید خالص],Table2[تعداد]),0)","v":0},null,"%",null,null,"جمع فاکتور",{"$f":"IFERROR(SUM(Table2[قیمت کل])+SUMPRODUCT(Table2[تخفیف]*1,Table2[تعداد]),0)","v":0},"1403/12/03",{"$f":"$C$4","v":0}]
[null,"به نام:","",null,"سود کل",{"$f":"L12-F10","v":0},null,null,"درصد تخفیف",null,"مبلغ تخفیف",{"$f":"IFERROR(IF(AND(AD1=1,Table2[تخفیف]=\"\"),L10*(I10/100),((L10-SUMPRODUCT(Table2[تخفیف],Table2[تعداد]))*(I10/100))+SUMPRODUCT(Table2[تخفیف],Table2[تعداد])),0)","v":0},"1403/12/03",0]
[null,"توضیحات:","",null,"درصد سود",{"$f":"IFERROR(ROUND((F11/F10)*100,1) & \"%\",0)","v":0},null,null,null,null,"مبلغ پرداختی",{"$f":"L10-L11","v":0},"1403/12/03",0]
[null,".",null,null,"تعداد کالاها",{"$f":"SUMIFS(Table2[تعداد],Table2[نام کالا],\"<>\" & \"\")","v":0},null,null,null,null,null,null,"1403/12/03",0]

{"sheet":"sabt_fac2","index":5,"n_rows":13,"n_cols":33,"rows_kept":13,"cut":false,"hidden":false,"merged":[[11,2,11,3]]}
[null,null,null,null,null,null,null,null,null,null,null,null,null,null,null,null,null,null,null,null,null,null,null,null,null,null,null,null,"تعداد سطر",{"$f":"COUNTA(B:B)-9","v":1},"تعداد کالا",{"$f":"COUNTA(Table7[نام کالا])+1","v":1},"حذف کالا"]
[]
[null,"تاریخ",{"$f":"J_TODAY(1)","v":"1403/12/03"},null,null,null,null,"شماره فاکتور"]
[null,"نام",null,null,"فاکتور خرید",null,null,"1",{"$f":"C3","v":"1403/12/03"}]
[null,"تلفن"]
[null,"آدرس"]
[null,"ردیف","نام کالا","تعداد","قیمت","فاصله","تخفیف","قیمت کل","تاریخ","نام"]
[null,{"$f":"ROW()-7","v":1},null,null,null,null,null,null,{"$f":"$C$3","v":"1403/12/03"},{"$f":"$C$4","v":0}]
[null,null,null,null,null,null,null,null,{"$f":"$C$3","v":"1403/12/03"},{"$f":"$C$4","v":0}]
[null,"شماره کارت:",null,null,null,null,"جمع فاکتور",null,{"$f":"$C$3","v":"1403/12/03"},{"$f":"$C$4","v":0}]
[null,"به نام:","",null,"درصد تخفیف",null,"مبلغ تخفیف",null,"1403/12/03",0]
[null,"توضیحات:","",null,null,null,"مبلغ پرداختی",null,"1403/12/03",0]
[null,"."]

{"sheet":"save2","index":6,"n_rows":0,"n_cols":0,"rows_kept":0,"cut":false,"hidden":false,"merged":[]}